{"text_format":"1","workbook":"xlsx","n_sheets":24,"sheets":["Cover","Indicators","Checklist","PP1(LP)","PP2","PP3","PP4","PP5","Project identification","T1-PPs","T2-B(PP1)","T2-B(PP2)","T2-B(PP3)","T2-B(PP4)","T2-B(PP5)","Table 2-total","Table 3-summary","Table 4 PP`BL","Table 5-Sources","Statements","Summary_BG","Summary_EN","Summary_RS","Named_ranges"],"not_rendered":{"charts":0,"images":11,"macros":1,"external_links":0,"defined_names":9830,"comments":0,"pivot_tables":0},"unopened":[],"bounds":{"document_bytes":16777216,"sheet_cells":100000,"rows_first":2000,"rows_last":500,"rows_between":2000,"halvings":0,"cell_chars":16384,"cell_head_chars":4096},"cells_cut":0,"cells_raw":0,"read":"whole","date_system":"1900"}

{"sheet":"Cover","index":0,"n_rows":44,"n_cols":21,"rows_kept":44,"cut":false,"hidden":false,"merged":[[1,2,1,5],[1,6,1,9],[2,2,2,5],[2,6,2,9],[18,1,18,9],[16,1,16,10],[17,1,17,10],[26,2,26,9],[28,2,28,9],[30,2,30,9],[34,2,34,9],[36,2,36,9],[32,2,32,9],[20,2,20,9],[22,2,22,9],[24,2,24,9],[8,0,8,10],[3,1,3,9],[19,1,19,9]]}
[]
[]
[null,"Signature (Chairperson)","Signature (Secretary)",null,null,null,"Project number"]
[null,"(filled in by the Joint Secretariat)"]
[]
[]
[]
[]
[]
[]
[]
[]
[]
[]
[]
[]
[null,"Interreg - IPA Cross-border Cooperation Bulgaria - Serbia Programme"]
[null,"Call No: 2014TC16I5CB007-1"]
[null,"Application Form "]
[]
[null,"Project Title"]
[]
[null,"Lead Partner – institution"]
[]
[null,"Legal representative – name, signature, stamp"]
[]
[null,"Priority Axis",null,null,null,null,null,null,null,null,null,null,null,{"$f":"IF(C27=Q27,1,IF(C27=Q28,2,IF(C27=Q29,3,0)))","v":0},null,null,"Tourism",null,"1.1 Tourist Attractiveness","2.1 Skills & Entrepreneurship","3.1 Joint Risk Management"]
[null,null,null,null,null,null,null,null,null,null,null,null,null,null,null,null,"Youth",null,"1.2 Cross-Border Touristic Product:","2.2 People-To-People Networking","3.2 Nature Protection"]
[null,"Specific Objective",null,null,null,null,null,null,null,null,null,null,null,{"$f":"VLOOKUP(C29,R31:S39,2)","v":{"$error":"#N/A"}},null,null,"Environment",null,"1.3 People-To-People Networking"]
[null,null,null,null,null,null,null,null,null,null,null,null,null,{"$f":"VLOOKUP(N29,S31:T39,2)","v":{"$error":"#N/A"}}]
[null,"Type of project",null,null,null,null,null,null,null,null,null,null,null,"Soft","Investment","Soft",null,"1.1 Tourist Attractiveness",1,2]
[]
[null,"Intervention field"]
[null,null,null,null,null,null,null,null,null,null,null,null,null,null,null,"Investment",null,"1.2 Cross-Border Touristic Product:",2,1]
[null,"Lead Partner – institution",null,null,null,null,null,null,null,null,null,null,null,null,null,null,null,"1.3 People-To-People Networking",3,1]
[null,null,null,null,null,null,null,null,null,null,null,null,null,null,null,null,null,"2.1 Skills & Entrepreneurship",4,3]
[null,"Legal representative – name, signature, stamp",null,null,null,null,null,null,null,null,null,null,null,null,null,null,null,"2.2 People-To-People Networking",5,1]
[null,null,null,null,null,null,null,null,null,null,null,null,null,null,null,null,null,"3.1 Joint Risk Management",6,3]
[null,null,null,null,null,null,null,null,null,null,null,null,null,null,null,null,null,"3.2 Nature Protection",7,3]
[null,null,null,null,null,null,null,null,null,null,null,null,null,{"$f":"C27","v":0},{"$f":"CONCATENATE(N40,\"1\")","v":"01"}]
[]
[null,null,null,null,null,null,null,null,null,null,null,null,null,"094 - Protection, development and promotion of public cultural and heritage assets","055 - Other social infrastructure contributing to regional and local development","087 - Adaptation to climate change measures and prevention and management of climate related risks e.g. erosion, fires, flooding, storms and drought, including awareness raising, civil protection and disaster management systems and infrastructures"]
[null,null,null,null,null,null,null,null,null,null,null,null,null,"075 - Development and promotion of tourism services in or for SMEs","118 - Improving the labour market relevance of education and training systems, facilitating the transition from education to work, and strengthening vocational education and training systems and their quality, including through mechanisms for skills anticipation, adaptation of curricula and the establishment and development of work-based learning systems, including dual learning systems and apprenticeship schemes","085 - Protection and enhancement of biodiversity, nature protection and green infrastructure"]
[null,null,null,null,null,null,null,null,null,null,null,null,null,"095 - Development and promotion of public cultural and heritage services","109 - Active inclusion, including with a view to promoting equal opportunities and active participation, and improving employability"]

{"sheet":"Indicators","index":1,"n_rows":7,"n_cols":5,"rows_kept":7,"cut":false,"hidden":false,"merged":[[5,2,5,3],[5,4,5,9],[6,2,6,3],[6,4,6,9],[2,2,2,3],[2,4,2,9],[3,2,3,3],[3,4,3,9],[4,2,4,3],[4,4,4,9]]}
[]
[]
[null,"Ouput indicator","Quantity ",null,"Sources of verification "]
[null,{"$f":"pi_out_indicator1","v":0},{"$f":"'Project identification'!C344:D344","v":0},null,{"$f":"'Project identification'!E344:J344","v":0}]
[null,{"$f":"pi_out_indicator1","v":0},{"$f":"'Project identification'!C345:D345","v":0},null,{"$f":"'Project identification'!E345:J345","v":0}]
[null,{"$f":"pi_out_indicator1","v":0},{"$f":"'Project identification'!C346:D346","v":0},null,{"$f":"'Project identification'!E346:J346","v":0}]
[null,{"$f":"pi_out_indicator1","v":0},{"$f":"'Project identification'!C347:D347","v":0},null,{"$f":"'Project identification'!E347:J347","v":0}]

{"sheet":"Checklist","index":2,"n_rows":73,"n_cols":14,"rows_kept":73,"cut":false,"hidden":false,"merged":[[0,1,1,7]]}
[null,"Application Form\n INTERREG-IPA CBC BULGARIA-SERBIA PROGRAMME\nPART I"]
[]
[]
[null,"Project partner 1 (Lead Beneficiery)"]
[null,null,"1.1.Contact information",null,null,null,null,"X",null,null,null,null,null,{"$f":"'PP1(LP)'!V6","v":false}]
[null,null,"1.2. Partner profile",null,null,null,null,"X",null,null,null,null,null,{"$f":"'PP1(LP)'!V41","v":false}]
[null,null,"1.3. Partner experience",null,null,null,null,"X",null,null,null,null,null,{"$f":"'PP1(LP)'!V46","v":true}]
[]
[null,null,"2.1. Detailed information",null,null,null,null,"X",null,null,null,null,null,{"$f":"'PP1(LP)'!V75","v":false}]
[null,null,"2.2. Financial status, capacity and equipment",null,null,null,null,"X",null,null,null,null,null,{"$f":"'PP1(LP)'!V82","v":false}]
[]
[null,"Project partner 2"]
[null,null,"1.1.Contact information",null,null,null,null,"X",null,null,null,null,null,{"$f":"'PP2'!V6","v":false}]
[null,null,"1.2. Partner profile",null,null,null,null,"X",null,null,null,null,null,{"$f":"'PP2'!V41","v":false}]
[null,null,"1.3. Partner experience",null,null,null,null,"X",null,null,null,null,null,{"$f":"'PP2'!V46","v":true}]
[]
[null,null,"2.1. Detailed information",null,null,null,null,"X",null,null,null,null,null,{"$f":"'PP2'!V75","v":false}]
[null,null,"2.2. Financial status, capacity and equipment",null,null,null,null,"X",null,null,null,null,null,{"$f":"'PP2'!V82","v":false}]
[]
[null,"Project partner 3",null,"X",null,null,null,null,null,null,null,null,"X"]
[null,null,"1.1.Contact information",null,null,null,null,"X",null,null,null,null,null,{"$f":"'PP3'!V6","v":false}]
[null,null,"1.2. Partner profile",null,null,null,null,"X",null,null,null,null,null,{"$f":"'PP3'!V41","v":false}]
[null,null,"1.3. Partner experience",null,null,null,null,"X",null,null,null,null,null,{"$f":"'PP3'!V46","v":true}]
[]
[null,null,"2.1. Detailed information",null,null,null,null,"X",null,null,null,null,null,{"$f":"'PP3'!V75","v":false}]
[null,null,"2.2. Financial status, capacity and equipment",null,null,null,null,"X",null,null,null,null,null,{"$f":"'PP3'!V82","v":false}]
[]
[null,"Project partner 4",null,"X"]
[null,null,"1.1.Contact information",null,null,null,null,"X",null,null,null,null,null,{"$f":"'PP4'!V6","v":false}]
[null,null,"1.2. Partner profile",null,null,null,null,"X",null,null,null,null,null,{"$f":"'PP4'!V41","v":false}]
[null,null,"1.3. Partner experience",null,null,null,null,"X",null,null,null,null,null,{"$f":"'PP4'!V46","v":true}]
[]
[null,null,"2.1. Detailed information",null,null,null,null,"X",null,null,null,null,null,{"$f":"'PP4'!V75","v":false}]
[null,null,"2.2. Financial status, capacity and equipment",null,null,null,null,"X",null,null,null,null,null,{"$f":"'PP4'!V82","v":false}]
[]
[null,"Project partner 5",null,"X"]
[null,null,"1.1.Contact information",null,null,null,null,"X",null,null,null,null,null,{"$f":"'PP5'!V6","v":false}]
[null,null,"1.2. Partner profile",null,null,null,null,"X",null,null,null,null,null,{"$f":"'PP5'!V41","v":false}]
[null,null,"1.3. Partner experience",null,null,null,null,"X",null,null,null,null,null,{"$f":"'PP5'!V46","v":true}]
[]
[null,null,"2.1. Detailed information",null,null,null,null,"X",null,null,null,null,null,{"$f":"'PP5'!V75","v":false}]
[null,null,"2.2. Financial status, capacity and equipment",null,null,null,null,"X",null,null,null,null,null,{"$f":"'PP5'!V82","v":false}]
[]
[null,"Project Identification"]
[null,"1. Project Identity"]
[null,null,"1.1. Project title",null,null,null,null,"X",null,null,null,null,null,{"$f":"'Project identification'!X9","v":false}]
[null,null,"1.2. Cooperation criteria",null,null,null,null,"X",null,null,null,null,null,{"$f":"'Project identification'!Y23","v":false}]
[null,null,"1.3 Cross-border impact of the project",null,null,null,null,"X",null,null,null,null,null,{"$f":"'Project identification'!Y36","v":false}]
[]
[null,"2. Financial information - Project budget (EUR)"]
[null,null,"2.1. Sources of financing (EUR)",null,null,null,null,"X",null,null,null,null,null,{"$f":"TRUE","v":true}]
[null,null,"2.2. Breakdown of eligible expenditure (EUR)",null,null,null,null,"X",null,null,null,null,null,true]
[]
[null,"3. Project description"]
[null,null,"3.1. Background and demand for the project proposal ",null,null,null,null,"X",null,null,null,null,null,{"$f":"'Project identification'!Y68","v":false}]
[null,null,"3.2. Consistency with the Programme specific objective",null,null,null,null,"X",null,null,null,null,null,{"$f":"'Project identification'!Y72","v":false}]
[null,null,"3.3. Consistency with the Programme overall objective",null,null,null,null,"X",null,null,null,null,null,{"$f":"'Project identification'!Y76","v":false}]
[null,null,"3.4. Description of the target groups and beneficiaries",null,null,null,null,"X",null,null,null,null,null,{"$f":"'Project identification'!Y83","v":false}]
[null,null,"3.5. Project activities ",null,null,null,null,"X",null,null,null,null,null,{"$f":"'Project identification'!X92","v":false}]
[null,null,"3.5.1 Communication and visibility",null,null,null,null,"X",null,null,null,null,null,{"$f":"'Project identification'!Y305","v":false}]
[null,null,"3.6. Duration and action plan:",null,null,null,null,"X",null,null,null,null,null,{"$f":"'Project identification'!X309","v":false}]
[]
[null,"4. Management of the project and reporting ",null,null,null,null,null,"X",null,null,null,null,null,{"$f":"'Project identification'!N333=FALSE","v":false}]
[]
[null,"5. Monitoring of the project "]
[null,null,"5.1. Expected outputs",null,null,null,null,"X",null,null,null,null,null,{"$f":"'Project identification'!Y344","v":false}]
[null,null,"5.2. Multiplier effect",null,null,null,null,"X",null,null,null,null,null,{"$f":"'Project identification'!N354=FALSE","v":false}]
[null,null,"5.3. Sustainability",null,null,null,null,"X",null,null,null,null,null,{"$f":"'Project identification'!N357=FALSE","v":false}]
[]
[null,"6. Project coherence with:"]
[null,null,"6.1. Other strategies",null,null,null,null,"X",null,null,null,null,null,{"$f":"'Project identification'!N364=FALSE","v":false}]
[null,null,"6.2. Other projects ",null,null,null,null,"X",null,null,null,null,null,{"$f":"'Project identification'!N368=FALSE","v":false}]
[null,null,"6.3. Horizontal themes",null,null,null,null,"X",null,null,null,null,null,true]

{"sheet":"PP1(LP)","index":3,"n_rows":84,"n_cols":22,"rows_kept":84,"cut":false,"hidden":false,"merged":[[30,2,30,7],[0,1,1,7],[4,1,4,7],[22,2,22,7],[20,2,20,7],[18,2,18,7],[10,2,10,7],[16,2,16,7],[14,2,14,7],[6,2,6,7],[8,2,8,7],[28,2,28,7],[26,2,26,7],[24,2,24,7],[44,16,49,16],[32,2,32,7],[66,2,66,4],[66,6,66,7],[80,5,80,7],[74,2,74,7],[76,2,76,7],[79,1,79,7],[70,1,70,7],[58,6,58,7],[57,6,57,7],[57,2,57,4],[58,2,58,4],[65,2,65,4],[64,2,64,7],[54,2,54,7],[80,3,80,4],[81,3,81,4],[60,2,60,5],[49,6,49,7],[50,6,50,7],[48,2,48,7],[38,1,38,7],[35,1,35,7],[36,1,36,7],[46,2,46,7],[47,2,47,7],[43,1,43,5],[45,1,45,7],[82,3,82,4],[83,3,83,4],[39,1,39,7],[49,2,49,4],[50,2,50,4],[81,5,81,7],[82,5,82,7],[83,5,83,7],[55,2,55,7],[56,2,56,7],[65,6,65,7],[62,2,62,7],[63,2,63,7],[52,2,52,5],[44,1,44,5],[40,1,40,7]]}
[null,"Application Form\nINTERREG - IPA CBC BULGARIA - SERBIA PROGRAMME\nPART I"]
[]
[null,"PROJECT PARTNER No 1"]
[]
[null,"1. Identity"]
[null,"1.1.Contact information",null,null,null,null,null,null,null,null,null,null,null,null,null,null,null,null,null,{"$f":"T7+T9+T11+T15+T17+T19+T21+T23+T25+T27","v":8},{"$f":"T6=0","v":false},{"$f":"U6","v":false}]
[null,"Organization (in English):",{"$f":"IF(Cover!C35=\"\",\"\",Cover!C35)","v":""},null,null,null,null,null,null,null,null,null,null,null,null,null,null,null,null,{"$f":"ISBLANK(C7)","v":false}]
[]
[null,"Organization (in native language)",null,null,null,null,null,null,null,null,null,null,{"$f":"'Project identification'!N13","v":{"$error":"#N/A"}},null,null,null,null,null,null,{"$f":"ISBLANK(C9)","v":true}]
[]
[null,"Type of organization:",null,null,null,null,null,null,null,null,null,null,"Regional/ Local authority","Regional/Local authority","Regional/Local authority","Regional/Local authority","Regional/Local authority","Local/ Regional structure dealing with emergency situations","Regional / Local authority",{"$f":"ISBLANK(C11)","v":true}]
[null,null,null,null,null,null,null,null,null,null,null,null,"Regional/ Sector development agency","Regional/ Sector development agency","Regional touristic association","Local/ National education institution","Youth organisation / Non-government organization","Central/ Regional office/ structure of government institution/ administration ","Central/ Regional office/ structure of government institution/ administration"]
[null,"Country:",null,null,null,null,null,null,null,null,null,null,"Central/ Regional office/ structure of government institution/ administration","Central/ Regional office/ structure of government institution/ administration","Civil society structure","Training service provider","Local/ National education institution","Regional/ Sector development agency","Regional/ Sector development agency"]
[null,null,null,null,null,null,null,null,null,null,1,null,"Public cultural institute","Non-government organization","Business support structure","Vocational training institution","Training service provider","Other","Administration of protected area/s"]
[null,"District / NUTS III",null,null,null,null,null,null,null,{"$f":"C15","v":0},null,null,"Non-government organization","Regional touristic association","Education / Training Centre","University / Knowledge / Research institute","University / Knowledge / Research institute",null,"Research/ Academic institute",{"$f":"ISBLANK(C15)","v":true}]
[null,null,null,null,null,null,null,null,null,null,null,null,"Regional touristic association","Business support structure","Cultural institute","Civil society structure","Civil society structure",null,"Environmental Non-government organization"]
[null,"Town:",null,null,null,null,null,null,null,null,null,null,"Other","Education / Training Centre","Local Action Group","Business support structure","Business support structure",null,"Local Action Group",{"$f":"ISBLANK(C17)","v":true}]
[null,null,null,null,null,null,null,null,null,null,null,null,null,"Other","Other","Cultural institute / Local community centre","Cultural institute / Local community centre",null,"Other"]
[null,"Address:",null,null,null,null,null,null,null,null,null,null,null,null,null,"Other","Other",null,null,{"$f":"ISBLANK(C19)","v":true}]
[]
[null,"Postal Code:",null,null,null,null,null,null,null,null,null,null,"Vidin","Bor",null,null,null,null,null,{"$f":"ISBLANK(C21)","v":true}]
[null,null,null,null,null,null,null,null,null,null,null,null,"Montana","Zaječar "]
[null,"Legal representative (Name):",{"$f":"IF(Cover!C37<>\"\",Cover!C37,\"\")","v":""},null,null,null,null,null,null,null,null,null,"Vratsa","Toplica",null,null,null,null,null,{"$f":"ISBLANK(C23)","v":false}]
[null,null,null,null,null,null,null,null,null,null,null,null,"Sofia","Nišava "]
[null,"Legal representative (Position in the organization):",null,null,null,null,null,null,null,null,null,null,"Pernik","Pirot ",null,null,null,null,null,{"$f":"ISBLANK(C25)","v":true}]
[null,null,null,null,null,null,null,null,null,null,null,null,"Kyustendil","Jablanica"]
[null,"Telephone:",null,null,null,null,null,null,null,null,null,null,"Outside eligible area","Pčinja ",null,null,null,null,null,{"$f":"ISBLANK(C27)","v":true}]
[null,null,null,null,null,null,null,null,null,null,null,null,null,"Outside eligible area"]
[null,"Fax:"]
[]
[null,"E-mail:"]
[]
[null,"Website:"]
[null,"1.2. Partner profile"]
[null,"1.2.1.Partner's authority"]
[null,"(Please describe the partner’s authority to implement the referred project activities 2500 symbols);"]
[]
[null,"1.2.2 Partner profile"]
[null,"Please describe the organization's background and scope of competences and activities. (max 2500 characters)"]
[null,null,null,null,null,null,null,null,null,null,null,null,null,null,"check text size"]
[null,null,null,null,null,null,null,null,null,null,null,null,null,null,null,null,null,null,null,null,null,{"$f":"N42=2","v":false}]
[null,null,null,null,null,null,null,null,null,null,{"$f":"LEN(B41)","v":0},{"$f":"K42>0","v":false},{"$f":"K42<2501","v":true},{"$f":"L42+M42","v":1}]
[null,"1.3. Experience in project management of public funded projects",null,null,null,null,null,null,null,null,null,null,null,null,"check if \"Yes\""]
[]
[]
[null,"If Yes, please fill in the table below brief description of the three most relevant projects, successfully implemented by your organization:",null,null,null,null,null,null,null,null,1,null,null,null,null,null,null,null,{"$f":"C47<>\"\"","v":false},{"$f":"T47+T48+T49+T50+T51","v":5},null,{"$f":"IF(S46,T46=0,TRUE)","v":true}]
[null,"Initiative/Programme",null,null,null,null,null,null,null,null,null,null,null,null,null,null,null,null,null,{"$f":"ISBLANK(C47)","v":true},{"$f":"T47=FALSE","v":false}]
[null,"Project title",null,null,null,null,null,null,null,null,null,null,null,null,null,null,null,null,null,{"$f":"ISBLANK(C48)","v":true},{"$f":"T48=FALSE","v":false}]
[null,"Short description \n(max. 500 characters)",null,null,null,null,null,null,null,null,null,null,null,null,null,null,null,null,null,true,{"$f":"T49=FALSE","v":false}]
[null,"Total value of the project (Euro)",null,null,null,"Grant amount (for the organization)",null,null,null,null,null,null,null,null,null,null,null,null,null,true,{"$f":"T50=FALSE","v":false}]
[null,"Organization’s role in the project (main applicant, partner etc.)",null,null,null,"Period of implementation\n(from m/y to m/y) ",null,null,null,null,"Add button",null,null,null,null,null,null,null,null,true,{"$f":"T51=FALSE","v":false}]
[]
[null,null,"Add new project information",null,null,null,null,null,null,"Yes","No",null,1]
[null,null,null,null,null,null,null,null,null,null,"Visible after \"add\""]
[null,"Initiative/Programme"]
[null,"Project title"]
[null,"Short description \n(max. 500 characters)",null,null,null,null,null,null,null,null,null,null,null,null,"check if filled"]
[null,"Total value of the project (Euro)",null,null,null,"Project Partner's budget"]
[null,"Organization’s role in the project (main applicant, partner etc.)",null,null,null,"Period of implementation\n(from m/y to m/y) ",null,null,null,null,"Add button"]
[]
[null,null,"Add new project information",null,null,null,null,null,null,"Yes","No",null,1]
[null,null,null,null,null,null,null,null,null,null,"Visible after \"add\""]
[null,"Initiative/Programme"]
[null,"Project title"]
[null,"Short description \n(max. 500 characters)",null,null,null,null,null,null,null,null,null,null,null,null,"check if filled"]
[null,"Total value of the project (Euro)",null,null,null,"Project Partner's budget"]
[null,"Organization’s role in the project (main applicant, partner etc.)",null,null,null,"Period of implementation\n(from m/y to m/y) "]
[]
[]
[]
[null,"2. Financial Data"]
[]
[null,"2.1. Detailed information",null,null,null,null,null,null,null,null,null,null,null,null,"check if filled"]
[]
[null,"National registration code:",null,null,null,null,null,null,null,null,null,null,null,null,null,null,null,null,null,{"$f":"ISBLANK(C75)","v":true},null,{"$f":"(T75+T77)=0","v":false}]
[]
[null,"VAT registration code:",null,null,null,null,null,null,null,null,null,null,null,null,null,null,null,null,null,{"$f":"ISBLANK(C77)","v":true}]
[]
[null,"2.2. Financial status and human resources "]
[null,"Please provide the following information on the basis of the Profit and loss account and Balance sheet of your organization and any information related to the staff and technical capacity for the past 3 (three) years."]
[null,"Year","Turnover or equivalent\n(in EUR)","Number of full-time staff",null,"Number of part-time staff\n (if applicable)"]
[null,2014,null,null,null,null,null,null,null,null,null,{"$f":"ISBLANK(C82)","v":true},{"$f":"ISBLANK(D82)","v":true},{"$f":"ISBLANK(E82)","v":true},{"$f":"ISBLANK(F82)","v":true},{"$f":"L82+M82+N82","v":3},{"$f":"P82=0","v":false},null,null,null,{"$f":"Q82","v":false},{"$f":"(U82+U83+U84)=3","v":false}]
[null,2015,null,null,null,null,null,null,null,null,null,{"$f":"ISBLANK(C83)","v":true},true,true,true,{"$f":"L83+M83+N83","v":3},{"$f":"P83=0","v":false},null,null,null,{"$f":"Q83","v":false}]
[null,2016,null,null,null,null,null,null,null,null,null,true,true,true,true,3,false,null,null,null,false]

{"sheet":"PP2","index":4,"n_rows":84,"n_cols":22,"rows_kept":84,"cut":false,"hidden":false,"merged":[[82,5,82,7],[83,5,83,7],[70,1,70,7],[74,2,74,7],[76,2,76,7],[79,1,79,7],[80,5,80,7],[81,5,81,7],[80,3,80,4],[81,3,81,4],[82,3,82,4],[83,3,83,4],[63,2,63,7],[64,2,64,7],[65,2,65,4],[65,6,65,7],[66,2,66,4],[66,6,66,7],[62,2,62,7],[50,2,50,4],[50,6,50,7],[52,2,52,5],[54,2,54,7],[55,2,55,7],[56,2,56,7],[57,2,57,4],[57,6,57,7],[58,2,58,4],[58,6,58,7],[60,2,60,5],[44,1,44,5],[44,16,49,16],[45,1,45,7],[46,2,46,7],[47,2,47,7],[48,2,48,7],[49,2,49,4],[49,6,49,7],[43,1,43,5],[16,2,16,7],[18,2,18,7],[20,2,20,7],[22,2,22,7],[24,2,24,7],[26,2,26,7],[28,2,28,7],[30,2,30,7],[32,2,32,7],[39,1,39,7],[35,1,35,7],[36,1,36,7],[38,1,38,7],[40,1,40,7],[14,2,14,7],[0,1,1,7],[4,1,4,7],[6,2,6,7],[8,2,8,7],[10,2,10,7]]}
[null,"Application Form\nINTERREG - IPA CBC BULGARIA - SERBIA PROGRAMME\nPART I"]
[]
[null,"PROJECT PARTNER No 2",null,null,null,null,null,null,null,"Link to budget page"]
[]
[null,"1. Identity"]
[null,"1.1.Contact information",null,null,null,null,null,null,null,"link from cover",null,null,null,null,null,null,null,null,null,{"$f":"T7+T9+T11+T15+T17+T19+T21+T23+T25+T27","v":10},{"$f":"T6=0","v":false},{"$f":"U6","v":false}]
[null,"Organization (in English):",null,null,null,null,null,null,null,null,null,null,null,null,null,null,null,null,null,{"$f":"ISBLANK(C7)","v":true}]
[]
[null,"Organization (in native language)",null,null,null,null,null,null,null,null,null,null,{"$f":"'Project identification'!N13","v":{"$error":"#N/A"}},null,null,null,null,null,null,{"$f":"ISBLANK(C9)","v":true}]
[null,null,null,null,null,null,null,null,null,"menu"]
[null,"Type of organization:",null,null,null,null,null,null,null,null,null,null,"Regional/ Local authority","Regional/Local authority","Regional/Local authority","Regional/Local authority","Regional/Local authority","Local/ Regional structure dealing with emergency situations","Regional / Local authority",{"$f":"ISBLANK(C11)","v":true}]
[null,null,null,null,null,null,null,null,null,"flag select",null,null,"Regional/ Sector development agency","Regional/ Sector development agency","Regional touristic association","Local/ National education institution","Youth organisation / Non-government organization","Central/ Regional office/ structure of government institution/ administration ","Central/ Regional office/ structure of government institution/ administration"]
[null,"Country:",null,null,null,null,null,null,null,null,null,null,"Central/ Regional office/ structure of government institution/ administration","Central/ Regional office/ structure of government institution/ administration","Civil society structure","Training service provider","Local/ National education institution","Regional/ Sector development agency","Regional/ Sector development agency"]
[null,null,null,null,null,null,null,null,null,"menu",2,null,"Public cultural institute","Non-government organization","Business support structure","Vocational training institution","Training service provider","Other","Administration of protected area/s"]
[null,"District / NUTS III",null,null,null,null,null,null,null,null,null,null,"Non-government organization","Regional touristic association","Education / Training Centre","University / Knowledge / Research institute","University / Knowledge / Research institute",null,"Research/ Academic institute",{"$f":"ISBLANK(C15)","v":true}]
[null,null,null,null,null,null,null,null,null,null,null,null,"Regional touristic association","Business support structure","Cultural institute","Civil society structure","Civil society structure",null,"Environmental Non-government organization"]
[null,"Town:",null,null,null,null,null,null,null,null,null,null,"Other","Education / Training Centre","Local Action Group","Business support structure","Business support structure",null,"Local Action Group",{"$f":"ISBLANK(C17)","v":true}]
[null,null,null,null,null,null,null,null,null,null,null,null,null,"Other","Other","Cultural institute / Local community centre","Cultural institute / Local community centre",null,"Other"]
[null,"Address:",null,null,null,null,null,null,null,null,null,null,null,null,null,"Other","Other",null,null,{"$f":"ISBLANK(C19)","v":true}]
[]
[null,"Postal Code:",null,null,null,null,null,null,null,null,null,null,"Vidin","Bor",null,null,null,null,null,{"$f":"ISBLANK(C21)","v":true}]
[null,null,null,null,null,null,null,null,null,"link from cover",null,null,"Montana","Zaječar "]
[null,"Legal representative (Name):",null,null,null,null,null,null,null,null,null,null,"Vratsa","Toplička",null,null,null,null,null,{"$f":"ISBLANK(C23)","v":true}]
[null,null,null,null,null,null,null,null,null,null,null,null,"Sofia","Nišava "]
[null,"Legal representative (Position in the organization):",null,null,null,null,null,null,null,null,null,null,"Pernik","Pirot ",null,null,null,null,null,{"$f":"ISBLANK(C25)","v":true}]
[null,null,null,null,null,null,null,null,null,null,null,null,"Kyustendil","Jablanica"]
[null,"Telephone:",null,null,null,null,null,null,null,null,null,null,"Outside eligible area","Pčinja ",null,null,null,null,null,{"$f":"ISBLANK(C27)","v":true}]
[]
[null,"Fax:"]
[]
[null,"E-mail:"]
[]
[null,"Website:"]
[null,"1.2. Partner profile"]
[null,"1.2.1.Partner's authority"]
[null,"(Please describe the partner’s authority to implement the referred project activities 2500 symbols);"]
[]
[null,"1.2.2 Partner profile"]
[null,"Please describe the organization's background and scope of competences and activities. (max 2500 characters)"]
[null,null,null,null,null,null,null,null,null,null,null,null,null,null,"check text size"]
[null,null,null,null,null,null,null,null,null,null,null,null,null,null,null,null,null,null,null,null,null,{"$f":"N42=2","v":false}]
[null,null,null,null,null,null,null,null,null,null,{"$f":"LEN(B41)","v":0},{"$f":"K42>0","v":false},{"$f":"K42<2501","v":true},{"$f":"L42+M42","v":1}]
[null,"1.3. Partner experience",null,null,null,null,null,null,null,null,null,null,null,null,"check if \"Yes\""]
[]
[null,"Experience in project management of public funded projects"]
[null,"If Yes, please fill in the table below brief description of the three most relevant projects, successfully implemented by your organization:",null,null,null,null,null,null,null,null,2,null,null,null,null,null,null,null,null,{"$f":"T47+T48+T49+T50+T51","v":5},null,{"$f":"IF(S46,T46=0,TRUE)","v":true}]
[null,"Initiative/Programme",null,null,null,null,null,null,null,null,null,null,null,null,"check if filled",null,null,null,null,{"$f":"ISBLANK(C47)","v":true},{"$f":"T47=FALSE","v":false}]
[null,"Project title",null,null,null,null,null,null,null,null,null,null,null,null,"check if filled",null,null,null,null,{"$f":"ISBLANK(C48)","v":true},{"$f":"T48=FALSE","v":false}]
[null,"Short description \n(max. 500 characters)",null,null,null,null,null,null,null,null,null,null,null,null,"check if filled",null,null,null,null,true,false]
[null,"Total value of the project (Euro)",null,null,null,"Grant amount (for the organization)",null,null,null,null,null,null,null,null,"check if filled",null,null,null,null,true,false]
[null,"Organization’s role in the project (main applicant, partner etc.)",null,null,null,"Period of implementation\n(from m/y to m/y) ",null,null,null,null,"Add button",null,null,null,null,null,null,null,null,true,false]
[]
[null,null,"Add new project information",null,null,null,null,null,null,"Yes","No",null,1]
[null,null,null,null,null,null,null,null,null,null,"Visible after \"add\""]
[null,"Initiative/Programme"]
[null,"Project title"]
[null,"Short description \n(max. 500 characters)"]
[null,"Total value of the project (Euro)",null,null,null,"Project Partner's budget"]
[null,"Organization’s role in the project (main applicant, partner etc.)",null,null,null,"Period of implementation\n(from m/y to m/y) ",null,null,null,null,"Add button"]
[]
[null,null,"Add new project information",null,null,null,null,null,null,"Yes","No",null,1]
[null,null,null,null,null,null,null,null,null,null,"Visible after \"add\""]
[null,"Initiative/Programme"]
[null,"Project title"]
[null,"Short description \n(max. 500 characters)"]
[null,"Total value of the project (Euro)",null,null,null,"Project Partner's budget"]
[null,"Organization’s role in the project (main applicant, partner etc.)",null,null,null,"Period of implementation\n(from m/y to m/y) "]
[]
[]
[]
[null,"2. Financial Data"]
[]
[null,"2.1. Detailed information",null,null,null,null,null,null,null,null,null,null,null,null,"check if filled"]
[]
[null,"National registration code:",null,null,null,null,null,null,null,null,null,null,null,null,null,null,null,null,null,{"$f":"ISBLANK(C75)","v":true},null,{"$f":"(T75+T77)=0","v":false}]
[]
[null,"VAT registration code:",null,null,null,null,null,null,null,null,null,null,null,null,null,null,null,null,null,{"$f":"ISBLANK(C77)","v":true}]
[]
[null,"2.2. Financial status and human resources "]
[null,"Please provide the following information on the basis of the Profit and loss account and Balance sheet of your organization and any information related to the staff and technical capacity for the past 3 (three) years."]
[null,"Year","Turnover or equivalent\n(in EUR)","Number of full-time staff",null,"Number of part-time staff\n (if applicable)"]
[null,2014,null,null,null,null,null,null,null,null,null,{"$f":"ISBLANK(C82)","v":true},{"$f":"ISBLANK(D82)","v":true},true,true,{"$f":"L82+M82+N82","v":3},{"$f":"P82=0","v":false},null,null,null,{"$f":"Q82","v":false},{"$f":"(U82+U83+U84)=3","v":false}]
[null,2015,null,null,null,null,null,null,null,null,null,{"$f":"ISBLANK(C83)","v":true},true,true,true,{"$f":"L83+M83+N83","v":3},{"$f":"P83=0","v":false},null,null,null,{"$f":"Q83","v":false}]
[null,2016,null,null,null,null,null,null,null,null,null,true,true,true,true,3,false,null,null,null,false]

{"sheet":"PP3","index":5,"n_rows":84,"n_cols":22,"rows_kept":84,"cut":false,"hidden":false,"merged":[[82,5,82,7],[83,5,83,7],[70,1,70,7],[74,2,74,7],[76,2,76,7],[79,1,79,7],[80,5,80,7],[81,5,81,7],[80,3,80,4],[81,3,81,4],[82,3,82,4],[83,3,83,4],[63,2,63,7],[64,2,64,7],[65,2,65,4],[65,6,65,7],[66,2,66,4],[66,6,66,7],[62,2,62,7],[50,2,50,4],[50,6,50,7],[52,2,52,5],[54,2,54,7],[55,2,55,7],[56,2,56,7],[57,2,57,4],[57,6,57,7],[58,2,58,4],[58,6,58,7],[60,2,60,5],[44,1,44,5],[44,16,49,16],[45,1,45,7],[46,2,46,7],[47,2,47,7],[48,2,48,7],[49,2,49,4],[49,6,49,7],[43,1,43,5],[16,2,16,7],[18,2,18,7],[20,2,20,7],[22,2,22,7],[24,2,24,7],[26,2,26,7],[28,2,28,7],[30,2,30,7],[32,2,32,7],[39,1,39,7],[35,1,35,7],[36,1,36,7],[38,1,38,7],[40,1,40,7],[14,2,14,7],[0,1,1,7],[4,1,4,7],[6,2,6,7],[8,2,8,7],[10,2,10,7]]}
[null,"Application Form\nIPA II CBC PROGRAMME BULGARIA - SERBIA\nPART I"]
[]
[null,"PROJECT PARTNER No 3",null,null,null,null,null,null,null,"Link to budget page"]
[]
[null,"1. Identity"]
[null,"1.1.Contact information",null,null,null,null,null,null,null,"link from cover",null,null,null,null,null,null,null,null,null,{"$f":"T7+T9+T11+T15+T17+T19+T21+T23+T25+T27","v":10},{"$f":"T6=0","v":false},{"$f":"U6","v":false}]
[null,"Organization (in English):",null,null,null,null,null,null,null,null,null,null,null,null,null,null,null,null,null,{"$f":"ISBLANK(C7)","v":true}]
[]
[null,"Organization (in native language)",null,null,null,null,null,null,null,null,null,null,{"$f":"'Project identification'!N13","v":{"$error":"#N/A"}},null,null,null,null,null,null,{"$f":"ISBLANK(C9)","v":true}]
[null,null,null,null,null,null,null,null,null,"menu"]
[null,"Type of organization:",null,null,null,null,null,null,null,null,null,null,"Regional/ Local authority","Regional/Local authority","Regional/Local authority","Regional/Local authority","Regional/Local authority","Local/ Regional structure dealing with emergency situations","Regional / Local authority",{"$f":"ISBLANK(C11)","v":true}]
[null,null,null,null,null,null,null,null,null,"flag select",null,null,"Regional/ Sector development agency","Regional/ Sector development agency","Regional touristic association","Local/ National education institution","Youth organisation / Non-government organization","Central/ Regional office/ structure of government institution/ administration ","Central/ Regional office/ structure of government institution/ administration"]
[null,"Country:",null,null,null,null,null,null,null,null,null,null,"Central/ Regional office/ structure of government institution/ administration","Central/ Regional office/ structure of government institution/ administration","Civil society structure","Training service provider","Local/ National education institution","Regional/ Sector development agency","Regional/ Sector development agency"]
[null,null,null,null,null,null,null,null,null,"menu",1,null,"Public cultural institute","Non-government organization","Business support structure","Vocational training institution","Training service provider","Other","Administration of protected area/s"]
[null,"District / NUTS III",null,null,null,null,null,null,null,null,null,null,"Non-government organization","Regional touristic association","Education / Training Centre","University / Knowledge / Research institute","University / Knowledge / Research institute",null,"Research/ Academic institute",{"$f":"ISBLANK(C15)","v":true}]
[null,null,null,null,null,null,null,null,null,null,null,null,"Regional touristic association","Business support structure","Cultural institute","Civil society structure","Civil society structure",null,"Environmental Non-government organization"]
[null,"Town:",null,null,null,null,null,null,null,null,null,null,"other","Education / Training Centre","Local Action Group","Business support structure","Business support structure",null,"Local Action Group",{"$f":"ISBLANK(C17)","v":true}]
[null,null,null,null,null,null,null,null,null,null,null,null,null,"Other","Other","Cultural institute / Local community centre","Cultural institute / Local community centre",null,"Other"]
[null,"Address:",null,null,null,null,null,null,null,null,null,null,null,null,null,"Other","Other",null,null,{"$f":"ISBLANK(C19)","v":true}]
[]
[null,"Postal Code:",null,null,null,null,null,null,null,null,null,null,"Vidin","Bor",null,null,null,null,null,{"$f":"ISBLANK(C21)","v":true}]
[null,null,null,null,null,null,null,null,null,"link from cover",null,null,"Montana","Zaječar "]
[null,"Legal representative (Name):",null,null,null,null,null,null,null,null,null,null,"Vratsa","Toplička",null,null,null,null,null,{"$f":"ISBLANK(C23)","v":true}]
[null,null,null,null,null,null,null,null,null,null,null,null,"Sofia","Nišava "]
[null,"Legal representative (Position in the organization):",null,null,null,null,null,null,null,null,null,null,"Pernik","Pirot ",null,null,null,null,null,{"$f":"ISBLANK(C25)","v":true}]
[null,null,null,null,null,null,null,null,null,null,null,null,"Kyustendil","Jablanica"]
[null,"Telephone:",null,null,null,null,null,null,null,null,null,null,"Outside eligible area","Pčinja ",null,null,null,null,null,{"$f":"ISBLANK(C27)","v":true}]
[]
[null,"Fax:"]
[]
[null,"E-mail:"]
[]
[null,"Website:"]
[null,"1.2. Partner profile"]
[null,"1.2.1.Partner's authority"]
[null,"(Please describe the partner’s authority to implement the referred project activities 2500 symbols);"]
[]
[null,"1.2.2 Partner profile"]
[null,"Please describe the organization's background and scope of competences and activities. (max 4000 characters)"]
[null,null,null,null,null,null,null,null,null,null,null,null,null,null,"check text size"]
[null,null,null,null,null,null,null,null,null,null,null,null,null,null,null,null,null,null,null,null,null,{"$f":"N42=2","v":false}]
[null,null,null,null,null,null,null,null,null,null,{"$f":"LEN(B41)","v":0},{"$f":"K42>0","v":false},{"$f":"K42<2501","v":true},{"$f":"L42+M42","v":1}]
[null,"1.3. Partner experience",null,null,null,null,null,null,null,null,null,null,null,null,"check if \"Yes\""]
[]
[null,"Experience in project management of public funded projects"]
[null,"If Yes, please fill in the table below brief description of the three most relevant projects, successfully implemented by your organization:",null,null,null,null,null,null,null,null,2,null,null,null,null,null,null,null,null,{"$f":"T47+T48+T49+T50+T51","v":5},null,{"$f":"IF(S46,T46=0,TRUE)","v":true}]
[null,"Initiative/Programme",null,null,null,null,null,null,null,null,null,null,null,null,"check if filled",null,null,null,null,{"$f":"ISBLANK(C47)","v":true},{"$f":"T47=FALSE","v":false}]
[null,"Project title",null,null,null,null,null,null,null,null,null,null,null,null,"check if filled",null,null,null,null,{"$f":"ISBLANK(C48)","v":true},{"$f":"T48=FALSE","v":false}]
[null,"Short description \n(max. 500 characters)",null,null,null,null,null,null,null,null,null,null,null,null,"check if filled",null,null,null,null,true,false]
[null,"Total value of the project (Euro)",null,null,null,"Project Partner's budget",null,null,null,null,null,null,null,null,"check if filled",null,null,null,null,true,false]
[null,"Organization’s role in the project (main applicant, partner etc.)",null,null,null,"Period of implementation\n(from m/y to m/y) ",null,null,null,null,"Add button",null,null,null,null,null,null,null,null,true,false]
[]
[null,null,"Add new project information",null,null,null,null,null,null,"Yes","No",null,1]
[null,null,null,null,null,null,null,null,null,null,"Visible after \"add\""]
[null,"Initiative/Programme"]
[null,"Project title"]
[null,"Short description \n(max. 500 characters)"]
[null,"Total value of the project (Euro)",null,null,null,"Project Partner's budget"]
[null,"Organization’s role in the project (main applicant, partner etc.)",null,null,null,"Period of implementation\n(from m/y to m/y) ",null,null,null,null,"Add button"]
[]
[null,null,"Add new project information",null,null,null,null,null,null,"Yes","No",null,1]
[null,null,null,null,null,null,null,null,null,null,"Visible after \"add\""]
[null,"Initiative/Programme"]
[null,"Project title"]
[null,"Short description \n(max. 500 characters)"]
[null,"Total value of the project (Euro)",null,null,null,"Project Partner's budget"]
[null,"Organization’s role in the project (main applicant, partner etc.)",null,null,null,"Period of implementation\n(from m/y to m/y) "]
[]
[]
[]
[null,"2. Financial Data"]
[]
[null,"2.1. Detailed information",null,null,null,null,null,null,null,null,null,null,null,null,"check if filled"]
[]
[null,"National registration code:",null,null,null,null,null,null,null,null,null,null,null,null,null,null,null,null,null,{"$f":"ISBLANK(C75)","v":true},null,{"$f":"(T75+T77)=0","v":false}]
[]
[null,"VAT registration code:",null,null,null,null,null,null,null,null,null,null,null,null,null,null,null,null,null,{"$f":"ISBLANK(C77)","v":true}]
[]
[null,"2.2. Financial status and human resources "]
[null,"Please provide the following information on the basis of the Profit and loss account and Balance sheet of your organization and any information related to the staff and technical capacity for the past 3 (three) years."]
[null,"Year","Turnover or equivalent\n(in EUR)","Number of full-time staff",null,"Number of part-time staff\n (if applicable)"]
[null,2014,null,null,null,null,null,null,null,null,null,{"$f":"ISBLANK(C82)","v":true},{"$f":"ISBLANK(D82)","v":true},true,true,{"$f":"L82+M82+N82","v":3},{"$f":"P82=0","v":false},null,null,null,{"$f":"Q82","v":false},{"$f":"(U82+U83+U84)=3","v":false}]
[null,2015,null,null,null,null,null,null,null,null,null,{"$f":"ISBLANK(C83)","v":true},true,true,true,{"$f":"L83+M83+N83","v":3},{"$f":"P83=0","v":false},null,null,null,{"$f":"Q83","v":false}]
[null,2016,null,null,null,null,null,null,null,null,null,true,true,true,true,3,false,null,null,null,false]

{"sheet":"PP4","index":6,"n_rows":84,"n_cols":22,"rows_kept":84,"cut":false,"hidden":false,"merged":[[82,5,82,7],[83,5,83,7],[70,1,70,7],[74,2,74,7],[76,2,76,7],[79,1,79,7],[80,5,80,7],[81,5,81,7],[80,3,80,4],[81,3,81,4],[82,3,82,4],[83,3,83,4],[63,2,63,7],[64,2,64,7],[65,2,65,4],[65,6,65,7],[66,2,66,4],[66,6,66,7],[62,2,62,7],[50,2,50,4],[50,6,50,7],[52,2,52,5],[54,2,54,7],[55,2,55,7],[56,2,56,7],[57,2,57,4],[57,6,57,7],[58,2,58,4],[58,6,58,7],[60,2,60,5],[44,1,44,5],[44,16,49,16],[45,1,45,7],[46,2,46,7],[47,2,47,7],[48,2,48,7],[49,2,49,4],[49,6,49,7],[43,1,43,5],[16,2,16,7],[18,2,18,7],[20,2,20,7],[22,2,22,7],[24,2,24,7],[26,2,26,7],[28,2,28,7],[30,2,30,7],[32,2,32,7],[39,1,39,7],[35,1,35,7],[36,1,36,7],[38,1,38,7],[40,1,40,7],[14,2,14,7],[0,1,1,7],[4,1,4,7],[6,2,6,7],[8,2,8,7],[10,2,10,7]]}
[null,"Application Form\nIPA II CBC PROGRAMME BULGARIA - SERBIA\nPART I"]
[]
[null,"PROJECT PARTNER No 4",null,null,null,null,null,null,null,"Link to budget page"]
[]
[null,"1. Identity"]
[null,"1.1.Contact information",null,null,null,null,null,null,null,"link from cover",null,null,null,null,null,null,null,null,null,{"$f":"T7+T9+T11+T15+T17+T19+T21+T23+T25+T27","v":10},{"$f":"T6=0","v":false},{"$f":"U6","v":false}]
[null,"Organization (in English):",null,null,null,null,null,null,null,null,null,null,null,null,null,null,null,null,null,{"$f":"ISBLANK(C7)","v":true}]
[]
[null,"Organization (in native language)",null,null,null,null,null,null,null,null,null,null,{"$f":"'Project identification'!N13","v":{"$error":"#N/A"}},null,null,null,null,null,null,{"$f":"ISBLANK(C9)","v":true}]
[null,null,null,null,null,null,null,null,null,"menu"]
[null,"Type of organization:",null,null,null,null,null,null,null,null,null,null,"Regional/ Local authority","Regional/Local authority","Regional/Local authority","Regional/Local authority","Regional/Local authority","Local/ Regional structure dealing with emergency situations","Regional / Local authority",{"$f":"ISBLANK(C11)","v":true}]
[null,null,null,null,null,null,null,null,null,"flag select",null,null,"Regional/ Sector development agency","Regional/ Sector development agency","Regional touristic association","Local/ National education institution","Youth organisation / Non-government organization","Central/ Regional office/ structure of government institution/ administration ","Central/ Regional office/ structure of government institution/ administration"]
[null,"Country:",null,null,null,null,null,null,null,null,null,null,"Central/ Regional office/ structure of government institution/ administration","Central/ Regional office/ structure of government institution/ administration","Civil society structure","Training service provider","Local/ National education institution","Regional/ Sector development agency","Regional/ Sector development agency"]
[null,null,null,null,null,null,null,null,null,"menu",2,null,"Public cultural institute","Non-government organization","Business support structure","Vocational training institution","Training service provider","Other","Administration of protected area/s"]
[null,"District / NUTS III",null,null,null,null,null,null,null,null,null,null,"Non-government organization","Regional touristic association","Education / Training Centre","University / Knowledge / Research institute","University / Knowledge / Research institute",null,"Research/ Academic institute",{"$f":"ISBLANK(C15)","v":true}]
[null,null,null,null,null,null,null,null,null,null,null,null,"Regional touristic association","Business support structure","Cultural institute","Civil society structure","Civil society structure",null,"Environmental Non-government organization"]
[null,"Town:",null,null,null,null,null,null,null,null,null,null,"Other","Education / Training Centre","Local Action Group","Business support structure","Business support structure",null,"Local Action Group",{"$f":"ISBLANK(C17)","v":true}]
[null,null,null,null,null,null,null,null,null,null,null,null,null,"Other","Other","Cultural institute / Local community centre","Cultural institute / Local community centre",null,"Other"]
[null,"Address:",null,null,null,null,null,null,null,null,null,null,null,null,null,"Other","Other",null,null,{"$f":"ISBLANK(C19)","v":true}]
[]
[null,"Postal Code:",null,null,null,null,null,null,null,null,null,null,"Vidin","Bor",null,null,null,null,null,{"$f":"ISBLANK(C21)","v":true}]
[null,null,null,null,null,null,null,null,null,"link from cover",null,null,"Montana","Zaječar "]
[null,"Legal representative (Name):",null,null,null,null,null,null,null,null,null,null,"Vratsa","Toplička",null,null,null,null,null,{"$f":"ISBLANK(C23)","v":true}]
[null,null,null,null,null,null,null,null,null,null,null,null,"Sofia","Nišava "]
[null,"Legal representative (Position in the organization):",null,null,null,null,null,null,null,null,null,null,"Pernik","Pirot ",null,null,null,null,null,{"$f":"ISBLANK(C25)","v":true}]
[null,null,null,null,null,null,null,null,null,null,null,null,"Kyustendil","Jablanica"]
[null,"Telephone:",null,null,null,null,null,null,null,null,null,null,"Outside eligible area","Pčinja ",null,null,null,null,null,{"$f":"ISBLANK(C27)","v":true}]
[]
[null,"Fax:"]
[]
[null,"E-mail:"]
[]
[null,"Website:"]
[null,"1.2. Partner profile"]
[null,"1.2.1.Partner's authority"]
[null,"(Please describe the partner’s authority to implement the referred project activities 2500 symbols);"]
[]
[null,"1.2.2 Partner profile"]
[null,"Please describe the organization's background and scope of competences and activities. (max 2500 characters)"]
[null,null,null,null,null,null,null,null,null,null,null,null,null,null,"check text size"]
[null,null,null,null,null,null,null,null,null,null,null,null,null,null,null,null,null,null,null,null,null,{"$f":"N42=2","v":false}]
[null,null,null,null,null,null,null,null,null,null,{"$f":"LEN(B41)","v":0},{"$f":"K42>0","v":false},{"$f":"K42<2501","v":true},{"$f":"L42+M42","v":1}]
[null,"1.3. Partner experience",null,null,null,null,null,null,null,null,null,null,null,null,"check if \"Yes\""]
[]
[null,"Experience in project management of public funded projects"]
[null,"If Yes, please fill in the table below brief description of the three most relevant projects, successfully implemented by your organization:",null,null,null,null,null,null,null,null,2,null,null,null,null,null,null,null,null,{"$f":"T47+T48+T49+T50+T51","v":5},null,{"$f":"IF(S46,T46=0,TRUE)","v":true}]
[null,"Initiative/Programme",null,null,null,null,null,null,null,null,null,null,null,null,"check if filled",null,null,null,null,{"$f":"ISBLANK(C47)","v":true},{"$f":"T47=FALSE","v":false}]
[null,"Project title",null,null,null,null,null,null,null,null,null,null,null,null,"check if filled",null,null,null,null,{"$f":"ISBLANK(C48)","v":true},{"$f":"T48=FALSE","v":false}]
[null,"Short description \n(max. 500 characters)",null,null,null,null,null,null,null,null,null,null,null,null,"check if filled",null,null,null,null,true,false]
[null,"Total value of the project (Euro)",null,null,null,"Project Partner's budget",null,null,null,null,null,null,null,null,"check if filled",null,null,null,null,true,false]
[null,"Organization’s role in the project (main applicant, partner etc.)",null,null,null,"Period of implementation\n(from m/y to m/y) ",null,null,null,null,"Add button",null,null,null,null,null,null,null,null,true,false]
[]
[null,null,"Add new project information",null,null,null,null,null,null,"Yes","No",null,1]
[null,null,null,null,null,null,null,null,null,null,"Visible after \"add\""]
[null,"Initiative/Programme"]
[null,"Project title"]
[null,"Short description \n(max. 500 characters)"]
[null,"Total value of the project (Euro)",null,null,null,"Project Partner's budget"]
[null,"Organization’s role in the project (main applicant, partner etc.)",null,null,null,"Period of implementation\n(from m/y to m/y) ",null,null,null,null,"Add button"]
[]
[null,null,"Add new project information",null,null,null,null,null,null,"Yes","No",null,1]
[null,null,null,null,null,null,null,null,null,null,"Visible after \"add\""]
[null,"Initiative/Programme"]
[null,"Project title"]
[null,"Short description \n(max. 500 characters)"]
[null,"Total value of the project (Euro)",null,null,null,"Project Partner's budget"]
[null,"Organization’s role in the project (main applicant, partner etc.)",null,null,null,"Period of implementation\n(from m/y to m/y) "]
[]
[]
[]
[null,"2. Financial Data"]
[]
[null,"2.1. Detailed information",null,null,null,null,null,null,null,null,null,null,null,null,"check if filled"]
[]
[null,"National registration code:",null,null,null,null,null,null,null,null,null,null,null,null,null,null,null,null,null,{"$f":"ISBLANK(C75)","v":true},null,{"$f":"(T75+T77)=0","v":false}]
[]
[null,"VAT registration code:",null,null,null,null,null,null,null,null,null,null,null,null,null,null,null,null,null,{"$f":"ISBLANK(C77)","v":true}]
[]
[null,"2.2. Financial status and human resources "]
[null,"Please provide the following information on the basis of the Profit and loss account and Balance sheet of your organization and any information related to the staff and technical capacity for the past 3 (three) years."]
[null,"Year","Turnover or equivalent\n(in EUR)","Number of full-time staff",null,"Number of part-time staff\n (if applicable)"]
[null,2014,null,null,null,null,null,null,null,null,null,{"$f":"ISBLANK(C82)","v":true},{"$f":"ISBLANK(D82)","v":true},true,true,{"$f":"L82+M82+N82","v":3},{"$f":"P82=0","v":false},null,null,null,{"$f":"Q82","v":false},{"$f":"(U82+U83+U84)=3","v":false}]
[null,2015,null,null,null,null,null,null,null,null,null,{"$f":"ISBLANK(C83)","v":true},true,true,true,{"$f":"L83+M83+N83","v":3},{"$f":"P83=0","v":false},null,null,null,{"$f":"Q83","v":false}]
[null,2016,null,null,null,null,null,null,null,null,null,true,true,true,true,3,false,null,null,null,false]

{"sheet":"PP5","index":7,"n_rows":84,"n_cols":22,"rows_kept":84,"cut":false,"hidden":false,"merged":[[82,5,82,7],[83,5,83,7],[70,1,70,7],[74,2,74,7],[76,2,76,7],[79,1,79,7],[80,5,80,7],[81,5,81,7],[80,3,80,4],[81,3,81,4],[82,3,82,4],[83,3,83,4],[63,2,63,7],[64,2,64,7],[65,2,65,4],[65,6,65,7],[66,2,66,4],[66,6,66,7],[62,2,62,7],[50,2,50,4],[50,6,50,7],[52,2,52,5],[54,2,54,7],[55,2,55,7],[56,2,56,7],[57,2,57,4],[57,6,57,7],[58,2,58,4],[58,6,58,7],[60,2,60,5],[44,1,44,5],[44,16,49,16],[45,1,45,7],[46,2,46,7],[47,2,47,7],[48,2,48,7],[49,2,49,4],[49,6,49,7],[43,1,43,5],[16,2,16,7],[18,2,18,7],[20,2,20,7],[22,2,22,7],[24,2,24,7],[26,2,26,7],[28,2,28,7],[30,2,30,7],[32,2,32,7],[39,1,39,7],[35,1,35,7],[36,1,36,7],[38,1,38,7],[40,1,40,7],[14,2,14,7],[0,1,1,7],[4,1,4,7],[6,2,6,7],[8,2,8,7],[10,2,10,7]]}
[null,"Application Form\nIPA II CBC PROGRAMME BULGARIA - SERBIA\nPART I"]
[]
[null,"PROJECT PARTNER No 5",null,null,null,null,null,null,null,"Link to budget page"]
[]
[null,"1. Identity"]
[null,"1.1.Contact information",null,null,null,null,null,null,null,"link from cover",null,null,null,null,null,null,null,null,null,{"$f":"T7+T9+T11+T15+T17+T19+T21+T23+T25+T27","v":10},{"$f":"T6=0","v":false},{"$f":"U6","v":false}]
[null,"Organization (in English):",null,null,null,null,null,null,null,null,null,null,null,null,null,null,null,null,null,{"$f":"ISBLANK(C7)","v":true}]
[]
[null,"Organization (in native language)",null,null,null,null,null,null,null,null,null,null,{"$f":"'Project identification'!N13","v":{"$error":"#N/A"}},null,null,null,null,null,null,{"$f":"ISBLANK(C9)","v":true}]
[null,null,null,null,null,null,null,null,null,"menu"]
[null,"Type of organization:",null,null,null,null,null,null,null,null,null,null,"Regional/ Local authority","Regional/Local authority","Regional/Local authority","Regional/Local authority","Regional/Local authority","Local/ Regional structure dealing with emergency situations","Regional / Local authority",{"$f":"ISBLANK(C11)","v":true}]
[null,null,null,null,null,null,null,null,null,"flag select",null,null,"Regional/ Sector development agency","Regional/ Sector development agency","Regional touristic association","Local/ National education institution","Youth organisation / Non-government organization","Central/ Regional office/ structure of government institution/ administration ","Central/ Regional office/ structure of government institution/ administration"]
[null,"Country:",null,null,null,null,null,null,null,null,null,null,"Central/ Regional office/ structure of government institution/ administration","Central/ Regional office/ structure of government institution/ administration","Civil society structure","Training service provider","Local/ National education institution","Regional/ Sector development agency","Regional/ Sector development agency"]
[null,null,null,null,null,null,null,null,null,"menu",1,null,"Public cultural institute","Non-government organization","Business support structure","Vocational training institution","Training service provider","Other","Administration of protected area/s"]
[null,"District / NUTS III",null,null,null,null,null,null,null,null,null,null,"Non-government organization","Regional touristic association","Education / Training Centre","University / Knowledge / Research institute","University / Knowledge / Research institute",null,"Research/ Academic institute",{"$f":"ISBLANK(C15)","v":true}]
[null,null,null,null,null,null,null,null,null,null,null,null,"Regional touristic association","Business support structure","Cultural institute","Civil society structure","Civil society structure",null,"Environmental Non-government organization"]
[null,"Town:",null,null,null,null,null,null,null,null,null,null,"Other","Education / Training Centre","Local Action Group","Business support structure","Business support structure",null,"Local Action Group",{"$f":"ISBLANK(C17)","v":true}]
[null,null,null,null,null,null,null,null,null,null,null,null,null,"Other","Other","Cultural institute / Local community centre","Cultural institute / Local community centre",null,"Other"]
[null,"Address:",null,null,null,null,null,null,null,null,null,null,null,null,null,"Other","Other",null,null,{"$f":"ISBLANK(C19)","v":true}]
[]
[null,"Postal Code:",null,null,null,null,null,null,null,null,null,null,"Vidin","Bor",null,null,null,null,null,{"$f":"ISBLANK(C21)","v":true}]
[null,null,null,null,null,null,null,null,null,"link from cover",null,null,"Montana","Zaječar "]
[null,"Legal representative (Name):",null,null,null,null,null,null,null,null,null,null,"Vratsa","Toplička",null,null,null,null,null,{"$f":"ISBLANK(C23)","v":true}]
[null,null,null,null,null,null,null,null,null,null,null,null,"Sofia","Nišava "]
[null,"Legal representative (Position in the organization):",null,null,null,null,null,null,null,null,null,null,"Pernik","Pirot ",null,null,null,null,null,{"$f":"ISBLANK(C25)","v":true}]
[null,null,null,null,null,null,null,null,null,null,null,null,"Kyustendil","Jablanica"]
[null,"Telephone:",null,null,null,null,null,null,null,null,null,null,"Outside eligible area","Pčinja ",null,null,null,null,null,{"$f":"ISBLANK(C27)","v":true}]
[]
[null,"Fax:"]
[]
[null,"E-mail:"]
[]
[null,"Website:"]
[null,"1.2. Partner profile"]
[null,"1.2.1.Partner's authority"]
[null,"(Please describe the partner’s authority to implement the referred project activities 2500 symbols);"]
[]
[null,"1.2.2 Partner profile"]
[null,"Please describe the organization's background and scope of competences and activities. (max 2500 characters)"]
[null,null,null,null,null,null,null,null,null,null,null,null,null,null,"check text size"]
[null,null,null,null,null,null,null,null,null,null,null,null,null,null,null,null,null,null,null,null,null,{"$f":"N42=2","v":false}]
[null,null,null,null,null,null,null,null,null,null,{"$f":"LEN(B41)","v":0},{"$f":"K42>0","v":false},{"$f":"K42<2501","v":true},{"$f":"L42+M42","v":1}]
[null,"1.3. Partner experience",null,null,null,null,null,null,null,null,null,null,null,null,"check if \"Yes\""]
[]
[null,"Experience in project management of public funded projects"]
[null,"If Yes, please fill in the table below brief description of the three most relevant projects, successfully implemented by your organization:",null,null,null,null,null,null,null,null,2,null,null,null,null,null,null,null,null,{"$f":"T47+T48+T49+T50+T51","v":5},null,{"$f":"IF(S46,T46=0,TRUE)","v":true}]
[null,"Initiative/Programme",null,null,null,null,null,null,null,null,null,null,null,null,"check if filled",null,null,null,null,{"$f":"ISBLANK(C47)","v":true},{"$f":"T47=FALSE","v":false}]
[null,"Project title",null,null,null,null,null,null,null,null,null,null,null,null,"check if filled",null,null,null,null,{"$f":"ISBLANK(C48)","v":true},{"$f":"T48=FALSE","v":false}]
[null,"Short description \n(max. 500 characters)",null,null,null,null,null,null,null,null,null,null,null,null,"check if filled",null,null,null,null,true,false]
[null,"Total value of the project (Euro)",null,null,null,"Project Partner's budget",null,null,null,null,null,null,null,null,"check if filled",null,null,null,null,true,false]
[null,"Organization’s role in the project (main applicant, partner etc.)",null,null,null,"Period of implementation\n(from m/y to m/y) ",null,null,null,null,"Add button",null,null,null,null,null,null,null,null,true,false]
[]
[null,null,"Add new project information",null,null,null,null,null,null,"Yes","No",null,1]
[null,null,null,null,null,null,null,null,null,null,"Visible after \"add\""]
[null,"Initiative/Programme"]
[null,"Project title"]
[null,"Short description \n(max. 500 characters)"]
[null,"Total value of the project (Euro)",null,null,null,"Project Partner's budget"]
[null,"Organization’s role in the project (main applicant, partner etc.)",null,null,null,"Period of implementation\n(from m/y to m/y) ",null,null,null,null,"Add button"]
[]
[null,null,"Add new project information",null,null,null,null,null,null,"Yes","No",null,1]
[null,null,null,null,null,null,null,null,null,null,"Visible after \"add\""]
[null,"Initiative/Programme"]
[null,"Project title"]
[null,"Short description \n(max. 500 characters)"]
[null,"Total value of the project (Euro)",null,null,null,"Project Partner's budget"]
[null,"Organization’s role in the project (main applicant, partner etc.)",null,null,null,"Period of implementation\n(from m/y to m/y) "]
[]
[]
[]
[null,"2. Financial Data"]
[null,null,null,null,null,"dsa"]
[null,"2.1. Detailed information",null,null,null,null,null,null,null,null,null,null,null,null,"check if filled"]
[]
[null,"National registration code:",null,null,null,null,null,null,null,null,null,null,null,null,null,null,null,null,null,{"$f":"ISBLANK(C75)","v":true},null,{"$f":"(T75+T77)=0","v":false}]
[]
[null,"VAT registration code:",null,null,null,null,null,null,null,null,null,null,null,null,null,null,null,null,null,{"$f":"ISBLANK(C77)","v":true}]
[]
[null,"2.2. Financial status and human resources "]
[null,"Please provide the following information on the basis of the Profit and loss account and Balance sheet of your organization and any information related to the staff and technical capacity for the past 3 (three) years."]
[null,"Year","Turnover or equivalent\n(in EUR)","Number of full-time staff",null,"Number of part-time staff\n (if applicable)"]
[null,2014,null,null,null,null,null,null,null,null,null,{"$f":"ISBLANK(C82)","v":true},{"$f":"ISBLANK(D82)","v":true},true,true,{"$f":"L82+M82+N82","v":3},{"$f":"P82=0","v":false},null,null,null,{"$f":"Q82","v":false},{"$f":"(U82+U83+U84)=3","v":false}]
[null,2015,null,null,null,null,null,null,null,null,null,{"$f":"ISBLANK(C83)","v":true},true,true,true,{"$f":"L83+M83+N83","v":3},{"$f":"P83=0","v":false},null,null,null,{"$f":"Q83","v":false}]
[null,2016,null,null,null,null,null,null,null,null,null,true,true,true,true,3,false,null,null,null,false]

{"sheet":"Project identification","index":8,"n_rows":381,"n_cols":32,"rows_kept":381,"cut":false,"hidden":false,"merged":[[365,15,365,18],[344,2,344,3],[344,4,344,9],[345,2,345,3],[345,4,345,9],[346,2,346,3],[346,4,346,9],[347,2,347,3],[347,4,347,9],[348,2,348,3],[362,15,362,18],[363,15,363,18],[364,15,364,18],[350,15,350,18],[351,15,351,18],[352,15,352,18],[353,15,353,18],[354,15,354,18],[355,15,355,18],[356,15,356,18],[359,15,359,18],[360,15,360,18],[361,15,361,18],[357,15,357,18],[358,15,358,18],[346,15,346,18],[347,15,347,18],[348,15,348,18],[349,15,349,18],[118,1,118,2],[118,3,118,9],[342,4,342,9],[119,1,119,2],[119,3,119,9],[348,4,348,9],[343,2,343,3],[343,4,343,9],[343,15,343,18],[344,15,344,18],[132,1,132,2],[132,3,132,9],[120,1,120,2],[120,3,120,9],[121,1,121,9],[122,1,122,9],[123,1,123,9],[124,1,124,9],[345,15,345,18],[104,1,104,2],[104,3,104,9],[105,1,105,2],[105,3,105,9],[106,1,106,2],[106,3,106,9],[110,1,110,9],[111,1,111,9],[112,1,112,9],[107,1,107,9],[108,1,108,9],[109,1,109,9],[137,1,137,9],[166,1,166,9],[167,1,167,9],[162,3,162,9],[163,1,163,9],[164,1,164,9],[165,1,165,9],[113,1,113,9],[114,1,114,9],[116,1,116,6],[133,1,133,2],[133,3,133,9],[134,1,134,2],[134,3,134,9],[135,1,135,9],[136,1,136,9],[125,1,125,9],[126,1,126,9],[127,1,127,9],[128,1,128,9],[130,1,130,6],[146,1,146,2],[146,3,146,9],[147,1,147,2],[147,3,147,9],[148,1,148,2],[148,3,148,9],[138,1,138,9],[139,1,139,9],[140,1,140,9],[141,1,141,9],[142,1,142,9],[144,1,144,6],[149,1,149,9],[150,1,150,9],[151,1,151,9],[152,1,152,9],[153,1,153,9],[154,1,154,9],[168,1,168,9],[169,1,169,9],[170,1,170,9],[183,1,183,9],[184,1,184,9],[176,3,176,9],[177,1,177,9],[178,1,178,9],[179,1,179,9],[155,1,155,9],[156,1,156,9],[158,1,158,6],[160,1,160,2],[160,3,160,9],[161,1,161,2],[161,3,161,9],[172,1,172,6],[174,1,174,2],[174,3,174,9],[175,1,175,2],[175,3,175,9],[176,1,176,2],[162,1,162,2],[180,1,180,9],[181,1,181,9],[182,1,182,9],[200,1,200,6],[206,1,206,9],[207,1,207,9],[208,1,208,9],[186,1,186,6],[188,1,188,2],[188,3,188,9],[189,1,189,2],[189,3,189,9],[194,1,194,9],[195,1,195,9],[196,1,196,9],[197,1,197,9],[198,1,198,9],[190,1,190,2],[190,3,190,9],[191,1,191,9],[192,1,192,9],[193,1,193,9],[202,1,202,2],[202,3,202,9],[203,1,203,2],[203,3,203,9],[204,1,204,2],[204,3,204,9],[205,1,205,9],[223,1,223,9],[224,1,224,9],[219,1,219,9],[220,1,220,9],[221,1,221,9],[222,1,222,9],[234,1,234,9],[235,1,235,9],[236,1,236,9],[237,1,237,9],[209,1,209,9],[210,1,210,9],[211,1,211,9],[212,1,212,9],[214,1,214,6],[216,1,216,2],[216,3,216,9],[225,1,225,9],[226,1,226,9],[228,1,228,6],[230,1,230,2],[230,3,230,9],[231,1,231,2],[231,3,231,9],[232,1,232,2],[232,3,232,9],[233,1,233,9],[217,1,217,2],[217,3,217,9],[218,1,218,2],[218,3,218,9],[332,1,332,9],[292,1,292,9],[293,1,293,9],[245,1,245,2],[245,3,245,9],[246,1,246,2],[246,3,246,9],[247,1,247,9],[248,1,248,9],[291,1,291,9],[273,3,273,9],[274,1,274,2],[274,3,274,9],[289,1,289,9],[290,1,290,9],[278,1,278,9],[279,1,279,9],[280,1,280,9],[254,1,254,9],[256,1,256,6],[252,1,252,9],[253,1,253,9],[272,3,272,9],[273,1,273,2],[59,4,59,5],[59,6,59,7],[57,1,57,3],[92,3,92,9],[287,1,287,2],[287,3,287,9],[288,1,288,2],[288,3,288,9],[102,1,102,6],[90,1,90,2],[91,1,91,2],[92,1,92,2],[238,1,238,9],[239,1,239,9],[240,1,240,9],[242,1,242,6],[96,1,96,9],[63,1,63,9],[91,3,91,9],[264,1,264,9],[100,1,100,9],[98,1,98,9],[244,1,244,2],[244,3,244,9],[52,4,52,5],[52,6,52,7],[53,4,53,5],[54,4,54,5],[55,4,55,5],[56,4,56,5],[53,6,53,7],[54,6,54,7],[55,6,55,7],[56,6,56,7],[48,1,48,3],[47,4,47,7],[48,4,48,7],[29,2,29,3],[29,4,29,9],[23,2,23,3],[23,4,23,9],[25,2,25,3],[25,4,25,9],[26,1,26,9],[48,8,48,9],[55,1,55,3],[54,1,54,3],[53,1,53,3],[59,1,59,3],[58,1,58,3],[59,8,59,9],[57,8,57,9],[81,8,81,9],[88,1,88,9],[56,1,56,3],[54,8,54,9],[55,8,55,9],[56,8,56,9],[57,6,57,7],[58,6,58,7],[82,8,82,9],[83,8,83,9],[84,8,84,9],[83,2,83,7],[68,1,68,9],[82,2,82,7],[81,2,81,7],[57,4,57,5],[58,4,58,5],[0,1,1,9],[4,1,4,9],[14,2,14,9],[8,2,8,9],[10,2,10,9],[12,2,12,9],[16,2,16,9],[94,1,94,9],[45,1,45,3],[42,8,42,9],[42,4,42,7],[52,1,52,3],[38,1,38,9],[43,1,43,3],[44,1,44,3],[43,8,43,9],[44,8,44,9],[45,8,45,9],[46,8,46,9],[47,8,47,9],[43,4,43,7],[46,1,46,3],[47,1,47,3],[75,1,75,9],[374,3,374,9],[367,1,367,9],[366,1,366,9],[370,1,370,9],[372,1,372,2],[374,1,374,2],[373,1,373,2],[20,1,20,9],[24,1,24,9],[30,1,30,9],[22,2,22,3],[22,4,22,9],[35,1,35,9],[34,1,34,9],[27,2,27,3],[27,4,27,9],[28,1,28,9],[58,8,58,9],[52,8,52,9],[53,8,53,9],[44,4,44,7],[45,4,45,7],[46,4,46,7],[260,3,260,9],[372,3,372,9],[373,3,373,9],[66,1,66,9],[67,1,67,9],[70,1,70,9],[71,1,71,9],[74,1,74,9],[327,1,327,9],[338,1,338,9],[358,1,358,9],[350,1,350,9],[342,2,342,3],[359,1,359,9],[307,1,307,9],[93,1,93,9],[95,1,95,9],[97,1,97,9],[99,1,99,9],[272,1,272,2],[270,1,270,6],[275,1,275,9],[276,1,276,9],[277,1,277,9],[328,1,331,9],[261,1,261,9],[262,1,262,9],[263,1,263,9],[266,1,266,9],[267,1,267,9],[268,1,268,9],[258,1,258,2],[258,3,258,9],[259,1,259,2],[259,3,259,9],[260,1,260,2],[362,1,362,9],[363,1,364,9],[351,1,353,9],[355,1,355,9],[356,1,357,9],[303,1,303,9],[84,2,84,7],[294,1,294,9],[295,1,295,9],[296,1,296,9],[298,1,298,6],[304,1,304,9],[281,1,281,9],[282,1,282,9],[284,1,284,6],[286,1,286,2],[286,3,286,9],[249,1,249,9],[250,1,250,9],[251,1,251,9],[341,1,341,9],[90,3,90,9],[324,1,324,2],[265,1,265,9]]}
[null,"Application Form\nINTERREG - IPA CBC BULGARIA - SERBIA PROGRAMME\nPART II\n\n     \n     \n     \n"]
[]
[null,"PROJECT IDENTIFICATION"]
[]
[null,"1. Project Identity"]
[]
[null,"1.1. Project title"]
[null,null,null,null,null,null,null,null,null,null,null,null,{"$f":"CONCATENATE(\"Indicate duration in months from: \",M17,\" to \",N17,\" months!\")","v":"Indicate duration in months from: 12 to 24 months!"}]
[null,"Full Name:",{"$f":"IF(Cover!C21=\"\",\"\",Cover!C21)","v":""},null,null,null,null,null,null,null,null,null,null,null,null,null,null,null,null,null,null,null,null,{"$f":"AA9=0","v":false},{"$f":"C9=\"\"","v":true},null,{"$f":"Y9+Y11+Y13+Y15+Y17","v":3}]
[]
[null,"Priority Axis",{"$f":"Cover!C27","v":0},null,null,null,null,null,null,null,null,null,null,{"$f":"IF(C11=Q11,1,IF(C11=Q12,2,IF(C11=Q13,3,0)))","v":0},null,null,"Tourism",null,"1.1 Tourist Attractiveness","2.1 Skills & Entrepreneurship","3.1 Joint Risk Management",null,null,null,{"$f":"C11=\"\"","v":false}]
[null,null,null,null,null,null,null,null,null,null,null,null,null,null,null,null,"Youth",null,"1.2 Cross-Border Touristic Product:","2.2 People-To-People Networking","3.2 Nature Protection"]
[null,"Specific Objective",{"$f":"Cover!C29","v":0},null,null,null,null,null,null,null,null,null,null,{"$f":"VLOOKUP(C13,R15:S21,2)","v":{"$error":"#N/A"}},null,null,"Environment",null,"1.3 People-To-People Networking",null,null,null,null,null,{"$f":"C13=\"\"","v":false}]
[null,null,null,null,null,null,null,null,null,null,null,null,null,{"$f":"VLOOKUP(N13,S15:T21,2)","v":{"$error":"#N/A"}}]
[null,"Type of project",{"$f":"IF(Cover!C31=\"\",\"\",Cover!C31)","v":""},null,null,null,null,null,null,null,null,null,null,"Soft","Investment","Soft",null,"1.1 Tourist Attractiveness",1,2,null,null,null,null,{"$f":"C15=\"\"","v":true}]
[null,null,null,null,null,null,null,null,null,null,null,null,{"$f":"C17>=M17","v":false},{"$f":"C17<=N17","v":true},null,"Investment",null,"1.2 Cross-Border Touristic Product:",2,1]
[null,"Duration in months",null,null,null,null,null,null,null,null,null,null,{"$f":"'Table 3-summary'!K27","v":12},{"$f":"'Table 3-summary'!L27","v":24},null,null,null,"1.3 People-To-People Networking",3,1,null,null,null,null,{"$f":"C17=\"\"","v":true}]
[null,null,{"$f":"M8","v":"Indicate duration in months from: 12 to 24 months!"},null,null,null,null,null,null,null,null,null,{"$f":"M16+N16","v":1},null,null,null,null,"2.1 Skills & Entrepreneurship",4,3]
[null,null,null,null,null,null,null,null,null,null,null,null,null,null,null,null,null,"2.2 People-To-People Networking",5,1]
[null,"1.2. Cooperation criteria",null,null,null,null,null,null,null,null,null,null,null,null,null,null,null,"3.1 Joint Risk Management",6,3]
[null,"(Please, be reminded that your proposal must respect at least Joint Development and Joint Implementation and, additionally, one of the other two cooperation criteria: Joint Financing or Joint Staffing)",null,null,null,null,null,null,null,null,null,null,null,null,null,null,null,"3.2 Nature Protection",7,3]
[]
[null,"Criteria","Applicable",null,"Justification",null,null,null,null,null,null,null,null,null,null,null,null,null,null,null,null,null,null,null,{"$f":"AB23>2","v":false},null,null,{"$f":"AB24+AB26+AB28+AB30","v":0}]
[null,"Joint Development",null,null,null,null,null,null,null,null,null,false,null,null,null,null,null,null,null,null,null,null,null,null,null,{"$f":"L24","v":false},{"$f":"B25<>\"\"","v":false},{"$f":"(Z24+AA24)=2","v":false}]
[]
[null,"Joint Implementation",null,null,null,null,null,null,null,null,null,false,null,null,null,null,null,null,null,null,null,null,null,null,null,{"$f":"L26","v":false},{"$f":"B27<>\"\"","v":false},{"$f":"(Z26+AA26)=2","v":false}]
[]
[null,"Joint Staffing",null,null,null,null,null,null,null,null,null,false,null,null,null,null,null,null,null,null,null,null,null,null,null,{"$f":"L28","v":false},{"$f":"B29<>\"\"","v":false},{"$f":"(Z28+AA28)=2","v":false}]
[]
[null,"Joint Financing",null,null,null,null,null,null,null,null,null,false,null,null,null,null,null,null,null,null,null,null,null,null,null,{"$f":"L30","v":false},{"$f":"B31<>\"\"","v":false},{"$f":"(Z30+AA30)=2","v":false}]
[null,null,null,null,null,null,null,null,null,null,null,null,null,"active if check D26 is active"]
[]
[]
[null,"1.3 Cross-border impact of the project"]
[null,"Please, describe what the benefit of the project for the partner organizations, the target groups and the Programme area will be.) "]
[null,null,null,null,null,null,null,null,null,null,null,null,null,null,null,null,null,null,null,null,null,null,null,null,{"$f":"AC36=2","v":false},{"$f":"LEN(B36)","v":0},{"$f":"Z36<1500","v":true},{"$f":"Z36>0","v":false},{"$f":"AA36+AB36","v":1}]
[]
[]
[null,"2. Financial information - Project budget (EUR)"]
[]
[null,"2.1 Sources of financing (EUR)"]
[]
[null,null,null,null,"Amount",null,null,null,"% "]
[null,"Total Value, of which",null,null,{"$f":"'Table 5-Sources'!G6","v":0}]
[null,"EU funding",null,null,{"$f":"'Table 5-Sources'!G12","v":0},null,null,null,{"$f":"E45/$E$44","v":{"$error":"#DIV/0!"}}]
[null,"National Co-financing, of which",null,null,{"$f":"SUM(E47:H49)","v":0},null,null,null,{"$f":"E46/$E$44","v":{"$error":"#DIV/0!"}}]
[null,"State Budgets Contribution",null,null,{"$f":"'Table 5-Sources'!G8","v":0},null,null,null,{"$f":"E47/$E$44","v":{"$error":"#DIV/0!"}}]
[null,"Own Contribution",null,null,{"$f":"'Table 5-Sources'!G9","v":0},null,null,null,{"$f":"E48/$E$44","v":{"$error":"#DIV/0!"}}]
[null,"Others ",null,null,{"$f":"'Table 5-Sources'!G10","v":0},null,null,null,{"$f":"E49/$E$44","v":{"$error":"#DIV/0!"}}]
[]
[null,"2.2 Breakdown of eligible expenditure (EUR)"]
[]
[null,"Type of eligible expenditure",null,null,"Partners' budget in the eligible area",null,"Partners' budget outside of the eligible area",null,"% from the Total"]
[null,"Staff costs",null,null,{"$f":"'Table 3-summary'!C5","v":0},null,{"$f":"'Table 3-summary'!D5","v":0},null,{"$f":"G54/$E$44","v":{"$error":"#DIV/0!"}}]
[null,"Office and administrative costs",null,null,{"$f":"'Table 3-summary'!C6","v":0},null,{"$f":"'Table 3-summary'!D6","v":0},null,{"$error":"#DIV/0!"}]
[null,"Travel and accommodation",null,null,{"$f":"'Table 3-summary'!C7","v":0},null,{"$f":"'Table 3-summary'!D7","v":0},null,{"$error":"#DIV/0!"}]
[null,"External expertise and services",null,null,{"$f":"'Table 3-summary'!C8","v":{"$error":"#REF!"}},null,{"$f":"'Table 3-summary'!D8","v":0},null,{"$error":"#DIV/0!"}]
[null,"Equipment and works",null,null,{"$f":"'Table 3-summary'!C9","v":0},null,{"$f":"'Table 3-summary'!D9","v":0},null,{"$error":"#DIV/0!"}]
[null,"Project Preparation",null,null,{"$f":"'Table 3-summary'!C10","v":0},null,{"$f":"'Table 3-summary'!D10","v":0},null,{"$error":"#DIV/0!"}]
[null,"TOTAL",null,null,{"$f":"SUM(E54:F59)","v":{"$error":"#REF!"}},null,{"$f":"SUM(G54:H59)","v":0},null,{"$error":"#DIV/0!"}]
[]
[]
[]
[null,"3. Project description\n"]
[]
[null,"3.1 Background and demand for the project proposal "]
[null,"Please provide brief information about the project background, stating the concrete needs, strengths, weaknesses and constraints of the target group(s) and target region(s) that you focus on and the proposed strategy concerning these issues (maximum 2x2000 characters) "]
[null,null,null,null,null,null,null,null,null,null,null,null,null,"check text size",null,null,null,null,null,null,null,null,null,null,{"$f":"AC68=2","v":false},{"$f":"LEN(B68)","v":0},{"$f":"Z68<2000","v":true},{"$f":"Z68>0","v":false},{"$f":"AA68+AB68","v":1}]
[]
[]
[]
[null,null,null,null,null,null,null,null,null,null,null,null,null,"check text size",null,null,null,null,null,null,null,null,null,null,{"$f":"AC72=2","v":false},{"$f":"LEN(B72)","v":0},{"$f":"Z72<1000","v":true},{"$f":"Z72>0","v":false},{"$f":"AA72+AB72","v":1}]
[]
[]
[]
[null,null,null,null,null,null,null,null,null,null,null,null,null,"check text size",null,null,null,null,null,null,null,null,null,null,{"$f":"AC76=2","v":false},{"$f":"LEN(B76)","v":0},{"$f":"Z76<1000","v":true},{"$f":"Z76>0","v":false},{"$f":"AA76+AB76","v":1}]
[]
[null,"3.2 Description of the target groups and beneficiaries (estimated numbers):"]
[null,"“Target groups” are the groups/entities who will be positively affected by the project "]
[null,"“Direct beneficiaries” are those directly involved in the project implementation "]
[null,"“Final beneficiaries” are those who will benefit from the project in a long term "]
[null,null,"Description/ specification",null,null,null,null,null,"Indicative Number"]
[null,"Target groups",null,null,null,null,null,null,null,null,null,null,null,"D78 menu",null,"dependant on priority axis",null,null,null,null,null,null,null,null,{"$f":"SUM(AB83:AB85)=0","v":false},{"$f":"ISBLANK(C83)","v":true},{"$f":"ISBLANK(I83)","v":true},{"$f":"Z83+AA83","v":2}]
[null,"Direct beneficiaries",null,null,null,null,null,null,null,null,null,null,null,null,null,null,null,null,null,null,null,null,null,null,null,{"$f":"ISBLANK(C84)","v":true},{"$f":"ISBLANK(I84)","v":true},{"$f":"Z84+AA84","v":2}]
[null,"Final beneficiaries",null,null,null,null,null,null,null,null,null,null,null,null,null,null,null,null,null,null,null,null,null,null,null,true,true,2]
[]
[]
[null,"3.3. Project activities - description and methods of implementation"]
[null,"(point 1 up to 1500 characters; points 2 and 4 up to 500 characters; pont 3 up to 1000 characters )"]
[]
[null,"Activity No",null,1]
[null,"Title of activity",null,null,null,null,null,null,null,null,null,null,null,"Vidin","Bor",null,null,null,null,null,null,null,null,{"$f":"Z92=0","v":false},{"$f":"ISBLANK(D92)","v":true},{"$f":"Y92+Y93+Y95+Y97+Y99+Y101","v":6}]
[null,"Location (NUTS III region)",null,null,null,null,null,null,null,null,null,null,null,"Montana","Zaječar ",null,null,null,null,null,null,null,null,null,{"$f":"ISBLANK(D93)","v":true}]
[null,"1. Brief description of the activity:",null,null,null,null,null,null,null,null,null,null,null,"Vratsa","Toplica"]
[null,null,null,null,null,null,null,null,null,null,null,null,null,"Sofia","Nišava ",null,null,null,null,null,null,null,null,null,{"$f":"ISBLANK(B95)","v":true}]
[null,"2. Who will be the responsible partner for implementation and reporting of the activity?",null,null,null,null,null,null,null,null,null,null,null,"Pernik","Pirot "]
[null,null,null,null,null,null,null,null,null,null,null,null,null,"Kyustendil","Jablanica",null,null,null,null,null,null,null,null,null,{"$f":"ISBLANK(B97)","v":true}]
[null,"3. What methods / resources will be used for impementation of the activity? ",null,null,null,null,null,null,null,null,null,null,null,"Outside eligible area","Pčinja "]
[null,null,null,null,null,null,null,null,null,null,null,null,null,null,"Vidin",null,null,null,null,null,null,null,null,null,{"$f":"ISBLANK(B99)","v":true}]
[null,"4. What will be the output(s) of the activity?",null,null,null,null,null,null,null,null,null,null,null,null,"Montana"]
[null,null,null,null,null,null,null,null,null,null,null,null,null,null,"Vratsa",null,null,null,null,null,null,null,null,null,{"$f":"ISBLANK(B101)","v":true}]
[null,null,null,null,null,null,null,null,null,null,null,null,null,null,"Sofia"]
[null,"Add new project activity",null,null,null,null,null,null,null,null,null,null,null,null,"Pernik"]
[null,null,null,null,null,null,null,null,null,null,null,null,null,null,"Kyustendil"]
[null,"Activity No",null,2,null,null,null,null,null,null,null,null,null,null,"Outside eligible area"]
[null,"Title of activity"]
[null,"Location (NUTS III region)"]
[null,"1. Brief description of the activity:"]
[]
[null,"2. Who will be the responsible partner for implementation and reporting of the activity?"]
[]
[null,"3. What methods / resources will be used for impementation of the activity? "]
[]
[null,"4. What will be the output(s) of the activity?"]
[]
[]
[null,"Add new project activity"]
[]
[null,"Activity No",null,3]
[null,"Title of activity"]
[null,"Location (NUTS III region)"]
[null,"1. Brief description of the activity:"]
[]
[null,"2. Who will be the responsible partner for implementation and reporting of the activity?"]
[]
[null,"3. What methods / resources will be used for impementation of the activity? "]
[]
[null,"4. What will be the output(s) of the activity?"]
[]
[]
[null,"Add new project activity"]
[]
[null,"Activity No",null,4]
[null,"Title of activity"]
[null,"Location (NUTS III region)"]
[null,"1. Brief description of the activity:"]
[]
[null,"2. Who will be the responsible partner for implementation and reporting of the activity?"]
[]
[null,"3. What methods / resources will be used for impementation of the activity? "]
[]
[null,"4. What will be the output(s) of the activity?"]
[]
[]
[null,"Add new project activity"]
[]
[null,"Activity No",null,5]
[null,"Title of activity"]
[null,"Location (NUTS III region)"]
[null,"1. Brief description of the activity:"]
[]
[null,"2. Who will be the responsible partner for implementation and reporting of the activity?"]
[]
[null,"3. What methods / resources will be used for impementation of the activity? "]
[]
[null,"4. What will be the output(s) of the activity?"]
[]
[]
[null,"Add new project activity"]
[]
[null,"Activity No",null,6]
[null,"Title of activity"]
[null,"Location (NUTS III region)"]
[null,"1. Brief description of the activity:"]
[]
[null,"2. Who will be the responsible partner for implementation and reporting of the activity?"]
[]
[null,"3. What methods / resources will be used for impementation of the activity? "]
[]
[null,"4. What will be the output(s) of the activity?"]
[]
[]
[null,"Add new project activity"]
[]
[null,"Activity No",null,7]
[null,"Title of activity"]
[null,"Location (NUTS III region)"]
[null,"1. Brief description of the activity:"]
[]
[null,"2. Who will be the responsible partner for implementation and reporting of the activity?"]
[]
[null,"3. What methods / resources will be used for impementation of the activity? "]
[]
[null,"4. What will be the output(s) of the activity?"]
[]
[]
[null,"Add new project activity"]
[]
[null,"Activity No",null,8]
[null,"Title of activity"]
[null,"Location (NUTS III region)"]
[null,"1. Brief description of the activity:"]
[]
[null,"2. Who will be the responsible partner for implementation and reporting of the activity?"]
[]
[null,"3. What methods / resources will be used for impementation of the activity? "]
[]
[null,"4. What will be the output(s) of the activity?"]
[]
[]
[null,"Add new project activity"]
[]
[null,"Activity No",null,9]
[null,"Title of activity"]
[null,"Location (NUTS III region)"]
[null,"1. Brief description of the activity:"]
[]
[null,"2. Who will be the responsible partner for implementation and reporting of the activity?"]
[]
[null,"3. What methods / resources will be used for impementation of the activity? "]
[]
[null,"4. What will be the output(s) of the activity?"]
[]
[]
[null,"Add new project activity"]
[]
[null,"Activity No",null,10]
[null,"Title of activity"]
[null,"Location (NUTS III region)"]
[null,"1. Brief description of the activity:"]
[]
[null,"2. Who will be the responsible partner for implementation and reporting of the activity?"]
[]
[null,"3. What methods / resources will be used for impementation of the activity? "]
[]
[null,"4. What will be the output(s) of the activity?"]
[]
[]
[null,"Add new project activity"]
[]
[null,"Activity No",null,11]
[null,"Title of activity"]
[null,"Location (NUTS III region)"]
[null,"1. Brief description of the activity:"]
[]
[null,"2. Who will be the responsible partner for implementation and reporting of the activity?"]
[]
[null,"3. What methods / resources will be used for impementation of the activity? "]
[]
[null,"4. What will be the output(s) of the activity?"]
[]
[]
[null,"Add new project activity"]
[]
[null,"Activity No",null,12]
[null,"Title of activity"]
[null,"Location (NUTS III region)"]
[null,"1. Brief description of the activity:"]
[]
[null,"2. Who will be the responsible partner for implementation and reporting of the activity?"]
[]
[null,"3. What methods / resources will be used for impementation of the activity? "]
[]
[null,"4. What will be the output(s) of the activity?"]
[]
[]
[null,"Add new project activity"]
[]
[null,"Activity No",null,13]
[null,"Title of activity"]
[null,"Location (NUTS III region)"]
[null,"1. Brief description of the activity:"]
[]
[null,"2. Who will be the responsible partner for implementation and reporting of the activity?"]
[]
[null,"3. What methods / resources will be used for impementation of the activity? "]
[]
[null,"4. What will be the output(s) of the activity?"]
[]
[]
[null,"Add new project activity"]
[]
[null,"Activity No",null,14]
[null,"Title of activity"]
[null,"Location (NUTS III region)"]
[null,"1. Brief description of the activity:"]
[]
[null,"2. Who will be the responsible partner for implementation and reporting of the activity?"]
[]
[null,"3. What methods / resources will be used for impementation of the activity? "]
[]
[null,"4. What will be the output(s) of the activity?"]
[]
[]
[null,"Add new project activity"]
[]
[null,"Activity No",null,15]
[null,"Title of activity"]
[null,"Location (NUTS III region)"]
[null,"1. Brief description of the activity:"]
[]
[null,"2. Who will be the responsible partner for implementation and reporting of the activity?"]
[]
[null,"3. What methods / resources will be used for impementation of the activity? "]
[]
[null,"4. What will be the output(s) of the activity?"]
[]
[]
[]
[]
[]
[null,"3.4 Communication and visibility"]
[]
[null,"Please summarize the communication and visibility activities that you foresee in your project proposal (stating exact numbers and types of activities/ products for popularization of the project)\n(Maximum 1200 characters)"]
[null,null,null,null,null,null,null,null,null,null,null,null,null,"Check text size",null,null,null,null,null,null,null,null,null,null,{"$f":"AC305=2","v":false},{"$f":"LEN(B305)","v":0},{"$f":"Z305<1200","v":true},{"$f":"Z305>0","v":false},{"$f":"AA305+AB305","v":1}]
[]
[null,"3.5 Duration and action plan"]
[null,"Duration in trimesters",null,null,null,null,null,null,null,null,null,null,null,null,null,null,null,null,null,null,null,null,null,null,{"$f":"$Q$310/1","v":0},{"$f":"$Q$310/2","v":0},{"$f":"$Q$310/3","v":0},{"$f":"$Q$310/4","v":0},{"$f":"$Q$310/5","v":0},{"$f":"$Q$310/6","v":0},{"$f":"$Q$310/7","v":0},{"$f":"$Q$310/8","v":0}]
[null,"Activity","1st","2nd","3rd","4th","5th","6th","7th","8th",null,null,null,"7th","8th",null,null,null,null,null,null,null,null,{"$f":"X310>0","v":false},{"$f":"Y308>=1","v":false},false,false,{"$f":"AB308>=1","v":false},{"$f":"AC308>=1","v":false},false,false,false]
[null,{"$f":"IF(D92=\"\",\"\",CONCATENATE(\"1.\",D92))","v":""},null,null,null,null,null,null,null,null,null,null,null,null,null,null,{"$f":"ROUNDUP(C17/3,0)","v":0},null,null,null,null,null,null,{"$f":"Y310+Z310+AA310+AB310+AC310+AD310+AE310+AF310","v":0},{"$f":"((C310=\"x\")+$Y$309)=2","v":false},{"$f":"((D310=\"x\")+Z309)=2","v":false},false,false,false,false,false,false]
[null,{"$f":"IF(D106=\"\",\"\",CONCATENATE(\"2.\",D106))","v":""}]
[null,{"$f":"IF(D120=\"\",\"\",CONCATENATE(\"3.\",D120))","v":""},null,null,null,null,null,null,null,null,null,null,null,null,null,null,"x"]
[null,{"$f":"IF(D134=\"\",\"\",CONCATENATE(\"4.\",D134))","v":""}]
[null,{"$f":"IF(D148=\"\",\"\",CONCATENATE(\"5.\",D148))","v":""}]
[null,{"$f":"IF(D162=\"\",\"\",CONCATENATE(\"6.\",D162))","v":""}]
[null,{"$f":"IF(D176=\"\",\"\",CONCATENATE(\"7.\",D176))","v":""}]
[null,{"$f":"IF(D190=\"\",\"\",CONCATENATE(\"8.\",D190))","v":""}]
[null,{"$f":"IF(D204=\"\",\"\",CONCATENATE(\"9.\",D204))","v":""}]
[null,{"$f":"IF(D218=\"\",\"\",CONCATENATE(\"10.\",D218))","v":""}]
[null,{"$f":"IF(D232=\"\",\"\",CONCATENATE(\"11.\",D232))","v":""}]
[null,{"$f":"IF(D246=\"\",\"\",CONCATENATE(\"12.\",D246))","v":""}]
[null,{"$f":"IF(D260=\"\",\"\",CONCATENATE(\"13.\",D260))","v":""}]
[null,{"$f":"IF(D274=\"\",\"\",CONCATENATE(\"14.\",D274))","v":""}]
[null,{"$f":"IF(D288=\"\",\"\",CONCATENATE(\"15.\",D288))","v":""}]
[]
[]
[]
[null,"4. Management of the project"]
[null,"Please briefly describe:\n- The reponsibilities of each project partner in view of the overall project implementation and reporting;\n- The structure of the project team (both Bulgarian and Serbian members); \n- The reponsibilities of each member of the project team.\n(Maximum 1200 characters)"]
[]
[]
[]
[null,null,null,null,null,null,null,null,null,null,null,null,null,{"$f":"ISBLANK(pi_management)","v":true},null,null,null,null,null,null,null,null,null,{"$f":"AB333=2","v":false},{"$f":"LEN(A333)","v":0},{"$f":"Y333<1200","v":true},{"$f":"Y333>0","v":false},{"$f":"Z333+AA333","v":1}]
[]
[]
[]
[]
[]
[null,"5. Monitoring of the project "]
[]
[null,"5.1 Expected outputs"]
[null,"Please specify to which of the programme output indicators the project contributes (by indicating the concrete quantity and justification - including related activities, sources of information for verification of the quantified values):"]
[null,"Ouput indicator","Quantity ",null,"Sources of verification ",null,null,null,null,null,null,null,null,null,null,{"$f":"N13","v":{"$error":"#N/A"}}]
[null,null,null,null,null,null,null,null,null,null,null,null,null,"1.1 Tourist Attractiveness",null,"1.1.1. Total number of reconstructed/restored cultural and historical touristic objects in the eligible border area",null,null,null,null,{"$f":"ISBLANK(B344)","v":true},true,{"$f":"ISBLANK(E344)","v":true},{"$f":"U344+V344+W344","v":3},{"$f":"IF(X344=0,TRUE,FALSE)","v":false}]
[null,null,null,null,null,null,null,null,null,null,null,null,null,"1.2 Cross-Border Touristic Product:",null,"1.1.2. Total number of small scale technical infrastructure, encouraging the visits to the tourist attractions",null,null,null,null,true,true,{"$f":"ISBLANK(E345)","v":true},{"$f":"U345+V345+W345","v":3},{"$f":"IF(X345=0,TRUE,FALSE)","v":false}]
[null,null,null,null,null,null,null,null,null,null,null,null,null,"1.3 People-To-People Networking",null,"1.1.3. Total number of created/reconstructed facilities for disabled people in the supported touristic sites",null,null,null,null,true,true,{"$f":"ISBLANK(E346)","v":true},{"$f":"U346+V346+W346","v":3},{"$f":"IF(X346=0,TRUE,FALSE)","v":false}]
[null,null,null,null,null,null,null,null,null,null,null,null,null,"2.1 Skills & Entrepreneurship",null,"1.1.4. Total number of information  access facilities created/upgraded",null,null,null,null,true,true,{"$f":"ISBLANK(E347)","v":true},{"$f":"U347+V347+W347","v":3},{"$f":"IF(X347=0,TRUE,FALSE)","v":false}]
[null,null,null,null,null,null,null,null,null,null,null,null,null,"2.2 People-To-People Networking",null,"1.2.1. Number of sustainable tourism strategies/action plans of common tourist destinations",null,null,null,null,true,true,{"$f":"ISBLANK(E348)","v":true},{"$f":"U348+V348+W348","v":3},{"$f":"IF(X348=0,TRUE,FALSE)","v":false}]
[null,null,null,null,null,null,null,null,null,null,null,null,null,"3.1 Joint Risk Management",null,"1.2.2. Total number of newly established touristic products/services"]
[null,"5.2. Multiplier effect",null,null,null,null,null,null,null,null,null,null,null,"3.2 Nature Protection",null,"1.2.3. Tools developed and/or implemeted  for marketing and promotiong tourist products in the eligible border area"]
[null,"Please describe the possibilities for further development of the project idea in a subsequent project (maximum 1200 characters)",null,null,null,null,null,null,null,null,null,null,null,null,null,"1.3.1. Public awareness initiatives promoting sustainable use of natural and cultural heritage and resources"]
[null,null,null,null,null,null,null,null,null,null,null,null,null,null,null,"1.3.2. Capacity building initiatives for capitalisation of the common touristic product/services",null,null,null,null,null,null,null,{"$f":"AB352=2","v":false},{"$f":"LEN(A352)","v":0},{"$f":"Y352<1200","v":true},{"$f":"Y352>0","v":false},{"$f":"Z352+AA352","v":1}]
[null,null,null,null,null,null,null,null,null,null,null,null,null,null,null,"1.3.3. Total number of joint events aimed at promotion and cultivation of the common traditions of the borderland areas"]
[null,null,null,null,null,null,null,null,null,null,null,null,null,{"$f":"ISBLANK(pi_efect)","v":true},null,"2.1.1. Total number of supported youth-related small-scale infrastructure, training and information facilities"]
[null,"5.3 Sustainability",null,null,null,null,null,null,null,null,null,null,null,null,null,"2.1.2. Total number of young people involved in the supported youth entrepreneurship schemes and  initiatives"]
[null,"Please describe how you intend to maintain the sustainability of the project results 5 (five) years - for investment activities and 2 (two) years - for \"soft measures\" after the end of the project. Which activities will be continued, in which way and who will be the responsible partner? (maximum 2000 characters).",null,null,null,null,null,null,null,null,null,null,null,null,null,"2.2.1. Total number of youth networking initiatives supported by the Programme"]
[null,null,null,null,null,null,null,null,null,null,null,null,null,{"$f":"ISBLANK(pi_sustainability)","v":true},null,"3.1.1. Total number of joint activities aimed at establishing joint early warning and disaster management systems",null,null,null,null,null,null,null,{"$f":"AB357=2","v":false},{"$f":"LEN(A357)","v":0},{"$f":"Y357<2000","v":true},{"$f":"Y357>0","v":false},{"$f":"Z357+AA357","v":1}]
[null,null,null,null,null,null,null,null,null,null,null,null,null,null,null,"3.1.2. Purchased specialised equipment related to disaster management "]
[null,null,null,null,null,null,null,null,null,null,null,null,null,null,null,"3.1.3. Total number of supported small-scale interventions / investments in green infrastructure for natural water retention"]
[null,"6. Project coherence with other strategies and principles",null,null,null,null,null,null,null,null,null,null,null,null,null,"3.1.4. Total number of people participated in risk prevention and management training activities"]
[null,null,null,null,null,null,null,null,null,null,null,null,null,null,null,"3.1.5. Population benefiting from flood protection measures"]
[null,"6.1. Project coherence with other strategies",null,null,null,null,null,null,null,null,null,null,null,null,null,"3.1.6. Population benefiting from forest fire protection measure"]
[null,"Please describe how your project proposal fits the larger European Union strategies concerning territorial cooperation (please consult the Programme document, Section 1, for a list of relevant policy frameworks and strategies).\nPlease indicate the potential synergy of the project with other initiatives/ programmes/ strategies at national level. \n(Maximum 1500 characters)",null,null,null,null,null,null,null,null,null,null,null,null,"OI 3.2.1","3.2.1. Protected areas/Natura 2000 sites in the border region with EU conform management plans"]
[null,null,null,null,null,null,null,null,null,null,null,null,null,{"$f":"ISBLANK(pi_other_strategies)","v":true},"OI 3.2.2","3.2.2. Total number of joint interventions, addressing the preservation and restoration of CBC ecosystems, as well as preservation and improvement of the quality of soils, air and water.",null,null,null,null,null,null,null,{"$f":"AB364=2","v":false},{"$f":"LEN(A364)","v":0},{"$f":"Y364<1000","v":true},{"$f":"Y364>0","v":false},{"$f":"Z364+AA364","v":1}]
[null,null,null,null,null,null,null,null,null,null,null,null,null,null,"OI 3.2.3","3.2.3. Education and awareness raising joint initiatives, in the field of preservation and protection of natural heritage, biodiversity and landscape"]
[null,"6.2 Project coherence with the EU Strategy for the Danube Region",null,null,null,null,null,null,null,null,null,null,null,null,"OI 3.2.4","3.2.4. Capacity building initiatives, trainings, exchange of experience and know-how in the field of  sustainable use of natural resources "]
[null,"If your project proposal is part of a bigger project or connected to another project(s), please indicate in which way (Maximum 1200 characters)"]
[null,null,null,null,null,null,null,null,null,null,null,null,null,{"$f":"ISBLANK(pi_other_prj)","v":true},null,null,null,null,null,null,null,null,null,{"$f":"AB368=2","v":false},{"$f":"LEN(A368)","v":0},{"$f":"Y368<1200","v":true},{"$f":"Y368>0","v":false},{"$f":"Z368+AA368","v":1}]
[]
[null,"6.3. Project coherence with the horizontal principles "]
[null,"Please, explain how your project will contribute to one or more of the horizontal principles (maximum 500 characters for each field):"]
[]
[null,"Sustainable development"]
[null,"Equal opportunities and non-discrimination"]
[null,"Equality between men and women "]
[]
[]
[]
[]
[]
[null,null,null,null,null,null,null,null,null,null,null,null,null,"text size check"]

{"sheet":"T1-PPs","index":9,"n_rows":11,"n_cols":5,"rows_kept":11,"cut":false,"hidden":false,"merged":[[10,1,10,3]]}
[]
[null,"TABLE 1 - TOTAL BUDGET PER PROJECT PARTNERS"]
[]
[]
[null,"PROJECT PARTNERS","Institution","Country","Total financial contribution \nin EUR \n(sum of EU and national co-financing)  "]
[null,"PP1 (LP)",{"$f":"Cover!C35","v":0},{"$f":"'Table 5-Sources'!B4","v":"BG"},{"$f":"'Table 5-Sources'!B6","v":0}]
[null,"PP2",{"$f":"'PP2'!C7","v":0},{"$f":"'Table 5-Sources'!C4","v":"RS"},{"$f":"'Table 5-Sources'!C6","v":0}]
[null,"PP3",{"$f":"'PP3'!C7","v":0},{"$f":"'Table 5-Sources'!D4","v":"BG"},{"$f":"'Table 5-Sources'!D6","v":0}]
[null,"PP4",{"$f":"'PP4'!C7","v":0},{"$f":"'Table 5-Sources'!E4","v":"RS"},{"$f":"'Table 5-Sources'!E6","v":0}]
[null,"PP5",{"$f":"'PP5'!C7","v":0},{"$f":"'Table 5-Sources'!F4","v":"BG"},{"$f":"'Table 5-Sources'!F6","v":0}]
[null,"Total",null,null,{"$f":"SUM(E6:E10)","v":0}]

{"sheet":"T2-B(PP1)","index":10,"n_rows":234,"n_cols":19,"rows_kept":234,"cut":false,"hidden":false,"merged":[[0,1,0,5],[4,1,4,5],[3,6,3,8],[2,1,3,5],[2,6,2,8],[5,1,5,8],[4,6,4,8],[10,1,10,8],[12,2,13,2],[12,3,12,5],[49,2,50,2],[49,3,49,5],[7,1,8,5],[7,6,7,8],[9,1,9,5],[9,6,9,8],[8,6,8,8],[226,9,227,9],[230,1,230,2],[231,1,231,2],[230,3,230,5],[230,6,230,8],[231,6,231,8],[226,1,227,1],[231,3,231,5],[226,2,227,2],[226,3,226,5],[226,6,226,8],[200,1,201,1],[200,2,201,2],[12,9,13,9],[49,9,50,9],[174,9,175,9],[200,9,201,9],[12,6,12,8],[49,6,49,8],[174,6,174,8],[200,3,200,5],[200,6,200,8],[12,1,13,1],[174,1,175,1],[49,1,50,1],[174,2,175,2],[174,3,174,5]]}
[null,"TABLE 2 - DETAILED BREAKDOWN OF BUDGET LINES  - PP1/LP in EUR",null,null,null,null,null,null,null,null,null,null,null,null,null,null,null,true]
[null,null,null,null,null,null,{"$f":"L3","v":"Flat rate for  projects can not exceed 10 %!"},null,null,null,null,{"$f":"G5<=L4","v":true},null,null,null,null,null,true]
[null,"BL1 - STAFF COSTS",null,null,null,null,"Flat rate",null,null,"TOTAL",null,{"$f":"CONCATENATE(\"Flat rate for \",L5,\" projects can not exceed \",L4,\" %!\")","v":"Flat rate for  projects can not exceed 10 %!"},null,null,null,null,null,true]
[null,null,null,null,null,null,"%",null,null,null,null,{"$f":"IF(L5=\"Soft\",20,10)","v":10},null,null,null,null,null,true]
[null,{"$f":"M5","v":" project"},null,null,null,null,null,null,null,{"$f":"ROUND(G5*J231/100,2)","v":0},null,{"$f":"'Project identification'!C15","v":""},{"$f":"CONCATENATE(L5,\" project\")","v":" project"},null,20,10,null,true]
[null,"TOTAL",null,null,null,null,null,null,null,{"$f":"J5","v":0},null,null,null,null,null,null,null,true]
[null,null,null,null,null,null,"Flat rate for administrative costs can not exceed 15 %",null,null,null,null,null,null,null,null,null,null,true]
[null,"BL2 - OFFICE AND ADMINISTRATIVE COSTS",null,null,null,null,"Flat rate",null,null,"TOTAL",null,null,null,null,null,null,null,true]
[null,null,null,null,null,null,"%",null,null,null,null,{"$f":"IF('PP1(LP)'!C15='PP1(LP)'!M27,TRUE,FALSE)","v":false},null,null,null,null,null,true]
[null,{"$f":"M5","v":" project"},null,null,null,null,null,null,null,{"$f":"ROUNDDOWN(G10*J5/100,2)","v":0},null,null,null,null,null,null,null,true]
[null,"TOTAL",null,null,null,null,null,null,null,{"$f":"J10","v":0},null,null,"sad",null,null,null,null,true]
[null,null,null,null,null,null,null,null,null,null,null,null,null,null,null,null,null,true]
[null,"BL3 - TRAVEL AND ACCOMMODATION","Unit","Expenditures in the eligible area",null,null,"Expenditures outside the eligible area",null,null,"TOTAL",null,null,null,null,null,null,null,true]
[null,null,null,"Units","Unit rate","Total","Units","Unit rate","Total",null,null,null,null,null,null,null,null,true]
[null,"3.1 Travel costs",null,null,null,{"$f":"SUM(F16:F25)","v":0},null,null,{"$f":"SUM(I16:I25)","v":0},{"$f":"SUM(J16:J25)","v":0},null,null,null,null,null,null,null,true]
[null,null,null,null,null,{"$f":"ROUND(D16*E16,2)","v":0},null,null,{"$f":"ROUND(G16*H16,2)","v":0},{"$f":"F16+I16","v":0},null,{"$f":"ISBLANK(B16)","v":true},{"$f":"ISBLANK(C16)","v":true},{"$f":"ISBLANK(D16)","v":true},{"$f":"ISBLANK(E16)","v":true},{"$f":"ISBLANK(G16)","v":true},{"$f":"ISBLANK(H16)","v":true},{"$f":"IF(S16<4,TRUE,FALSE)","v":false},{"$f":"L16+M16+N16+O16+P16+Q16","v":6}]
[null,null,null,null,null,{"$f":"ROUND(D17*E17,2)","v":0},null,null,{"$f":"ROUND(G17*H17,2)","v":0},{"$f":"F17+I17","v":0},null,{"$f":"ISBLANK(B17)","v":true},{"$f":"ISBLANK(C17)","v":true},{"$f":"ISBLANK(D17)","v":true},{"$f":"ISBLANK(E17)","v":true},{"$f":"ISBLANK(G17)","v":true},{"$f":"ISBLANK(H17)","v":true},{"$f":"IF(S17<4,TRUE,FALSE)","v":false},{"$f":"L17+M17+N17+O17+P17+Q17","v":6}]
[null,null,null,null,null,0,null,null,0,0,null,true,true,true,true,true,true,false,6]
[null,null,null,null,null,0,null,null,0,0,null,true,true,true,true,true,true,false,6]
[null,null,null,null,null,0,null,null,0,0,null,true,true,true,true,true,true,false,6]
[null,null,null,null,null,0,null,null,0,0,null,true,true,true,true,true,true,false,6]
[null,null,null,null,null,0,null,null,0,0,null,true,true,true,true,true,true,false,6]
[null,null,null,null,null,0,null,null,0,0,null,true,true,true,true,true,true,false,6]
[null,null,null,null,null,0,null,null,0,0,null,true,true,true,true,true,true,false,6]
[null,null,null,null,null,0,null,null,0,0,null,true,true,true,true,true,true,true,6]
[null,"3.2 Daily allowances",null,null,null,{"$f":"SUM(F27:F36)","v":0},null,null,{"$f":"SUM(I27:I36)","v":0},{"$f":"SUM(J27:J36)","v":0},null,null,null,null,null,null,null,true]
[null,null,null,null,null,{"$f":"ROUND(D27*E27,2)","v":0},null,null,{"$f":"ROUND(G27*H27,2)","v":0},{"$f":"F27+I27","v":0},null,{"$f":"ISBLANK(B27)","v":true},{"$f":"ISBLANK(C27)","v":true},{"$f":"ISBLANK(D27)","v":true},{"$f":"ISBLANK(E27)","v":true},{"$f":"ISBLANK(G27)","v":true},{"$f":"ISBLANK(H27)","v":true},{"$f":"IF(S27<4,TRUE,FALSE)","v":false},{"$f":"L27+M27+N27+O27+P27+Q27","v":6}]
[null,null,null,null,null,{"$f":"ROUND(D28*E28,2)","v":0},null,null,{"$f":"ROUND(G28*H28,2)","v":0},0,null,{"$f":"ISBLANK(B28)","v":true},{"$f":"ISBLANK(C28)","v":true},{"$f":"ISBLANK(D28)","v":true},{"$f":"ISBLANK(E28)","v":true},{"$f":"ISBLANK(G28)","v":true},{"$f":"ISBLANK(H28)","v":true},{"$f":"IF(S28<4,TRUE,FALSE)","v":false},{"$f":"L28+M28+N28+O28+P28+Q28","v":6}]
[null,null,null,null,null,0,null,null,0,0,null,true,true,true,true,true,true,false,6]
[null,null,null,null,null,0,null,null,0,0,null,true,true,true,true,true,true,false,6]
[null,null,null,null,null,0,null,null,0,0,null,true,true,true,true,true,true,false,6]
[null,null,null,null,null,0,null,null,0,0,null,true,true,true,true,true,true,false,6]
[null,null,null,null,null,0,null,null,0,0,null,true,true,true,true,true,true,false,6]
[null,null,null,null,null,0,null,null,0,0,null,true,true,true,true,true,true,false,6]
[null,null,null,null,null,0,null,null,0,0,null,true,true,true,true,true,true,false,6]
[null,null,null,null,null,0,null,null,0,0,null,true,true,true,true,true,true,true,6]
[null,"3.3 Accommodation costs",null,null,null,{"$f":"SUM(F38:F47)","v":0},null,null,{"$f":"SUM(I38:I47)","v":0},{"$f":"SUM(J38:J47)","v":0},null,null,null,null,null,null,null,true]
[null,null,null,null,null,{"$f":"ROUND(D38*E38,2)","v":0},null,null,{"$f":"ROUND(G38*H38,2)","v":0},{"$f":"F38+I38","v":0},null,{"$f":"ISBLANK(B38)","v":true},{"$f":"ISBLANK(C38)","v":true},{"$f":"ISBLANK(D38)","v":true},{"$f":"ISBLANK(E38)","v":true},{"$f":"ISBLANK(G38)","v":true},{"$f":"ISBLANK(H38)","v":true},{"$f":"IF(S38<4,TRUE,FALSE)","v":false},{"$f":"L38+M38+N38+O38+P38+Q38","v":6}]
[null,null,null,null,null,{"$f":"ROUND(D39*E39,2)","v":0},null,null,{"$f":"ROUND(G39*H39,2)","v":0},0,null,{"$f":"ISBLANK(B39)","v":true},{"$f":"ISBLANK(C39)","v":true},{"$f":"ISBLANK(D39)","v":true},{"$f":"ISBLANK(E39)","v":true},{"$f":"ISBLANK(G39)","v":true},{"$f":"ISBLANK(H39)","v":true},{"$f":"IF(S39<4,TRUE,FALSE)","v":false},{"$f":"L39+M39+N39+O39+P39+Q39","v":6}]
[null,null,null,null,null,0,null,null,0,0,null,true,true,true,true,true,true,false,6]
[null,null,null,null,null,0,null,null,0,0,null,true,true,true,true,true,true,false,6]
[null,null,null,null,null,0,null,null,0,0,null,true,true,true,true,true,true,false,6]
[null,null,null,null,null,0,null,null,0,0,null,true,true,true,true,true,true,false,6]
[null,null,null,null,null,0,null,null,0,0,null,true,true,true,true,true,true,false,6]
[null,null,null,null,null,0,null,null,0,0,null,true,true,true,true,true,true,false,6]
[null,null,null,null,null,0,null,null,0,0,null,true,true,true,true,true,true,false,6]
[null,null,null,null,null,0,null,null,0,0,null,true,true,true,true,true,true,true,6]
[null,"TOTAL",null,null,null,{"$f":"F37+F26+F15","v":0},null,null,{"$f":"I37+I26+I15","v":0},{"$f":"J37+J26+J15","v":0},null,null,null,null,null,null,null,true]
[null,null,null,null,null,null,null,null,null,null,null,null,null,null,null,null,null,true]
[null,"BL4 - EXTERNAL EXPERTISE AND SERVICES COSTS","Unit","Expenditures in the eligible area",null,null,"Expenditures outside the eligible area",null,null,"TOTAL",null,null,null,null,null,null,null,true]
[null,null,null,"Units","Unit rate","Total","Units","Unit rate","Total",null,null,null,null,null,null,null,null,true]
[null,"Rent of hall for events",null,null,null,{"$f":"SUM(F53:F62)","v":0},null,null,{"$f":"SUM(I53:I62)","v":0},{"$f":"SUM(J53:J62)","v":0},null,null,null,null,null,null,null,true]
[null,null,null,null,null,{"$f":"ROUND(D53*E53,2)","v":0},null,null,{"$f":"ROUND(G53*H53,2)","v":0},{"$f":"F53+I53","v":0},null,{"$f":"ISBLANK(B53)","v":true},{"$f":"ISBLANK(C53)","v":true},{"$f":"ISBLANK(D53)","v":true},{"$f":"ISBLANK(E53)","v":true},{"$f":"ISBLANK(G53)","v":true},{"$f":"ISBLANK(H53)","v":true},{"$f":"IF(S53<4,TRUE,FALSE)","v":false},{"$f":"L53+M53+N53+O53+P53+Q53","v":6}]
[null,null,null,null,null,{"$f":"ROUND(D54*E54,2)","v":0},null,null,{"$f":"ROUND(G54*H54,2)","v":0},0,null,{"$f":"ISBLANK(B54)","v":true},{"$f":"ISBLANK(C54)","v":true},{"$f":"ISBLANK(D54)","v":true},{"$f":"ISBLANK(E54)","v":true},{"$f":"ISBLANK(G54)","v":true},{"$f":"ISBLANK(H54)","v":true},{"$f":"IF(S54<4,TRUE,FALSE)","v":false},{"$f":"L54+M54+N54+O54+P54+Q54","v":6}]
[null,null,null,null,null,0,null,null,0,0,null,true,true,true,true,true,true,false,6]
[null,null,null,null,null,0,null,null,0,0,null,true,true,true,true,true,true,false,6]
[null,null,null,null,null,0,null,null,0,0,null,true,true,true,true,true,true,false,6]
[null,null,null,null,null,0,null,null,0,0,null,true,true,true,true,true,true,false,6]
[null,null,null,null,null,0,null,null,0,0,null,true,true,true,true,true,true,false,6]
[null,null,null,null,null,0,null,null,0,0,null,true,true,true,true,true,true,false,6]
[null,null,null,null,null,0,null,null,0,0,null,true,true,true,true,true,true,false,6]
[null,null,null,null,null,0,null,null,0,0,null,true,true,true,true,true,true,true,6]
[null,"Rent of audio/video equipment for events",null,null,null,{"$f":"SUM(F64:F73)","v":0},null,null,{"$f":"SUM(I64:I73)","v":0},{"$f":"SUM(J64:J73)","v":0},null,null,null,null,null,null,null,true]
[null,null,null,null,null,{"$f":"ROUND(D64*E64,2)","v":0},null,null,{"$f":"ROUND(G64*H64,2)","v":0},{"$f":"F64+I64","v":0},null,{"$f":"ISBLANK(B64)","v":true},{"$f":"ISBLANK(C64)","v":true},{"$f":"ISBLANK(D64)","v":true},{"$f":"ISBLANK(E64)","v":true},{"$f":"ISBLANK(G64)","v":true},{"$f":"ISBLANK(H64)","v":true},{"$f":"IF(S64<4,TRUE,FALSE)","v":false},{"$f":"L64+M64+N64+O64+P64+Q64","v":6}]
[null,null,null,null,null,{"$f":"ROUND(D65*E65,2)","v":0},null,null,{"$f":"ROUND(G65*H65,2)","v":0},0,null,{"$f":"ISBLANK(B65)","v":true},{"$f":"ISBLANK(C65)","v":true},{"$f":"ISBLANK(D65)","v":true},{"$f":"ISBLANK(E65)","v":true},{"$f":"ISBLANK(G65)","v":true},{"$f":"ISBLANK(H65)","v":true},{"$f":"IF(S65<4,TRUE,FALSE)","v":false},{"$f":"L65+M65+N65+O65+P65+Q65","v":6}]
[null,null,null,null,null,0,null,null,0,0,null,true,true,true,true,true,true,false,6]
[null,null,null,null,null,0,null,null,0,0,null,true,true,true,true,true,true,false,6]
[null,null,null,null,null,0,null,null,0,0,null,true,true,true,true,true,true,false,6]
[null,null,null,null,null,0,null,null,0,0,null,true,true,true,true,true,true,false,6]
[null,null,null,null,null,0,null,null,0,0,null,true,true,true,true,true,true,false,6]
[null,null,null,null,null,0,null,null,0,0,null,true,true,true,true,true,true,false,6]
[null,null,null,null,null,0,null,null,0,0,null,true,true,true,true,true,true,false,6]
[null,null,null,null,null,0,null,null,0,0,null,true,true,true,true,true,true,true,6]
[null,"Travel for events",null,null,null,{"$f":"SUM(F75:F84)","v":0},null,null,{"$f":"SUM(I75:I84)","v":0},{"$f":"SUM(J75:J84)","v":0},null,null,null,null,null,null,null,true]
[null,null,null,null,null,{"$f":"ROUND(D75*E75,2)","v":0},null,null,{"$f":"ROUND(G75*H75,2)","v":0},{"$f":"F75+I75","v":0},null,{"$f":"ISBLANK(B75)","v":true},{"$f":"ISBLANK(C75)","v":true},{"$f":"ISBLANK(D75)","v":true},{"$f":"ISBLANK(E75)","v":true},{"$f":"ISBLANK(G75)","v":true},{"$f":"ISBLANK(H75)","v":true},{"$f":"IF(S75<4,TRUE,FALSE)","v":false},{"$f":"L75+M75+N75+O75+P75+Q75","v":6}]
[null,null,null,null,null,{"$f":"ROUND(D76*E76,2)","v":0},null,null,{"$f":"ROUND(G76*H76,2)","v":0},0,null,{"$f":"ISBLANK(B76)","v":true},{"$f":"ISBLANK(C76)","v":true},{"$f":"ISBLANK(D76)","v":true},{"$f":"ISBLANK(E76)","v":true},{"$f":"ISBLANK(G76)","v":true},{"$f":"ISBLANK(H76)","v":true},{"$f":"IF(S76<4,TRUE,FALSE)","v":false},{"$f":"L76+M76+N76+O76+P76+Q76","v":6}]
[null,null,null,null,null,0,null,null,0,0,null,true,true,true,true,true,true,false,6]
[null,null,null,null,null,0,null,null,0,0,null,true,true,true,true,true,true,false,6]
[null,null,null,null,null,0,null,null,0,0,null,true,true,true,true,true,true,false,6]
[null,null,null,null,null,0,null,null,0,0,null,true,true,true,true,true,true,false,6]
[null,null,null,null,null,0,null,null,0,0,null,true,true,true,true,true,true,false,6]
[null,null,null,null,null,0,null,null,0,0,null,true,true,true,true,true,true,false,6]
[null,null,null,null,null,0,null,null,0,0,null,true,true,true,true,true,true,false,6]
[null,null,null,null,null,0,null,null,0,0,null,true,true,true,true,true,true,true,6]
[null,"Catering for events",null,null,null,{"$f":"SUM(F86:F95)","v":0},null,null,{"$f":"SUM(I86:I95)","v":0},{"$f":"SUM(J86:J95)","v":0},null,null,null,null,null,null,null,true]
[null,null,null,null,null,{"$f":"ROUND(D86*E86,2)","v":0},null,null,{"$f":"ROUND(G86*H86,2)","v":0},{"$f":"F86+I86","v":0},null,{"$f":"ISBLANK(B86)","v":true},{"$f":"ISBLANK(C86)","v":true},{"$f":"ISBLANK(D86)","v":true},{"$f":"ISBLANK(E86)","v":true},{"$f":"ISBLANK(G86)","v":true},{"$f":"ISBLANK(H86)","v":true},{"$f":"IF(S86<4,TRUE,FALSE)","v":false},{"$f":"L86+M86+N86+O86+P86+Q86","v":6}]
[null,null,null,null,null,{"$f":"ROUND(D87*E87,2)","v":0},null,null,{"$f":"ROUND(G87*H87,2)","v":0},0,null,{"$f":"ISBLANK(B87)","v":true},{"$f":"ISBLANK(C87)","v":true},{"$f":"ISBLANK(D87)","v":true},{"$f":"ISBLANK(E87)","v":true},{"$f":"ISBLANK(G87)","v":true},{"$f":"ISBLANK(H87)","v":true},{"$f":"IF(S87<4,TRUE,FALSE)","v":false},{"$f":"L87+M87+N87+O87+P87+Q87","v":6}]
[null,null,null,null,null,0,null,null,0,0,null,true,true,true,true,true,true,false,6]
[null,null,null,null,null,0,null,null,0,0,null,true,true,true,true,true,true,false,6]
[null,null,null,null,null,0,null,null,0,0,null,true,true,true,true,true,true,false,6]
[null,null,null,null,null,0,null,null,0,0,null,true,true,true,true,true,true,false,6]
[null,null,null,null,null,0,null,null,0,0,null,true,true,true,true,true,true,false,6]
[null,null,null,null,null,0,null,null,0,0,null,true,true,true,true,true,true,false,6]
[null,null,null,null,null,0,null,null,0,0,null,true,true,true,true,true,true,false,6]
[null,null,null,null,null,0,null,null,0,0,null,true,true,true,true,true,true,true,6]
[null,"Accommodations for participants in the events ",null,null,null,{"$f":"SUM(F97:F106)","v":0},null,null,{"$f":"SUM(I97:I106)","v":0},{"$f":"SUM(J97:J106)","v":0},null,null,null,null,null,null,null,true]
[null,null,null,null,null,{"$f":"ROUND(D97*E97,2)","v":0},null,null,{"$f":"ROUND(G97*H97,2)","v":0},{"$f":"F97+I97","v":0},null,{"$f":"ISBLANK(B97)","v":true},{"$f":"ISBLANK(C97)","v":true},{"$f":"ISBLANK(D97)","v":true},{"$f":"ISBLANK(E97)","v":true},{"$f":"ISBLANK(G97)","v":true},{"$f":"ISBLANK(H97)","v":true},{"$f":"IF(S97<4,TRUE,FALSE)","v":false},{"$f":"L97+M97+N97+O97+P97+Q97","v":6}]
[null,null,null,null,null,{"$f":"ROUND(D98*E98,2)","v":0},null,null,{"$f":"ROUND(G98*H98,2)","v":0},0,null,{"$f":"ISBLANK(B98)","v":true},{"$f":"ISBLANK(C98)","v":true},{"$f":"ISBLANK(D98)","v":true},{"$f":"ISBLANK(E98)","v":true},{"$f":"ISBLANK(G98)","v":true},{"$f":"ISBLANK(H98)","v":true},{"$f":"IF(S98<4,TRUE,FALSE)","v":false},{"$f":"L98+M98+N98+O98+P98+Q98","v":6}]
[null,null,null,null,null,0,null,null,0,0,null,true,true,true,true,true,true,false,6]
[null,null,null,null,null,0,null,null,0,0,null,true,true,true,true,true,true,false,6]
[null,null,null,null,null,0,null,null,0,0,null,true,true,true,true,true,true,false,6]
[null,null,null,null,null,0,null,null,0,0,null,true,true,true,true,true,true,false,6]
[null,null,null,null,null,0,null,null,0,0,null,true,true,true,true,true,true,false,6]
[null,null,null,null,null,0,null,null,0,0,null,true,true,true,true,true,true,false,6]
[null,null,null,null,null,0,null,null,0,0,null,true,true,true,true,true,true,false,6]
[null,null,null,null,null,0,null,null,0,0,null,true,true,true,true,true,true,true,6]
[null,"Consumables and materials for events",null,null,null,{"$f":"SUM(F108:F117)","v":0},null,null,{"$f":"SUM(I108:I117)","v":0},{"$f":"SUM(J108:J117)","v":0},null,null,null,null,null,null,null,true]
[null,null,null,null,null,{"$f":"ROUND(D108*E108,2)","v":0},null,null,{"$f":"ROUND(G108*H108,2)","v":0},{"$f":"F108+I108","v":0},null,{"$f":"ISBLANK(B108)","v":true},{"$f":"ISBLANK(C108)","v":true},{"$f":"ISBLANK(D108)","v":true},{"$f":"ISBLANK(E108)","v":true},{"$f":"ISBLANK(G108)","v":true},{"$f":"ISBLANK(H108)","v":true},{"$f":"IF(S108<4,TRUE,FALSE)","v":false},{"$f":"L108+M108+N108+O108+P108+Q108","v":6}]
[null,null,null,null,null,{"$f":"ROUND(D109*E109,2)","v":0},null,null,{"$f":"ROUND(G109*H109,2)","v":0},0,null,{"$f":"ISBLANK(B109)","v":true},{"$f":"ISBLANK(C109)","v":true},{"$f":"ISBLANK(D109)","v":true},{"$f":"ISBLANK(E109)","v":true},{"$f":"ISBLANK(G109)","v":true},{"$f":"ISBLANK(H109)","v":true},{"$f":"IF(S109<4,TRUE,FALSE)","v":false},{"$f":"L109+M109+N109+O109+P109+Q109","v":6}]
[null,null,null,null,null,0,null,null,0,0,null,true,true,true,true,true,true,false,6]
[null,null,null,null,null,0,null,null,0,0,null,true,true,true,true,true,true,false,6]
[null,null,null,null,null,0,null,null,0,0,null,true,true,true,true,true,true,false,6]
[null,null,null,null,null,0,null,null,0,0,null,true,true,true,true,true,true,false,6]
[null,null,null,null,null,0,null,null,0,0,null,true,true,true,true,true,true,false,6]
[null,null,null,null,null,0,null,null,0,0,null,true,true,true,true,true,true,false,6]
[null,null,null,null,null,0,null,null,0,0,null,true,true,true,true,true,true,false,6]
[null,null,null,null,null,0,null,null,0,0,null,true,true,true,true,true,true,true,6]
[null,"Elaboration, design, translation of promotional materials; ",null,null,null,{"$f":"SUM(F119:F128)","v":0},null,null,{"$f":"SUM(I119:I128)","v":0},{"$f":"SUM(J119:J128)","v":0},null,null,null,null,null,null,null,true]
[null,null,null,null,null,{"$f":"ROUND(D119*E119,2)","v":0},null,null,{"$f":"ROUND(G119*H119,2)","v":0},{"$f":"F119+I119","v":0},null,{"$f":"ISBLANK(B119)","v":true},{"$f":"ISBLANK(C119)","v":true},{"$f":"ISBLANK(D119)","v":true},{"$f":"ISBLANK(E119)","v":true},{"$f":"ISBLANK(G119)","v":true},{"$f":"ISBLANK(H119)","v":true},{"$f":"IF(S119<4,TRUE,FALSE)","v":false},{"$f":"L119+M119+N119+O119+P119+Q119","v":6}]
[null,null,null,null,null,{"$f":"ROUND(D120*E120,2)","v":0},null,null,{"$f":"ROUND(G120*H120,2)","v":0},0,null,{"$f":"ISBLANK(B120)","v":true},{"$f":"ISBLANK(C120)","v":true},{"$f":"ISBLANK(D120)","v":true},{"$f":"ISBLANK(E120)","v":true},{"$f":"ISBLANK(G120)","v":true},{"$f":"ISBLANK(H120)","v":true},{"$f":"IF(S120<4,TRUE,FALSE)","v":false},{"$f":"L120+M120+N120+O120+P120+Q120","v":6}]
[null,null,null,null,null,0,null,null,0,0,null,true,true,true,true,true,true,false,6]
[null,null,null,null,null,0,null,null,0,0,null,true,true,true,true,true,true,false,6]
[null,null,null,null,null,0,null,null,0,0,null,true,true,true,true,true,true,false,6]
[null,null,null,null,null,0,null,null,0,0,null,true,true,true,true,true,true,false,6]
[null,null,null,null,null,0,null,null,0,0,null,true,true,true,true,true,true,false,6]
[null,null,null,null,null,0,null,null,0,0,null,true,true,true,true,true,true,false,6]
[null,null,null,null,null,0,null,null,0,0,null,true,true,true,true,true,true,false,6]
[null,null,null,null,null,0,null,null,0,0,null,true,true,true,true,true,true,true,6]
[null,"Publications in mass-media",null,null,null,{"$f":"SUM(F130:F139)","v":0},null,null,{"$f":"SUM(I130:I139)","v":0},{"$f":"SUM(J130:J139)","v":0},null,null,null,null,null,null,null,true]
[null,null,null,null,null,{"$f":"ROUND(D130*E130,2)","v":0},null,null,{"$f":"ROUND(G130*H130,2)","v":0},{"$f":"F130+I130","v":0},null,{"$f":"ISBLANK(B130)","v":true},{"$f":"ISBLANK(C130)","v":true},{"$f":"ISBLANK(D130)","v":true},{"$f":"ISBLANK(E130)","v":true},{"$f":"ISBLANK(G130)","v":true},{"$f":"ISBLANK(H130)","v":true},{"$f":"IF(S130<4,TRUE,FALSE)","v":false},{"$f":"L130+M130+N130+O130+P130+Q130","v":6}]
[null,null,null,null,null,{"$f":"ROUND(D131*E131,2)","v":0},null,null,{"$f":"ROUND(G131*H131,2)","v":0},0,null,{"$f":"ISBLANK(B131)","v":true},{"$f":"ISBLANK(C131)","v":true},{"$f":"ISBLANK(D131)","v":true},{"$f":"ISBLANK(E131)","v":true},{"$f":"ISBLANK(G131)","v":true},{"$f":"ISBLANK(H131)","v":true},{"$f":"IF(S131<4,TRUE,FALSE)","v":false},{"$f":"L131+M131+N131+O131+P131+Q131","v":6}]
[null,null,null,null,null,0,null,null,0,0,null,true,true,true,true,true,true,false,6]
[null,null,null,null,null,0,null,null,0,0,null,true,true,true,true,true,true,false,6]
[null,null,null,null,null,0,null,null,0,0,null,true,true,true,true,true,true,false,6]
[null,null,null,null,null,0,null,null,0,0,null,true,true,true,true,true,true,false,6]
[null,null,null,null,null,0,null,null,0,0,null,true,true,true,true,true,true,false,6]
[null,null,null,null,null,0,null,null,0,0,null,true,true,true,true,true,true,false,6]
[null,null,null,null,null,0,null,null,0,0,null,true,true,true,true,true,true,false,6]
[null,null,null,null,null,0,null,null,0,0,null,true,true,true,true,true,true,true,6]
[null,"Consultancy, studies, designs, website development etc.",null,null,null,{"$f":"SUM(F141:F150)","v":0},null,null,{"$f":"SUM(I141:I150)","v":0},{"$f":"SUM(J141:J150)","v":0},null,null,null,null,null,null,null,true]
[null,null,null,null,null,{"$f":"ROUND(D141*E141,2)","v":0},null,null,{"$f":"ROUND(G141*H141,2)","v":0},{"$f":"F141+I141","v":0},null,{"$f":"ISBLANK(B141)","v":true},{"$f":"ISBLANK(C141)","v":true},{"$f":"ISBLANK(D141)","v":true},{"$f":"ISBLANK(E141)","v":true},{"$f":"ISBLANK(G141)","v":true},{"$f":"ISBLANK(H141)","v":true},{"$f":"IF(S141<4,TRUE,FALSE)","v":false},{"$f":"L141+M141+N141+O141+P141+Q141","v":6}]
[null,null,null,null,null,{"$f":"ROUND(D142*E142,2)","v":0},null,null,{"$f":"ROUND(G142*H142,2)","v":0},0,null,{"$f":"ISBLANK(B142)","v":true},{"$f":"ISBLANK(C142)","v":true},{"$f":"ISBLANK(D142)","v":true},{"$f":"ISBLANK(E142)","v":true},{"$f":"ISBLANK(G142)","v":true},{"$f":"ISBLANK(H142)","v":true},{"$f":"IF(S142<4,TRUE,FALSE)","v":false},{"$f":"L142+M142+N142+O142+P142+Q142","v":6}]
[null,null,null,null,null,0,null,null,0,0,null,true,true,true,true,true,true,false,6]
[null,null,null,null,null,0,null,null,0,0,null,true,true,true,true,true,true,false,6]
[null,null,null,null,null,0,null,null,0,0,null,true,true,true,true,true,true,false,6]
[null,null,null,null,null,0,null,null,0,0,null,true,true,true,true,true,true,false,6]
[null,null,null,null,null,0,null,null,0,0,null,true,true,true,true,true,true,false,6]
[null,null,null,null,null,0,null,null,0,0,null,true,true,true,true,true,true,false,6]
[null,null,null,null,null,0,null,null,0,0,null,true,true,true,true,true,true,false,6]
[null,null,null,null,null,0,null,null,0,0,null,true,true,true,true,true,true,true,6]
[null,"Interpreters, lecturers, trainers, experts, moderators etc.",null,null,null,{"$f":"SUM(F152:F161)","v":0},null,null,{"$f":"SUM(I152:I161)","v":0},{"$f":"SUM(J152:J161)","v":0},null,null,null,null,null,null,null,true]
[null,null,null,null,null,{"$f":"ROUND(D152*E152,2)","v":0},null,null,{"$f":"ROUND(G152*H152,2)","v":0},{"$f":"F152+I152","v":0},null,{"$f":"ISBLANK(B152)","v":true},{"$f":"ISBLANK(C152)","v":true},{"$f":"ISBLANK(D152)","v":true},{"$f":"ISBLANK(E152)","v":true},{"$f":"ISBLANK(G152)","v":true},{"$f":"ISBLANK(H152)","v":true},{"$f":"IF(S152<4,TRUE,FALSE)","v":false},{"$f":"L152+M152+N152+O152+P152+Q152","v":6}]
[null,null,null,null,null,{"$f":"ROUND(D153*E153,2)","v":0},null,null,{"$f":"ROUND(G153*H153,2)","v":0},0,null,{"$f":"ISBLANK(B153)","v":true},{"$f":"ISBLANK(C153)","v":true},{"$f":"ISBLANK(D153)","v":true},{"$f":"ISBLANK(E153)","v":true},{"$f":"ISBLANK(G153)","v":true},{"$f":"ISBLANK(H153)","v":true},{"$f":"IF(S153<4,TRUE,FALSE)","v":false},{"$f":"L153+M153+N153+O153+P153+Q153","v":6}]
[null,null,null,null,null,0,null,null,0,0,null,true,true,true,true,true,true,false,6]
[null,null,null,null,null,0,null,null,0,0,null,true,true,true,true,true,true,false,6]
[null,null,null,null,null,0,null,null,0,0,null,true,true,true,true,true,true,false,6]
[null,null,null,null,null,0,null,null,0,0,null,true,true,true,true,true,true,false,6]
[null,null,null,null,null,0,null,null,0,0,null,true,true,true,true,true,true,false,6]
[null,null,null,null,null,0,null,null,0,0,null,true,true,true,true,true,true,false,6]
[null,null,null,null,null,0,null,null,0,0,null,true,true,true,true,true,true,false,6]
[null,null,null,null,null,0,null,null,0,0,null,true,true,true,true,true,true,true,6]
[null,"Other",null,null,null,{"$f":"SUM(F163:F172)","v":0},null,null,{"$f":"SUM(I163:I172)","v":0},{"$f":"SUM(J163:J172)","v":0},null,null,null,null,null,null,null,true]
[null,null,null,null,null,{"$f":"ROUND(D163*E163,2)","v":0},null,null,{"$f":"ROUND(G163*H163,2)","v":0},{"$f":"F163+I163","v":0},null,{"$f":"ISBLANK(B163)","v":true},{"$f":"ISBLANK(C163)","v":true},{"$f":"ISBLANK(D163)","v":true},{"$f":"ISBLANK(E163)","v":true},{"$f":"ISBLANK(G163)","v":true},{"$f":"ISBLANK(H163)","v":true},{"$f":"IF(S163<4,TRUE,FALSE)","v":false},{"$f":"L163+M163+N163+O163+P163+Q163","v":6}]
[null,null,null,null,null,{"$f":"ROUND(D164*E164,2)","v":0},null,null,{"$f":"ROUND(G164*H164,2)","v":0},0,null,{"$f":"ISBLANK(B164)","v":true},{"$f":"ISBLANK(C164)","v":true},{"$f":"ISBLANK(D164)","v":true},{"$f":"ISBLANK(E164)","v":true},{"$f":"ISBLANK(G164)","v":true},{"$f":"ISBLANK(H164)","v":true},{"$f":"IF(S164<4,TRUE,FALSE)","v":false},{"$f":"L164+M164+N164+O164+P164+Q164","v":6}]
[null,null,null,null,null,0,null,null,0,0,null,true,true,true,true,true,true,false,6]
[null,null,null,null,null,0,null,null,0,0,null,true,true,true,true,true,true,false,6]
[null,null,null,null,null,0,null,null,0,0,null,true,true,true,true,true,true,false,6]
[null,null,null,null,null,0,null,null,0,0,null,true,true,true,true,true,true,false,6]
[null,null,null,null,null,0,null,null,0,0,null,true,true,true,true,true,true,false,6]
[null,null,null,null,null,0,null,null,0,0,null,true,true,true,true,true,true,false,6]
[null,null,null,null,null,0,null,null,0,0,null,true,true,true,true,true,true,false,6]
[null,null,null,null,null,0,null,null,0,0,null,true,true,true,true,true,true,true,6]
[null,"TOTAL",null,null,null,{"$f":"F162+F151+F140+F129+F118+F107+F96+F85+F74+F63+F52","v":0},null,null,{"$f":"I162+I151+I140+I129+I118+I107+I96+I85+I74+I63+I52","v":0},{"$f":"J162+J151+J140+J129+J118+J107+J96+J85+J74+J63+J52","v":0},null,null,null,null,null,null,null,true]
[null,null,null,null,null,null,null,null,null,null,null,null,null,null,null,null,null,true]
[null,"BL5 - EQUIPMENT AND WORKS","Unit","Expenditures in the eligible area",null,null,"Expenditures outside the eligible area",null,null,"TOTAL",null,null,null,null,null,null,null,true]
[null,null,null,"Units","Unit rate","Total","Units","Unit rate","Total",null,null,null,null,null,null,null,null,true]
[null,"Small scale construction",null,null,null,{"$f":"SUM(F178:F187)","v":0},null,null,{"$f":"SUM(I178:I187)","v":0},{"$f":"SUM(J178:J187)","v":0},null,null,null,null,null,null,null,true]
[null,null,null,null,null,{"$f":"ROUND(D178*E178,2)","v":0},null,null,{"$f":"ROUND(G178*H178,2)","v":0},{"$f":"F178+I178","v":0},null,{"$f":"ISBLANK(B178)","v":true},{"$f":"ISBLANK(C178)","v":true},{"$f":"ISBLANK(D178)","v":true},{"$f":"ISBLANK(E178)","v":true},{"$f":"ISBLANK(G178)","v":true},{"$f":"ISBLANK(H178)","v":true},{"$f":"IF(S178<4,TRUE,FALSE)","v":false},{"$f":"L178+M178+N178+O178+P178+Q178","v":6}]
[null,null,null,null,null,{"$f":"ROUND(D179*E179,2)","v":0},null,null,{"$f":"ROUND(G179*H179,2)","v":0},0,null,{"$f":"ISBLANK(B179)","v":true},{"$f":"ISBLANK(C179)","v":true},{"$f":"ISBLANK(D179)","v":true},{"$f":"ISBLANK(E179)","v":true},{"$f":"ISBLANK(G179)","v":true},{"$f":"ISBLANK(H179)","v":true},{"$f":"IF(S179<4,TRUE,FALSE)","v":false},{"$f":"L179+M179+N179+O179+P179+Q179","v":6}]
[null,null,null,null,null,0,null,null,0,0,null,true,true,true,true,true,true,false,6]
[null,null,null,null,null,0,null,null,0,0,null,true,true,true,true,true,true,false,6]
[null,null,null,null,null,0,null,null,0,0,null,true,true,true,true,true,true,false,6]
[null,null,null,null,null,0,null,null,0,0,null,true,true,true,true,true,true,false,6]
[null,null,null,null,null,0,null,null,0,0,null,true,true,true,true,true,true,false,6]
[null,null,null,null,null,0,null,null,0,0,null,true,true,true,true,true,true,false,6]
[null,null,null,null,null,0,null,null,0,0,null,true,true,true,true,true,true,false,6]
[null,null,null,null,null,0,null,null,0,0,null,true,true,true,true,true,true,true,6]
[null,"Supply",null,null,null,{"$f":"SUM(F189:F198)","v":0},null,null,{"$f":"SUM(I189:I198)","v":0},{"$f":"SUM(J189:J198)","v":0},null,null,null,null,null,null,null,true]
[null,null,null,null,null,{"$f":"ROUND(D189*E189,2)","v":0},null,null,{"$f":"ROUND(G189*H189,2)","v":0},{"$f":"F189+I189","v":0},null,{"$f":"ISBLANK(B189)","v":true},{"$f":"ISBLANK(C189)","v":true},{"$f":"ISBLANK(D189)","v":true},{"$f":"ISBLANK(E189)","v":true},{"$f":"ISBLANK(G189)","v":true},{"$f":"ISBLANK(H189)","v":true},{"$f":"IF(S189<4,TRUE,FALSE)","v":false},{"$f":"L189+M189+N189+O189+P189+Q189","v":6}]
[null,null,null,null,null,{"$f":"ROUND(D190*E190,2)","v":0},null,null,{"$f":"ROUND(G190*H190,2)","v":0},0,null,{"$f":"ISBLANK(B190)","v":true},{"$f":"ISBLANK(C190)","v":true},{"$f":"ISBLANK(D190)","v":true},{"$f":"ISBLANK(E190)","v":true},{"$f":"ISBLANK(G190)","v":true},{"$f":"ISBLANK(H190)","v":true},{"$f":"IF(S190<4,TRUE,FALSE)","v":false},{"$f":"L190+M190+N190+O190+P190+Q190","v":6}]
[null,null,null,null,null,0,null,null,0,0,null,true,true,true,true,true,true,false,6]
[null,null,null,null,null,0,null,null,0,0,null,true,true,true,true,true,true,false,6]
[null,null,null,null,null,0,null,null,0,0,null,true,true,true,true,true,true,false,6]
[null,null,null,null,null,0,null,null,0,0,null,true,true,true,true,true,true,false,6]
[null,null,null,null,null,0,null,null,0,0,null,true,true,true,true,true,true,false,6]
[null,null,null,null,null,0,null,null,0,0,null,true,true,true,true,true,true,false,6]
[null,null,null,null,null,0,null,null,0,0,null,true,true,true,true,true,true,false,6]
[null,null,null,null,null,0,null,null,0,0,null,true,true,true,true,true,true,true,6]
[null,"TOTAL",null,null,null,{"$f":"F188+F177","v":0},null,null,{"$f":"I188+I177","v":0},{"$f":"J188+J177","v":0},null,null,null,null,null,null,null,true]
[null,null,null,null,null,null,null,null,null,null,null,null,null,null,null,null,null,true]
[null,"BL6 - PROJECT PREPARATION","Unit","Expenditures in the eligible area",null,null,"Expenditures outside the eligible area",null,null,"TOTAL",null,null,null,null,null,null,null,true]
[null,null,null,"Units","Unit rate","Total","Units","Unit rate","Total",null,null,null,null,null,null,null,null,true]
[null,"6.1. Preparation of Application package ",null,null,null,{"$f":"SUM(F204:F213)","v":0},null,null,{"$f":"SUM(I204:I213)","v":0},{"$f":"SUM(J204:J213)","v":0},null,{"$f":"ISBLANK(B203)","v":false},{"$f":"ISBLANK(C203)","v":true},{"$f":"ISBLANK(D203)","v":true},{"$f":"ISBLANK(E203)","v":true},{"$f":"ISBLANK(G203)","v":true},{"$f":"ISBLANK(H203)","v":true},{"$f":"IF(S203<4,TRUE,FALSE)","v":false},{"$f":"L203+M203+N203+O203+P203+Q203","v":5}]
[null,null,null,null,null,{"$f":"ROUND(D204*E204,2)","v":0},null,null,{"$f":"ROUND(G204*H204,2)","v":0},{"$f":"F204+I204","v":0},null,{"$f":"ISBLANK(B204)","v":true},{"$f":"ISBLANK(C204)","v":true},{"$f":"ISBLANK(D204)","v":true},{"$f":"ISBLANK(E204)","v":true},{"$f":"ISBLANK(G204)","v":true},{"$f":"ISBLANK(H204)","v":true},{"$f":"IF(S204<4,TRUE,FALSE)","v":false},{"$f":"L204+M204+N204+O204+P204+Q204","v":6}]
[null,null,null,null,null,{"$f":"ROUND(D205*E205,2)","v":0},null,null,{"$f":"ROUND(G205*H205,2)","v":0},0,null,true,true,true,true,true,true,false,6]
[null,null,null,null,null,0,null,null,0,0,null,true,true,true,true,true,true,false,6]
[null,null,null,null,null,0,null,null,0,0,null,true,true,true,true,true,true,false,6]
[null,null,null,null,null,0,null,null,0,0,null,true,true,true,true,true,true,false,6]
[null,null,null,null,null,0,null,null,0,0,null,true,true,true,true,true,true,false,6]
[null,null,null,null,null,0,null,null,0,0,null,true,true,true,true,true,true,false,6]
[null,null,null,null,null,0,null,null,0,0,null,true,true,true,true,true,true,false,6]
[null,null,null,null,null,0,null,null,0,0,null,true,true,true,true,true,true,true,6]
[null,null,null,null,null,0,null,null,0,0,null,null,null,null,null,null,null,true]
[null,"6.2. Preparation of technical documentation",null,null,null,{"$f":"SUM(F215:F224)","v":0},null,null,{"$f":"SUM(I215:I224)","v":0},{"$f":"SUM(J215:J224)","v":0},null,{"$f":"ISBLANK(B214)","v":false},{"$f":"ISBLANK(C214)","v":true},{"$f":"ISBLANK(D214)","v":true},{"$f":"ISBLANK(E214)","v":true},{"$f":"ISBLANK(G214)","v":true},{"$f":"ISBLANK(H214)","v":true},{"$f":"IF(S214<4,TRUE,FALSE)","v":false},{"$f":"L214+M214+N214+O214+P214+Q214","v":5}]
[null,null,null,null,null,{"$f":"ROUND(D215*E215,2)","v":0},null,null,{"$f":"ROUND(G215*H215,2)","v":0},{"$f":"F215+I215","v":0},null,{"$f":"ISBLANK(B215)","v":true},{"$f":"ISBLANK(C215)","v":true},{"$f":"ISBLANK(D215)","v":true},{"$f":"ISBLANK(E215)","v":true},{"$f":"ISBLANK(G215)","v":true},{"$f":"ISBLANK(H215)","v":true},{"$f":"IF(S215<4,TRUE,FALSE)","v":false},{"$f":"L215+M215+N215+O215+P215+Q215","v":6}]
[null,null,null,null,null,{"$f":"ROUND(D216*E216,2)","v":0},null,null,{"$f":"ROUND(G216*H216,2)","v":0},0,null,true,true,true,true,true,true,false,6]
[null,null,null,null,null,0,null,null,0,0,null,true,true,true,true,true,true,false,6]
[null,null,null,null,null,0,null,null,0,0,null,true,true,true,true,true,true,false,6]
[null,null,null,null,null,0,null,null,0,0,null,true,true,true,true,true,true,false,6]
[null,null,null,null,null,0,null,null,0,0,null,true,true,true,true,true,true,false,6]
[null,null,null,null,null,0,null,null,0,0,null,true,true,true,true,true,true,false,6]
[null,null,null,null,null,0,null,null,0,0,null,true,true,true,true,true,true,false,6]
[null,null,null,null,null,0,null,null,0,0,null,true,true,true,true,true,true,true,6]
[null,null,null,null,null,0,null,null,0,0,null,null,null,null,null,null,null,true]
[null,"TOTAL",null,null,null,{"$f":"F214+F203","v":0},null,null,{"$f":"I214+I203","v":0},{"$f":"J214+J203","v":0},null,null,null,null,null,null,null,true]
[null,null,null,null,null,null,null,null,null,null,null,null,null,null,null,null,null,true]
[null,"Own Contribution","Unit","Expenditures in the eligible area",null,null,"Expenditures outside the eligible area",null,null,"TOTAL",null,null,null,null,null,null,null,true]
[null,null,null,"Units","Unit rate","Total","Units","Unit rate","Total",null,null,null,null,null,null,null,null,true]
[null,null,null,null,null,{"$f":"D229*E229","v":0},null,null,{"$f":"G229*H229","v":0},{"$f":"ROUND(G229*I229,2)","v":0},null,null,null,null,null,null,null,true]
[null,null,null,null,null,null,null,null,null,null,null,null,null,null,null,null,null,true]
[null,"Total direct project costs (BL3+BL4+BL5)",null,{"$f":"F199+F173+F48","v":0},null,null,{"$f":"I199+I173+I48","v":0},null,null,{"$f":"D231+G231","v":0},null,null,null,null,null,null,null,true]
[null,"TOTAL PROJECT COSTS",null,{"$f":"IF(L9,D231,D231+F229+F213+J6+J11)","v":0},null,null,{"$f":"IF(L9,G231+I229+I213+J6+J11,G231+I229)","v":0},null,null,{"$f":"D232+G232","v":0},null,null,null,null,null,null,null,true]
[null,null,null,null,null,null,null,null,null,null,null,null,null,null,null,null,null,true]
[null,null,null,null,null,null,null,null,null,null,null,null,null,null,null,null,null,true]

{"sheet":"T2-B(PP2)","index":11,"n_rows":244,"n_cols":19,"rows_kept":244,"cut":false,"hidden":false,"merged":[[231,6,231,8],[200,9,201,9],[226,1,227,1],[226,2,227,2],[226,3,226,5],[226,6,226,8],[226,9,227,9],[174,1,175,1],[174,2,175,2],[174,3,174,5],[174,6,174,8],[174,9,175,9],[49,9,50,9],[2,1,3,5],[2,6,2,8],[236,9,237,9],[240,3,240,5],[240,6,240,8],[5,1,5,8],[7,1,8,5],[7,6,7,8],[8,6,8,8],[12,1,13,1],[12,2,13,2],[49,1,50,1],[49,2,50,2],[12,9,13,9],[49,3,49,5],[0,1,0,5],[9,1,9,5],[9,6,9,8],[10,1,10,8],[12,3,12,5],[12,6,12,8],[49,6,49,8],[3,6,3,8],[4,1,4,5],[4,6,4,8],[240,1,240,2],[236,3,236,5],[236,6,236,8],[200,1,201,1],[200,2,201,2],[200,3,200,5],[200,6,200,8],[230,1,230,2],[230,3,230,5],[230,6,230,8],[231,1,231,2],[231,3,231,5],[241,1,241,2],[236,1,237,1],[236,2,237,2],[241,3,241,5],[241,6,241,8]]}
[null,"TABLE 2 - DETAILED BREAKDOWN OF BUDGET LINES  - PP2 in EUR",null,null,null,null,null,null,null,null,null,null,null,null,null,null,null,true]
[null,null,null,null,null,null,{"$f":"L3","v":"Flat rate for  projects can not exceed 10 %!"},null,null,null,null,{"$f":"G5<=L4","v":true},null,null,null,null,null,true]
[null,"BL1 - STAFF COSTS",null,null,null,null,"Flat rate",null,null,"TOTAL",null,{"$f":"CONCATENATE(\"Flat rate for \",L5,\" projects can not exceed \",L4,\" %!\")","v":"Flat rate for  projects can not exceed 10 %!"},null,null,null,null,null,true]
[null,null,null,null,null,null,"%",null,null,null,null,{"$f":"IF(L5=\"Soft\",20,10)","v":10},null,null,null,null,null,true]
[null,{"$f":"M5","v":" project"},null,null,null,null,null,null,null,{"$f":"ROUND(G5*J241/100,2)","v":0},null,{"$f":"'Project identification'!C15","v":""},{"$f":"CONCATENATE(L5,\" project\")","v":" project"},null,20,10,null,true]
[null,"TOTAL",null,null,null,null,null,null,null,{"$f":"J5","v":0},null,null,null,null,null,null,null,true]
[null,null,null,null,null,null,"Flat rate for administrative costs can not exceed 15 %",null,null,null,null,null,null,null,null,null,null,true]
[null,"BL2 - OFFICE AND ADMINISTRATIVE COSTS",null,null,null,null,"Flat rate",null,null,"TOTAL",null,null,null,null,null,null,null,true]
[null,null,null,null,null,null,"%",null,null,null,null,{"$f":"IF('PP2'!C15='PP2'!M27,TRUE,FALSE)","v":false},null,null,null,null,null,true]
[null,{"$f":"M5","v":" project"},null,null,null,null,null,null,null,{"$f":"ROUNDDOWN(G10*J5/100,2)","v":0},null,null,null,null,null,null,null,true]
[null,"TOTAL",null,null,null,null,null,null,null,{"$f":"J10","v":0},null,null,"sad",null,null,null,null,true]
[null,null,null,null,null,null,null,null,null,null,null,null,null,null,null,null,null,true]
[null,"BL3 - TRAVEL AND ACCOMMODATION","Unit","Expenditures in the eligible area",null,null,"Expenditures outside the eligible area",null,null,"TOTAL",null,null,null,null,null,null,null,true]
[null,null,null,"Units","Unit rate","Total","Units","Unit rate","Total",null,null,null,null,null,null,null,null,true]
[null,"3.1 Travel costs",null,null,null,{"$f":"SUM(F16:F25)","v":0},null,null,{"$f":"SUM(I16:I25)","v":0},{"$f":"SUM(J16:J25)","v":0},null,null,null,null,null,null,null,true]
[null,null,null,null,null,{"$f":"ROUND(D16*E16,2)","v":0},null,null,{"$f":"ROUND(G16*H16,2)","v":0},{"$f":"F16+I16","v":0},null,{"$f":"ISBLANK(B16)","v":true},{"$f":"ISBLANK(C16)","v":true},{"$f":"ISBLANK(D16)","v":true},{"$f":"ISBLANK(E16)","v":true},{"$f":"ISBLANK(G16)","v":true},{"$f":"ISBLANK(H16)","v":true},{"$f":"IF(S16<4,TRUE,FALSE)","v":false},{"$f":"L16+M16+N16+O16+P16+Q16","v":6}]
[null,null,null,null,null,{"$f":"ROUND(D17*E17,2)","v":0},null,null,{"$f":"ROUND(G17*H17,2)","v":0},0,null,{"$f":"ISBLANK(B17)","v":true},true,true,true,{"$f":"ISBLANK(G17)","v":true},true,{"$f":"IF(S17<4,TRUE,FALSE)","v":false},{"$f":"L17+M17+N17+O17+P17+Q17","v":6}]
[null,null,null,null,null,0,null,null,0,0,null,true,true,true,true,true,true,false,6]
[null,null,null,null,null,0,null,null,0,0,null,true,true,true,true,true,true,false,6]
[null,null,null,null,null,0,null,null,0,0,null,true,true,true,true,true,true,false,6]
[null,null,null,null,null,0,null,null,0,0,null,true,true,true,true,true,true,false,6]
[null,null,null,null,null,0,null,null,0,0,null,true,true,true,true,true,true,false,6]
[null,null,null,null,null,0,null,null,0,0,null,true,true,true,true,true,true,false,6]
[null,null,null,null,null,0,null,null,0,0,null,true,true,true,true,true,true,false,6]
[null,null,null,null,null,0,null,null,0,0,null,true,true,true,true,true,true,true,6]
[null,"3.2 Daily allowances",null,null,null,{"$f":"SUM(F27:F36)","v":0},null,null,{"$f":"SUM(I27:I36)","v":0},{"$f":"SUM(J27:J36)","v":0},null,null,null,null,null,null,null,true]
[null,null,null,null,null,{"$f":"ROUND(D27*E27,2)","v":0},null,null,{"$f":"ROUND(G27*H27,2)","v":0},{"$f":"F27+I27","v":0},null,{"$f":"ISBLANK(B27)","v":true},{"$f":"ISBLANK(C27)","v":true},{"$f":"ISBLANK(D27)","v":true},{"$f":"ISBLANK(E27)","v":true},{"$f":"ISBLANK(G27)","v":true},{"$f":"ISBLANK(H27)","v":true},{"$f":"IF(S27<4,TRUE,FALSE)","v":false},{"$f":"L27+M27+N27+O27+P27+Q27","v":6}]
[null,null,null,null,null,{"$f":"ROUND(D28*E28,2)","v":0},null,null,{"$f":"ROUND(G28*H28,2)","v":0},0,null,{"$f":"ISBLANK(B28)","v":true},true,true,true,{"$f":"ISBLANK(G28)","v":true},true,{"$f":"IF(S28<4,TRUE,FALSE)","v":false},{"$f":"L28+M28+N28+O28+P28+Q28","v":6}]
[null,null,null,null,null,0,null,null,0,0,null,true,true,true,true,true,true,false,6]
[null,null,null,null,null,0,null,null,0,0,null,true,true,true,true,true,true,false,6]
[null,null,null,null,null,0,null,null,0,0,null,true,true,true,true,true,true,false,6]
[null,null,null,null,null,0,null,null,0,0,null,true,true,true,true,true,true,false,6]
[null,null,null,null,null,0,null,null,0,0,null,true,true,true,true,true,true,false,6]
[null,null,null,null,null,0,null,null,0,0,null,true,true,true,true,true,true,false,6]
[null,null,null,null,null,0,null,null,0,0,null,true,true,true,true,true,true,false,6]
[null,null,null,null,null,0,null,null,0,0,null,true,true,true,true,true,true,true,6]
[null,"3.3 Accommodation costs",null,null,null,{"$f":"SUM(F38:F47)","v":0},null,null,{"$f":"SUM(I38:I47)","v":0},{"$f":"SUM(J38:J47)","v":0},null,null,null,null,null,null,null,true]
[null,null,null,null,null,{"$f":"ROUND(D38*E38,2)","v":0},null,null,{"$f":"ROUND(G38*H38,2)","v":0},{"$f":"F38+I38","v":0},null,{"$f":"ISBLANK(B38)","v":true},{"$f":"ISBLANK(C38)","v":true},{"$f":"ISBLANK(D38)","v":true},{"$f":"ISBLANK(E38)","v":true},{"$f":"ISBLANK(G38)","v":true},{"$f":"ISBLANK(H38)","v":true},{"$f":"IF(S38<4,TRUE,FALSE)","v":false},{"$f":"L38+M38+N38+O38+P38+Q38","v":6}]
[null,null,null,null,null,{"$f":"ROUND(D39*E39,2)","v":0},null,null,{"$f":"ROUND(G39*H39,2)","v":0},0,null,{"$f":"ISBLANK(B39)","v":true},true,true,true,{"$f":"ISBLANK(G39)","v":true},true,{"$f":"IF(S39<4,TRUE,FALSE)","v":false},{"$f":"L39+M39+N39+O39+P39+Q39","v":6}]
[null,null,null,null,null,0,null,null,0,0,null,true,true,true,true,true,true,false,6]
[null,null,null,null,null,0,null,null,0,0,null,true,true,true,true,true,true,false,6]
[null,null,null,null,null,0,null,null,0,0,null,true,true,true,true,true,true,false,6]
[null,null,null,null,null,0,null,null,0,0,null,true,true,true,true,true,true,false,6]
[null,null,null,null,null,0,null,null,0,0,null,true,true,true,true,true,true,false,6]
[null,null,null,null,null,0,null,null,0,0,null,true,true,true,true,true,true,false,6]
[null,null,null,null,null,0,null,null,0,0,null,true,true,true,true,true,true,false,6]
[null,null,null,null,null,0,null,null,0,0,null,true,true,true,true,true,true,true,6]
[null,"TOTAL",null,null,null,{"$f":"F37+F26+F15","v":0},null,null,{"$f":"I37+I26+I15","v":0},{"$f":"J37+J26+J15","v":0},null,null,null,null,null,null,null,true]
[null,null,null,null,null,null,null,null,null,null,null,null,null,null,null,null,null,true]
[null,"BL4 - EXTERNAL EXPERTISE AND SERVICES COSTS","Unit","Expenditures in the eligible area",null,null,"Expenditures outside the eligible area",null,null,"TOTAL",null,null,null,null,null,null,null,true]
[null,null,null,"Units","Unit rate","Total","Units","Unit rate","Total",null,null,null,null,null,null,null,null,true]
[null,"Rent of hall for events",null,null,null,{"$f":"SUM(F53:F62)","v":0},null,null,{"$f":"SUM(I53:I62)","v":0},{"$f":"SUM(J53:J62)","v":0},null,null,null,null,null,null,null,true]
[null,null,null,null,null,{"$f":"ROUND(D53*E53,2)","v":0},null,null,{"$f":"ROUND(G53*H53,2)","v":0},{"$f":"F53+I53","v":0},null,{"$f":"ISBLANK(B53)","v":true},{"$f":"ISBLANK(C53)","v":true},{"$f":"ISBLANK(D53)","v":true},{"$f":"ISBLANK(E53)","v":true},{"$f":"ISBLANK(G53)","v":true},{"$f":"ISBLANK(H53)","v":true},{"$f":"IF(S53<4,TRUE,FALSE)","v":false},{"$f":"L53+M53+N53+O53+P53+Q53","v":6}]
[null,null,null,null,null,{"$f":"ROUND(D54*E54,2)","v":0},null,null,{"$f":"ROUND(G54*H54,2)","v":0},0,null,{"$f":"ISBLANK(B54)","v":true},true,true,true,{"$f":"ISBLANK(G54)","v":true},true,{"$f":"IF(S54<4,TRUE,FALSE)","v":false},{"$f":"L54+M54+N54+O54+P54+Q54","v":6}]
[null,null,null,null,null,0,null,null,0,0,null,true,true,true,true,true,true,false,6]
[null,null,null,null,null,0,null,null,0,0,null,true,true,true,true,true,true,false,6]
[null,null,null,null,null,0,null,null,0,0,null,true,true,true,true,true,true,false,6]
[null,null,null,null,null,0,null,null,0,0,null,true,true,true,true,true,true,false,6]
[null,null,null,null,null,0,null,null,0,0,null,true,true,true,true,true,true,false,6]
[null,null,null,null,null,0,null,null,0,0,null,true,true,true,true,true,true,false,6]
[null,null,null,null,null,0,null,null,0,0,null,true,true,true,true,true,true,false,6]
[null,null,null,null,null,0,null,null,0,0,null,true,true,true,true,true,true,true,6]
[null,"Rent of audio/video equipment for events",null,null,null,{"$f":"SUM(F64:F73)","v":0},null,null,{"$f":"SUM(I64:I73)","v":0},{"$f":"SUM(J64:J73)","v":0},null,null,null,null,null,null,null,true]
[null,null,null,null,null,{"$f":"ROUND(D64*E64,2)","v":0},null,null,{"$f":"ROUND(G64*H64,2)","v":0},{"$f":"F64+I64","v":0},null,{"$f":"ISBLANK(B64)","v":true},{"$f":"ISBLANK(C64)","v":true},{"$f":"ISBLANK(D64)","v":true},{"$f":"ISBLANK(E64)","v":true},{"$f":"ISBLANK(G64)","v":true},{"$f":"ISBLANK(H64)","v":true},{"$f":"IF(S64<4,TRUE,FALSE)","v":false},{"$f":"L64+M64+N64+O64+P64+Q64","v":6}]
[null,null,null,null,null,{"$f":"ROUND(D65*E65,2)","v":0},null,null,{"$f":"ROUND(G65*H65,2)","v":0},0,null,{"$f":"ISBLANK(B65)","v":true},true,true,true,{"$f":"ISBLANK(G65)","v":true},true,{"$f":"IF(S65<4,TRUE,FALSE)","v":false},{"$f":"L65+M65+N65+O65+P65+Q65","v":6}]
[null,null,null,null,null,0,null,null,0,0,null,true,true,true,true,true,true,false,6]
[null,null,null,null,null,0,null,null,0,0,null,true,true,true,true,true,true,false,6]
[null,null,null,null,null,0,null,null,0,0,null,true,true,true,true,true,true,false,6]
[null,null,null,null,null,0,null,null,0,0,null,true,true,true,true,true,true,false,6]
[null,null,null,null,null,0,null,null,0,0,null,true,true,true,true,true,true,false,6]
[null,null,null,null,null,0,null,null,0,0,null,true,true,true,true,true,true,false,6]
[null,null,null,null,null,0,null,null,0,0,null,true,true,true,true,true,true,false,6]
[null,null,null,null,null,0,null,null,0,0,null,true,true,true,true,true,true,true,6]
[null,"Travel for events",null,null,null,{"$f":"SUM(F75:F84)","v":0},null,null,{"$f":"SUM(I75:I84)","v":0},{"$f":"SUM(J75:J84)","v":0},null,null,null,null,null,null,null,true]
[null,null,null,null,null,{"$f":"ROUND(D75*E75,2)","v":0},null,null,{"$f":"ROUND(G75*H75,2)","v":0},{"$f":"F75+I75","v":0},null,{"$f":"ISBLANK(B75)","v":true},{"$f":"ISBLANK(C75)","v":true},{"$f":"ISBLANK(D75)","v":true},{"$f":"ISBLANK(E75)","v":true},{"$f":"ISBLANK(G75)","v":true},{"$f":"ISBLANK(H75)","v":true},{"$f":"IF(S75<4,TRUE,FALSE)","v":false},{"$f":"L75+M75+N75+O75+P75+Q75","v":6}]
[null,null,null,null,null,{"$f":"ROUND(D76*E76,2)","v":0},null,null,{"$f":"ROUND(G76*H76,2)","v":0},0,null,{"$f":"ISBLANK(B76)","v":true},true,true,true,{"$f":"ISBLANK(G76)","v":true},true,{"$f":"IF(S76<4,TRUE,FALSE)","v":false},{"$f":"L76+M76+N76+O76+P76+Q76","v":6}]
[null,null,null,null,null,0,null,null,0,0,null,true,true,true,true,true,true,false,6]
[null,null,null,null,null,0,null,null,0,0,null,true,true,true,true,true,true,false,6]
[null,null,null,null,null,0,null,null,0,0,null,true,true,true,true,true,true,false,6]
[null,null,null,null,null,0,null,null,0,0,null,true,true,true,true,true,true,false,6]
[null,null,null,null,null,0,null,null,0,0,null,true,true,true,true,true,true,false,6]
[null,null,null,null,null,0,null,null,0,0,null,true,true,true,true,true,true,false,6]
[null,null,null,null,null,0,null,null,0,0,null,true,true,true,true,true,true,false,6]
[null,null,null,null,null,0,null,null,0,0,null,true,true,true,true,true,true,true,6]
[null,"Catering for events",null,null,null,{"$f":"SUM(F86:F95)","v":0},null,null,{"$f":"SUM(I86:I95)","v":0},{"$f":"SUM(J86:J95)","v":0},null,null,null,null,null,null,null,true]
[null,null,null,null,null,{"$f":"ROUND(D86*E86,2)","v":0},null,null,{"$f":"ROUND(G86*H86,2)","v":0},{"$f":"F86+I86","v":0},null,{"$f":"ISBLANK(B86)","v":true},{"$f":"ISBLANK(C86)","v":true},{"$f":"ISBLANK(D86)","v":true},{"$f":"ISBLANK(E86)","v":true},{"$f":"ISBLANK(G86)","v":true},{"$f":"ISBLANK(H86)","v":true},{"$f":"IF(S86<4,TRUE,FALSE)","v":false},{"$f":"L86+M86+N86+O86+P86+Q86","v":6}]
[null,null,null,null,null,{"$f":"ROUND(D87*E87,2)","v":0},null,null,{"$f":"ROUND(G87*H87,2)","v":0},0,null,{"$f":"ISBLANK(B87)","v":true},true,true,true,{"$f":"ISBLANK(G87)","v":true},true,{"$f":"IF(S87<4,TRUE,FALSE)","v":false},{"$f":"L87+M87+N87+O87+P87+Q87","v":6}]
[null,null,null,null,null,0,null,null,0,0,null,true,true,true,true,true,true,false,6]
[null,null,null,null,null,0,null,null,0,0,null,true,true,true,true,true,true,false,6]
[null,null,null,null,null,0,null,null,0,0,null,true,true,true,true,true,true,false,6]
[null,null,null,null,null,0,null,null,0,0,null,true,true,true,true,true,true,false,6]
[null,null,null,null,null,0,null,null,0,0,null,true,true,true,true,true,true,false,6]
[null,null,null,null,null,0,null,null,0,0,null,true,true,true,true,true,true,false,6]
[null,null,null,null,null,0,null,null,0,0,null,true,true,true,true,true,true,false,6]
[null,null,null,null,null,0,null,null,0,0,null,true,true,true,true,true,true,true,6]
[null,"Accommodations for participants in the events ",null,null,null,{"$f":"SUM(F97:F106)","v":0},null,null,{"$f":"SUM(I97:I106)","v":0},{"$f":"SUM(J97:J106)","v":0},null,null,null,null,null,null,null,true]
[null,null,null,null,null,{"$f":"ROUND(D97*E97,2)","v":0},null,null,{"$f":"ROUND(G97*H97,2)","v":0},{"$f":"F97+I97","v":0},null,{"$f":"ISBLANK(B97)","v":true},{"$f":"ISBLANK(C97)","v":true},{"$f":"ISBLANK(D97)","v":true},{"$f":"ISBLANK(E97)","v":true},{"$f":"ISBLANK(G97)","v":true},{"$f":"ISBLANK(H97)","v":true},{"$f":"IF(S97<4,TRUE,FALSE)","v":false},{"$f":"L97+M97+N97+O97+P97+Q97","v":6}]
[null,null,null,null,null,{"$f":"ROUND(D98*E98,2)","v":0},null,null,{"$f":"ROUND(G98*H98,2)","v":0},0,null,{"$f":"ISBLANK(B98)","v":true},true,true,true,{"$f":"ISBLANK(G98)","v":true},true,{"$f":"IF(S98<4,TRUE,FALSE)","v":false},{"$f":"L98+M98+N98+O98+P98+Q98","v":6}]
[null,null,null,null,null,0,null,null,0,0,null,true,true,true,true,true,true,false,6]
[null,null,null,null,null,0,null,null,0,0,null,true,true,true,true,true,true,false,6]
[null,null,null,null,null,0,null,null,0,0,null,true,true,true,true,true,true,false,6]
[null,null,null,null,null,0,null,null,0,0,null,true,true,true,true,true,true,false,6]
[null,null,null,null,null,0,null,null,0,0,null,true,true,true,true,true,true,false,6]
[null,null,null,null,null,0,null,null,0,0,null,true,true,true,true,true,true,false,6]
[null,null,null,null,null,0,null,null,0,0,null,true,true,true,true,true,true,false,6]
[null,null,null,null,null,0,null,null,0,0,null,true,true,true,true,true,true,true,6]
[null,"Consumables and materials for events",null,null,null,{"$f":"SUM(F108:F117)","v":0},null,null,{"$f":"SUM(I108:I117)","v":0},{"$f":"SUM(J108:J117)","v":0},null,null,null,null,null,null,null,true]
[null,null,null,null,null,{"$f":"ROUND(D108*E108,2)","v":0},null,null,{"$f":"ROUND(G108*H108,2)","v":0},{"$f":"F108+I108","v":0},null,{"$f":"ISBLANK(B108)","v":true},{"$f":"ISBLANK(C108)","v":true},{"$f":"ISBLANK(D108)","v":true},{"$f":"ISBLANK(E108)","v":true},{"$f":"ISBLANK(G108)","v":true},{"$f":"ISBLANK(H108)","v":true},{"$f":"IF(S108<4,TRUE,FALSE)","v":false},{"$f":"L108+M108+N108+O108+P108+Q108","v":6}]
[null,null,null,null,null,{"$f":"ROUND(D109*E109,2)","v":0},null,null,{"$f":"ROUND(G109*H109,2)","v":0},0,null,{"$f":"ISBLANK(B109)","v":true},true,true,true,{"$f":"ISBLANK(G109)","v":true},true,{"$f":"IF(S109<4,TRUE,FALSE)","v":false},{"$f":"L109+M109+N109+O109+P109+Q109","v":6}]
[null,null,null,null,null,0,null,null,0,0,null,true,true,true,true,true,true,false,6]
[null,null,null,null,null,0,null,null,0,0,null,true,true,true,true,true,true,false,6]
[null,null,null,null,null,0,null,null,0,0,null,true,true,true,true,true,true,false,6]
[null,null,null,null,null,0,null,null,0,0,null,true,true,true,true,true,true,false,6]
[null,null,null,null,null,0,null,null,0,0,null,true,true,true,true,true,true,false,6]
[null,null,null,null,null,0,null,null,0,0,null,true,true,true,true,true,true,false,6]
[null,null,null,null,null,0,null,null,0,0,null,true,true,true,true,true,true,false,6]
[null,null,null,null,null,0,null,null,0,0,null,true,true,true,true,true,true,true,6]
[null,"Elaboration, design, translation of promotional materials; ",null,null,null,{"$f":"SUM(F119:F128)","v":0},null,null,{"$f":"SUM(I119:I128)","v":0},{"$f":"SUM(J119:J128)","v":0},null,null,null,null,null,null,null,true]
[null,null,null,null,null,{"$f":"ROUND(D119*E119,2)","v":0},null,null,{"$f":"ROUND(G119*H119,2)","v":0},{"$f":"F119+I119","v":0},null,{"$f":"ISBLANK(B119)","v":true},{"$f":"ISBLANK(C119)","v":true},{"$f":"ISBLANK(D119)","v":true},{"$f":"ISBLANK(E119)","v":true},{"$f":"ISBLANK(G119)","v":true},{"$f":"ISBLANK(H119)","v":true},{"$f":"IF(S119<4,TRUE,FALSE)","v":false},{"$f":"L119+M119+N119+O119+P119+Q119","v":6}]
[null,null,null,null,null,{"$f":"ROUND(D120*E120,2)","v":0},null,null,{"$f":"ROUND(G120*H120,2)","v":0},0,null,{"$f":"ISBLANK(B120)","v":true},true,true,true,{"$f":"ISBLANK(G120)","v":true},true,{"$f":"IF(S120<4,TRUE,FALSE)","v":false},{"$f":"L120+M120+N120+O120+P120+Q120","v":6}]
[null,null,null,null,null,0,null,null,0,0,null,true,true,true,true,true,true,false,6]
[null,null,null,null,null,0,null,null,0,0,null,true,true,true,true,true,true,false,6]
[null,null,null,null,null,0,null,null,0,0,null,true,true,true,true,true,true,false,6]
[null,null,null,null,null,0,null,null,0,0,null,true,true,true,true,true,true,false,6]
[null,null,null,null,null,0,null,null,0,0,null,true,true,true,true,true,true,false,6]
[null,null,null,null,null,0,null,null,0,0,null,true,true,true,true,true,true,false,6]
[null,null,null,null,null,0,null,null,0,0,null,true,true,true,true,true,true,false,6]
[null,null,null,null,null,0,null,null,0,0,null,true,true,true,true,true,true,true,6]
[null,"Publications in mass-media",null,null,null,{"$f":"SUM(F130:F139)","v":0},null,null,{"$f":"SUM(I130:I139)","v":0},{"$f":"SUM(J130:J139)","v":0},null,null,null,null,null,null,null,true]
[null,null,null,null,null,{"$f":"ROUND(D130*E130,2)","v":0},null,null,{"$f":"ROUND(G130*H130,2)","v":0},{"$f":"F130+I130","v":0},null,{"$f":"ISBLANK(B130)","v":true},{"$f":"ISBLANK(C130)","v":true},{"$f":"ISBLANK(D130)","v":true},{"$f":"ISBLANK(E130)","v":true},{"$f":"ISBLANK(G130)","v":true},{"$f":"ISBLANK(H130)","v":true},{"$f":"IF(S130<4,TRUE,FALSE)","v":false},{"$f":"L130+M130+N130+O130+P130+Q130","v":6}]
[null,null,null,null,null,{"$f":"ROUND(D131*E131,2)","v":0},null,null,{"$f":"ROUND(G131*H131,2)","v":0},0,null,{"$f":"ISBLANK(B131)","v":true},true,true,true,{"$f":"ISBLANK(G131)","v":true},true,{"$f":"IF(S131<4,TRUE,FALSE)","v":false},{"$f":"L131+M131+N131+O131+P131+Q131","v":6}]
[null,null,null,null,null,0,null,null,0,0,null,true,true,true,true,true,true,false,6]
[null,null,null,null,null,0,null,null,0,0,null,true,true,true,true,true,true,false,6]
[null,null,null,null,null,0,null,null,0,0,null,true,true,true,true,true,true,false,6]
[null,null,null,null,null,0,null,null,0,0,null,true,true,true,true,true,true,false,6]
[null,null,null,null,null,0,null,null,0,0,null,true,true,true,true,true,true,false,6]
[null,null,null,null,null,0,null,null,0,0,null,true,true,true,true,true,true,false,6]
[null,null,null,null,null,0,null,null,0,0,null,true,true,true,true,true,true,false,6]
[null,null,null,null,null,0,null,null,0,0,null,true,true,true,true,true,true,true,6]
[null,"Consultancy, studies, designs, website development etc.",null,null,null,{"$f":"SUM(F141:F150)","v":0},null,null,{"$f":"SUM(I141:I150)","v":0},{"$f":"SUM(J141:J150)","v":0},null,null,null,null,null,null,null,true]
[null,null,null,null,null,{"$f":"ROUND(D141*E141,2)","v":0},null,null,{"$f":"ROUND(G141*H141,2)","v":0},{"$f":"F141+I141","v":0},null,{"$f":"ISBLANK(B141)","v":true},{"$f":"ISBLANK(C141)","v":true},{"$f":"ISBLANK(D141)","v":true},{"$f":"ISBLANK(E141)","v":true},{"$f":"ISBLANK(G141)","v":true},{"$f":"ISBLANK(H141)","v":true},{"$f":"IF(S141<4,TRUE,FALSE)","v":false},{"$f":"L141+M141+N141+O141+P141+Q141","v":6}]
[null,null,null,null,null,{"$f":"ROUND(D142*E142,2)","v":0},null,null,{"$f":"ROUND(G142*H142,2)","v":0},0,null,{"$f":"ISBLANK(B142)","v":true},true,true,true,{"$f":"ISBLANK(G142)","v":true},true,{"$f":"IF(S142<4,TRUE,FALSE)","v":false},{"$f":"L142+M142+N142+O142+P142+Q142","v":6}]
[null,null,null,null,null,0,null,null,0,0,null,true,true,true,true,true,true,false,6]
[null,null,null,null,null,0,null,null,0,0,null,true,true,true,true,true,true,false,6]
[null,null,null,null,null,0,null,null,0,0,null,true,true,true,true,true,true,false,6]
[null,null,null,null,null,0,null,null,0,0,null,true,true,true,true,true,true,false,6]
[null,null,null,null,null,0,null,null,0,0,null,true,true,true,true,true,true,false,6]
[null,null,null,null,null,0,null,null,0,0,null,true,true,true,true,true,true,false,6]
[null,null,null,null,null,0,null,null,0,0,null,true,true,true,true,true,true,false,6]
[null,null,null,null,null,0,null,null,0,0,null,true,true,true,true,true,true,true,6]
[null,"Interpreters, lecturers, trainers, experts, moderators etc.",null,null,null,{"$f":"SUM(F152:F161)","v":0},null,null,{"$f":"SUM(I152:I161)","v":0},{"$f":"SUM(J152:J161)","v":0},null,null,null,null,null,null,null,true]
[null,null,null,null,null,{"$f":"ROUND(D152*E152,2)","v":0},null,null,{"$f":"ROUND(G152*H152,2)","v":0},{"$f":"F152+I152","v":0},null,{"$f":"ISBLANK(B152)","v":true},{"$f":"ISBLANK(C152)","v":true},{"$f":"ISBLANK(D152)","v":true},{"$f":"ISBLANK(E152)","v":true},{"$f":"ISBLANK(G152)","v":true},{"$f":"ISBLANK(H152)","v":true},{"$f":"IF(S152<4,TRUE,FALSE)","v":false},{"$f":"L152+M152+N152+O152+P152+Q152","v":6}]
[null,null,null,null,null,{"$f":"ROUND(D153*E153,2)","v":0},null,null,{"$f":"ROUND(G153*H153,2)","v":0},0,null,{"$f":"ISBLANK(B153)","v":true},true,true,true,{"$f":"ISBLANK(G153)","v":true},true,{"$f":"IF(S153<4,TRUE,FALSE)","v":false},{"$f":"L153+M153+N153+O153+P153+Q153","v":6}]
[null,null,null,null,null,0,null,null,0,0,null,true,true,true,true,true,true,false,6]
[null,null,null,null,null,0,null,null,0,0,null,true,true,true,true,true,true,false,6]
[null,null,null,null,null,0,null,null,0,0,null,true,true,true,true,true,true,false,6]
[null,null,null,null,null,0,null,null,0,0,null,true,true,true,true,true,true,false,6]
[null,null,null,null,null,0,null,null,0,0,null,true,true,true,true,true,true,false,6]
[null,null,null,null,null,0,null,null,0,0,null,true,true,true,true,true,true,false,6]
[null,null,null,null,null,0,null,null,0,0,null,true,true,true,true,true,true,false,6]
[null,null,null,null,null,0,null,null,0,0,null,true,true,true,true,true,true,true,6]
[null,"Other",null,null,null,{"$f":"SUM(F163:F172)","v":0},null,null,{"$f":"SUM(I163:I172)","v":0},{"$f":"SUM(J163:J172)","v":0},null,null,null,null,null,null,null,true]
[null,null,null,null,null,{"$f":"ROUND(D163*E163,2)","v":0},null,null,{"$f":"ROUND(G163*H163,2)","v":0},{"$f":"F163+I163","v":0},null,{"$f":"ISBLANK(B163)","v":true},{"$f":"ISBLANK(C163)","v":true},{"$f":"ISBLANK(D163)","v":true},{"$f":"ISBLANK(E163)","v":true},{"$f":"ISBLANK(G163)","v":true},{"$f":"ISBLANK(H163)","v":true},{"$f":"IF(S163<4,TRUE,FALSE)","v":false},{"$f":"L163+M163+N163+O163+P163+Q163","v":6}]
[null,null,null,null,null,{"$f":"ROUND(D164*E164,2)","v":0},null,null,{"$f":"ROUND(G164*H164,2)","v":0},0,null,{"$f":"ISBLANK(B164)","v":true},true,true,true,{"$f":"ISBLANK(G164)","v":true},true,{"$f":"IF(S164<4,TRUE,FALSE)","v":false},{"$f":"L164+M164+N164+O164+P164+Q164","v":6}]
[null,null,null,null,null,0,null,null,0,0,null,true,true,true,true,true,true,false,6]
[null,null,null,null,null,0,null,null,0,0,null,true,true,true,true,true,true,false,6]
[null,null,null,null,null,0,null,null,0,0,null,true,true,true,true,true,true,false,6]
[null,null,null,null,null,0,null,null,0,0,null,true,true,true,true,true,true,false,6]
[null,null,null,null,null,0,null,null,0,0,null,true,true,true,true,true,true,false,6]
[null,null,null,null,null,0,null,null,0,0,null,true,true,true,true,true,true,false,6]
[null,null,null,null,null,0,null,null,0,0,null,true,true,true,true,true,true,false,6]
[null,null,null,null,null,0,null,null,0,0,null,true,true,true,true,true,true,true,6]
[null,"TOTAL",null,null,null,{"$f":"F162+F151+F140+F129+F118+F107+F96+F85+F74+F63+F52","v":0},null,null,{"$f":"I162+I151+I140+I129+I118+I107+I96+I85+I74+I63+I52","v":0},{"$f":"J162+J151+J140+J129+J118+J107+J96+J85+J74+J63+J52","v":0},null,null,null,null,null,null,null,true]
[null,null,null,null,null,null,null,null,null,null,null,null,null,null,null,null,null,true]
[null,"BL5 - EQUIPMENT AND WORKS","Unit","Expenditures in the eligible area",null,null,"Expenditures outside the eligible area",null,null,"TOTAL",null,null,null,null,null,null,null,true]
[null,null,null,"Units","Unit rate","Total","Units","Unit rate","Total",null,null,null,null,null,null,null,null,true]
[null,"Small scale construction",null,null,null,{"$f":"SUM(F178:F187)","v":0},null,null,{"$f":"SUM(I178:I187)","v":0},{"$f":"SUM(J178:J187)","v":0},null,null,null,null,null,null,null,true]
[null,null,null,null,null,{"$f":"ROUND(D178*E178,2)","v":0},null,null,{"$f":"ROUND(G178*H178,2)","v":0},{"$f":"F178+I178","v":0},null,{"$f":"ISBLANK(B178)","v":true},{"$f":"ISBLANK(C178)","v":true},{"$f":"ISBLANK(D178)","v":true},{"$f":"ISBLANK(E178)","v":true},{"$f":"ISBLANK(G178)","v":true},{"$f":"ISBLANK(H178)","v":true},{"$f":"IF(S178<4,TRUE,FALSE)","v":false},{"$f":"L178+M178+N178+O178+P178+Q178","v":6}]
[null,null,null,null,null,{"$f":"ROUND(D179*E179,2)","v":0},null,null,{"$f":"ROUND(G179*H179,2)","v":0},0,null,{"$f":"ISBLANK(B179)","v":true},true,true,true,{"$f":"ISBLANK(G179)","v":true},true,{"$f":"IF(S179<4,TRUE,FALSE)","v":false},{"$f":"L179+M179+N179+O179+P179+Q179","v":6}]
[null,null,null,null,null,0,null,null,0,0,null,true,true,true,true,true,true,false,6]
[null,null,null,null,null,0,null,null,0,0,null,true,true,true,true,true,true,false,6]
[null,null,null,null,null,0,null,null,0,0,null,true,true,true,true,true,true,false,6]
[null,null,null,null,null,0,null,null,0,0,null,true,true,true,true,true,true,false,6]
[null,null,null,null,null,0,null,null,0,0,null,true,true,true,true,true,true,false,6]
[null,null,null,null,null,0,null,null,0,0,null,true,true,true,true,true,true,false,6]
[null,null,null,null,null,0,null,null,0,0,null,true,true,true,true,true,true,false,6]
[null,null,null,null,null,0,null,null,0,0,null,true,true,true,true,true,true,true,6]
[null,"Supply",null,null,null,{"$f":"SUM(F189:F198)","v":0},null,null,{"$f":"SUM(I189:I198)","v":0},{"$f":"SUM(J189:J198)","v":0},null,null,null,null,null,null,null,true]
[null,null,null,null,null,{"$f":"ROUND(D189*E189,2)","v":0},null,null,{"$f":"ROUND(G189*H189,2)","v":0},{"$f":"F189+I189","v":0},null,{"$f":"ISBLANK(B189)","v":true},{"$f":"ISBLANK(C189)","v":true},{"$f":"ISBLANK(D189)","v":true},{"$f":"ISBLANK(E189)","v":true},{"$f":"ISBLANK(G189)","v":true},{"$f":"ISBLANK(H189)","v":true},{"$f":"IF(S189<4,TRUE,FALSE)","v":false},{"$f":"L189+M189+N189+O189+P189+Q189","v":6}]
[null,null,null,null,null,{"$f":"ROUND(D190*E190,2)","v":0},null,null,{"$f":"ROUND(G190*H190,2)","v":0},0,null,{"$f":"ISBLANK(B190)","v":true},true,true,true,{"$f":"ISBLANK(G190)","v":true},true,{"$f":"IF(S190<4,TRUE,FALSE)","v":false},{"$f":"L190+M190+N190+O190+P190+Q190","v":6}]
[null,null,null,null,null,0,null,null,0,0,null,true,true,true,true,true,true,false,6]
[null,null,null,null,null,0,null,null,0,0,null,true,true,true,true,true,true,false,6]
[null,null,null,null,null,0,null,null,0,0,null,true,true,true,true,true,true,false,6]
[null,null,null,null,null,0,null,null,0,0,null,true,true,true,true,true,true,false,6]
[null,null,null,null,null,0,null,null,0,0,null,true,true,true,true,true,true,false,6]
[null,null,null,null,null,0,null,null,0,0,null,true,true,true,true,true,true,false,6]
[null,null,null,null,null,0,null,null,0,0,null,true,true,true,true,true,true,false,6]
[null,null,null,null,null,0,null,null,0,0,null,true,true,true,true,true,true,true,6]
[null,"TOTAL",null,null,null,{"$f":"F188+F177","v":0},null,null,{"$f":"I188+I177","v":0},{"$f":"J188+J177","v":0},null,null,null,null,null,null,null,true]
[null,null,null,null,null,null,null,null,null,null,null,null,null,null,null,null,null,true]
[null,"BL6 - PROJECT PREPARATION","Unit","Expenditures in the eligible area",null,null,"Expenditures outside the eligible area",null,null,"TOTAL",null,null,null,null,null,null,null,true]
[null,null,null,"Units","Unit rate","Total","Units","Unit rate","Total",null,null,null,null,null,null,null,null,true]
[null,"6.1. Preparation of Application package ",null,null,null,{"$f":"SUM(F204:F213)","v":0},null,null,{"$f":"SUM(I204:I213)","v":0},{"$f":"SUM(J204:J213)","v":0},null,{"$f":"ISBLANK(B203)","v":false},{"$f":"ISBLANK(C203)","v":true},{"$f":"ISBLANK(D203)","v":true},{"$f":"ISBLANK(E203)","v":true},{"$f":"ISBLANK(G203)","v":true},{"$f":"ISBLANK(H203)","v":true},{"$f":"IF(S203<4,TRUE,FALSE)","v":false},{"$f":"L203+M203+N203+O203+P203+Q203","v":5}]
[null,null,null,null,null,{"$f":"ROUND(D204*E204,2)","v":0},null,null,{"$f":"ROUND(G204*H204,2)","v":0},{"$f":"F204+I204","v":0},null,{"$f":"ISBLANK(B204)","v":true},true,true,true,{"$f":"ISBLANK(G204)","v":true},true,{"$f":"IF(S204<4,TRUE,FALSE)","v":false},{"$f":"L204+M204+N204+O204+P204+Q204","v":6}]
[null,null,null,null,null,{"$f":"ROUND(D205*E205,2)","v":0},null,null,{"$f":"ROUND(G205*H205,2)","v":0},0,null,true,true,true,true,true,true,false,6]
[null,null,null,null,null,0,null,null,0,0,null,true,true,true,true,true,true,false,6]
[null,null,null,null,null,0,null,null,0,0,null,true,true,true,true,true,true,false,6]
[null,null,null,null,null,0,null,null,0,0,null,true,true,true,true,true,true,false,6]
[null,null,null,null,null,0,null,null,0,0,null,true,true,true,true,true,true,false,6]
[null,null,null,null,null,0,null,null,0,0,null,true,true,true,true,true,true,false,6]
[null,null,null,null,null,0,null,null,0,0,null,true,true,true,true,true,true,false,6]
[null,null,null,null,null,0,null,null,0,0,null,true,true,true,true,true,true,true,6]
[null,null,null,null,null,0,null,null,0,0,null,null,null,null,null,null,null,true]
[null,"6.2. Preparation of technical documentation",null,null,null,{"$f":"SUM(F215:F224)","v":0},null,null,{"$f":"SUM(I215:I224)","v":0},{"$f":"SUM(J215:J224)","v":0},null,{"$f":"ISBLANK(B214)","v":false},{"$f":"ISBLANK(C214)","v":true},{"$f":"ISBLANK(D214)","v":true},{"$f":"ISBLANK(E214)","v":true},{"$f":"ISBLANK(G214)","v":true},{"$f":"ISBLANK(H214)","v":true},{"$f":"IF(S214<4,TRUE,FALSE)","v":false},{"$f":"L214+M214+N214+O214+P214+Q214","v":5}]
[null,null,null,null,null,{"$f":"ROUND(D215*E215,2)","v":0},null,null,{"$f":"ROUND(G215*H215,2)","v":0},{"$f":"F215+I215","v":0},null,{"$f":"ISBLANK(B215)","v":true},true,true,true,{"$f":"ISBLANK(G215)","v":true},true,{"$f":"IF(S215<4,TRUE,FALSE)","v":false},{"$f":"L215+M215+N215+O215+P215+Q215","v":6}]
[null,null,null,null,null,{"$f":"ROUND(D216*E216,2)","v":0},null,null,{"$f":"ROUND(G216*H216,2)","v":0},0,null,true,true,true,true,true,true,false,6]
[null,null,null,null,null,0,null,null,0,0,null,true,true,true,true,true,true,false,6]
[null,null,null,null,null,0,null,null,0,0,null,true,true,true,true,true,true,false,6]
[null,null,null,null,null,0,null,null,0,0,null,true,true,true,true,true,true,false,6]
[null,null,null,null,null,0,null,null,0,0,null,true,true,true,true,true,true,false,6]
[null,null,null,null,null,0,null,null,0,0,null,true,true,true,true,true,true,false,6]
[null,null,null,null,null,0,null,null,0,0,null,true,true,true,true,true,true,false,6]
[null,null,null,null,null,0,null,null,0,0,null,true,true,true,true,true,true,true,6]
[null,null,null,null,null,0,null,null,0,0,null,null,null,null,null,null,null,true]
[null,"TOTAL",null,null,null,{"$f":"F214+F203","v":0},null,null,{"$f":"I214+I203","v":0},{"$f":"J214+J203","v":0},null,null,null,null,null,null,null,true]
[null,null,null,null,null,null,null,null,null,null,null,null,null,null,null,null,null,true]
[null,"Own Contribution","Unit","Expenditures in the eligible area",null,null,"Expenditures outside the eligible area",null,null,"TOTAL",null,null,null,null,null,null,null,true]
[null,null,null,"Units","Unit rate","Total","Units","Unit rate","Total",null,null,null,null,null,null,null,null,true]
[null,null,null,null,null,{"$f":"D229*E229","v":0},null,null,{"$f":"G229*H229","v":0},{"$f":"ROUND(G229*I229,2)","v":0},null,null,null,null,null,null,null,true]
[null,null,null,null,null,null,null,null,null,null,null,null,null,null,null,null,null,true]
[null,"Total direct project costs (BL3+BL4+BL5)",null,{"$f":"F199+F173+F48","v":0},null,null,{"$f":"I199+I173+I48","v":0},null,null,{"$f":"D231+G231","v":0},null,null,null,null,null,null,null,true]
[null,"TOTAL PROJECT COSTS",null,{"$f":"IF(L9,D231,D231+F229+F213+J6+J11)","v":0},null,null,{"$f":"IF(L9,G231+I229+I213+J6+J11,G231+I229)","v":0},null,null,{"$f":"D232+G232","v":0},null,null,null,null,null,null,null,true]
[null,null,null,null,null,null,null,null,null,null,null,null,null,null,null,null,null,true]
[null,null,null,null,null,{"$f":"ROUND(D234*E234,2)","v":0},null,null,{"$f":"ROUND(G234*H234,2)","v":0},{"$f":"F234+I234","v":0},null,{"$f":"ISBLANK(B234)","v":true},true,true,true,{"$f":"ISBLANK(G234)","v":true},true,true,{"$f":"L234+M234+N234+O234+P234+Q234","v":6}]
[null,"TOTAL",null,null,null,{"$f":"SUM(F225:F234)","v":0},null,null,{"$f":"SUM(I225:I234)","v":0},{"$f":"SUM(J225:J234)","v":0},null,null,null,null,null,null,null,true]
[null,null,null,null,null,null,null,null,null,null,null,null,null,null,null,null,null,true]
[null,"Own Contribution","Unit","Expenditures in the eligible area",null,null,"Expenditures outside the eligible area",null,null,"TOTAL",null,null,null,null,null,null,null,true]
[null,null,null,"Units","Unit rate","Total","Units","Unit rate","Total",null,null,null,null,null,null,null,null,true]
[null,null,null,null,null,{"$f":"D239*E239","v":0},null,null,{"$f":"G239*H239","v":0},{"$f":"ROUND(G239*I239,2)","v":0},null,null,null,null,null,null,null,true]
[null,null,null,null,null,null,null,null,null,null,null,null,null,null,null,null,null,true]
[null,"Total direct project costs (BL3+BL4+BL5)",null,{"$f":"F221+F195+F48","v":0},null,null,{"$f":"I221+I195+I48","v":0},null,null,{"$f":"D241+G241","v":0},null,null,null,null,null,null,null,true]
[null,"TOTAL PROJECT COSTS",null,{"$f":"IF(L9,D241,D241+F239+F235+J6+J11)","v":0},null,null,{"$f":"IF(L9,G241+I239+I235+J6+J11,G241+I239)","v":0},null,null,{"$f":"D242+G242","v":0},null,null,null,null,null,null,null,true]
[null,null,null,null,null,null,null,null,null,null,null,null,null,null,null,null,null,true]
[null,null,null,null,null,null,null,null,null,null,null,null,null,null,null,null,null,true]

{"sheet":"T2-B(PP3)","index":12,"n_rows":244,"n_cols":19,"rows_kept":244,"cut":false,"hidden":false,"merged":[[231,6,231,8],[200,9,201,9],[226,1,227,1],[226,2,227,2],[226,3,226,5],[226,6,226,8],[226,9,227,9],[174,1,175,1],[174,2,175,2],[174,3,174,5],[174,6,174,8],[174,9,175,9],[49,9,50,9],[2,1,3,5],[2,6,2,8],[236,9,237,9],[240,3,240,5],[240,6,240,8],[5,1,5,8],[7,1,8,5],[7,6,7,8],[8,6,8,8],[12,1,13,1],[12,2,13,2],[49,1,50,1],[49,2,50,2],[12,9,13,9],[49,3,49,5],[0,1,0,5],[9,1,9,5],[9,6,9,8],[10,1,10,8],[12,3,12,5],[12,6,12,8],[49,6,49,8],[3,6,3,8],[4,1,4,5],[4,6,4,8],[240,1,240,2],[236,3,236,5],[236,6,236,8],[200,1,201,1],[200,2,201,2],[200,3,200,5],[200,6,200,8],[230,1,230,2],[230,3,230,5],[230,6,230,8],[231,1,231,2],[231,3,231,5],[241,1,241,2],[236,1,237,1],[236,2,237,2],[241,3,241,5],[241,6,241,8]]}
[null,"TABLE 2 - DETAILED BREAKDOWN OF BUDGET LINES  - PP3 in EUR",null,null,null,null,null,null,null,null,null,null,null,null,null,null,null,true]
[null,null,null,null,null,null,{"$f":"L3","v":"Flat rate for  projects can not exceed 10 %!"},null,null,null,null,{"$f":"G5<=L4","v":true},null,null,null,null,null,true]
[null,"BL1 - STAFF COSTS",null,null,null,null,"Flat rate",null,null,"TOTAL",null,{"$f":"CONCATENATE(\"Flat rate for \",L5,\" projects can not exceed \",L4,\" %!\")","v":"Flat rate for  projects can not exceed 10 %!"},null,null,null,null,null,true]
[null,null,null,null,null,null,"%",null,null,null,null,{"$f":"IF(L5=\"Soft\",20,10)","v":10},null,null,null,null,null,true]
[null,{"$f":"M5","v":" project"},null,null,null,null,null,null,null,{"$f":"ROUND(G5*J241/100,2)","v":0},null,{"$f":"'Project identification'!C15","v":""},{"$f":"CONCATENATE(L5,\" project\")","v":" project"},null,20,10,null,true]
[null,"TOTAL",null,null,null,null,null,null,null,{"$f":"J5","v":0},null,null,null,null,null,null,null,true]
[null,null,null,null,null,null,"Flat rate for administrative costs can not exceed 15 %",null,null,null,null,null,null,null,null,null,null,true]
[null,"BL2 - OFFICE AND ADMINISTRATIVE COSTS",null,null,null,null,"Flat rate",null,null,"TOTAL",null,null,null,null,null,null,null,true]
[null,null,null,null,null,null,"%",null,null,null,null,{"$f":"IF('PP3'!C15='PP3'!M27,TRUE,FALSE)","v":false},null,null,null,null,null,true]
[null,{"$f":"M5","v":" project"},null,null,null,null,null,null,null,{"$f":"ROUNDDOWN(G10*J5/100,2)","v":0},null,null,null,null,null,null,null,true]
[null,"TOTAL",null,null,null,null,null,null,null,{"$f":"J10","v":0},null,null,"sad",null,null,null,null,true]
[null,null,null,null,null,null,null,null,null,null,null,null,null,null,null,null,null,true]
[null,"BL3 - TRAVEL AND ACCOMMODATION","Unit","Expenditures in the eligible area",null,null,"Expenditures outside the eligible area",null,null,"TOTAL",null,null,null,null,null,null,null,true]
[null,null,null,"Units","Unit rate","Total","Units","Unit rate","Total",null,null,null,null,null,null,null,null,true]
[null,"3.1 Travel costs",null,null,null,{"$f":"SUM(F16:F25)","v":0},null,null,{"$f":"SUM(I16:I25)","v":0},{"$f":"SUM(J16:J25)","v":0},null,null,null,null,null,null,null,true]
[null,null,null,null,null,{"$f":"ROUND(D16*E16,2)","v":0},null,null,{"$f":"ROUND(G16*H16,2)","v":0},{"$f":"F16+I16","v":0},null,{"$f":"ISBLANK(B16)","v":true},{"$f":"ISBLANK(C16)","v":true},{"$f":"ISBLANK(D16)","v":true},{"$f":"ISBLANK(E16)","v":true},{"$f":"ISBLANK(G16)","v":true},{"$f":"ISBLANK(H16)","v":true},{"$f":"IF(S16<4,TRUE,FALSE)","v":false},{"$f":"L16+M16+N16+O16+P16+Q16","v":6}]
[null,null,null,null,null,{"$f":"ROUND(D17*E17,2)","v":0},null,null,{"$f":"ROUND(G17*H17,2)","v":0},0,null,{"$f":"ISBLANK(B17)","v":true},true,true,true,{"$f":"ISBLANK(G17)","v":true},true,{"$f":"IF(S17<4,TRUE,FALSE)","v":false},{"$f":"L17+M17+N17+O17+P17+Q17","v":6}]
[null,null,null,null,null,0,null,null,0,0,null,true,true,true,true,true,true,false,6]
[null,null,null,null,null,0,null,null,0,0,null,true,true,true,true,true,true,false,6]
[null,null,null,null,null,0,null,null,0,0,null,true,true,true,true,true,true,false,6]
[null,null,null,null,null,0,null,null,0,0,null,true,true,true,true,true,true,false,6]
[null,null,null,null,null,0,null,null,0,0,null,true,true,true,true,true,true,false,6]
[null,null,null,null,null,0,null,null,0,0,null,true,true,true,true,true,true,false,6]
[null,null,null,null,null,0,null,null,0,0,null,true,true,true,true,true,true,false,6]
[null,null,null,null,null,0,null,null,0,0,null,true,true,true,true,true,true,true,6]
[null,"3.2 Daily allowances",null,null,null,{"$f":"SUM(F27:F36)","v":0},null,null,{"$f":"SUM(I27:I36)","v":0},{"$f":"SUM(J27:J36)","v":0},null,null,null,null,null,null,null,true]
[null,null,null,null,null,{"$f":"ROUND(D27*E27,2)","v":0},null,null,{"$f":"ROUND(G27*H27,2)","v":0},{"$f":"F27+I27","v":0},null,{"$f":"ISBLANK(B27)","v":true},{"$f":"ISBLANK(C27)","v":true},{"$f":"ISBLANK(D27)","v":true},{"$f":"ISBLANK(E27)","v":true},{"$f":"ISBLANK(G27)","v":true},{"$f":"ISBLANK(H27)","v":true},{"$f":"IF(S27<4,TRUE,FALSE)","v":false},{"$f":"L27+M27+N27+O27+P27+Q27","v":6}]
[null,null,null,null,null,{"$f":"ROUND(D28*E28,2)","v":0},null,null,{"$f":"ROUND(G28*H28,2)","v":0},0,null,{"$f":"ISBLANK(B28)","v":true},true,true,true,{"$f":"ISBLANK(G28)","v":true},true,{"$f":"IF(S28<4,TRUE,FALSE)","v":false},{"$f":"L28+M28+N28+O28+P28+Q28","v":6}]
[null,null,null,null,null,0,null,null,0,0,null,true,true,true,true,true,true,false,6]
[null,null,null,null,null,0,null,null,0,0,null,true,true,true,true,true,true,false,6]
[null,null,null,null,null,0,null,null,0,0,null,true,true,true,true,true,true,false,6]
[null,null,null,null,null,0,null,null,0,0,null,true,true,true,true,true,true,false,6]
[null,null,null,null,null,0,null,null,0,0,null,true,true,true,true,true,true,false,6]
[null,null,null,null,null,0,null,null,0,0,null,true,true,true,true,true,true,false,6]
[null,null,null,null,null,0,null,null,0,0,null,true,true,true,true,true,true,false,6]
[null,null,null,null,null,0,null,null,0,0,null,true,true,true,true,true,true,true,6]
[null,"3.3 Accommodation costs",null,null,null,{"$f":"SUM(F38:F47)","v":0},null,null,{"$f":"SUM(I38:I47)","v":0},{"$f":"SUM(J38:J47)","v":0},null,null,null,null,null,null,null,true]
[null,null,null,null,null,{"$f":"ROUND(D38*E38,2)","v":0},null,null,{"$f":"ROUND(G38*H38,2)","v":0},{"$f":"F38+I38","v":0},null,{"$f":"ISBLANK(B38)","v":true},{"$f":"ISBLANK(C38)","v":true},{"$f":"ISBLANK(D38)","v":true},{"$f":"ISBLANK(E38)","v":true},{"$f":"ISBLANK(G38)","v":true},{"$f":"ISBLANK(H38)","v":true},{"$f":"IF(S38<4,TRUE,FALSE)","v":false},{"$f":"L38+M38+N38+O38+P38+Q38","v":6}]
[null,null,null,null,null,{"$f":"ROUND(D39*E39,2)","v":0},null,null,{"$f":"ROUND(G39*H39,2)","v":0},0,null,{"$f":"ISBLANK(B39)","v":true},true,true,true,{"$f":"ISBLANK(G39)","v":true},true,{"$f":"IF(S39<4,TRUE,FALSE)","v":false},{"$f":"L39+M39+N39+O39+P39+Q39","v":6}]
[null,null,null,null,null,0,null,null,0,0,null,true,true,true,true,true,true,false,6]
[null,null,null,null,null,0,null,null,0,0,null,true,true,true,true,true,true,false,6]
[null,null,null,null,null,0,null,null,0,0,null,true,true,true,true,true,true,false,6]
[null,null,null,null,null,0,null,null,0,0,null,true,true,true,true,true,true,false,6]
[null,null,null,null,null,0,null,null,0,0,null,true,true,true,true,true,true,false,6]
[null,null,null,null,null,0,null,null,0,0,null,true,true,true,true,true,true,false,6]
[null,null,null,null,null,0,null,null,0,0,null,true,true,true,true,true,true,false,6]
[null,null,null,null,null,0,null,null,0,0,null,true,true,true,true,true,true,true,6]
[null,"TOTAL",null,null,null,{"$f":"F37+F26+F15","v":0},null,null,{"$f":"I37+I26+I15","v":0},{"$f":"J37+J26+J15","v":0},null,null,null,null,null,null,null,true]
[null,null,null,null,null,null,null,null,null,null,null,null,null,null,null,null,null,true]
[null,"BL4 - EXTERNAL EXPERTISE AND SERVICES COSTS","Unit","Expenditures in the eligible area",null,null,"Expenditures outside the eligible area",null,null,"TOTAL",null,null,null,null,null,null,null,true]
[null,null,null,"Units","Unit rate","Total","Units","Unit rate","Total",null,null,null,null,null,null,null,null,true]
[null,"Rent of hall for events",null,null,null,{"$f":"SUM(F53:F62)","v":0},null,null,{"$f":"SUM(I53:I62)","v":0},{"$f":"SUM(J53:J62)","v":0},null,null,null,null,null,null,null,true]
[null,null,null,null,null,{"$f":"ROUND(D53*E53,2)","v":0},null,null,{"$f":"ROUND(G53*H53,2)","v":0},{"$f":"F53+I53","v":0},null,{"$f":"ISBLANK(B53)","v":true},{"$f":"ISBLANK(C53)","v":true},{"$f":"ISBLANK(D53)","v":true},{"$f":"ISBLANK(E53)","v":true},{"$f":"ISBLANK(G53)","v":true},{"$f":"ISBLANK(H53)","v":true},{"$f":"IF(S53<4,TRUE,FALSE)","v":false},{"$f":"L53+M53+N53+O53+P53+Q53","v":6}]
[null,null,null,null,null,{"$f":"ROUND(D54*E54,2)","v":0},null,null,{"$f":"ROUND(G54*H54,2)","v":0},0,null,{"$f":"ISBLANK(B54)","v":true},true,true,true,{"$f":"ISBLANK(G54)","v":true},true,{"$f":"IF(S54<4,TRUE,FALSE)","v":false},{"$f":"L54+M54+N54+O54+P54+Q54","v":6}]
[null,null,null,null,null,0,null,null,0,0,null,true,true,true,true,true,true,false,6]
[null,null,null,null,null,0,null,null,0,0,null,true,true,true,true,true,true,false,6]
[null,null,null,null,null,0,null,null,0,0,null,true,true,true,true,true,true,false,6]
[null,null,null,null,null,0,null,null,0,0,null,true,true,true,true,true,true,false,6]
[null,null,null,null,null,0,null,null,0,0,null,true,true,true,true,true,true,false,6]
[null,null,null,null,null,0,null,null,0,0,null,true,true,true,true,true,true,false,6]
[null,null,null,null,null,0,null,null,0,0,null,true,true,true,true,true,true,false,6]
[null,null,null,null,null,0,null,null,0,0,null,true,true,true,true,true,true,true,6]
[null,"Rent of audio/video equipment for events",null,null,null,{"$f":"SUM(F64:F73)","v":0},null,null,{"$f":"SUM(I64:I73)","v":0},{"$f":"SUM(J64:J73)","v":0},null,null,null,null,null,null,null,true]
[null,null,null,null,null,{"$f":"ROUND(D64*E64,2)","v":0},null,null,{"$f":"ROUND(G64*H64,2)","v":0},{"$f":"F64+I64","v":0},null,{"$f":"ISBLANK(B64)","v":true},{"$f":"ISBLANK(C64)","v":true},{"$f":"ISBLANK(D64)","v":true},{"$f":"ISBLANK(E64)","v":true},{"$f":"ISBLANK(G64)","v":true},{"$f":"ISBLANK(H64)","v":true},{"$f":"IF(S64<4,TRUE,FALSE)","v":false},{"$f":"L64+M64+N64+O64+P64+Q64","v":6}]
[null,null,null,null,null,{"$f":"ROUND(D65*E65,2)","v":0},null,null,{"$f":"ROUND(G65*H65,2)","v":0},0,null,{"$f":"ISBLANK(B65)","v":true},true,true,true,{"$f":"ISBLANK(G65)","v":true},true,{"$f":"IF(S65<4,TRUE,FALSE)","v":false},{"$f":"L65+M65+N65+O65+P65+Q65","v":6}]
[null,null,null,null,null,0,null,null,0,0,null,true,true,true,true,true,true,false,6]
[null,null,null,null,null,0,null,null,0,0,null,true,true,true,true,true,true,false,6]
[null,null,null,null,null,0,null,null,0,0,null,true,true,true,true,true,true,false,6]
[null,null,null,null,null,0,null,null,0,0,null,true,true,true,true,true,true,false,6]
[null,null,null,null,null,0,null,null,0,0,null,true,true,true,true,true,true,false,6]
[null,null,null,null,null,0,null,null,0,0,null,true,true,true,true,true,true,false,6]
[null,null,null,null,null,0,null,null,0,0,null,true,true,true,true,true,true,false,6]
[null,null,null,null,null,0,null,null,0,0,null,true,true,true,true,true,true,true,6]
[null,"Travel for events",null,null,null,{"$f":"SUM(F75:F84)","v":0},null,null,{"$f":"SUM(I75:I84)","v":0},{"$f":"SUM(J75:J84)","v":0},null,null,null,null,null,null,null,true]
[null,null,null,null,null,{"$f":"ROUND(D75*E75,2)","v":0},null,null,{"$f":"ROUND(G75*H75,2)","v":0},{"$f":"F75+I75","v":0},null,{"$f":"ISBLANK(B75)","v":true},{"$f":"ISBLANK(C75)","v":true},{"$f":"ISBLANK(D75)","v":true},{"$f":"ISBLANK(E75)","v":true},{"$f":"ISBLANK(G75)","v":true},{"$f":"ISBLANK(H75)","v":true},{"$f":"IF(S75<4,TRUE,FALSE)","v":false},{"$f":"L75+M75+N75+O75+P75+Q75","v":6}]
[null,null,null,null,null,{"$f":"ROUND(D76*E76,2)","v":0},null,null,{"$f":"ROUND(G76*H76,2)","v":0},0,null,{"$f":"ISBLANK(B76)","v":true},true,true,true,{"$f":"ISBLANK(G76)","v":true},true,{"$f":"IF(S76<4,TRUE,FALSE)","v":false},{"$f":"L76+M76+N76+O76+P76+Q76","v":6}]
[null,null,null,null,null,0,null,null,0,0,null,true,true,true,true,true,true,false,6]
[null,null,null,null,null,0,null,null,0,0,null,true,true,true,true,true,true,false,6]
[null,null,null,null,null,0,null,null,0,0,null,true,true,true,true,true,true,false,6]
[null,null,null,null,null,0,null,null,0,0,null,true,true,true,true,true,true,false,6]
[null,null,null,null,null,0,null,null,0,0,null,true,true,true,true,true,true,false,6]
[null,null,null,null,null,0,null,null,0,0,null,true,true,true,true,true,true,false,6]
[null,null,null,null,null,0,null,null,0,0,null,true,true,true,true,true,true,false,6]
[null,null,null,null,null,0,null,null,0,0,null,true,true,true,true,true,true,true,6]
[null,"Catering for events",null,null,null,{"$f":"SUM(F86:F95)","v":0},null,null,{"$f":"SUM(I86:I95)","v":0},{"$f":"SUM(J86:J95)","v":0},null,null,null,null,null,null,null,true]
[null,null,null,null,null,{"$f":"ROUND(D86*E86,2)","v":0},null,null,{"$f":"ROUND(G86*H86,2)","v":0},{"$f":"F86+I86","v":0},null,{"$f":"ISBLANK(B86)","v":true},{"$f":"ISBLANK(C86)","v":true},{"$f":"ISBLANK(D86)","v":true},{"$f":"ISBLANK(E86)","v":true},{"$f":"ISBLANK(G86)","v":true},{"$f":"ISBLANK(H86)","v":true},{"$f":"IF(S86<4,TRUE,FALSE)","v":false},{"$f":"L86+M86+N86+O86+P86+Q86","v":6}]
[null,null,null,null,null,{"$f":"ROUND(D87*E87,2)","v":0},null,null,{"$f":"ROUND(G87*H87,2)","v":0},0,null,{"$f":"ISBLANK(B87)","v":true},true,true,true,{"$f":"ISBLANK(G87)","v":true},true,{"$f":"IF(S87<4,TRUE,FALSE)","v":false},{"$f":"L87+M87+N87+O87+P87+Q87","v":6}]
[null,null,null,null,null,0,null,null,0,0,null,true,true,true,true,true,true,false,6]
[null,null,null,null,null,0,null,null,0,0,null,true,true,true,true,true,true,false,6]
[null,null,null,null,null,0,null,null,0,0,null,true,true,true,true,true,true,false,6]
[null,null,null,null,null,0,null,null,0,0,null,true,true,true,true,true,true,false,6]
[null,null,null,null,null,0,null,null,0,0,null,true,true,true,true,true,true,false,6]
[null,null,null,null,null,0,null,null,0,0,null,true,true,true,true,true,true,false,6]
[null,null,null,null,null,0,null,null,0,0,null,true,true,true,true,true,true,false,6]
[null,null,null,null,null,0,null,null,0,0,null,true,true,true,true,true,true,true,6]
[null,"Accommodations for participants in the events ",null,null,null,{"$f":"SUM(F97:F106)","v":0},null,null,{"$f":"SUM(I97:I106)","v":0},{"$f":"SUM(J97:J106)","v":0},null,null,null,null,null,null,null,true]
[null,null,null,null,null,{"$f":"ROUND(D97*E97,2)","v":0},null,null,{"$f":"ROUND(G97*H97,2)","v":0},{"$f":"F97+I97","v":0},null,{"$f":"ISBLANK(B97)","v":true},{"$f":"ISBLANK(C97)","v":true},{"$f":"ISBLANK(D97)","v":true},{"$f":"ISBLANK(E97)","v":true},{"$f":"ISBLANK(G97)","v":true},{"$f":"ISBLANK(H97)","v":true},{"$f":"IF(S97<4,TRUE,FALSE)","v":false},{"$f":"L97+M97+N97+O97+P97+Q97","v":6}]
[null,null,null,null,null,{"$f":"ROUND(D98*E98,2)","v":0},null,null,{"$f":"ROUND(G98*H98,2)","v":0},0,null,{"$f":"ISBLANK(B98)","v":true},true,true,true,{"$f":"ISBLANK(G98)","v":true},true,{"$f":"IF(S98<4,TRUE,FALSE)","v":false},{"$f":"L98+M98+N98+O98+P98+Q98","v":6}]
[null,null,null,null,null,0,null,null,0,0,null,true,true,true,true,true,true,false,6]
[null,null,null,null,null,0,null,null,0,0,null,true,true,true,true,true,true,false,6]
[null,null,null,null,null,0,null,null,0,0,null,true,true,true,true,true,true,false,6]
[null,null,null,null,null,0,null,null,0,0,null,true,true,true,true,true,true,false,6]
[null,null,null,null,null,0,null,null,0,0,null,true,true,true,true,true,true,false,6]
[null,null,null,null,null,0,null,null,0,0,null,true,true,true,true,true,true,false,6]
[null,null,null,null,null,0,null,null,0,0,null,true,true,true,true,true,true,false,6]
[null,null,null,null,null,0,null,null,0,0,null,true,true,true,true,true,true,true,6]
[null,"Consumables and materials for events",null,null,null,{"$f":"SUM(F108:F117)","v":0},null,null,{"$f":"SUM(I108:I117)","v":0},{"$f":"SUM(J108:J117)","v":0},null,null,null,null,null,null,null,true]
[null,null,null,null,null,{"$f":"ROUND(D108*E108,2)","v":0},null,null,{"$f":"ROUND(G108*H108,2)","v":0},{"$f":"F108+I108","v":0},null,{"$f":"ISBLANK(B108)","v":true},{"$f":"ISBLANK(C108)","v":true},{"$f":"ISBLANK(D108)","v":true},{"$f":"ISBLANK(E108)","v":true},{"$f":"ISBLANK(G108)","v":true},{"$f":"ISBLANK(H108)","v":true},{"$f":"IF(S108<4,TRUE,FALSE)","v":false},{"$f":"L108+M108+N108+O108+P108+Q108","v":6}]
[null,null,null,null,null,{"$f":"ROUND(D109*E109,2)","v":0},null,null,{"$f":"ROUND(G109*H109,2)","v":0},0,null,{"$f":"ISBLANK(B109)","v":true},true,true,true,{"$f":"ISBLANK(G109)","v":true},true,{"$f":"IF(S109<4,TRUE,FALSE)","v":false},{"$f":"L109+M109+N109+O109+P109+Q109","v":6}]
[null,null,null,null,null,0,null,null,0,0,null,true,true,true,true,true,true,false,6]
[null,null,null,null,null,0,null,null,0,0,null,true,true,true,true,true,true,false,6]
[null,null,null,null,null,0,null,null,0,0,null,true,true,true,true,true,true,false,6]
[null,null,null,null,null,0,null,null,0,0,null,true,true,true,true,true,true,false,6]
[null,null,null,null,null,0,null,null,0,0,null,true,true,true,true,true,true,false,6]
[null,null,null,null,null,0,null,null,0,0,null,true,true,true,true,true,true,false,6]
[null,null,null,null,null,0,null,null,0,0,null,true,true,true,true,true,true,false,6]
[null,null,null,null,null,0,null,null,0,0,null,true,true,true,true,true,true,true,6]
[null,"Elaboration, design, translation of promotional materials; ",null,null,null,{"$f":"SUM(F119:F128)","v":0},null,null,{"$f":"SUM(I119:I128)","v":0},{"$f":"SUM(J119:J128)","v":0},null,null,null,null,null,null,null,true]
[null,null,null,null,null,{"$f":"ROUND(D119*E119,2)","v":0},null,null,{"$f":"ROUND(G119*H119,2)","v":0},{"$f":"F119+I119","v":0},null,{"$f":"ISBLANK(B119)","v":true},{"$f":"ISBLANK(C119)","v":true},{"$f":"ISBLANK(D119)","v":true},{"$f":"ISBLANK(E119)","v":true},{"$f":"ISBLANK(G119)","v":true},{"$f":"ISBLANK(H119)","v":true},{"$f":"IF(S119<4,TRUE,FALSE)","v":false},{"$f":"L119+M119+N119+O119+P119+Q119","v":6}]
[null,null,null,null,null,{"$f":"ROUND(D120*E120,2)","v":0},null,null,{"$f":"ROUND(G120*H120,2)","v":0},0,null,{"$f":"ISBLANK(B120)","v":true},true,true,true,{"$f":"ISBLANK(G120)","v":true},true,{"$f":"IF(S120<4,TRUE,FALSE)","v":false},{"$f":"L120+M120+N120+O120+P120+Q120","v":6}]
[null,null,null,null,null,0,null,null,0,0,null,true,true,true,true,true,true,false,6]
[null,null,null,null,null,0,null,null,0,0,null,true,true,true,true,true,true,false,6]
[null,null,null,null,null,0,null,null,0,0,null,true,true,true,true,true,true,false,6]
[null,null,null,null,null,0,null,null,0,0,null,true,true,true,true,true,true,false,6]
[null,null,null,null,null,0,null,null,0,0,null,true,true,true,true,true,true,false,6]
[null,null,null,null,null,0,null,null,0,0,null,true,true,true,true,true,true,false,6]
[null,null,null,null,null,0,null,null,0,0,null,true,true,true,true,true,true,false,6]
[null,null,null,null,null,0,null,null,0,0,null,true,true,true,true,true,true,true,6]
[null,"Publications in mass-media",null,null,null,{"$f":"SUM(F130:F139)","v":0},null,null,{"$f":"SUM(I130:I139)","v":0},{"$f":"SUM(J130:J139)","v":0},null,null,null,null,null,null,null,true]
[null,null,null,null,null,{"$f":"ROUND(D130*E130,2)","v":0},null,null,{"$f":"ROUND(G130*H130,2)","v":0},{"$f":"F130+I130","v":0},null,{"$f":"ISBLANK(B130)","v":true},{"$f":"ISBLANK(C130)","v":true},{"$f":"ISBLANK(D130)","v":true},{"$f":"ISBLANK(E130)","v":true},{"$f":"ISBLANK(G130)","v":true},{"$f":"ISBLANK(H130)","v":true},{"$f":"IF(S130<4,TRUE,FALSE)","v":false},{"$f":"L130+M130+N130+O130+P130+Q130","v":6}]
[null,null,null,null,null,{"$f":"ROUND(D131*E131,2)","v":0},null,null,{"$f":"ROUND(G131*H131,2)","v":0},0,null,{"$f":"ISBLANK(B131)","v":true},true,true,true,{"$f":"ISBLANK(G131)","v":true},true,{"$f":"IF(S131<4,TRUE,FALSE)","v":false},{"$f":"L131+M131+N131+O131+P131+Q131","v":6}]
[null,null,null,null,null,0,null,null,0,0,null,true,true,true,true,true,true,false,6]
[null,null,null,null,null,0,null,null,0,0,null,true,true,true,true,true,true,false,6]
[null,null,null,null,null,0,null,null,0,0,null,true,true,true,true,true,true,false,6]
[null,null,null,null,null,0,null,null,0,0,null,true,true,true,true,true,true,false,6]
[null,null,null,null,null,0,null,null,0,0,null,true,true,true,true,true,true,false,6]
[null,null,null,null,null,0,null,null,0,0,null,true,true,true,true,true,true,false,6]
[null,null,null,null,null,0,null,null,0,0,null,true,true,true,true,true,true,false,6]
[null,null,null,null,null,0,null,null,0,0,null,true,true,true,true,true,true,true,6]
[null,"Consultancy, studies, designs, website development etc.",null,null,null,{"$f":"SUM(F141:F150)","v":0},null,null,{"$f":"SUM(I141:I150)","v":0},{"$f":"SUM(J141:J150)","v":0},null,null,null,null,null,null,null,true]
[null,null,null,null,null,{"$f":"ROUND(D141*E141,2)","v":0},null,null,{"$f":"ROUND(G141*H141,2)","v":0},{"$f":"F141+I141","v":0},null,{"$f":"ISBLANK(B141)","v":true},{"$f":"ISBLANK(C141)","v":true},{"$f":"ISBLANK(D141)","v":true},{"$f":"ISBLANK(E141)","v":true},{"$f":"ISBLANK(G141)","v":true},{"$f":"ISBLANK(H141)","v":true},{"$f":"IF(S141<4,TRUE,FALSE)","v":false},{"$f":"L141+M141+N141+O141+P141+Q141","v":6}]
[null,null,null,null,null,{"$f":"ROUND(D142*E142,2)","v":0},null,null,{"$f":"ROUND(G142*H142,2)","v":0},0,null,{"$f":"ISBLANK(B142)","v":true},true,true,true,{"$f":"ISBLANK(G142)","v":true},true,{"$f":"IF(S142<4,TRUE,FALSE)","v":false},{"$f":"L142+M142+N142+O142+P142+Q142","v":6}]
[null,null,null,null,null,0,null,null,0,0,null,true,true,true,true,true,true,false,6]
[null,null,null,null,null,0,null,null,0,0,null,true,true,true,true,true,true,false,6]
[null,null,null,null,null,0,null,null,0,0,null,true,true,true,true,true,true,false,6]
[null,null,null,null,null,0,null,null,0,0,null,true,true,true,true,true,true,false,6]
[null,null,null,null,null,0,null,null,0,0,null,true,true,true,true,true,true,false,6]
[null,null,null,null,null,0,null,null,0,0,null,true,true,true,true,true,true,false,6]
[null,null,null,null,null,0,null,null,0,0,null,true,true,true,true,true,true,false,6]
[null,null,null,null,null,0,null,null,0,0,null,true,true,true,true,true,true,true,6]
[null,"Interpreters, lecturers, trainers, experts, moderators etc.",null,null,null,{"$f":"SUM(F152:F161)","v":0},null,null,{"$f":"SUM(I152:I161)","v":0},{"$f":"SUM(J152:J161)","v":0},null,null,null,null,null,null,null,true]
[null,null,null,null,null,{"$f":"ROUND(D152*E152,2)","v":0},null,null,{"$f":"ROUND(G152*H152,2)","v":0},{"$f":"F152+I152","v":0},null,{"$f":"ISBLANK(B152)","v":true},{"$f":"ISBLANK(C152)","v":true},{"$f":"ISBLANK(D152)","v":true},{"$f":"ISBLANK(E152)","v":true},{"$f":"ISBLANK(G152)","v":true},{"$f":"ISBLANK(H152)","v":true},{"$f":"IF(S152<4,TRUE,FALSE)","v":false},{"$f":"L152+M152+N152+O152+P152+Q152","v":6}]
[null,null,null,null,null,{"$f":"ROUND(D153*E153,2)","v":0},null,null,{"$f":"ROUND(G153*H153,2)","v":0},0,null,{"$f":"ISBLANK(B153)","v":true},true,true,true,{"$f":"ISBLANK(G153)","v":true},true,{"$f":"IF(S153<4,TRUE,FALSE)","v":false},{"$f":"L153+M153+N153+O153+P153+Q153","v":6}]
[null,null,null,null,null,0,null,null,0,0,null,true,true,true,true,true,true,false,6]
[null,null,null,null,null,0,null,null,0,0,null,true,true,true,true,true,true,false,6]
[null,null,null,null,null,0,null,null,0,0,null,true,true,true,true,true,true,false,6]
[null,null,null,null,null,0,null,null,0,0,null,true,true,true,true,true,true,false,6]
[null,null,null,null,null,0,null,null,0,0,null,true,true,true,true,true,true,false,6]
[null,null,null,null,null,0,null,null,0,0,null,true,true,true,true,true,true,false,6]
[null,null,null,null,null,0,null,null,0,0,null,true,true,true,true,true,true,false,6]
[null,null,null,null,null,0,null,null,0,0,null,true,true,true,true,true,true,true,6]
[null,"Other",null,null,null,{"$f":"SUM(F163:F172)","v":0},null,null,{"$f":"SUM(I163:I172)","v":0},{"$f":"SUM(J163:J172)","v":0},null,null,null,null,null,null,null,true]
[null,null,null,null,null,{"$f":"ROUND(D163*E163,2)","v":0},null,null,{"$f":"ROUND(G163*H163,2)","v":0},{"$f":"F163+I163","v":0},null,{"$f":"ISBLANK(B163)","v":true},{"$f":"ISBLANK(C163)","v":true},{"$f":"ISBLANK(D163)","v":true},{"$f":"ISBLANK(E163)","v":true},{"$f":"ISBLANK(G163)","v":true},{"$f":"ISBLANK(H163)","v":true},{"$f":"IF(S163<4,TRUE,FALSE)","v":false},{"$f":"L163+M163+N163+O163+P163+Q163","v":6}]
[null,null,null,null,null,{"$f":"ROUND(D164*E164,2)","v":0},null,null,{"$f":"ROUND(G164*H164,2)","v":0},0,null,{"$f":"ISBLANK(B164)","v":true},true,true,true,{"$f":"ISBLANK(G164)","v":true},true,{"$f":"IF(S164<4,TRUE,FALSE)","v":false},{"$f":"L164+M164+N164+O164+P164+Q164","v":6}]
[null,null,null,null,null,0,null,null,0,0,null,true,true,true,true,true,true,false,6]
[null,null,null,null,null,0,null,null,0,0,null,true,true,true,true,true,true,false,6]
[null,null,null,null,null,0,null,null,0,0,null,true,true,true,true,true,true,false,6]
[null,null,null,null,null,0,null,null,0,0,null,true,true,true,true,true,true,false,6]
[null,null,null,null,null,0,null,null,0,0,null,true,true,true,true,true,true,false,6]
[null,null,null,null,null,0,null,null,0,0,null,true,true,true,true,true,true,false,6]
[null,null,null,null,null,0,null,null,0,0,null,true,true,true,true,true,true,false,6]
[null,null,null,null,null,0,null,null,0,0,null,true,true,true,true,true,true,true,6]
[null,"TOTAL",null,null,null,{"$f":"F162+F151+F140+F129+F118+F107+F96+F85+F74+F63+F52","v":0},null,null,{"$f":"I162+I151+I140+I129+I118+I107+I96+I85+I74+I63+I52","v":0},{"$f":"J162+J151+J140+J129+J118+J107+J96+J85+J74+J63+J52","v":0},null,null,null,null,null,null,null,true]
[null,null,null,null,null,null,null,null,null,null,null,null,null,null,null,null,null,true]
[null,"BL5 - EQUIPMENT AND WORKS","Unit","Expenditures in the eligible area",null,null,"Expenditures outside the eligible area",null,null,"TOTAL",null,null,null,null,null,null,null,true]
[null,null,null,"Units","Unit rate","Total","Units","Unit rate","Total",null,null,null,null,null,null,null,null,true]
[null,"Small scale construction",null,null,null,{"$f":"SUM(F178:F187)","v":0},null,null,{"$f":"SUM(I178:I187)","v":0},{"$f":"SUM(J178:J187)","v":0},null,null,null,null,null,null,null,true]
[null,null,null,null,null,{"$f":"ROUND(D178*E178,2)","v":0},null,null,{"$f":"ROUND(G178*H178,2)","v":0},{"$f":"F178+I178","v":0},null,{"$f":"ISBLANK(B178)","v":true},{"$f":"ISBLANK(C178)","v":true},{"$f":"ISBLANK(D178)","v":true},{"$f":"ISBLANK(E178)","v":true},{"$f":"ISBLANK(G178)","v":true},{"$f":"ISBLANK(H178)","v":true},{"$f":"IF(S178<4,TRUE,FALSE)","v":false},{"$f":"L178+M178+N178+O178+P178+Q178","v":6}]
[null,null,null,null,null,{"$f":"ROUND(D179*E179,2)","v":0},null,null,{"$f":"ROUND(G179*H179,2)","v":0},0,null,{"$f":"ISBLANK(B179)","v":true},true,true,true,{"$f":"ISBLANK(G179)","v":true},true,{"$f":"IF(S179<4,TRUE,FALSE)","v":false},{"$f":"L179+M179+N179+O179+P179+Q179","v":6}]
[null,null,null,null,null,0,null,null,0,0,null,true,true,true,true,true,true,false,6]
[null,null,null,null,null,0,null,null,0,0,null,true,true,true,true,true,true,false,6]
[null,null,null,null,null,0,null,null,0,0,null,true,true,true,true,true,true,false,6]
[null,null,null,null,null,0,null,null,0,0,null,true,true,true,true,true,true,false,6]
[null,null,null,null,null,0,null,null,0,0,null,true,true,true,true,true,true,false,6]
[null,null,null,null,null,0,null,null,0,0,null,true,true,true,true,true,true,false,6]
[null,null,null,null,null,0,null,null,0,0,null,true,true,true,true,true,true,false,6]
[null,null,null,null,null,0,null,null,0,0,null,true,true,true,true,true,true,true,6]
[null,"Supply",null,null,null,{"$f":"SUM(F189:F198)","v":0},null,null,{"$f":"SUM(I189:I198)","v":0},{"$f":"SUM(J189:J198)","v":0},null,null,null,null,null,null,null,true]
[null,null,null,null,null,{"$f":"ROUND(D189*E189,2)","v":0},null,null,{"$f":"ROUND(G189*H189,2)","v":0},{"$f":"F189+I189","v":0},null,{"$f":"ISBLANK(B189)","v":true},{"$f":"ISBLANK(C189)","v":true},{"$f":"ISBLANK(D189)","v":true},{"$f":"ISBLANK(E189)","v":true},{"$f":"ISBLANK(G189)","v":true},{"$f":"ISBLANK(H189)","v":true},{"$f":"IF(S189<4,TRUE,FALSE)","v":false},{"$f":"L189+M189+N189+O189+P189+Q189","v":6}]
[null,null,null,null,null,{"$f":"ROUND(D190*E190,2)","v":0},null,null,{"$f":"ROUND(G190*H190,2)","v":0},0,null,{"$f":"ISBLANK(B190)","v":true},true,true,true,{"$f":"ISBLANK(G190)","v":true},true,{"$f":"IF(S190<4,TRUE,FALSE)","v":false},{"$f":"L190+M190+N190+O190+P190+Q190","v":6}]
[null,null,null,null,null,0,null,null,0,0,null,true,true,true,true,true,true,false,6]
[null,null,null,null,null,0,null,null,0,0,null,true,true,true,true,true,true,false,6]
[null,null,null,null,null,0,null,null,0,0,null,true,true,true,true,true,true,false,6]
[null,null,null,null,null,0,null,null,0,0,null,true,true,true,true,true,true,false,6]
[null,null,null,null,null,0,null,null,0,0,null,true,true,true,true,true,true,false,6]
[null,null,null,null,null,0,null,null,0,0,null,true,true,true,true,true,true,false,6]
[null,null,null,null,null,0,null,null,0,0,null,true,true,true,true,true,true,false,6]
[null,null,null,null,null,0,null,null,0,0,null,true,true,true,true,true,true,true,6]
[null,"TOTAL",null,null,null,{"$f":"F188+F177","v":0},null,null,{"$f":"I188+I177","v":0},{"$f":"J188+J177","v":0},null,null,null,null,null,null,null,true]
[null,null,null,null,null,null,null,null,null,null,null,null,null,null,null,null,null,true]
[null,"BL6 - PROJECT PREPARATION","Unit","Expenditures in the eligible area",null,null,"Expenditures outside the eligible area",null,null,"TOTAL",null,null,null,null,null,null,null,true]
[null,null,null,"Units","Unit rate","Total","Units","Unit rate","Total",null,null,null,null,null,null,null,null,true]
[null,"6.1. Preparation of Application package ",null,null,null,{"$f":"SUM(F204:F213)","v":0},null,null,{"$f":"SUM(I204:I213)","v":0},{"$f":"SUM(J204:J213)","v":0},null,{"$f":"ISBLANK(B203)","v":false},{"$f":"ISBLANK(C203)","v":true},{"$f":"ISBLANK(D203)","v":true},{"$f":"ISBLANK(E203)","v":true},{"$f":"ISBLANK(G203)","v":true},{"$f":"ISBLANK(H203)","v":true},{"$f":"IF(S203<4,TRUE,FALSE)","v":false},{"$f":"L203+M203+N203+O203+P203+Q203","v":5}]
[null,null,null,null,null,{"$f":"ROUND(D204*E204,2)","v":0},null,null,{"$f":"ROUND(G204*H204,2)","v":0},{"$f":"F204+I204","v":0},null,{"$f":"ISBLANK(B204)","v":true},true,true,true,{"$f":"ISBLANK(G204)","v":true},true,{"$f":"IF(S204<4,TRUE,FALSE)","v":false},{"$f":"L204+M204+N204+O204+P204+Q204","v":6}]
[null,null,null,null,null,{"$f":"ROUND(D205*E205,2)","v":0},null,null,{"$f":"ROUND(G205*H205,2)","v":0},0,null,true,true,true,true,true,true,false,6]
[null,null,null,null,null,0,null,null,0,0,null,true,true,true,true,true,true,false,6]
[null,null,null,null,null,0,null,null,0,0,null,true,true,true,true,true,true,false,6]
[null,null,null,null,null,0,null,null,0,0,null,true,true,true,true,true,true,false,6]
[null,null,null,null,null,0,null,null,0,0,null,true,true,true,true,true,true,false,6]
[null,null,null,null,null,0,null,null,0,0,null,true,true,true,true,true,true,false,6]
[null,null,null,null,null,0,null,null,0,0,null,true,true,true,true,true,true,false,6]
[null,null,null,null,null,0,null,null,0,0,null,true,true,true,true,true,true,true,6]
[null,null,null,null,null,0,null,null,0,0,null,null,null,null,null,null,null,true]
[null,"6.2. Preparation of technical documentation",null,null,null,{"$f":"SUM(F215:F224)","v":0},null,null,{"$f":"SUM(I215:I224)","v":0},{"$f":"SUM(J215:J224)","v":0},null,{"$f":"ISBLANK(B214)","v":false},{"$f":"ISBLANK(C214)","v":true},{"$f":"ISBLANK(D214)","v":true},{"$f":"ISBLANK(E214)","v":true},{"$f":"ISBLANK(G214)","v":true},{"$f":"ISBLANK(H214)","v":true},{"$f":"IF(S214<4,TRUE,FALSE)","v":false},{"$f":"L214+M214+N214+O214+P214+Q214","v":5}]
[null,null,null,null,null,{"$f":"ROUND(D215*E215,2)","v":0},null,null,{"$f":"ROUND(G215*H215,2)","v":0},{"$f":"F215+I215","v":0},null,{"$f":"ISBLANK(B215)","v":true},true,true,true,{"$f":"ISBLANK(G215)","v":true},true,{"$f":"IF(S215<4,TRUE,FALSE)","v":false},{"$f":"L215+M215+N215+O215+P215+Q215","v":6}]
[null,null,null,null,null,{"$f":"ROUND(D216*E216,2)","v":0},null,null,{"$f":"ROUND(G216*H216,2)","v":0},0,null,true,true,true,true,true,true,false,6]
[null,null,null,null,null,0,null,null,0,0,null,true,true,true,true,true,true,false,6]
[null,null,null,null,null,0,null,null,0,0,null,true,true,true,true,true,true,false,6]
[null,null,null,null,null,0,null,null,0,0,null,true,true,true,true,true,true,false,6]
[null,null,null,null,null,0,null,null,0,0,null,true,true,true,true,true,true,false,6]
[null,null,null,null,null,0,null,null,0,0,null,true,true,true,true,true,true,false,6]
[null,null,null,null,null,0,null,null,0,0,null,true,true,true,true,true,true,false,6]
[null,null,null,null,null,0,null,null,0,0,null,true,true,true,true,true,true,true,6]
[null,null,null,null,null,0,null,null,0,0,null,null,null,null,null,null,null,true]
[null,"TOTAL",null,null,null,{"$f":"F214+F203","v":0},null,null,{"$f":"I214+I203","v":0},{"$f":"J214+J203","v":0},null,null,null,null,null,null,null,true]
[null,null,null,null,null,null,null,null,null,null,null,null,null,null,null,null,null,true]
[null,"Own Contribution","Unit","Expenditures in the eligible area",null,null,"Expenditures outside the eligible area",null,null,"TOTAL",null,null,null,null,null,null,null,true]
[null,null,null,"Units","Unit rate","Total","Units","Unit rate","Total",null,null,null,null,null,null,null,null,true]
[null,null,null,null,null,{"$f":"D229*E229","v":0},null,null,{"$f":"G229*H229","v":0},{"$f":"ROUND(G229*I229,2)","v":0},null,null,null,null,null,null,null,true]
[null,null,null,null,null,null,null,null,null,null,null,null,null,null,null,null,null,true]
[null,"Total direct project costs (BL3+BL4+BL5)",null,{"$f":"F199+F173+F48","v":0},null,null,{"$f":"I199+I173+I48","v":0},null,null,{"$f":"D231+G231","v":0},null,null,null,null,null,null,null,true]
[null,"TOTAL PROJECT COSTS",null,{"$f":"IF(L9,D231,D231+F229+F213+J6+J11)","v":0},null,null,{"$f":"IF(L9,G231+I229+I213+J6+J11,G231+I229)","v":0},null,null,{"$f":"D232+G232","v":0},null,null,null,null,null,null,null,true]
[null,null,null,null,null,null,null,null,null,null,null,null,null,null,null,null,null,true]
[null,null,null,null,null,{"$f":"ROUND(D234*E234,2)","v":0},null,null,{"$f":"ROUND(G234*H234,2)","v":0},{"$f":"F234+I234","v":0},null,{"$f":"ISBLANK(B234)","v":true},true,true,true,{"$f":"ISBLANK(G234)","v":true},true,true,{"$f":"L234+M234+N234+O234+P234+Q234","v":6}]
[null,"TOTAL",null,null,null,{"$f":"SUM(F225:F234)","v":0},null,null,{"$f":"SUM(I225:I234)","v":0},{"$f":"SUM(J225:J234)","v":0},null,null,null,null,null,null,null,true]
[null,null,null,null,null,null,null,null,null,null,null,null,null,null,null,null,null,true]
[null,"Own Contribution","Unit","Expenditures in the eligible area",null,null,"Expenditures outside the eligible area",null,null,"TOTAL",null,null,null,null,null,null,null,true]
[null,null,null,"Units","Unit rate","Total","Units","Unit rate","Total",null,null,null,null,null,null,null,null,true]
[null,null,null,null,null,{"$f":"D239*E239","v":0},null,null,{"$f":"G239*H239","v":0},{"$f":"ROUND(G239*I239,2)","v":0},null,null,null,null,null,null,null,true]
[null,null,null,null,null,null,null,null,null,null,null,null,null,null,null,null,null,true]
[null,"Total direct project costs (BL3+BL4+BL5)",null,{"$f":"F221+F195+F48","v":0},null,null,{"$f":"I221+I195+I48","v":0},null,null,{"$f":"D241+G241","v":0},null,null,null,null,null,null,null,true]
[null,"TOTAL PROJECT COSTS",null,{"$f":"IF(L9,D241,D241+F239+F235+J6+J11)","v":0},null,null,{"$f":"IF(L9,G241+I239+I235+J6+J11,G241+I239)","v":0},null,null,{"$f":"D242+G242","v":0},null,null,null,null,null,null,null,true]
[null,null,null,null,null,null,null,null,null,null,null,null,null,null,null,null,null,true]
[null,null,null,null,null,null,null,null,null,null,null,null,null,null,null,null,null,true]

{"sheet":"T2-B(PP4)","index":13,"n_rows":244,"n_cols":19,"rows_kept":244,"cut":false,"hidden":false,"merged":[[231,6,231,8],[200,9,201,9],[226,1,227,1],[226,2,227,2],[226,3,226,5],[226,6,226,8],[226,9,227,9],[174,1,175,1],[174,2,175,2],[174,3,174,5],[174,6,174,8],[174,9,175,9],[49,9,50,9],[2,1,3,5],[2,6,2,8],[236,9,237,9],[240,3,240,5],[240,6,240,8],[5,1,5,8],[7,1,8,5],[7,6,7,8],[8,6,8,8],[12,1,13,1],[12,2,13,2],[49,1,50,1],[49,2,50,2],[12,9,13,9],[49,3,49,5],[0,1,0,5],[9,1,9,5],[9,6,9,8],[10,1,10,8],[12,3,12,5],[12,6,12,8],[49,6,49,8],[3,6,3,8],[4,1,4,5],[4,6,4,8],[240,1,240,2],[236,3,236,5],[236,6,236,8],[200,1,201,1],[200,2,201,2],[200,3,200,5],[200,6,200,8],[230,1,230,2],[230,3,230,5],[230,6,230,8],[231,1,231,2],[231,3,231,5],[241,1,241,2],[236,1,237,1],[236,2,237,2],[241,3,241,5],[241,6,241,8]]}
[null,"TABLE 2 - DETAILED BREAKDOWN OF BUDGET LINES  - PP4 in EUR",null,null,null,null,null,null,null,null,null,null,null,null,null,null,null,true]
[null,null,null,null,null,null,{"$f":"L3","v":"Flat rate for  projects can not exceed 10 %!"},null,null,null,null,{"$f":"G5<=L4","v":true},null,null,null,null,null,true]
[null,"BL1 - STAFF COSTS",null,null,null,null,"Flat rate",null,null,"TOTAL",null,{"$f":"CONCATENATE(\"Flat rate for \",L5,\" projects can not exceed \",L4,\" %!\")","v":"Flat rate for  projects can not exceed 10 %!"},null,null,null,null,null,true]
[null,null,null,null,null,null,"%",null,null,null,null,{"$f":"IF(L5=\"Soft\",20,10)","v":10},null,null,null,null,null,true]
[null,{"$f":"M5","v":" project"},null,null,null,null,null,null,null,{"$f":"ROUND(G5*J241/100,2)","v":0},null,{"$f":"'Project identification'!C15","v":""},{"$f":"CONCATENATE(L5,\" project\")","v":" project"},null,20,10,null,true]
[null,"TOTAL",null,null,null,null,null,null,null,{"$f":"J5","v":0},null,null,null,null,null,null,null,true]
[null,null,null,null,null,null,"Flat rate for administrative costs can not exceed 15 %",null,null,null,null,null,null,null,null,null,null,true]
[null,"BL2 - OFFICE AND ADMINISTRATIVE COSTS",null,null,null,null,"Flat rate",null,null,"TOTAL",null,null,null,null,null,null,null,true]
[null,null,null,null,null,null,"%",null,null,null,null,{"$f":"IF('PP4'!C15='PP4'!M27,TRUE,FALSE)","v":false},null,null,null,null,null,true]
[null,{"$f":"M5","v":" project"},null,null,null,null,null,null,null,{"$f":"ROUNDDOWN(G10*J5/100,2)","v":0},null,null,null,null,null,null,null,true]
[null,"TOTAL",null,null,null,null,null,null,null,{"$f":"J10","v":0},null,null,"sad",null,null,null,null,true]
[null,null,null,null,null,null,null,null,null,null,null,null,null,null,null,null,null,true]
[null,"BL3 - TRAVEL AND ACCOMMODATION","Unit","Expenditures in the eligible area",null,null,"Expenditures outside the eligible area",null,null,"TOTAL",null,null,null,null,null,null,null,true]
[null,null,null,"Units","Unit rate","Total","Units","Unit rate","Total",null,null,null,null,null,null,null,null,true]
[null,"3.1 Travel costs",null,null,null,{"$f":"SUM(F16:F25)","v":0},null,null,{"$f":"SUM(I16:I25)","v":0},{"$f":"SUM(J16:J25)","v":0},null,null,null,null,null,null,null,true]
[null,null,null,null,null,{"$f":"ROUND(D16*E16,2)","v":0},null,null,{"$f":"ROUND(G16*H16,2)","v":0},{"$f":"F16+I16","v":0},null,{"$f":"ISBLANK(B16)","v":true},{"$f":"ISBLANK(C16)","v":true},{"$f":"ISBLANK(D16)","v":true},{"$f":"ISBLANK(E16)","v":true},{"$f":"ISBLANK(G16)","v":true},{"$f":"ISBLANK(H16)","v":true},{"$f":"IF(S16<4,TRUE,FALSE)","v":false},{"$f":"L16+M16+N16+O16+P16+Q16","v":6}]
[null,null,null,null,null,{"$f":"ROUND(D17*E17,2)","v":0},null,null,{"$f":"ROUND(G17*H17,2)","v":0},0,null,{"$f":"ISBLANK(B17)","v":true},true,true,true,{"$f":"ISBLANK(G17)","v":true},true,{"$f":"IF(S17<4,TRUE,FALSE)","v":false},{"$f":"L17+M17+N17+O17+P17+Q17","v":6}]
[null,null,null,null,null,0,null,null,0,0,null,true,true,true,true,true,true,false,6]
[null,null,null,null,null,0,null,null,0,0,null,true,true,true,true,true,true,false,6]
[null,null,null,null,null,0,null,null,0,0,null,true,true,true,true,true,true,false,6]
[null,null,null,null,null,0,null,null,0,0,null,true,true,true,true,true,true,false,6]
[null,null,null,null,null,0,null,null,0,0,null,true,true,true,true,true,true,false,6]
[null,null,null,null,null,0,null,null,0,0,null,true,true,true,true,true,true,false,6]
[null,null,null,null,null,0,null,null,0,0,null,true,true,true,true,true,true,false,6]
[null,null,null,null,null,0,null,null,0,0,null,true,true,true,true,true,true,true,6]
[null,"3.2 Daily allowances",null,null,null,{"$f":"SUM(F27:F36)","v":0},null,null,{"$f":"SUM(I27:I36)","v":0},{"$f":"SUM(J27:J36)","v":0},null,null,null,null,null,null,null,true]
[null,null,null,null,null,{"$f":"ROUND(D27*E27,2)","v":0},null,null,{"$f":"ROUND(G27*H27,2)","v":0},{"$f":"F27+I27","v":0},null,{"$f":"ISBLANK(B27)","v":true},{"$f":"ISBLANK(C27)","v":true},{"$f":"ISBLANK(D27)","v":true},{"$f":"ISBLANK(E27)","v":true},{"$f":"ISBLANK(G27)","v":true},{"$f":"ISBLANK(H27)","v":true},{"$f":"IF(S27<4,TRUE,FALSE)","v":false},{"$f":"L27+M27+N27+O27+P27+Q27","v":6}]
[null,null,null,null,null,{"$f":"ROUND(D28*E28,2)","v":0},null,null,{"$f":"ROUND(G28*H28,2)","v":0},0,null,{"$f":"ISBLANK(B28)","v":true},true,true,true,{"$f":"ISBLANK(G28)","v":true},true,{"$f":"IF(S28<4,TRUE,FALSE)","v":false},{"$f":"L28+M28+N28+O28+P28+Q28","v":6}]
[null,null,null,null,null,0,null,null,0,0,null,true,true,true,true,true,true,false,6]
[null,null,null,null,null,0,null,null,0,0,null,true,true,true,true,true,true,false,6]
[null,null,null,null,null,0,null,null,0,0,null,true,true,true,true,true,true,false,6]
[null,null,null,null,null,0,null,null,0,0,null,true,true,true,true,true,true,false,6]
[null,null,null,null,null,0,null,null,0,0,null,true,true,true,true,true,true,false,6]
[null,null,null,null,null,0,null,null,0,0,null,true,true,true,true,true,true,false,6]
[null,null,null,null,null,0,null,null,0,0,null,true,true,true,true,true,true,false,6]
[null,null,null,null,null,0,null,null,0,0,null,true,true,true,true,true,true,true,6]
[null,"3.3 Accommodation costs",null,null,null,{"$f":"SUM(F38:F47)","v":0},null,null,{"$f":"SUM(I38:I47)","v":0},{"$f":"SUM(J38:J47)","v":0},null,null,null,null,null,null,null,true]
[null,null,null,null,null,{"$f":"ROUND(D38*E38,2)","v":0},null,null,{"$f":"ROUND(G38*H38,2)","v":0},{"$f":"F38+I38","v":0},null,{"$f":"ISBLANK(B38)","v":true},{"$f":"ISBLANK(C38)","v":true},{"$f":"ISBLANK(D38)","v":true},{"$f":"ISBLANK(E38)","v":true},{"$f":"ISBLANK(G38)","v":true},{"$f":"ISBLANK(H38)","v":true},{"$f":"IF(S38<4,TRUE,FALSE)","v":false},{"$f":"L38+M38+N38+O38+P38+Q38","v":6}]
[null,null,null,null,null,{"$f":"ROUND(D39*E39,2)","v":0},null,null,{"$f":"ROUND(G39*H39,2)","v":0},0,null,{"$f":"ISBLANK(B39)","v":true},true,true,true,{"$f":"ISBLANK(G39)","v":true},true,{"$f":"IF(S39<4,TRUE,FALSE)","v":false},{"$f":"L39+M39+N39+O39+P39+Q39","v":6}]
[null,null,null,null,null,0,null,null,0,0,null,true,true,true,true,true,true,false,6]
[null,null,null,null,null,0,null,null,0,0,null,true,true,true,true,true,true,false,6]
[null,null,null,null,null,0,null,null,0,0,null,true,true,true,true,true,true,false,6]
[null,null,null,null,null,0,null,null,0,0,null,true,true,true,true,true,true,false,6]
[null,null,null,null,null,0,null,null,0,0,null,true,true,true,true,true,true,false,6]
[null,null,null,null,null,0,null,null,0,0,null,true,true,true,true,true,true,false,6]
[null,null,null,null,null,0,null,null,0,0,null,true,true,true,true,true,true,false,6]
[null,null,null,null,null,0,null,null,0,0,null,true,true,true,true,true,true,true,6]
[null,"TOTAL",null,null,null,{"$f":"F37+F26+F15","v":0},null,null,{"$f":"I37+I26+I15","v":0},{"$f":"J37+J26+J15","v":0},null,null,null,null,null,null,null,true]
[null,null,null,null,null,null,null,null,null,null,null,null,null,null,null,null,null,true]
[null,"BL4 - EXTERNAL EXPERTISE AND SERVICES COSTS","Unit","Expenditures in the eligible area",null,null,"Expenditures outside the eligible area",null,null,"TOTAL",null,null,null,null,null,null,null,true]
[null,null,null,"Units","Unit rate","Total","Units","Unit rate","Total",null,null,null,null,null,null,null,null,true]
[null,"Rent of hall for events",null,null,null,{"$f":"SUM(F53:F62)","v":0},null,null,{"$f":"SUM(I53:I62)","v":0},{"$f":"SUM(J53:J62)","v":0},null,null,null,null,null,null,null,true]
[null,null,null,null,null,{"$f":"ROUND(D53*E53,2)","v":0},null,null,{"$f":"ROUND(G53*H53,2)","v":0},{"$f":"F53+I53","v":0},null,{"$f":"ISBLANK(B53)","v":true},{"$f":"ISBLANK(C53)","v":true},{"$f":"ISBLANK(D53)","v":true},{"$f":"ISBLANK(E53)","v":true},{"$f":"ISBLANK(G53)","v":true},{"$f":"ISBLANK(H53)","v":true},{"$f":"IF(S53<4,TRUE,FALSE)","v":false},{"$f":"L53+M53+N53+O53+P53+Q53","v":6}]
[null,null,null,null,null,{"$f":"ROUND(D54*E54,2)","v":0},null,null,{"$f":"ROUND(G54*H54,2)","v":0},0,null,{"$f":"ISBLANK(B54)","v":true},true,true,true,{"$f":"ISBLANK(G54)","v":true},true,{"$f":"IF(S54<4,TRUE,FALSE)","v":false},{"$f":"L54+M54+N54+O54+P54+Q54","v":6}]
[null,null,null,null,null,0,null,null,0,0,null,true,true,true,true,true,true,false,6]
[null,null,null,null,null,0,null,null,0,0,null,true,true,true,true,true,true,false,6]
[null,null,null,null,null,0,null,null,0,0,null,true,true,true,true,true,true,false,6]
[null,null,null,null,null,0,null,null,0,0,null,true,true,true,true,true,true,false,6]
[null,null,null,null,null,0,null,null,0,0,null,true,true,true,true,true,true,false,6]
[null,null,null,null,null,0,null,null,0,0,null,true,true,true,true,true,true,false,6]
[null,null,null,null,null,0,null,null,0,0,null,true,true,true,true,true,true,false,6]
[null,null,null,null,null,0,null,null,0,0,null,true,true,true,true,true,true,true,6]
[null,"Rent of audio/video equipment for events",null,null,null,{"$f":"SUM(F64:F73)","v":0},null,null,{"$f":"SUM(I64:I73)","v":0},{"$f":"SUM(J64:J73)","v":0},null,null,null,null,null,null,null,true]
[null,null,null,null,null,{"$f":"ROUND(D64*E64,2)","v":0},null,null,{"$f":"ROUND(G64*H64,2)","v":0},{"$f":"F64+I64","v":0},null,{"$f":"ISBLANK(B64)","v":true},{"$f":"ISBLANK(C64)","v":true},{"$f":"ISBLANK(D64)","v":true},{"$f":"ISBLANK(E64)","v":true},{"$f":"ISBLANK(G64)","v":true},{"$f":"ISBLANK(H64)","v":true},{"$f":"IF(S64<4,TRUE,FALSE)","v":false},{"$f":"L64+M64+N64+O64+P64+Q64","v":6}]
[null,null,null,null,null,{"$f":"ROUND(D65*E65,2)","v":0},null,null,{"$f":"ROUND(G65*H65,2)","v":0},0,null,{"$f":"ISBLANK(B65)","v":true},true,true,true,{"$f":"ISBLANK(G65)","v":true},true,{"$f":"IF(S65<4,TRUE,FALSE)","v":false},{"$f":"L65+M65+N65+O65+P65+Q65","v":6}]
[null,null,null,null,null,0,null,null,0,0,null,true,true,true,true,true,true,false,6]
[null,null,null,null,null,0,null,null,0,0,null,true,true,true,true,true,true,false,6]
[null,null,null,null,null,0,null,null,0,0,null,true,true,true,true,true,true,false,6]
[null,null,null,null,null,0,null,null,0,0,null,true,true,true,true,true,true,false,6]
[null,null,null,null,null,0,null,null,0,0,null,true,true,true,true,true,true,false,6]
[null,null,null,null,null,0,null,null,0,0,null,true,true,true,true,true,true,false,6]
[null,null,null,null,null,0,null,null,0,0,null,true,true,true,true,true,true,false,6]
[null,null,null,null,null,0,null,null,0,0,null,true,true,true,true,true,true,true,6]
[null,"Travel for events",null,null,null,{"$f":"SUM(F75:F84)","v":0},null,null,{"$f":"SUM(I75:I84)","v":0},{"$f":"SUM(J75:J84)","v":0},null,null,null,null,null,null,null,true]
[null,null,null,null,null,{"$f":"ROUND(D75*E75,2)","v":0},null,null,{"$f":"ROUND(G75*H75,2)","v":0},{"$f":"F75+I75","v":0},null,{"$f":"ISBLANK(B75)","v":true},{"$f":"ISBLANK(C75)","v":true},{"$f":"ISBLANK(D75)","v":true},{"$f":"ISBLANK(E75)","v":true},{"$f":"ISBLANK(G75)","v":true},{"$f":"ISBLANK(H75)","v":true},{"$f":"IF(S75<4,TRUE,FALSE)","v":false},{"$f":"L75+M75+N75+O75+P75+Q75","v":6}]
[null,null,null,null,null,{"$f":"ROUND(D76*E76,2)","v":0},null,null,{"$f":"ROUND(G76*H76,2)","v":0},0,null,{"$f":"ISBLANK(B76)","v":true},true,true,true,{"$f":"ISBLANK(G76)","v":true},true,{"$f":"IF(S76<4,TRUE,FALSE)","v":false},{"$f":"L76+M76+N76+O76+P76+Q76","v":6}]
[null,null,null,null,null,0,null,null,0,0,null,true,true,true,true,true,true,false,6]
[null,null,null,null,null,0,null,null,0,0,null,true,true,true,true,true,true,false,6]
[null,null,null,null,null,0,null,null,0,0,null,true,true,true,true,true,true,false,6]
[null,null,null,null,null,0,null,null,0,0,null,true,true,true,true,true,true,false,6]
[null,null,null,null,null,0,null,null,0,0,null,true,true,true,true,true,true,false,6]
[null,null,null,null,null,0,null,null,0,0,null,true,true,true,true,true,true,false,6]
[null,null,null,null,null,0,null,null,0,0,null,true,true,true,true,true,true,false,6]
[null,null,null,null,null,0,null,null,0,0,null,true,true,true,true,true,true,true,6]
[null,"Catering for events",null,null,null,{"$f":"SUM(F86:F95)","v":0},null,null,{"$f":"SUM(I86:I95)","v":0},{"$f":"SUM(J86:J95)","v":0},null,null,null,null,null,null,null,true]
[null,null,null,null,null,{"$f":"ROUND(D86*E86,2)","v":0},null,null,{"$f":"ROUND(G86*H86,2)","v":0},{"$f":"F86+I86","v":0},null,{"$f":"ISBLANK(B86)","v":true},{"$f":"ISBLANK(C86)","v":true},{"$f":"ISBLANK(D86)","v":true},{"$f":"ISBLANK(E86)","v":true},{"$f":"ISBLANK(G86)","v":true},{"$f":"ISBLANK(H86)","v":true},{"$f":"IF(S86<4,TRUE,FALSE)","v":false},{"$f":"L86+M86+N86+O86+P86+Q86","v":6}]
[null,null,null,null,null,{"$f":"ROUND(D87*E87,2)","v":0},null,null,{"$f":"ROUND(G87*H87,2)","v":0},0,null,{"$f":"ISBLANK(B87)","v":true},true,true,true,{"$f":"ISBLANK(G87)","v":true},true,{"$f":"IF(S87<4,TRUE,FALSE)","v":false},{"$f":"L87+M87+N87+O87+P87+Q87","v":6}]
[null,null,null,null,null,0,null,null,0,0,null,true,true,true,true,true,true,false,6]
[null,null,null,null,null,0,null,null,0,0,null,true,true,true,true,true,true,false,6]
[null,null,null,null,null,0,null,null,0,0,null,true,true,true,true,true,true,false,6]
[null,null,null,null,null,0,null,null,0,0,null,true,true,true,true,true,true,false,6]
[null,null,null,null,null,0,null,null,0,0,null,true,true,true,true,true,true,false,6]
[null,null,null,null,null,0,null,null,0,0,null,true,true,true,true,true,true,false,6]
[null,null,null,null,null,0,null,null,0,0,null,true,true,true,true,true,true,false,6]
[null,null,null,null,null,0,null,null,0,0,null,true,true,true,true,true,true,true,6]
[null,"Accommodations for participants in the events ",null,null,null,{"$f":"SUM(F97:F106)","v":0},null,null,{"$f":"SUM(I97:I106)","v":0},{"$f":"SUM(J97:J106)","v":0},null,null,null,null,null,null,null,true]
[null,null,null,null,null,{"$f":"ROUND(D97*E97,2)","v":0},null,null,{"$f":"ROUND(G97*H97,2)","v":0},{"$f":"F97+I97","v":0},null,{"$f":"ISBLANK(B97)","v":true},{"$f":"ISBLANK(C97)","v":true},{"$f":"ISBLANK(D97)","v":true},{"$f":"ISBLANK(E97)","v":true},{"$f":"ISBLANK(G97)","v":true},{"$f":"ISBLANK(H97)","v":true},{"$f":"IF(S97<4,TRUE,FALSE)","v":false},{"$f":"L97+M97+N97+O97+P97+Q97","v":6}]
[null,null,null,null,null,{"$f":"ROUND(D98*E98,2)","v":0},null,null,{"$f":"ROUND(G98*H98,2)","v":0},0,null,{"$f":"ISBLANK(B98)","v":true},true,true,true,{"$f":"ISBLANK(G98)","v":true},true,{"$f":"IF(S98<4,TRUE,FALSE)","v":false},{"$f":"L98+M98+N98+O98+P98+Q98","v":6}]
[null,null,null,null,null,0,null,null,0,0,null,true,true,true,true,true,true,false,6]
[null,null,null,null,null,0,null,null,0,0,null,true,true,true,true,true,true,false,6]
[null,null,null,null,null,0,null,null,0,0,null,true,true,true,true,true,true,false,6]
[null,null,null,null,null,0,null,null,0,0,null,true,true,true,true,true,true,false,6]
[null,null,null,null,null,0,null,null,0,0,null,true,true,true,true,true,true,false,6]
[null,null,null,null,null,0,null,null,0,0,null,true,true,true,true,true,true,false,6]
[null,null,null,null,null,0,null,null,0,0,null,true,true,true,true,true,true,false,6]
[null,null,null,null,null,0,null,null,0,0,null,true,true,true,true,true,true,true,6]
[null,"Consumables and materials for events",null,null,null,{"$f":"SUM(F108:F117)","v":0},null,null,{"$f":"SUM(I108:I117)","v":0},{"$f":"SUM(J108:J117)","v":0},null,null,null,null,null,null,null,true]
[null,null,null,null,null,{"$f":"ROUND(D108*E108,2)","v":0},null,null,{"$f":"ROUND(G108*H108,2)","v":0},{"$f":"F108+I108","v":0},null,{"$f":"ISBLANK(B108)","v":true},{"$f":"ISBLANK(C108)","v":true},{"$f":"ISBLANK(D108)","v":true},{"$f":"ISBLANK(E108)","v":true},{"$f":"ISBLANK(G108)","v":true},{"$f":"ISBLANK(H108)","v":true},{"$f":"IF(S108<4,TRUE,FALSE)","v":false},{"$f":"L108+M108+N108+O108+P108+Q108","v":6}]
[null,null,null,null,null,{"$f":"ROUND(D109*E109,2)","v":0},null,null,{"$f":"ROUND(G109*H109,2)","v":0},0,null,{"$f":"ISBLANK(B109)","v":true},true,true,true,{"$f":"ISBLANK(G109)","v":true},true,{"$f":"IF(S109<4,TRUE,FALSE)","v":false},{"$f":"L109+M109+N109+O109+P109+Q109","v":6}]
[null,null,null,null,null,0,null,null,0,0,null,true,true,true,true,true,true,false,6]
[null,null,null,null,null,0,null,null,0,0,null,true,true,true,true,true,true,false,6]
[null,null,null,null,null,0,null,null,0,0,null,true,true,true,true,true,true,false,6]
[null,null,null,null,null,0,null,null,0,0,null,true,true,true,true,true,true,false,6]
[null,null,null,null,null,0,null,null,0,0,null,true,true,true,true,true,true,false,6]
[null,null,null,null,null,0,null,null,0,0,null,true,true,true,true,true,true,false,6]
[null,null,null,null,null,0,null,null,0,0,null,true,true,true,true,true,true,false,6]
[null,null,null,null,null,0,null,null,0,0,null,true,true,true,true,true,true,true,6]
[null,"Elaboration, design, translation of promotional materials; ",null,null,null,{"$f":"SUM(F119:F128)","v":0},null,null,{"$f":"SUM(I119:I128)","v":0},{"$f":"SUM(J119:J128)","v":0},null,null,null,null,null,null,null,true]
[null,null,null,null,null,{"$f":"ROUND(D119*E119,2)","v":0},null,null,{"$f":"ROUND(G119*H119,2)","v":0},{"$f":"F119+I119","v":0},null,{"$f":"ISBLANK(B119)","v":true},{"$f":"ISBLANK(C119)","v":true},{"$f":"ISBLANK(D119)","v":true},{"$f":"ISBLANK(E119)","v":true},{"$f":"ISBLANK(G119)","v":true},{"$f":"ISBLANK(H119)","v":true},{"$f":"IF(S119<4,TRUE,FALSE)","v":false},{"$f":"L119+M119+N119+O119+P119+Q119","v":6}]
[null,null,null,null,null,{"$f":"ROUND(D120*E120,2)","v":0},null,null,{"$f":"ROUND(G120*H120,2)","v":0},0,null,{"$f":"ISBLANK(B120)","v":true},true,true,true,{"$f":"ISBLANK(G120)","v":true},true,{"$f":"IF(S120<4,TRUE,FALSE)","v":false},{"$f":"L120+M120+N120+O120+P120+Q120","v":6}]
[null,null,null,null,null,0,null,null,0,0,null,true,true,true,true,true,true,false,6]
[null,null,null,null,null,0,null,null,0,0,null,true,true,true,true,true,true,false,6]
[null,null,null,null,null,0,null,null,0,0,null,true,true,true,true,true,true,false,6]
[null,null,null,null,null,0,null,null,0,0,null,true,true,true,true,true,true,false,6]
[null,null,null,null,null,0,null,null,0,0,null,true,true,true,true,true,true,false,6]
[null,null,null,null,null,0,null,null,0,0,null,true,true,true,true,true,true,false,6]
[null,null,null,null,null,0,null,null,0,0,null,true,true,true,true,true,true,false,6]
[null,null,null,null,null,0,null,null,0,0,null,true,true,true,true,true,true,true,6]
[null,"Publications in mass-media",null,null,null,{"$f":"SUM(F130:F139)","v":0},null,null,{"$f":"SUM(I130:I139)","v":0},{"$f":"SUM(J130:J139)","v":0},null,null,null,null,null,null,null,true]
[null,null,null,null,null,{"$f":"ROUND(D130*E130,2)","v":0},null,null,{"$f":"ROUND(G130*H130,2)","v":0},{"$f":"F130+I130","v":0},null,{"$f":"ISBLANK(B130)","v":true},{"$f":"ISBLANK(C130)","v":true},{"$f":"ISBLANK(D130)","v":true},{"$f":"ISBLANK(E130)","v":true},{"$f":"ISBLANK(G130)","v":true},{"$f":"ISBLANK(H130)","v":true},{"$f":"IF(S130<4,TRUE,FALSE)","v":false},{"$f":"L130+M130+N130+O130+P130+Q130","v":6}]
[null,null,null,null,null,{"$f":"ROUND(D131*E131,2)","v":0},null,null,{"$f":"ROUND(G131*H131,2)","v":0},0,null,{"$f":"ISBLANK(B131)","v":true},true,true,true,{"$f":"ISBLANK(G131)","v":true},true,{"$f":"IF(S131<4,TRUE,FALSE)","v":false},{"$f":"L131+M131+N131+O131+P131+Q131","v":6}]
[null,null,null,null,null,0,null,null,0,0,null,true,true,true,true,true,true,false,6]
[null,null,null,null,null,0,null,null,0,0,null,true,true,true,true,true,true,false,6]
[null,null,null,null,null,0,null,null,0,0,null,true,true,true,true,true,true,false,6]
[null,null,null,null,null,0,null,null,0,0,null,true,true,true,true,true,true,false,6]
[null,null,null,null,null,0,null,null,0,0,null,true,true,true,true,true,true,false,6]
[null,null,null,null,null,0,null,null,0,0,null,true,true,true,true,true,true,false,6]
[null,null,null,null,null,0,null,null,0,0,null,true,true,true,true,true,true,false,6]
[null,null,null,null,null,0,null,null,0,0,null,true,true,true,true,true,true,true,6]
[null,"Consultancy, studies, designs, website development etc.",null,null,null,{"$f":"SUM(F141:F150)","v":0},null,null,{"$f":"SUM(I141:I150)","v":0},{"$f":"SUM(J141:J150)","v":0},null,null,null,null,null,null,null,true]
[null,null,null,null,null,{"$f":"ROUND(D141*E141,2)","v":0},null,null,{"$f":"ROUND(G141*H141,2)","v":0},{"$f":"F141+I141","v":0},null,{"$f":"ISBLANK(B141)","v":true},{"$f":"ISBLANK(C141)","v":true},{"$f":"ISBLANK(D141)","v":true},{"$f":"ISBLANK(E141)","v":true},{"$f":"ISBLANK(G141)","v":true},{"$f":"ISBLANK(H141)","v":true},{"$f":"IF(S141<4,TRUE,FALSE)","v":false},{"$f":"L141+M141+N141+O141+P141+Q141","v":6}]
[null,null,null,null,null,{"$f":"ROUND(D142*E142,2)","v":0},null,null,{"$f":"ROUND(G142*H142,2)","v":0},0,null,{"$f":"ISBLANK(B142)","v":true},true,true,true,{"$f":"ISBLANK(G142)","v":true},true,{"$f":"IF(S142<4,TRUE,FALSE)","v":false},{"$f":"L142+M142+N142+O142+P142+Q142","v":6}]
[null,null,null,null,null,0,null,null,0,0,null,true,true,true,true,true,true,false,6]
[null,null,null,null,null,0,null,null,0,0,null,true,true,true,true,true,true,false,6]
[null,null,null,null,null,0,null,null,0,0,null,true,true,true,true,true,true,false,6]
[null,null,null,null,null,0,null,null,0,0,null,true,true,true,true,true,true,false,6]
[null,null,null,null,null,0,null,null,0,0,null,true,true,true,true,true,true,false,6]
[null,null,null,null,null,0,null,null,0,0,null,true,true,true,true,true,true,false,6]
[null,null,null,null,null,0,null,null,0,0,null,true,true,true,true,true,true,false,6]
[null,null,null,null,null,0,null,null,0,0,null,true,true,true,true,true,true,true,6]
[null,"Interpreters, lecturers, trainers, experts, moderators etc.",null,null,null,{"$f":"SUM(F152:F161)","v":0},null,null,{"$f":"SUM(I152:I161)","v":0},{"$f":"SUM(J152:J161)","v":0},null,null,null,null,null,null,null,true]
[null,null,null,null,null,{"$f":"ROUND(D152*E152,2)","v":0},null,null,{"$f":"ROUND(G152*H152,2)","v":0},{"$f":"F152+I152","v":0},null,{"$f":"ISBLANK(B152)","v":true},{"$f":"ISBLANK(C152)","v":true},{"$f":"ISBLANK(D152)","v":true},{"$f":"ISBLANK(E152)","v":true},{"$f":"ISBLANK(G152)","v":true},{"$f":"ISBLANK(H152)","v":true},{"$f":"IF(S152<4,TRUE,FALSE)","v":false},{"$f":"L152+M152+N152+O152+P152+Q152","v":6}]
[null,null,null,null,null,{"$f":"ROUND(D153*E153,2)","v":0},null,null,{"$f":"ROUND(G153*H153,2)","v":0},0,null,{"$f":"ISBLANK(B153)","v":true},true,true,true,{"$f":"ISBLANK(G153)","v":true},true,{"$f":"IF(S153<4,TRUE,FALSE)","v":false},{"$f":"L153+M153+N153+O153+P153+Q153","v":6}]
[null,null,null,null,null,0,null,null,0,0,null,true,true,true,true,true,true,false,6]
[null,null,null,null,null,0,null,null,0,0,null,true,true,true,true,true,true,false,6]
[null,null,null,null,null,0,null,null,0,0,null,true,true,true,true,true,true,false,6]
[null,null,null,null,null,0,null,null,0,0,null,true,true,true,true,true,true,false,6]
[null,null,null,null,null,0,null,null,0,0,null,true,true,true,true,true,true,false,6]
[null,null,null,null,null,0,null,null,0,0,null,true,true,true,true,true,true,false,6]
[null,null,null,null,null,0,null,null,0,0,null,true,true,true,true,true,true,false,6]
[null,null,null,null,null,0,null,null,0,0,null,true,true,true,true,true,true,true,6]
[null,"Other",null,null,null,{"$f":"SUM(F163:F172)","v":0},null,null,{"$f":"SUM(I163:I172)","v":0},{"$f":"SUM(J163:J172)","v":0},null,null,null,null,null,null,null,true]
[null,null,null,null,null,{"$f":"ROUND(D163*E163,2)","v":0},null,null,{"$f":"ROUND(G163*H163,2)","v":0},{"$f":"F163+I163","v":0},null,{"$f":"ISBLANK(B163)","v":true},{"$f":"ISBLANK(C163)","v":true},{"$f":"ISBLANK(D163)","v":true},{"$f":"ISBLANK(E163)","v":true},{"$f":"ISBLANK(G163)","v":true},{"$f":"ISBLANK(H163)","v":true},{"$f":"IF(S163<4,TRUE,FALSE)","v":false},{"$f":"L163+M163+N163+O163+P163+Q163","v":6}]
[null,null,null,null,null,{"$f":"ROUND(D164*E164,2)","v":0},null,null,{"$f":"ROUND(G164*H164,2)","v":0},0,null,{"$f":"ISBLANK(B164)","v":true},true,true,true,{"$f":"ISBLANK(G164)","v":true},true,{"$f":"IF(S164<4,TRUE,FALSE)","v":false},{"$f":"L164+M164+N164+O164+P164+Q164","v":6}]
[null,null,null,null,null,0,null,null,0,0,null,true,true,true,true,true,true,false,6]
[null,null,null,null,null,0,null,null,0,0,null,true,true,true,true,true,true,false,6]
[null,null,null,null,null,0,null,null,0,0,null,true,true,true,true,true,true,false,6]
[null,null,null,null,null,0,null,null,0,0,null,true,true,true,true,true,true,false,6]
[null,null,null,null,null,0,null,null,0,0,null,true,true,true,true,true,true,false,6]
[null,null,null,null,null,0,null,null,0,0,null,true,true,true,true,true,true,false,6]
[null,null,null,null,null,0,null,null,0,0,null,true,true,true,true,true,true,false,6]
[null,null,null,null,null,0,null,null,0,0,null,true,true,true,true,true,true,true,6]
[null,"TOTAL",null,null,null,{"$f":"F162+F151+F140+F129+F118+F107+F96+F85+F74+F63+F52","v":0},null,null,{"$f":"I162+I151+I140+I129+I118+I107+I96+I85+I74+I63+I52","v":0},{"$f":"J162+J151+J140+J129+J118+J107+J96+J85+J74+J63+J52","v":0},null,null,null,null,null,null,null,true]
[null,null,null,null,null,null,null,null,null,null,null,null,null,null,null,null,null,true]
[null,"BL5 - EQUIPMENT AND WORKS","Unit","Expenditures in the eligible area",null,null,"Expenditures outside the eligible area",null,null,"TOTAL",null,null,null,null,null,null,null,true]
[null,null,null,"Units","Unit rate","Total","Units","Unit rate","Total",null,null,null,null,null,null,null,null,true]
[null,"Small scale construction",null,null,null,{"$f":"SUM(F178:F187)","v":0},null,null,{"$f":"SUM(I178:I187)","v":0},{"$f":"SUM(J178:J187)","v":0},null,null,null,null,null,null,null,true]
[null,null,null,null,null,{"$f":"ROUND(D178*E178,2)","v":0},null,null,{"$f":"ROUND(G178*H178,2)","v":0},{"$f":"F178+I178","v":0},null,{"$f":"ISBLANK(B178)","v":true},{"$f":"ISBLANK(C178)","v":true},{"$f":"ISBLANK(D178)","v":true},{"$f":"ISBLANK(E178)","v":true},{"$f":"ISBLANK(G178)","v":true},{"$f":"ISBLANK(H178)","v":true},{"$f":"IF(S178<4,TRUE,FALSE)","v":false},{"$f":"L178+M178+N178+O178+P178+Q178","v":6}]
[null,null,null,null,null,{"$f":"ROUND(D179*E179,2)","v":0},null,null,{"$f":"ROUND(G179*H179,2)","v":0},0,null,{"$f":"ISBLANK(B179)","v":true},true,true,true,{"$f":"ISBLANK(G179)","v":true},true,{"$f":"IF(S179<4,TRUE,FALSE)","v":false},{"$f":"L179+M179+N179+O179+P179+Q179","v":6}]
[null,null,null,null,null,0,null,null,0,0,null,true,true,true,true,true,true,false,6]
[null,null,null,null,null,0,null,null,0,0,null,true,true,true,true,true,true,false,6]
[null,null,null,null,null,0,null,null,0,0,null,true,true,true,true,true,true,false,6]
[null,null,null,null,null,0,null,null,0,0,null,true,true,true,true,true,true,false,6]
[null,null,null,null,null,0,null,null,0,0,null,true,true,true,true,true,true,false,6]
[null,null,null,null,null,0,null,null,0,0,null,true,true,true,true,true,true,false,6]
[null,null,null,null,null,0,null,null,0,0,null,true,true,true,true,true,true,false,6]
[null,null,null,null,null,0,null,null,0,0,null,true,true,true,true,true,true,true,6]
[null,"Supply",null,null,null,{"$f":"SUM(F189:F198)","v":0},null,null,{"$f":"SUM(I189:I198)","v":0},{"$f":"SUM(J189:J198)","v":0},null,null,null,null,null,null,null,true]
[null,null,null,null,null,{"$f":"ROUND(D189*E189,2)","v":0},null,null,{"$f":"ROUND(G189*H189,2)","v":0},{"$f":"F189+I189","v":0},null,{"$f":"ISBLANK(B189)","v":true},{"$f":"ISBLANK(C189)","v":true},{"$f":"ISBLANK(D189)","v":true},{"$f":"ISBLANK(E189)","v":true},{"$f":"ISBLANK(G189)","v":true},{"$f":"ISBLANK(H189)","v":true},{"$f":"IF(S189<4,TRUE,FALSE)","v":false},{"$f":"L189+M189+N189+O189+P189+Q189","v":6}]
[null,null,null,null,null,{"$f":"ROUND(D190*E190,2)","v":0},null,null,{"$f":"ROUND(G190*H190,2)","v":0},0,null,{"$f":"ISBLANK(B190)","v":true},true,true,true,{"$f":"ISBLANK(G190)","v":true},true,{"$f":"IF(S190<4,TRUE,FALSE)","v":false},{"$f":"L190+M190+N190+O190+P190+Q190","v":6}]
[null,null,null,null,null,0,null,null,0,0,null,true,true,true,true,true,true,false,6]
[null,null,null,null,null,0,null,null,0,0,null,true,true,true,true,true,true,false,6]
[null,null,null,null,null,0,null,null,0,0,null,true,true,true,true,true,true,false,6]
[null,null,null,null,null,0,null,null,0,0,null,true,true,true,true,true,true,false,6]
[null,null,null,null,null,0,null,null,0,0,null,true,true,true,true,true,true,false,6]
[null,null,null,null,null,0,null,null,0,0,null,true,true,true,true,true,true,false,6]
[null,null,null,null,null,0,null,null,0,0,null,true,true,true,true,true,true,false,6]
[null,null,null,null,null,0,null,null,0,0,null,true,true,true,true,true,true,true,6]
[null,"TOTAL",null,null,null,{"$f":"F188+F177","v":0},null,null,{"$f":"I188+I177","v":0},{"$f":"J188+J177","v":0},null,null,null,null,null,null,null,true]
[null,null,null,null,null,null,null,null,null,null,null,null,null,null,null,null,null,true]
[null,"BL6 - PROJECT PREPARATION","Unit","Expenditures in the eligible area",null,null,"Expenditures outside the eligible area",null,null,"TOTAL",null,null,null,null,null,null,null,true]
[null,null,null,"Units","Unit rate","Total","Units","Unit rate","Total",null,null,null,null,null,null,null,null,true]
[null,"6.1. Preparation of Application package ",null,null,null,{"$f":"SUM(F204:F213)","v":0},null,null,{"$f":"SUM(I204:I213)","v":0},{"$f":"SUM(J204:J213)","v":0},null,{"$f":"ISBLANK(B203)","v":false},{"$f":"ISBLANK(C203)","v":true},{"$f":"ISBLANK(D203)","v":true},{"$f":"ISBLANK(E203)","v":true},{"$f":"ISBLANK(G203)","v":true},{"$f":"ISBLANK(H203)","v":true},{"$f":"IF(S203<4,TRUE,FALSE)","v":false},{"$f":"L203+M203+N203+O203+P203+Q203","v":5}]
[null,null,null,null,null,{"$f":"ROUND(D204*E204,2)","v":0},null,null,{"$f":"ROUND(G204*H204,2)","v":0},{"$f":"F204+I204","v":0},null,{"$f":"ISBLANK(B204)","v":true},true,true,true,{"$f":"ISBLANK(G204)","v":true},true,{"$f":"IF(S204<4,TRUE,FALSE)","v":false},{"$f":"L204+M204+N204+O204+P204+Q204","v":6}]
[null,null,null,null,null,{"$f":"ROUND(D205*E205,2)","v":0},null,null,{"$f":"ROUND(G205*H205,2)","v":0},0,null,true,true,true,true,true,true,false,6]
[null,null,null,null,null,0,null,null,0,0,null,true,true,true,true,true,true,false,6]
[null,null,null,null,null,0,null,null,0,0,null,true,true,true,true,true,true,false,6]
[null,null,null,null,null,0,null,null,0,0,null,true,true,true,true,true,true,false,6]
[null,null,null,null,null,0,null,null,0,0,null,true,true,true,true,true,true,false,6]
[null,null,null,null,null,0,null,null,0,0,null,true,true,true,true,true,true,false,6]
[null,null,null,null,null,0,null,null,0,0,null,true,true,true,true,true,true,false,6]
[null,null,null,null,null,0,null,null,0,0,null,true,true,true,true,true,true,true,6]
[null,null,null,null,null,0,null,null,0,0,null,null,null,null,null,null,null,true]
[null,"6.2. Preparation of technical documentation",null,null,null,{"$f":"SUM(F215:F224)","v":0},null,null,{"$f":"SUM(I215:I224)","v":0},{"$f":"SUM(J215:J224)","v":0},null,{"$f":"ISBLANK(B214)","v":false},{"$f":"ISBLANK(C214)","v":true},{"$f":"ISBLANK(D214)","v":true},{"$f":"ISBLANK(E214)","v":true},{"$f":"ISBLANK(G214)","v":true},{"$f":"ISBLANK(H214)","v":true},{"$f":"IF(S214<4,TRUE,FALSE)","v":false},{"$f":"L214+M214+N214+O214+P214+Q214","v":5}]
[null,null,null,null,null,{"$f":"ROUND(D215*E215,2)","v":0},null,null,{"$f":"ROUND(G215*H215,2)","v":0},{"$f":"F215+I215","v":0},null,{"$f":"ISBLANK(B215)","v":true},true,true,true,{"$f":"ISBLANK(G215)","v":true},true,{"$f":"IF(S215<4,TRUE,FALSE)","v":false},{"$f":"L215+M215+N215+O215+P215+Q215","v":6}]
[null,null,null,null,null,{"$f":"ROUND(D216*E216,2)","v":0},null,null,{"$f":"ROUND(G216*H216,2)","v":0},0,null,true,true,true,true,true,true,false,6]
[null,null,null,null,null,0,null,null,0,0,null,true,true,true,true,true,true,false,6]
[null,null,null,null,null,0,null,null,0,0,null,true,true,true,true,true,true,false,6]
[null,null,null,null,null,0,null,null,0,0,null,true,true,true,true,true,true,false,6]
[null,null,null,null,null,0,null,null,0,0,null,true,true,true,true,true,true,false,6]
[null,null,null,null,null,0,null,null,0,0,null,true,true,true,true,true,true,false,6]
[null,null,null,null,null,0,null,null,0,0,null,true,true,true,true,true,true,false,6]
[null,null,null,null,null,0,null,null,0,0,null,true,true,true,true,true,true,true,6]
[null,null,null,null,null,0,null,null,0,0,null,null,null,null,null,null,null,true]
[null,"TOTAL",null,null,null,{"$f":"F214+F203","v":0},null,null,{"$f":"I214+I203","v":0},{"$f":"J214+J203","v":0},null,null,null,null,null,null,null,true]
[null,null,null,null,null,null,null,null,null,null,null,null,null,null,null,null,null,true]
[null,"Own Contribution","Unit","Expenditures in the eligible area",null,null,"Expenditures outside the eligible area",null,null,"TOTAL",null,null,null,null,null,null,null,true]
[null,null,null,"Units","Unit rate","Total","Units","Unit rate","Total",null,null,null,null,null,null,null,null,true]
[null,null,null,null,null,{"$f":"D229*E229","v":0},null,null,{"$f":"G229*H229","v":0},{"$f":"ROUND(G229*I229,2)","v":0},null,null,null,null,null,null,null,true]
[null,null,null,null,null,null,null,null,null,null,null,null,null,null,null,null,null,true]
[null,"Total direct project costs (BL3+BL4+BL5)",null,{"$f":"F199+F173+F48","v":0},null,null,{"$f":"I199+I173+I48","v":0},null,null,{"$f":"D231+G231","v":0},null,null,null,null,null,null,null,true]
[null,"TOTAL PROJECT COSTS",null,{"$f":"IF(L9,D231,D231+F229+F213+J6+J11)","v":0},null,null,{"$f":"IF(L9,G231+I229+I213+J6+J11,G231+I229)","v":0},null,null,{"$f":"D232+G232","v":0},null,null,null,null,null,null,null,true]
[null,null,null,null,null,null,null,null,null,null,null,null,null,null,null,null,null,true]
[null,null,null,null,null,{"$f":"ROUND(D234*E234,2)","v":0},null,null,{"$f":"ROUND(G234*H234,2)","v":0},{"$f":"F234+I234","v":0},null,{"$f":"ISBLANK(B234)","v":true},true,true,true,{"$f":"ISBLANK(G234)","v":true},true,true,{"$f":"L234+M234+N234+O234+P234+Q234","v":6}]
[null,"TOTAL",null,null,null,{"$f":"SUM(F225:F234)","v":0},null,null,{"$f":"SUM(I225:I234)","v":0},{"$f":"SUM(J225:J234)","v":0},null,null,null,null,null,null,null,true]
[null,null,null,null,null,null,null,null,null,null,null,null,null,null,null,null,null,true]
[null,"Own Contribution","Unit","Expenditures in the eligible area",null,null,"Expenditures outside the eligible area",null,null,"TOTAL",null,null,null,null,null,null,null,true]
[null,null,null,"Units","Unit rate","Total","Units","Unit rate","Total",null,null,null,null,null,null,null,null,true]
[null,null,null,null,null,{"$f":"D239*E239","v":0},null,null,{"$f":"G239*H239","v":0},{"$f":"ROUND(G239*I239,2)","v":0},null,null,null,null,null,null,null,true]
[null,null,null,null,null,null,null,null,null,null,null,null,null,null,null,null,null,true]
[null,"Total direct project costs (BL3+BL4+BL5)",null,{"$f":"F221+F195+F48","v":0},null,null,{"$f":"I221+I195+I48","v":0},null,null,{"$f":"D241+G241","v":0},null,null,null,null,null,null,null,true]
[null,"TOTAL PROJECT COSTS",null,{"$f":"IF(L9,D241,D241+F239+F235+J6+J11)","v":0},null,null,{"$f":"IF(L9,G241+I239+I235+J6+J11,G241+I239)","v":0},null,null,{"$f":"D242+G242","v":0},null,null,null,null,null,null,null,true]
[null,null,null,null,null,null,null,null,null,null,null,null,null,null,null,null,null,true]
[null,null,null,null,null,null,null,null,null,null,null,null,null,null,null,null,null,true]

{"sheet":"T2-B(PP5)","index":14,"n_rows":244,"n_cols":19,"rows_kept":244,"cut":false,"hidden":false,"merged":[[231,6,231,8],[200,9,201,9],[226,1,227,1],[226,2,227,2],[226,3,226,5],[226,6,226,8],[226,9,227,9],[174,1,175,1],[174,2,175,2],[174,3,174,5],[174,6,174,8],[174,9,175,9],[49,9,50,9],[2,1,3,5],[2,6,2,8],[236,9,237,9],[240,3,240,5],[240,6,240,8],[5,1,5,8],[7,1,8,5],[7,6,7,8],[8,6,8,8],[12,1,13,1],[12,2,13,2],[49,1,50,1],[49,2,50,2],[12,9,13,9],[49,3,49,5],[0,1,0,5],[9,1,9,5],[9,6,9,8],[10,1,10,8],[12,3,12,5],[12,6,12,8],[49,6,49,8],[3,6,3,8],[4,1,4,5],[4,6,4,8],[240,1,240,2],[236,3,236,5],[236,6,236,8],[200,1,201,1],[200,2,201,2],[200,3,200,5],[200,6,200,8],[230,1,230,2],[230,3,230,5],[230,6,230,8],[231,1,231,2],[231,3,231,5],[241,1,241,2],[236,1,237,1],[236,2,237,2],[241,3,241,5],[241,6,241,8]]}
[null,"TABLE 2 - DETAILED BREAKDOWN OF BUDGET LINES  - PP5 in EUR",null,null,null,null,null,null,null,null,null,null,null,null,null,null,null,true]
[null,null,null,null,null,null,{"$f":"L3","v":"Flat rate for  projects can not exceed 10 %!"},null,null,null,null,{"$f":"G5<=L4","v":true},null,null,null,null,null,true]
[null,"BL1 - STAFF COSTS",null,null,null,null,"Flat rate",null,null,"TOTAL",null,{"$f":"CONCATENATE(\"Flat rate for \",L5,\" projects can not exceed \",L4,\" %!\")","v":"Flat rate for  projects can not exceed 10 %!"},null,null,null,null,null,true]
[null,null,null,null,null,null,"%",null,null,null,null,{"$f":"IF(L5=\"Soft\",20,10)","v":10},null,null,null,null,null,true]
[null,{"$f":"M5","v":" project"},null,null,null,null,null,null,null,{"$f":"ROUND(G5*J241/100,2)","v":0},null,{"$f":"'Project identification'!C15","v":""},{"$f":"CONCATENATE(L5,\" project\")","v":" project"},null,20,10,null,true]
[null,"TOTAL",null,null,null,null,null,null,null,{"$f":"J5","v":0},null,null,null,null,null,null,null,true]
[null,null,null,null,null,null,"Flat rate for administrative costs can not exceed 15 %",null,null,null,null,null,null,null,null,null,null,true]
[null,"BL2 - OFFICE AND ADMINISTRATIVE COSTS",null,null,null,null,"Flat rate",null,null,"TOTAL",null,null,null,null,null,null,null,true]
[null,null,null,null,null,null,"%",null,null,null,null,{"$f":"IF('PP5'!C15='PP5'!M27,TRUE,FALSE)","v":false},null,null,null,null,null,true]
[null,{"$f":"M5","v":" project"},null,null,null,null,null,null,null,{"$f":"ROUNDDOWN(G10*J5/100,2)","v":0},null,null,null,null,null,null,null,true]
[null,"TOTAL",null,null,null,null,null,null,null,{"$f":"J10","v":0},null,null,"sad",null,null,null,null,true]
[null,null,null,null,null,null,null,null,null,null,null,null,null,null,null,null,null,true]
[null,"BL3 - TRAVEL AND ACCOMMODATION","Unit","Expenditures in the eligible area",null,null,"Expenditures outside the eligible area",null,null,"TOTAL",null,null,null,null,null,null,null,true]
[null,null,null,"Units","Unit rate","Total","Units","Unit rate","Total",null,null,null,null,null,null,null,null,true]
[null,"3.1 Travel costs",null,null,null,{"$f":"SUM(F16:F25)","v":0},null,null,{"$f":"SUM(I16:I25)","v":0},{"$f":"SUM(J16:J25)","v":0},null,null,null,null,null,null,null,true]
[null,null,null,null,null,{"$f":"ROUND(D16*E16,2)","v":0},null,null,{"$f":"ROUND(G16*H16,2)","v":0},{"$f":"F16+I16","v":0},null,{"$f":"ISBLANK(B16)","v":true},{"$f":"ISBLANK(C16)","v":true},{"$f":"ISBLANK(D16)","v":true},{"$f":"ISBLANK(E16)","v":true},{"$f":"ISBLANK(G16)","v":true},{"$f":"ISBLANK(H16)","v":true},{"$f":"IF(S16<4,TRUE,FALSE)","v":false},{"$f":"L16+M16+N16+O16+P16+Q16","v":6}]
[null,null,null,null,null,{"$f":"ROUND(D17*E17,2)","v":0},null,null,{"$f":"ROUND(G17*H17,2)","v":0},0,null,{"$f":"ISBLANK(B17)","v":true},true,true,true,{"$f":"ISBLANK(G17)","v":true},true,{"$f":"IF(S17<4,TRUE,FALSE)","v":false},{"$f":"L17+M17+N17+O17+P17+Q17","v":6}]
[null,null,null,null,null,0,null,null,0,0,null,true,true,true,true,true,true,false,6]
[null,null,null,null,null,0,null,null,0,0,null,true,true,true,true,true,true,false,6]
[null,null,null,null,null,0,null,null,0,0,null,true,true,true,true,true,true,false,6]
[null,null,null,null,null,0,null,null,0,0,null,true,true,true,true,true,true,false,6]
[null,null,null,null,null,0,null,null,0,0,null,true,true,true,true,true,true,false,6]
[null,null,null,null,null,0,null,null,0,0,null,true,true,true,true,true,true,false,6]
[null,null,null,null,null,0,null,null,0,0,null,true,true,true,true,true,true,false,6]
[null,null,null,null,null,0,null,null,0,0,null,true,true,true,true,true,true,true,6]
[null,"3.2 Daily allowances",null,null,null,{"$f":"SUM(F27:F36)","v":0},null,null,{"$f":"SUM(I27:I36)","v":0},{"$f":"SUM(J27:J36)","v":0},null,null,null,null,null,null,null,true]
[null,null,null,null,null,{"$f":"ROUND(D27*E27,2)","v":0},null,null,{"$f":"ROUND(G27*H27,2)","v":0},{"$f":"F27+I27","v":0},null,{"$f":"ISBLANK(B27)","v":true},{"$f":"ISBLANK(C27)","v":true},{"$f":"ISBLANK(D27)","v":true},{"$f":"ISBLANK(E27)","v":true},{"$f":"ISBLANK(G27)","v":true},{"$f":"ISBLANK(H27)","v":true},{"$f":"IF(S27<4,TRUE,FALSE)","v":false},{"$f":"L27+M27+N27+O27+P27+Q27","v":6}]
[null,null,null,null,null,{"$f":"ROUND(D28*E28,2)","v":0},null,null,{"$f":"ROUND(G28*H28,2)","v":0},0,null,{"$f":"ISBLANK(B28)","v":true},true,true,true,{"$f":"ISBLANK(G28)","v":true},true,{"$f":"IF(S28<4,TRUE,FALSE)","v":false},{"$f":"L28+M28+N28+O28+P28+Q28","v":6}]
[null,null,null,null,null,0,null,null,0,0,null,true,true,true,true,true,true,false,6]
[null,null,null,null,null,0,null,null,0,0,null,true,true,true,true,true,true,false,6]
[null,null,null,null,null,0,null,null,0,0,null,true,true,true,true,true,true,false,6]
[null,null,null,null,null,0,null,null,0,0,null,true,true,true,true,true,true,false,6]
[null,null,null,null,null,0,null,null,0,0,null,true,true,true,true,true,true,false,6]
[null,null,null,null,null,0,null,null,0,0,null,true,true,true,true,true,true,false,6]
[null,null,null,null,null,0,null,null,0,0,null,true,true,true,true,true,true,false,6]
[null,null,null,null,null,0,null,null,0,0,null,true,true,true,true,true,true,true,6]
[null,"3.3 Accommodation costs",null,null,null,{"$f":"SUM(F38:F47)","v":0},null,null,{"$f":"SUM(I38:I47)","v":0},{"$f":"SUM(J38:J47)","v":0},null,null,null,null,null,null,null,true]
[null,null,null,null,null,{"$f":"ROUND(D38*E38,2)","v":0},null,null,{"$f":"ROUND(G38*H38,2)","v":0},{"$f":"F38+I38","v":0},null,{"$f":"ISBLANK(B38)","v":true},{"$f":"ISBLANK(C38)","v":true},{"$f":"ISBLANK(D38)","v":true},{"$f":"ISBLANK(E38)","v":true},{"$f":"ISBLANK(G38)","v":true},{"$f":"ISBLANK(H38)","v":true},{"$f":"IF(S38<4,TRUE,FALSE)","v":false},{"$f":"L38+M38+N38+O38+P38+Q38","v":6}]
[null,null,null,null,null,{"$f":"ROUND(D39*E39,2)","v":0},null,null,{"$f":"ROUND(G39*H39,2)","v":0},0,null,{"$f":"ISBLANK(B39)","v":true},true,true,true,{"$f":"ISBLANK(G39)","v":true},true,{"$f":"IF(S39<4,TRUE,FALSE)","v":false},{"$f":"L39+M39+N39+O39+P39+Q39","v":6}]
[null,null,null,null,null,0,null,null,0,0,null,true,true,true,true,true,true,false,6]
[null,null,null,null,null,0,null,null,0,0,null,true,true,true,true,true,true,false,6]
[null,null,null,null,null,0,null,null,0,0,null,true,true,true,true,true,true,false,6]
[null,null,null,null,null,0,null,null,0,0,null,true,true,true,true,true,true,false,6]
[null,null,null,null,null,0,null,null,0,0,null,true,true,true,true,true,true,false,6]
[null,null,null,null,null,0,null,null,0,0,null,true,true,true,true,true,true,false,6]
[null,null,null,null,null,0,null,null,0,0,null,true,true,true,true,true,true,false,6]
[null,null,null,null,null,0,null,null,0,0,null,true,true,true,true,true,true,true,6]
[null,"TOTAL",null,null,null,{"$f":"F37+F26+F15","v":0},null,null,{"$f":"I37+I26+I15","v":0},{"$f":"J37+J26+J15","v":0},null,null,null,null,null,null,null,true]
[null,null,null,null,null,null,null,null,null,null,null,null,null,null,null,null,null,true]
[null,"BL4 - EXTERNAL EXPERTISE AND SERVICES COSTS","Unit","Expenditures in the eligible area",null,null,"Expenditures outside the eligible area",null,null,"TOTAL",null,null,null,null,null,null,null,true]
[null,null,null,"Units","Unit rate","Total","Units","Unit rate","Total",null,null,null,null,null,null,null,null,true]
[null,"Rent of hall for events",null,null,null,{"$f":"SUM(F53:F62)","v":0},null,null,{"$f":"SUM(I53:I62)","v":0},{"$f":"SUM(J53:J62)","v":0},null,null,null,null,null,null,null,true]
[null,null,null,null,null,{"$f":"ROUND(D53*E53,2)","v":0},null,null,{"$f":"ROUND(G53*H53,2)","v":0},{"$f":"F53+I53","v":0},null,{"$f":"ISBLANK(B53)","v":true},{"$f":"ISBLANK(C53)","v":true},{"$f":"ISBLANK(D53)","v":true},{"$f":"ISBLANK(E53)","v":true},{"$f":"ISBLANK(G53)","v":true},{"$f":"ISBLANK(H53)","v":true},{"$f":"IF(S53<4,TRUE,FALSE)","v":false},{"$f":"L53+M53+N53+O53+P53+Q53","v":6}]
[null,null,null,null,null,{"$f":"ROUND(D54*E54,2)","v":0},null,null,{"$f":"ROUND(G54*H54,2)","v":0},0,null,{"$f":"ISBLANK(B54)","v":true},true,true,true,{"$f":"ISBLANK(G54)","v":true},true,{"$f":"IF(S54<4,TRUE,FALSE)","v":false},{"$f":"L54+M54+N54+O54+P54+Q54","v":6}]
[null,null,null,null,null,0,null,null,0,0,null,true,true,true,true,true,true,false,6]
[null,null,null,null,null,0,null,null,0,0,null,true,true,true,true,true,true,false,6]
[null,null,null,null,null,0,null,null,0,0,null,true,true,true,true,true,true,false,6]
[null,null,null,null,null,0,null,null,0,0,null,true,true,true,true,true,true,false,6]
[null,null,null,null,null,0,null,null,0,0,null,true,true,true,true,true,true,false,6]
[null,null,null,null,null,0,null,null,0,0,null,true,true,true,true,true,true,false,6]
[null,null,null,null,null,0,null,null,0,0,null,true,true,true,true,true,true,false,6]
[null,null,null,null,null,0,null,null,0,0,null,true,true,true,true,true,true,true,6]
[null,"Rent of audio/video equipment for events",null,null,null,{"$f":"SUM(F64:F73)","v":0},null,null,{"$f":"SUM(I64:I73)","v":0},{"$f":"SUM(J64:J73)","v":0},null,null,null,null,null,null,null,true]
[null,null,null,null,null,{"$f":"ROUND(D64*E64,2)","v":0},null,null,{"$f":"ROUND(G64*H64,2)","v":0},{"$f":"F64+I64","v":0},null,{"$f":"ISBLANK(B64)","v":true},{"$f":"ISBLANK(C64)","v":true},{"$f":"ISBLANK(D64)","v":true},{"$f":"ISBLANK(E64)","v":true},{"$f":"ISBLANK(G64)","v":true},{"$f":"ISBLANK(H64)","v":true},{"$f":"IF(S64<4,TRUE,FALSE)","v":false},{"$f":"L64+M64+N64+O64+P64+Q64","v":6}]
[null,null,null,null,null,{"$f":"ROUND(D65*E65,2)","v":0},null,null,{"$f":"ROUND(G65*H65,2)","v":0},0,null,{"$f":"ISBLANK(B65)","v":true},true,true,true,{"$f":"ISBLANK(G65)","v":true},true,{"$f":"IF(S65<4,TRUE,FALSE)","v":false},{"$f":"L65+M65+N65+O65+P65+Q65","v":6}]
[null,null,null,null,null,0,null,null,0,0,null,true,true,true,true,true,true,false,6]
[null,null,null,null,null,0,null,null,0,0,null,true,true,true,true,true,true,false,6]
[null,null,null,null,null,0,null,null,0,0,null,true,true,true,true,true,true,false,6]
[null,null,null,null,null,0,null,null,0,0,null,true,true,true,true,true,true,false,6]
[null,null,null,null,null,0,null,null,0,0,null,true,true,true,true,true,true,false,6]
[null,null,null,null,null,0,null,null,0,0,null,true,true,true,true,true,true,false,6]
[null,null,null,null,null,0,null,null,0,0,null,true,true,true,true,true,true,false,6]
[null,null,null,null,null,0,null,null,0,0,null,true,true,true,true,true,true,true,6]
[null,"Travel for events",null,null,null,{"$f":"SUM(F75:F84)","v":0},null,null,{"$f":"SUM(I75:I84)","v":0},{"$f":"SUM(J75:J84)","v":0},null,null,null,null,null,null,null,true]
[null,null,null,null,null,{"$f":"ROUND(D75*E75,2)","v":0},null,null,{"$f":"ROUND(G75*H75,2)","v":0},{"$f":"F75+I75","v":0},null,{"$f":"ISBLANK(B75)","v":true},{"$f":"ISBLANK(C75)","v":true},{"$f":"ISBLANK(D75)","v":true},{"$f":"ISBLANK(E75)","v":true},{"$f":"ISBLANK(G75)","v":true},{"$f":"ISBLANK(H75)","v":true},{"$f":"IF(S75<4,TRUE,FALSE)","v":false},{"$f":"L75+M75+N75+O75+P75+Q75","v":6}]
[null,null,null,null,null,{"$f":"ROUND(D76*E76,2)","v":0},null,null,{"$f":"ROUND(G76*H76,2)","v":0},0,null,{"$f":"ISBLANK(B76)","v":true},true,true,true,{"$f":"ISBLANK(G76)","v":true},true,{"$f":"IF(S76<4,TRUE,FALSE)","v":false},{"$f":"L76+M76+N76+O76+P76+Q76","v":6}]
[null,null,null,null,null,0,null,null,0,0,null,true,true,true,true,true,true,false,6]
[null,null,null,null,null,0,null,null,0,0,null,true,true,true,true,true,true,false,6]
[null,null,null,null,null,0,null,null,0,0,null,true,true,true,true,true,true,false,6]
[null,null,null,null,null,0,null,null,0,0,null,true,true,true,true,true,true,false,6]
[null,null,null,null,null,0,null,null,0,0,null,true,true,true,true,true,true,false,6]
[null,null,null,null,null,0,null,null,0,0,null,true,true,true,true,true,true,false,6]
[null,null,null,null,null,0,null,null,0,0,null,true,true,true,true,true,true,false,6]
[null,null,null,null,null,0,null,null,0,0,null,true,true,true,true,true,true,true,6]
[null,"Catering for events",null,null,null,{"$f":"SUM(F86:F95)","v":0},null,null,{"$f":"SUM(I86:I95)","v":0},{"$f":"SUM(J86:J95)","v":0},null,null,null,null,null,null,null,true]
[null,null,null,null,null,{"$f":"ROUND(D86*E86,2)","v":0},null,null,{"$f":"ROUND(G86*H86,2)","v":0},{"$f":"F86+I86","v":0},null,{"$f":"ISBLANK(B86)","v":true},{"$f":"ISBLANK(C86)","v":true},{"$f":"ISBLANK(D86)","v":true},{"$f":"ISBLANK(E86)","v":true},{"$f":"ISBLANK(G86)","v":true},{"$f":"ISBLANK(H86)","v":true},{"$f":"IF(S86<4,TRUE,FALSE)","v":false},{"$f":"L86+M86+N86+O86+P86+Q86","v":6}]
[null,null,null,null,null,{"$f":"ROUND(D87*E87,2)","v":0},null,null,{"$f":"ROUND(G87*H87,2)","v":0},0,null,{"$f":"ISBLANK(B87)","v":true},true,true,true,{"$f":"ISBLANK(G87)","v":true},true,{"$f":"IF(S87<4,TRUE,FALSE)","v":false},{"$f":"L87+M87+N87+O87+P87+Q87","v":6}]
[null,null,null,null,null,0,null,null,0,0,null,true,true,true,true,true,true,false,6]
[null,null,null,null,null,0,null,null,0,0,null,true,true,true,true,true,true,false,6]
[null,null,null,null,null,0,null,null,0,0,null,true,true,true,true,true,true,false,6]
[null,null,null,null,null,0,null,null,0,0,null,true,true,true,true,true,true,false,6]
[null,null,null,null,null,0,null,null,0,0,null,true,true,true,true,true,true,false,6]
[null,null,null,null,null,0,null,null,0,0,null,true,true,true,true,true,true,false,6]
[null,null,null,null,null,0,null,null,0,0,null,true,true,true,true,true,true,false,6]
[null,null,null,null,null,0,null,null,0,0,null,true,true,true,true,true,true,true,6]
[null,"Accommodations for participants in the events ",null,null,null,{"$f":"SUM(F97:F106)","v":0},null,null,{"$f":"SUM(I97:I106)","v":0},{"$f":"SUM(J97:J106)","v":0},null,null,null,null,null,null,null,true]
[null,null,null,null,null,{"$f":"ROUND(D97*E97,2)","v":0},null,null,{"$f":"ROUND(G97*H97,2)","v":0},{"$f":"F97+I97","v":0},null,{"$f":"ISBLANK(B97)","v":true},{"$f":"ISBLANK(C97)","v":true},{"$f":"ISBLANK(D97)","v":true},{"$f":"ISBLANK(E97)","v":true},{"$f":"ISBLANK(G97)","v":true},{"$f":"ISBLANK(H97)","v":true},{"$f":"IF(S97<4,TRUE,FALSE)","v":false},{"$f":"L97+M97+N97+O97+P97+Q97","v":6}]
[null,null,null,null,null,{"$f":"ROUND(D98*E98,2)","v":0},null,null,{"$f":"ROUND(G98*H98,2)","v":0},0,null,{"$f":"ISBLANK(B98)","v":true},true,true,true,{"$f":"ISBLANK(G98)","v":true},true,{"$f":"IF(S98<4,TRUE,FALSE)","v":false},{"$f":"L98+M98+N98+O98+P98+Q98","v":6}]
[null,null,null,null,null,0,null,null,0,0,null,true,true,true,true,true,true,false,6]
[null,null,null,null,null,0,null,null,0,0,null,true,true,true,true,true,true,false,6]
[null,null,null,null,null,0,null,null,0,0,null,true,true,true,true,true,true,false,6]
[null,null,null,null,null,0,null,null,0,0,null,true,true,true,true,true,true,false,6]
[null,null,null,null,null,0,null,null,0,0,null,true,true,true,true,true,true,false,6]
[null,null,null,null,null,0,null,null,0,0,null,true,true,true,true,true,true,false,6]
[null,null,null,null,null,0,null,null,0,0,null,true,true,true,true,true,true,false,6]
[null,null,null,null,null,0,null,null,0,0,null,true,true,true,true,true,true,true,6]
[null,"Consumables and materials for events",null,null,null,{"$f":"SUM(F108:F117)","v":0},null,null,{"$f":"SUM(I108:I117)","v":0},{"$f":"SUM(J108:J117)","v":0},null,null,null,null,null,null,null,true]
[null,null,null,null,null,{"$f":"ROUND(D108*E108,2)","v":0},null,null,{"$f":"ROUND(G108*H108,2)","v":0},{"$f":"F108+I108","v":0},null,{"$f":"ISBLANK(B108)","v":true},{"$f":"ISBLANK(C108)","v":true},{"$f":"ISBLANK(D108)","v":true},{"$f":"ISBLANK(E108)","v":true},{"$f":"ISBLANK(G108)","v":true},{"$f":"ISBLANK(H108)","v":true},{"$f":"IF(S108<4,TRUE,FALSE)","v":false},{"$f":"L108+M108+N108+O108+P108+Q108","v":6}]
[null,null,null,null,null,{"$f":"ROUND(D109*E109,2)","v":0},null,null,{"$f":"ROUND(G109*H109,2)","v":0},0,null,{"$f":"ISBLANK(B109)","v":true},true,true,true,{"$f":"ISBLANK(G109)","v":true},true,{"$f":"IF(S109<4,TRUE,FALSE)","v":false},{"$f":"L109+M109+N109+O109+P109+Q109","v":6}]
[null,null,null,null,null,0,null,null,0,0,null,true,true,true,true,true,true,false,6]
[null,null,null,null,null,0,null,null,0,0,null,true,true,true,true,true,true,false,6]
[null,null,null,null,null,0,null,null,0,0,null,true,true,true,true,true,true,false,6]
[null,null,null,null,null,0,null,null,0,0,null,true,true,true,true,true,true,false,6]
[null,null,null,null,null,0,null,null,0,0,null,true,true,true,true,true,true,false,6]
[null,null,null,null,null,0,null,null,0,0,null,true,true,true,true,true,true,false,6]
[null,null,null,null,null,0,null,null,0,0,null,true,true,true,true,true,true,false,6]
[null,null,null,null,null,0,null,null,0,0,null,true,true,true,true,true,true,true,6]
[null,"Elaboration, design, translation of promotional materials; ",null,null,null,{"$f":"SUM(F119:F128)","v":0},null,null,{"$f":"SUM(I119:I128)","v":0},{"$f":"SUM(J119:J128)","v":0},null,null,null,null,null,null,null,true]
[null,null,null,null,null,{"$f":"ROUND(D119*E119,2)","v":0},null,null,{"$f":"ROUND(G119*H119,2)","v":0},{"$f":"F119+I119","v":0},null,{"$f":"ISBLANK(B119)","v":true},{"$f":"ISBLANK(C119)","v":true},{"$f":"ISBLANK(D119)","v":true},{"$f":"ISBLANK(E119)","v":true},{"$f":"ISBLANK(G119)","v":true},{"$f":"ISBLANK(H119)","v":true},{"$f":"IF(S119<4,TRUE,FALSE)","v":false},{"$f":"L119+M119+N119+O119+P119+Q119","v":6}]
[null,null,null,null,null,{"$f":"ROUND(D120*E120,2)","v":0},null,null,{"$f":"ROUND(G120*H120,2)","v":0},0,null,{"$f":"ISBLANK(B120)","v":true},true,true,true,{"$f":"ISBLANK(G120)","v":true},true,{"$f":"IF(S120<4,TRUE,FALSE)","v":false},{"$f":"L120+M120+N120+O120+P120+Q120","v":6}]
[null,null,null,null,null,0,null,null,0,0,null,true,true,true,true,true,true,false,6]
[null,null,null,null,null,0,null,null,0,0,null,true,true,true,true,true,true,false,6]
[null,null,null,null,null,0,null,null,0,0,null,true,true,true,true,true,true,false,6]
[null,null,null,null,null,0,null,null,0,0,null,true,true,true,true,true,true,false,6]
[null,null,null,null,null,0,null,null,0,0,null,true,true,true,true,true,true,false,6]
[null,null,null,null,null,0,null,null,0,0,null,true,true,true,true,true,true,false,6]
[null,null,null,null,null,0,null,null,0,0,null,true,true,true,true,true,true,false,6]
[null,null,null,null,null,0,null,null,0,0,null,true,true,true,true,true,true,true,6]
[null,"Publications in mass-media",null,null,null,{"$f":"SUM(F130:F139)","v":0},null,null,{"$f":"SUM(I130:I139)","v":0},{"$f":"SUM(J130:J139)","v":0},null,null,null,null,null,null,null,true]
[null,null,null,null,null,{"$f":"ROUND(D130*E130,2)","v":0},null,null,{"$f":"ROUND(G130*H130,2)","v":0},{"$f":"F130+I130","v":0},null,{"$f":"ISBLANK(B130)","v":true},{"$f":"ISBLANK(C130)","v":true},{"$f":"ISBLANK(D130)","v":true},{"$f":"ISBLANK(E130)","v":true},{"$f":"ISBLANK(G130)","v":true},{"$f":"ISBLANK(H130)","v":true},{"$f":"IF(S130<4,TRUE,FALSE)","v":false},{"$f":"L130+M130+N130+O130+P130+Q130","v":6}]
[null,null,null,null,null,{"$f":"ROUND(D131*E131,2)","v":0},null,null,{"$f":"ROUND(G131*H131,2)","v":0},0,null,{"$f":"ISBLANK(B131)","v":true},true,true,true,{"$f":"ISBLANK(G131)","v":true},true,{"$f":"IF(S131<4,TRUE,FALSE)","v":false},{"$f":"L131+M131+N131+O131+P131+Q131","v":6}]
[null,null,null,null,null,0,null,null,0,0,null,true,true,true,true,true,true,false,6]
[null,null,null,null,null,0,null,null,0,0,null,true,true,true,true,true,true,false,6]
[null,null,null,null,null,0,null,null,0,0,null,true,true,true,true,true,true,false,6]
[null,null,null,null,null,0,null,null,0,0,null,true,true,true,true,true,true,false,6]
[null,null,null,null,null,0,null,null,0,0,null,true,true,true,true,true,true,false,6]
[null,null,null,null,null,0,null,null,0,0,null,true,true,true,true,true,true,false,6]
[null,null,null,null,null,0,null,null,0,0,null,true,true,true,true,true,true,false,6]
[null,null,null,null,null,0,null,null,0,0,null,true,true,true,true,true,true,true,6]
[null,"Consultancy, studies, designs, website development etc.",null,null,null,{"$f":"SUM(F141:F150)","v":0},null,null,{"$f":"SUM(I141:I150)","v":0},{"$f":"SUM(J141:J150)","v":0},null,null,null,null,null,null,null,true]
[null,null,null,null,null,{"$f":"ROUND(D141*E141,2)","v":0},null,null,{"$f":"ROUND(G141*H141,2)","v":0},{"$f":"F141+I141","v":0},null,{"$f":"ISBLANK(B141)","v":true},{"$f":"ISBLANK(C141)","v":true},{"$f":"ISBLANK(D141)","v":true},{"$f":"ISBLANK(E141)","v":true},{"$f":"ISBLANK(G141)","v":true},{"$f":"ISBLANK(H141)","v":true},{"$f":"IF(S141<4,TRUE,FALSE)","v":false},{"$f":"L141+M141+N141+O141+P141+Q141","v":6}]
[null,null,null,null,null,{"$f":"ROUND(D142*E142,2)","v":0},null,null,{"$f":"ROUND(G142*H142,2)","v":0},0,null,{"$f":"ISBLANK(B142)","v":true},true,true,true,{"$f":"ISBLANK(G142)","v":true},true,{"$f":"IF(S142<4,TRUE,FALSE)","v":false},{"$f":"L142+M142+N142+O142+P142+Q142","v":6}]
[null,null,null,null,null,0,null,null,0,0,null,true,true,true,true,true,true,false,6]
[null,null,null,null,null,0,null,null,0,0,null,true,true,true,true,true,true,false,6]
[null,null,null,null,null,0,null,null,0,0,null,true,true,true,true,true,true,false,6]
[null,null,null,null,null,0,null,null,0,0,null,true,true,true,true,true,true,false,6]
[null,null,null,null,null,0,null,null,0,0,null,true,true,true,true,true,true,false,6]
[null,null,null,null,null,0,null,null,0,0,null,true,true,true,true,true,true,false,6]
[null,null,null,null,null,0,null,null,0,0,null,true,true,true,true,true,true,false,6]
[null,null,null,null,null,0,null,null,0,0,null,true,true,true,true,true,true,true,6]
[null,"Interpreters, lecturers, trainers, experts, moderators etc.",null,null,null,{"$f":"SUM(F152:F161)","v":0},null,null,{"$f":"SUM(I152:I161)","v":0},{"$f":"SUM(J152:J161)","v":0},null,null,null,null,null,null,null,true]
[null,null,null,null,null,{"$f":"ROUND(D152*E152,2)","v":0},null,null,{"$f":"ROUND(G152*H152,2)","v":0},{"$f":"F152+I152","v":0},null,{"$f":"ISBLANK(B152)","v":true},{"$f":"ISBLANK(C152)","v":true},{"$f":"ISBLANK(D152)","v":true},{"$f":"ISBLANK(E152)","v":true},{"$f":"ISBLANK(G152)","v":true},{"$f":"ISBLANK(H152)","v":true},{"$f":"IF(S152<4,TRUE,FALSE)","v":false},{"$f":"L152+M152+N152+O152+P152+Q152","v":6}]
[null,null,null,null,null,{"$f":"ROUND(D153*E153,2)","v":0},null,null,{"$f":"ROUND(G153*H153,2)","v":0},0,null,{"$f":"ISBLANK(B153)","v":true},true,true,true,{"$f":"ISBLANK(G153)","v":true},true,{"$f":"IF(S153<4,TRUE,FALSE)","v":false},{"$f":"L153+M153+N153+O153+P153+Q153","v":6}]
[null,null,null,null,null,0,null,null,0,0,null,true,true,true,true,true,true,false,6]
[null,null,null,null,null,0,null,null,0,0,null,true,true,true,true,true,true,false,6]
[null,null,null,null,null,0,null,null,0,0,null,true,true,true,true,true,true,false,6]
[null,null,null,null,null,0,null,null,0,0,null,true,true,true,true,true,true,false,6]
[null,null,null,null,null,0,null,null,0,0,null,true,true,true,true,true,true,false,6]
[null,null,null,null,null,0,null,null,0,0,null,true,true,true,true,true,true,false,6]
[null,null,null,null,null,0,null,null,0,0,null,true,true,true,true,true,true,false,6]
[null,null,null,null,null,0,null,null,0,0,null,true,true,true,true,true,true,true,6]
[null,"Other",null,null,null,{"$f":"SUM(F163:F172)","v":0},null,null,{"$f":"SUM(I163:I172)","v":0},{"$f":"SUM(J163:J172)","v":0},null,null,null,null,null,null,null,true]
[null,null,null,null,null,{"$f":"ROUND(D163*E163,2)","v":0},null,null,{"$f":"ROUND(G163*H163,2)","v":0},{"$f":"F163+I163","v":0},null,{"$f":"ISBLANK(B163)","v":true},{"$f":"ISBLANK(C163)","v":true},{"$f":"ISBLANK(D163)","v":true},{"$f":"ISBLANK(E163)","v":true},{"$f":"ISBLANK(G163)","v":true},{"$f":"ISBLANK(H163)","v":true},{"$f":"IF(S163<4,TRUE,FALSE)","v":false},{"$f":"L163+M163+N163+O163+P163+Q163","v":6}]
[null,null,null,null,null,{"$f":"ROUND(D164*E164,2)","v":0},null,null,{"$f":"ROUND(G164*H164,2)","v":0},0,null,{"$f":"ISBLANK(B164)","v":true},true,true,true,{"$f":"ISBLANK(G164)","v":true},true,{"$f":"IF(S164<4,TRUE,FALSE)","v":false},{"$f":"L164+M164+N164+O164+P164+Q164","v":6}]
[null,null,null,null,null,0,null,null,0,0,null,true,true,true,true,true,true,false,6]
[null,null,null,null,null,0,null,null,0,0,null,true,true,true,true,true,true,false,6]
[null,null,null,null,null,0,null,null,0,0,null,true,true,true,true,true,true,false,6]
[null,null,null,null,null,0,null,null,0,0,null,true,true,true,true,true,true,false,6]
[null,null,null,null,null,0,null,null,0,0,null,true,true,true,true,true,true,false,6]
[null,null,null,null,null,0,null,null,0,0,null,true,true,true,true,true,true,false,6]
[null,null,null,null,null,0,null,null,0,0,null,true,true,true,true,true,true,false,6]
[null,null,null,null,null,0,null,null,0,0,null,true,true,true,true,true,true,true,6]
[null,"TOTAL",null,null,null,{"$f":"F162+F151+F140+F129+F118+F107+F96+F85+F74+F63+F52","v":0},null,null,{"$f":"I162+I151+I140+I129+I118+I107+I96+I85+I74+I63+I52","v":0},{"$f":"J162+J151+J140+J129+J118+J107+J96+J85+J74+J63+J52","v":0},null,null,null,null,null,null,null,true]
[null,null,null,null,null,null,null,null,null,null,null,null,null,null,null,null,null,true]
[null,"BL5 - EQUIPMENT AND WORKS","Unit","Expenditures in the eligible area",null,null,"Expenditures outside the eligible area",null,null,"TOTAL",null,null,null,null,null,null,null,true]
[null,null,null,"Units","Unit rate","Total","Units","Unit rate","Total",null,null,null,null,null,null,null,null,true]
[null,"Small scale construction",null,null,null,{"$f":"SUM(F178:F187)","v":0},null,null,{"$f":"SUM(I178:I187)","v":0},{"$f":"SUM(J178:J187)","v":0},null,null,null,null,null,null,null,true]
[null,null,null,null,null,{"$f":"ROUND(D178*E178,2)","v":0},null,null,{"$f":"ROUND(G178*H178,2)","v":0},{"$f":"F178+I178","v":0},null,{"$f":"ISBLANK(B178)","v":true},{"$f":"ISBLANK(C178)","v":true},{"$f":"ISBLANK(D178)","v":true},{"$f":"ISBLANK(E178)","v":true},{"$f":"ISBLANK(G178)","v":true},{"$f":"ISBLANK(H178)","v":true},{"$f":"IF(S178<4,TRUE,FALSE)","v":false},{"$f":"L178+M178+N178+O178+P178+Q178","v":6}]
[null,null,null,null,null,{"$f":"ROUND(D179*E179,2)","v":0},null,null,{"$f":"ROUND(G179*H179,2)","v":0},0,null,{"$f":"ISBLANK(B179)","v":true},true,true,true,{"$f":"ISBLANK(G179)","v":true},true,{"$f":"IF(S179<4,TRUE,FALSE)","v":false},{"$f":"L179+M179+N179+O179+P179+Q179","v":6}]
[null,null,null,null,null,0,null,null,0,0,null,true,true,true,true,true,true,false,6]
[null,null,null,null,null,0,null,null,0,0,null,true,true,true,true,true,true,false,6]
[null,null,null,null,null,0,null,null,0,0,null,true,true,true,true,true,true,false,6]
[null,null,null,null,null,0,null,null,0,0,null,true,true,true,true,true,true,false,6]
[null,null,null,null,null,0,null,null,0,0,null,true,true,true,true,true,true,false,6]
[null,null,null,null,null,0,null,null,0,0,null,true,true,true,true,true,true,false,6]
[null,null,null,null,null,0,null,null,0,0,null,true,true,true,true,true,true,false,6]
[null,null,null,null,null,0,null,null,0,0,null,true,true,true,true,true,true,true,6]
[null,"Supply",null,null,null,{"$f":"SUM(F189:F198)","v":0},null,null,{"$f":"SUM(I189:I198)","v":0},{"$f":"SUM(J189:J198)","v":0},null,null,null,null,null,null,null,true]
[null,null,null,null,null,{"$f":"ROUND(D189*E189,2)","v":0},null,null,{"$f":"ROUND(G189*H189,2)","v":0},{"$f":"F189+I189","v":0},null,{"$f":"ISBLANK(B189)","v":true},{"$f":"ISBLANK(C189)","v":true},{"$f":"ISBLANK(D189)","v":true},{"$f":"ISBLANK(E189)","v":true},{"$f":"ISBLANK(G189)","v":true},{"$f":"ISBLANK(H189)","v":true},{"$f":"IF(S189<4,TRUE,FALSE)","v":false},{"$f":"L189+M189+N189+O189+P189+Q189","v":6}]
[null,null,null,null,null,{"$f":"ROUND(D190*E190,2)","v":0},null,null,{"$f":"ROUND(G190*H190,2)","v":0},0,null,{"$f":"ISBLANK(B190)","v":true},true,true,true,{"$f":"ISBLANK(G190)","v":true},true,{"$f":"IF(S190<4,TRUE,FALSE)","v":false},{"$f":"L190+M190+N190+O190+P190+Q190","v":6}]
[null,null,null,null,null,0,null,null,0,0,null,true,true,true,true,true,true,false,6]
[null,null,null,null,null,0,null,null,0,0,null,true,true,true,true,true,true,false,6]
[null,null,null,null,null,0,null,null,0,0,null,true,true,true,true,true,true,false,6]
[null,null,null,null,null,0,null,null,0,0,null,true,true,true,true,true,true,false,6]
[null,null,null,null,null,0,null,null,0,0,null,true,true,true,true,true,true,false,6]
[null,null,null,null,null,0,null,null,0,0,null,true,true,true,true,true,true,false,6]
[null,null,null,null,null,0,null,null,0,0,null,true,true,true,true,true,true,false,6]
[null,null,null,null,null,0,null,null,0,0,null,true,true,true,true,true,true,true,6]
[null,"TOTAL",null,null,null,{"$f":"F188+F177","v":0},null,null,{"$f":"I188+I177","v":0},{"$f":"J188+J177","v":0},null,null,null,null,null,null,null,true]
[null,null,null,null,null,null,null,null,null,null,null,null,null,null,null,null,null,true]
[null,"BL6 - PROJECT PREPARATION","Unit","Expenditures in the eligible area",null,null,"Expenditures outside the eligible area",null,null,"TOTAL",null,null,null,null,null,null,null,true]
[null,null,null,"Units","Unit rate","Total","Units","Unit rate","Total",null,null,null,null,null,null,null,null,true]
[null,"6.1. Preparation of Application package ",null,null,null,{"$f":"SUM(F204:F213)","v":0},null,null,{"$f":"SUM(I204:I213)","v":0},{"$f":"SUM(J204:J213)","v":0},null,{"$f":"ISBLANK(B203)","v":false},{"$f":"ISBLANK(C203)","v":true},{"$f":"ISBLANK(D203)","v":true},{"$f":"ISBLANK(E203)","v":true},{"$f":"ISBLANK(G203)","v":true},{"$f":"ISBLANK(H203)","v":true},{"$f":"IF(S203<4,TRUE,FALSE)","v":false},{"$f":"L203+M203+N203+O203+P203+Q203","v":5}]
[null,null,null,null,null,{"$f":"ROUND(D204*E204,2)","v":0},null,null,{"$f":"ROUND(G204*H204,2)","v":0},{"$f":"F204+I204","v":0},null,{"$f":"ISBLANK(B204)","v":true},true,true,true,{"$f":"ISBLANK(G204)","v":true},true,{"$f":"IF(S204<4,TRUE,FALSE)","v":false},{"$f":"L204+M204+N204+O204+P204+Q204","v":6}]
[null,null,null,null,null,{"$f":"ROUND(D205*E205,2)","v":0},null,null,{"$f":"ROUND(G205*H205,2)","v":0},0,null,true,true,true,true,true,true,false,6]
[null,null,null,null,null,0,null,null,0,0,null,true,true,true,true,true,true,false,6]
[null,null,null,null,null,0,null,null,0,0,null,true,true,true,true,true,true,false,6]
[null,null,null,null,null,0,null,null,0,0,null,true,true,true,true,true,true,false,6]
[null,null,null,null,null,0,null,null,0,0,null,true,true,true,true,true,true,false,6]
[null,null,null,null,null,0,null,null,0,0,null,true,true,true,true,true,true,false,6]
[null,null,null,null,null,0,null,null,0,0,null,true,true,true,true,true,true,false,6]
[null,null,null,null,null,0,null,null,0,0,null,true,true,true,true,true,true,true,6]
[null,null,null,null,null,0,null,null,0,0,null,null,null,null,null,null,null,true]
[null,"6.2. Preparation of technical documentation",null,null,null,{"$f":"SUM(F215:F224)","v":0},null,null,{"$f":"SUM(I215:I224)","v":0},{"$f":"SUM(J215:J224)","v":0},null,{"$f":"ISBLANK(B214)","v":false},{"$f":"ISBLANK(C214)","v":true},{"$f":"ISBLANK(D214)","v":true},{"$f":"ISBLANK(E214)","v":true},{"$f":"ISBLANK(G214)","v":true},{"$f":"ISBLANK(H214)","v":true},{"$f":"IF(S214<4,TRUE,FALSE)","v":false},{"$f":"L214+M214+N214+O214+P214+Q214","v":5}]
[null,null,null,null,null,{"$f":"ROUND(D215*E215,2)","v":0},null,null,{"$f":"ROUND(G215*H215,2)","v":0},{"$f":"F215+I215","v":0},null,{"$f":"ISBLANK(B215)","v":true},true,true,true,{"$f":"ISBLANK(G215)","v":true},true,{"$f":"IF(S215<4,TRUE,FALSE)","v":false},{"$f":"L215+M215+N215+O215+P215+Q215","v":6}]
[null,null,null,null,null,{"$f":"ROUND(D216*E216,2)","v":0},null,null,{"$f":"ROUND(G216*H216,2)","v":0},0,null,true,true,true,true,true,true,false,6]
[null,null,null,null,null,0,null,null,0,0,null,true,true,true,true,true,true,false,6]
[null,null,null,null,null,0,null,null,0,0,null,true,true,true,true,true,true,false,6]
[null,null,null,null,null,0,null,null,0,0,null,true,true,true,true,true,true,false,6]
[null,null,null,null,null,0,null,null,0,0,null,true,true,true,true,true,true,false,6]
[null,null,null,null,null,0,null,null,0,0,null,true,true,true,true,true,true,false,6]
[null,null,null,null,null,0,null,null,0,0,null,true,true,true,true,true,true,false,6]
[null,null,null,null,null,0,null,null,0,0,null,true,true,true,true,true,true,true,6]
[null,null,null,null,null,0,null,null,0,0,null,null,null,null,null,null,null,true]
[null,"TOTAL",null,null,null,{"$f":"F214+F203","v":0},null,null,{"$f":"I214+I203","v":0},{"$f":"J214+J203","v":0},null,null,null,null,null,null,null,true]
[null,null,null,null,null,null,null,null,null,null,null,null,null,null,null,null,null,true]
[null,"Own Contribution","Unit","Expenditures in the eligible area",null,null,"Expenditures outside the eligible area",null,null,"TOTAL",null,null,null,null,null,null,null,true]
[null,null,null,"Units","Unit rate","Total","Units","Unit rate","Total",null,null,null,null,null,null,null,null,true]
[null,null,null,null,null,{"$f":"D229*E229","v":0},null,null,{"$f":"G229*H229","v":0},{"$f":"ROUND(G229*I229,2)","v":0},null,null,null,null,null,null,null,true]
[null,null,null,null,null,null,null,null,null,null,null,null,null,null,null,null,null,true]
[null,"Total direct project costs (BL3+BL4+BL5)",null,{"$f":"F199+F173+F48","v":0},null,null,{"$f":"I199+I173+I48","v":0},null,null,{"$f":"D231+G231","v":0},null,null,null,null,null,null,null,true]
[null,"TOTAL PROJECT COSTS",null,{"$f":"IF(L9,D231,D231+F229+F213+J6+J11)","v":0},null,null,{"$f":"IF(L9,G231+I229+I213+J6+J11,G231+I229)","v":0},null,null,{"$f":"D232+G232","v":0},null,null,null,null,null,null,null,true]
[null,null,null,null,null,null,null,null,null,null,null,null,null,null,null,null,null,true]
[null,null,null,null,null,{"$f":"ROUND(D234*E234,2)","v":0},null,null,{"$f":"ROUND(G234*H234,2)","v":0},{"$f":"F234+I234","v":0},null,{"$f":"ISBLANK(B234)","v":true},true,true,true,{"$f":"ISBLANK(G234)","v":true},true,true,{"$f":"L234+M234+N234+O234+P234+Q234","v":6}]
[null,"TOTAL",null,null,null,{"$f":"SUM(F225:F234)","v":0},null,null,{"$f":"SUM(I225:I234)","v":0},{"$f":"SUM(J225:J234)","v":0},null,null,null,null,null,null,null,true]
[null,null,null,null,null,null,null,null,null,null,null,null,null,null,null,null,null,true]
[null,"Own Contribution","Unit","Expenditures in the eligible area",null,null,"Expenditures outside the eligible area",null,null,"TOTAL",null,null,null,null,null,null,null,true]
[null,null,null,"Units","Unit rate","Total","Units","Unit rate","Total",null,null,null,null,null,null,null,null,true]
[null,null,null,null,null,{"$f":"D239*E239","v":0},null,null,{"$f":"G239*H239","v":0},{"$f":"ROUND(G239*I239,2)","v":0},null,null,null,null,null,null,null,true]
[null,null,null,null,null,null,null,null,null,null,null,null,null,null,null,null,null,true]
[null,"Total direct project costs (BL3+BL4+BL5)",null,{"$f":"F221+F195+F48","v":0},null,null,{"$f":"I221+I195+I48","v":0},null,null,{"$f":"D241+G241","v":0},null,null,null,null,null,null,null,true]
[null,"TOTAL PROJECT COSTS",null,{"$f":"IF(L9,D241,D241+F239+F235+J6+J11)","v":0},null,null,{"$f":"IF(L9,G241+I239+I235+J6+J11,G241+I239)","v":0},null,null,{"$f":"D242+G242","v":0},null,null,null,null,null,null,null,true]
[null,null,null,null,null,null,null,null,null,null,null,null,null,null,null,null,null,true]
[null,null,null,null,null,null,null,null,null,null,null,null,null,null,null,null,null,true]

{"sheet":"Table 2-total","index":15,"n_rows":44,"n_cols":3,"rows_kept":44,"cut":false,"hidden":false,"merged":[[2,0,3,0],[5,0,6,0],[0,0,0,2]]}
["TABLE 2 - DETAILED BREAKDOWN OF BUDGET LINES - TOTAL"]
[]
["BL1 - STAFF COSTS","TOTAL"]
[null,{"$f":"'T2-B(PP1)'!J6+'T2-B(PP2)'!J6+'T2-B(PP3)'!J6+'T2-B(PP4)'!J6+'T2-B(PP5)'!J6","v":0},{"$f":"B4/B44","v":{"$error":"#REF!"}}]
[]
["BL2 - OFFICE AND ADMINISTRATIVE COSTS","TOTAL"]
[null,{"$f":"'T2-B(PP1)'!J11+'T2-B(PP2)'!J11+'T2-B(PP3)'!J11+'T2-B(PP4)'!J11+'T2-B(PP5)'!J11","v":0},{"$f":"B7/$B$44","v":{"$error":"#REF!"}}]
[]
["BL3 - TRAVEL AND ACCOMMODATION","TOTAL","%"]
["Travel costs",{"$f":"'T2-B(PP1)'!J15+'T2-B(PP2)'!J15+'T2-B(PP3)'!J15+'T2-B(PP4)'!J15+'T2-B(PP5)'!J15","v":0},{"$f":"B10/$B$44","v":{"$error":"#REF!"}}]
["Daily allowances",{"$f":"'T2-B(PP1)'!J26+'T2-B(PP2)'!J26+'T2-B(PP3)'!J26+'T2-B(PP4)'!J26+'T2-B(PP5)'!J26","v":0},{"$f":"B11/$B$44","v":{"$error":"#REF!"}}]
["Accommodation costs",{"$f":"'T2-B(PP1)'!J37+'T2-B(PP2)'!J37+'T2-B(PP3)'!J37+'T2-B(PP4)'!J37+'T2-B(PP5)'!J37","v":0},{"$f":"B12/$B$44","v":{"$error":"#REF!"}}]
["TOTAL",{"$f":"SUM(B10:B12)","v":0},{"$f":"B13/B$44","v":{"$error":"#REF!"}}]
[]
["BL4 - EXTERNAL EXPERTISE AND SERVICES COSTS","TOTAL"]
["Rent of hall for events",{"$f":"'T2-B(PP1)'!J52+'T2-B(PP2)'!J52+'T2-B(PP3)'!J52+'T2-B(PP4)'!J52+'T2-B(PP5)'!J52","v":0},{"$f":"B16/$B$44","v":{"$error":"#REF!"}}]
["Rent of audio/video equipment for events",{"$f":"'T2-B(PP1)'!J63+'T2-B(PP2)'!J63+'T2-B(PP3)'!J63+'T2-B(PP4)'!J63+'T2-B(PP5)'!J63","v":0},{"$f":"B17/$B$44","v":{"$error":"#REF!"}}]
["Rent of vehicle for event",{"$f":"'T2-B(PP1)'!J74+'T2-B(PP2)'!J74+'T2-B(PP3)'!J74+'T2-B(PP4)'!J74+'T2-B(PP5)'!J74","v":0},{"$error":"#REF!"}]
["Catering for events",{"$f":"'T2-B(PP1)'!J85+'T2-B(PP2)'!J85+'T2-B(PP3)'!J85+'T2-B(PP4)'!J85+'T2-B(PP5)'!J85","v":0},{"$error":"#REF!"}]
["Accommodations for participants in the events ",{"$f":"'T2-B(PP1)'!J96+'T2-B(PP2)'!J96+'T2-B(PP3)'!J96+'T2-B(PP4)'!J96+'T2-B(PP5)'!J96","v":0},{"$error":"#REF!"}]
["Preparation of materials for events",{"$f":"'T2-B(PP1)'!J107+'T2-B(PP2)'!J107+'T2-B(PP3)'!J107+'T2-B(PP4)'!J107+'T2-B(PP5)'!J107","v":0},{"$error":"#REF!"}]
["Consumables for events",{"$f":"'T2-B(PP1)'!J118+'T2-B(PP2)'!J118+'T2-B(PP3)'!J118+'T2-B(PP4)'!J118+'T2-B(PP5)'!J118","v":0},{"$error":"#REF!"}]
["Purchase of advertising materials",{"$f":"'T2-B(PP1)'!J129+'T2-B(PP2)'!J129+'T2-B(PP3)'!J129+'T2-B(PP4)'!J129+'T2-B(PP5)'!J129","v":0},{"$error":"#REF!"}]
["Elaboration, design, translation of advertising materials",{"$f":"'T2-B(PP1)'!J140+'T2-B(PP2)'!J140+'T2-B(PP3)'!J140+'T2-B(PP4)'!J140+'T2-B(PP5)'!J140","v":0},{"$error":"#REF!"}]
["Publications in mass-media",{"$f":"'T2-B(PP1)'!J151+'T2-B(PP2)'!J151+'T2-B(PP3)'!J151+'T2-B(PP4)'!J151+'T2-B(PP5)'!J151","v":0},{"$error":"#REF!"}]
["Consultancy,studies,designs, website development, etc.",{"$f":"'T2-B(PP1)'!J162+'T2-B(PP2)'!J162+'T2-B(PP3)'!J162+'T2-B(PP4)'!J162+'T2-B(PP5)'!J162","v":0},{"$error":"#REF!"}]
["Interpreters, lecturers, trainers, erc.",{"$f":"'T2-B(PP1)'!#REF!+'T2-B(PP2)'!J173+'T2-B(PP3)'!J173+'T2-B(PP4)'!J173+'T2-B(PP5)'!J173","v":{"$error":"#REF!"}},{"$error":"#REF!"}]
["Others",{"$f":"'T2-B(PP1)'!#REF!+'T2-B(PP2)'!J184+'T2-B(PP3)'!J184+'T2-B(PP4)'!J184+'T2-B(PP5)'!J184","v":{"$error":"#REF!"}},{"$f":"B28/$B$44","v":{"$error":"#REF!"}}]
["TOTAL",{"$f":"SUM(B16:B28)","v":{"$error":"#REF!"}},{"$f":"B29/B$42","v":{"$error":"#REF!"}}]
[]
["BL5 -EQUIPMENT AND WORKS","TOTAL"]
["Small scale construction",{"$f":"'T2-B(PP1)'!J177+'T2-B(PP2)'!J199+'T2-B(PP3)'!J199+'T2-B(PP4)'!J199+'T2-B(PP5)'!J199","v":0},{"$f":"B32/$B$44","v":{"$error":"#REF!"}}]
["Supply",{"$f":"'T2-B(PP1)'!J188+'T2-B(PP2)'!J210+'T2-B(PP3)'!J210+'T2-B(PP4)'!J210+'T2-B(PP5)'!J210","v":0},{"$f":"B33/$B$44","v":{"$error":"#REF!"}}]
["TOTAL",{"$f":"SUM(B32:B33)","v":0},{"$f":"B34/B$44","v":{"$error":"#REF!"}}]
[]
["BL6 - PROJECT PREPARATION","TOTAL"]
["Project preparation",{"$f":"'T2-B(PP1)'!J213+'T2-B(PP2)'!J235+'T2-B(PP3)'!J235+'T2-B(PP4)'!J235+'T2-B(PP5)'!J235","v":0},{"$f":"B37/$B$44","v":{"$error":"#REF!"}}]
["TOTAL",{"$f":"B37","v":0},{"$f":"B38/B$44","v":{"$error":"#REF!"}}]
[]
["Own contribution",{"$f":"'T2-B(PP1)'!J229+'T2-B(PP2)'!F239+'T2-B(PP3)'!F239+'T2-B(PP4)'!F239+'T2-B(PP5)'!F239","v":0},{"$f":"B40/B$44","v":{"$error":"#REF!"}}]
[]
["Total direct project costs (BL3+BL4+BL5)",{"$f":"B34+B29+B13","v":{"$error":"#REF!"}},{"$f":"B42/B44","v":{"$error":"#REF!"}}]
[]
["TOTAL PROJECT COSTS",{"$f":"B42+B38+B7+B4+B40","v":{"$error":"#REF!"}}]

{"sheet":"Table 3-summary","index":16,"n_rows":27,"n_cols":24,"rows_kept":27,"cut":false,"hidden":false,"merged":[[0,0,0,5],[2,10,2,13],[10,0,10,1],[14,0,14,1],[2,0,3,0],[2,1,3,1],[2,2,3,2],[2,4,3,4],[2,5,3,5],[2,3,3,3],[2,6,3,6],[20,2,20,5],[15,2,15,5],[16,2,16,5],[18,2,18,5],[17,2,17,5],[19,2,19,5]]}
["TABLE 3 - SUMMARY BREAKDOWN OF BUDGET LINES PER ORIGIN OF PROJECT PARTNER"]
[]
["No","BUDGET LINE","Partners' budget in the eligible area","Partners' budget outside of the eligible area","TOTAL"," % ouside eligible area of total project costs"," %  of total project costs",null,null,null,null,null,null,null,null,null,null,null,{"$f":"'PP1(LP)'!C15","v":0},{"$f":"'PP2'!C15","v":0},{"$f":"'PP3'!C15","v":0},{"$f":"'PP4'!C15","v":0},{"$f":"'PP5'!C15","v":0}]
[null,null,null,null,null,null,null,null,"Defined error",null,"Type","Error",null,null,null,null,null,"Outside eligible area",{"$f":"IF($S$3=$R$4,TRUE,FALSE)","v":false},{"$f":"IF(T3=$R$4,TRUE,FALSE)","v":false},{"$f":"IF(U3=$R$4,TRUE,FALSE)","v":false},{"$f":"IF(V3=$R$4,TRUE,FALSE)","v":false},{"$f":"IF(W3=$R$4,TRUE,FALSE)","v":false}]
["BL 1","Staff costs",{"$f":"E5-D5","v":0},{"$f":"X5","v":0},{"$f":"'Table 2-total'!B4","v":0},{"$f":"D5/E5","v":{"$error":"#DIV/0!"}},{"$f":"E5/E11","v":{"$error":"#REF!"}},null,{"$f":"CONCATENATE(L5,L6,L7,L10)","v":{"$error":"#REF!"}},null,"Min Budget",{"$f":"IF(E15<I27,\" total budget is less than minimum required\",\"\")","v":{"$error":"#REF!"}},null,{"$f":"L5<>\"\"","v":{"$error":"#REF!"}},{"$f":"N5+N6+N7+N10+N11","v":{"$error":"#REF!"}},null,null,null,{"$f":"IF(S4,'T2-B(PP1)'!J6,0)","v":0},{"$f":"IF(T4,'T2-B(PP2)'!J6,0)","v":0},{"$f":"IF(U4,'T2-B(PP3)'!J6,0)","v":0},{"$f":"IF(V4,'T2-B(PP4)'!J6,0)","v":0},{"$f":"IF(W4,'T2-B(PP5)'!J6,0)","v":0},{"$f":"SUM(S5:W5)","v":0}]
["BL 2 ","Ofiice and administrative costs",0,0,{"$f":"'Table 2-total'!B7","v":0},{"$error":"#DIV/0!"},{"$f":"E6/E11","v":{"$error":"#REF!"}},null,{"$f":"I5<>\"\"","v":{"$error":"#REF!"}},null,"Max Budget",{"$f":"IF(E15>J27,\" total budget exceeds the limits\",\"\")","v":{"$error":"#REF!"}},null,{"$f":"L6<>\"\"","v":{"$error":"#REF!"}},{"$f":"IF(O5>1,\" errors \",\" error \")","v":{"$error":"#REF!"}},null,null,null,{"$f":"IF(S4,'T2-B(PP1)'!J10,0)","v":0},{"$f":"IF(T4,'T2-B(PP2)'!J10,0)","v":0},{"$f":"IF(U4,'T2-B(PP3)'!J10,0)","v":0},{"$f":"IF(V4,'T2-B(PP4)'!J10,0)","v":0},{"$f":"IF(W4,'T2-B(PP5)'!J10,0)","v":0},0]
["BL 3 ","Travel and accomodation",0,0,{"$f":"'Table 2-total'!B13","v":0},{"$error":"#DIV/0!"},{"$f":"E7/E11","v":{"$error":"#REF!"}},null,{"$f":"CONCATENATE(O5,O6,\"found:\")","v":{"$error":"#REF!"}},null,"Type",{"$f":"VLOOKUP(K11,K8:L10,2)","v":{"$error":"#N/A"}},null,{"$f":"L7<>\"\"","v":{"$error":"#N/A"}},null,null,null,null,{"$f":"IF(S4,'T2-B(PP1)'!J48,'T2-B(PP1)'!I48)","v":0},{"$f":"IF(T4,'T2-B(PP2)'!J48,'T2-B(PP2)'!I48)","v":0},{"$f":"IF(U4,'T2-B(PP3)'!J48,'T2-B(PP3)'!I48)","v":0},{"$f":"IF(V4,'T2-B(PP4)'!J48,'T2-B(PP4)'!I48)","v":0},{"$f":"IF(W4,'T2-B(PP5)'!J48,'T2-B(PP5)'!I48)","v":0},0]
["BL 4 ","External expertise and services",{"$f":"E8-D8","v":{"$error":"#REF!"}},{"$f":"X8","v":0},{"$f":"'Table 2-total'!B29","v":{"$error":"#REF!"}},{"$error":"#REF!"},{"$f":"E8/E11","v":{"$error":"#REF!"}},null,null,{"$f":"'T2-B(PP1)'!J188+'T2-B(PP2)'!J210+'T2-B(PP3)'!J210+'T2-B(PP4)'!J210+'T2-B(PP5)'!J210","v":0},"Soft",{"$f":"IF(M8>50,\" supply exceeds 50 % of the budget\",\"\")","v":{"$error":"#REF!"}},{"$f":"J8/E11*100","v":{"$error":"#REF!"}},null,null,null,null,null,{"$f":"IF(S4,'T2-B(PP1)'!J173,'T2-B(PP1)'!I173)","v":0},{"$f":"IF(T4,'T2-B(PP2)'!J195,'T2-B(PP2)'!I195)","v":0},{"$f":"IF(U4,'T2-B(PP3)'!J195,'T2-B(PP3)'!I195)","v":0},{"$f":"IF(V4,'T2-B(PP4)'!J195,'T2-B(PP4)'!I195)","v":0},{"$f":"IF(W4,'T2-B(PP5)'!J195,'T2-B(PP5)'!I195)","v":0},0]
["BL 5 ","Equipment and works",0,0,{"$f":"'Table 2-total'!B34","v":0},{"$error":"#DIV/0!"},{"$f":"E9/E11","v":{"$error":"#REF!"}},null,null,null,"Investment",{"$f":"IF(M9<70,\" investment is less than 70 % of the budget\",\"\")","v":{"$error":"#REF!"}},{"$f":"E9/E15*100","v":{"$error":"#REF!"}},null,null,null,null,null,{"$f":"IF(S4,'T2-B(PP1)'!J199,'T2-B(PP1)'!I199)","v":0},{"$f":"IF(T4,'T2-B(PP2)'!J221,0)","v":0},{"$f":"IF(U4,'T2-B(PP3)'!J221,0)","v":0},{"$f":"IF(V4,'T2-B(PP4)'!J221,0)","v":0},{"$f":"IF(W4,'T2-B(PP5)'!J221,0)","v":0},0]
["BL 6","Project preparation",0,0,{"$f":"'Table 2-total'!B37","v":0},{"$error":"#DIV/0!"},{"$f":"E10/E11","v":{"$error":"#REF!"}},null,null,null,"Preparation",{"$f":"IF(M10>0.03,\" project preparation exceeds 3 %\",\"\")","v":{"$error":"#REF!"}},{"$f":"E10/E11","v":{"$error":"#REF!"}},{"$f":"L10<>\"\"","v":{"$error":"#REF!"}},null,null,null,null,{"$f":"IF(S4,'T2-B(PP1)'!J213,0)","v":0},{"$f":"IF(T4,'T2-B(PP2)'!J235,'T2-B(PP2)'!I221)","v":0},{"$f":"IF(U4,'T2-B(PP3)'!J235,'T2-B(PP3)'!I221)","v":0},{"$f":"IF(V4,'T2-B(PP4)'!J235,'T2-B(PP4)'!I221)","v":0},{"$f":"IF(W4,'T2-B(PP5)'!J235,'T2-B(PP5)'!I221)","v":0},0]
["TOTAL ",null,{"$f":"SUM(C5:C10)","v":{"$error":"#REF!"}},{"$f":"SUM(D5:D10)","v":0},{"$f":"SUM(E5:E10)","v":{"$error":"#REF!"}},{"$error":"#REF!"},null,null,{"$f":"Cover!C29","v":0},null,{"$f":"Cover!C31","v":0},{"$f":"IF(N11,\" small scale construction is not allowed\",\"\")","v":""},{"$f":"E9-J8","v":0},{"$f":"IF(K11=\"Soft\",M11<>0,FALSE)","v":false},null,null,null,null,{"$f":"IF(S5,'T2-B(PP1)'!J229,0)","v":0},{"$f":"IF(T5,'T2-B(PP2)'!J239,0)","v":0},{"$f":"IF(U5,'T2-B(PP3)'!J239,0)","v":0},{"$f":"IF(V5,'T2-B(PP4)'!J239,0)","v":0},{"$f":"IF(W5,'T2-B(PP5)'!J239,0)","v":0},0]
[null,null,null,null,null,null,null,null,null,{"$f":"IF(ISERROR(VLOOKUP(I11,I15:J24,2)+1),1,VLOOKUP(I11,I15:J24,2)+1)","v":1},null,{"$f":"IF(K11=\"Soft\",1,0)","v":0}]
[null,"Own contribution",{"$f":"E13-D13","v":0},{"$f":"X11","v":0},{"$f":"'Table 2-total'!B40","v":0}]
[null,null,null,null,null,null,null,null,null,{"$f":"J12*10+L12","v":10}]
["TOTAL PROJECT",null,{"$f":"C13+C11","v":{"$error":"#REF!"}},{"$f":"D13+D11","v":0},{"$f":"E13+E11","v":{"$error":"#REF!"}},{"$f":"D15/E15","v":{"$error":"#REF!"}},null,null,"1.1. Tourist attractiveness",1,"Investment ",0,10,300000,600000,12,24]
[null,{"$f":"I7","v":{"$error":"#REF!"}},{"$f":"L5","v":{"$error":"#REF!"}},null,null,null,null,null,"1.2. Cross-border touristic product",2,"Soft",1,21,100000,200000,8,15]
[null,null,{"$f":"L6","v":{"$error":"#REF!"}},null,null,null,null,null,"1.3. People to people networking",3,"Soft",1,31,75000,150000,8,15]
[null,null,{"$f":"L7","v":{"$error":"#N/A"}},null,null,null,null,null,"2.1. Skills & entrepreneurship",4,"Investment",0,40,300000,600000,12,24]
[null,null,{"$f":"L10","v":{"$error":"#REF!"}},null,null,null,null,null,null,null,"Soft",1,41,100000,200000,8,15]
[null,null,{"$f":"L11","v":""},null,null,null,null,null,"2.2. People to people networking",5,"Soft",1,51,75000,150000,8,15]
[null,null,{"$f":"IF(K11=\"Soft\",L8,\"\")","v":""},null,null,null,null,null,"3.1. Joint risk management",6,"Investment",0,60,300000,600000,12,24]
[null,null,null,null,null,null,null,null,null,null,"Soft",1,61,100000,200000,8,15]
[null,null,null,null,null,null,null,null,"3.2. Nature protection",7,"Investment",0,70,300000,600000,12,24]
[null,null,null,null,null,null,null,null,null,null,"Soft",1,71,100000,200000,8,15]
[]
[null,null,null,null,null,null,null,null,"Min Fin","Max Fin","Min Dur","Max Dur"]
[null,null,null,null,null,null,null,null,{"$f":"VLOOKUP(J14,M15:Q24,2)","v":300000},{"$f":"VLOOKUP(J14,M15:Q24,3)","v":600000},{"$f":"VLOOKUP(J14,M15:Q24,4)","v":12},{"$f":"VLOOKUP(J14,M15:Q24,5)","v":24}]

{"sheet":"Table 4 PP`BL","index":17,"n_rows":21,"n_cols":8,"rows_kept":21,"cut":false,"hidden":false,"merged":[[9,0,9,1],[10,0,10,1],[14,0,14,1],[12,0,12,1],[0,0,0,7]]}
["TABLE 4 - SUMMARY BREAKDOWN OF BUDGET LINES PER PROJECT PARTNERS"]
[]
["No","BUDGET LINE","PP1 LP","PP2","PP3","PP4","PP5","Total"]
["BL 1","Staff costs",{"$f":"'T2-B(PP1)'!J6","v":0},{"$f":"'T2-B(PP2)'!J6","v":0},{"$f":"'T2-B(PP3)'!J6","v":0},{"$f":"'T2-B(PP4)'!J6","v":0},{"$f":"'T2-B(PP5)'!J6","v":0},{"$f":"SUM(C4:G4)","v":0}]
["BL 2 ","Ofiice and administrative costs",{"$f":"'T2-B(PP1)'!J10","v":0},{"$f":"'T2-B(PP2)'!J10","v":0},{"$f":"'T2-B(PP3)'!J10","v":0},{"$f":"'T2-B(PP4)'!J10","v":0},{"$f":"'T2-B(PP5)'!J10","v":0},0]
["BL 3 ","Travel and accomodation",{"$f":"'T2-B(PP1)'!J48","v":0},{"$f":"'T2-B(PP2)'!J48","v":0},{"$f":"'T2-B(PP3)'!J48","v":0},{"$f":"'T2-B(PP4)'!J48","v":0},{"$f":"'T2-B(PP5)'!J48","v":0},0]
["BL 4 ","External expertise and services",{"$f":"'T2-B(PP1)'!J173","v":0},{"$f":"'T2-B(PP2)'!J195","v":0},{"$f":"'T2-B(PP3)'!J195","v":0},{"$f":"'T2-B(PP4)'!J195","v":0},{"$f":"'T2-B(PP5)'!J195","v":0},0]
["BL 5 ","Equipment and works",{"$f":"'T2-B(PP1)'!J199","v":0},{"$f":"'T2-B(PP2)'!J221","v":0},{"$f":"'T2-B(PP3)'!J221","v":0},{"$f":"'T2-B(PP4)'!J221","v":0},{"$f":"'T2-B(PP5)'!J221","v":0},0]
["BL 6","Project preparation",{"$f":"'T2-B(PP1)'!J213","v":0},{"$f":"'T2-B(PP2)'!J235","v":0},{"$f":"'T2-B(PP3)'!J235","v":0},{"$f":"'T2-B(PP4)'!J235","v":0},{"$f":"'T2-B(PP5)'!J235","v":0},0]
["TOTAL ",null,{"$f":"SUM(C4:C9)","v":0},0,0,0,0,0]
["% from TOTAL ",null,{"$f":"C10/$H$10","v":{"$error":"#DIV/0!"}},{"$f":"D10/$H$10","v":{"$error":"#DIV/0!"}},{"$f":"E10/$H$10","v":{"$error":"#DIV/0!"}},{"$f":"F10/$H$10","v":{"$error":"#DIV/0!"}},{"$f":"G10/$H$10","v":{"$error":"#DIV/0!"}}]
[]
["Own Contribution",null,{"$f":"'T2-B(PP1)'!J229","v":0},{"$f":"'T2-B(PP2)'!F239","v":0},{"$f":"'T2-B(PP3)'!F239","v":0},{"$f":"'T2-B(PP4)'!F239","v":0},{"$f":"'T2-B(PP5)'!F239","v":0},{"$f":"SUM(C13:G13)","v":0}]
[]
["TOTAL PROJECT COST",null,{"$f":"C13+C10","v":0},0,0,0,0,0]
[]
[null,"Eligible area",null,null,null,null,null,0]
[null,"%",null,null,null,null,null,{"$error":"#DIV/0!"}]
[null,"Adjacent area",null,null,null,null,null,0]
[null,"%",null,null,null,null,null,{"$error":"#DIV/0!"}]
[null,"TOTAL",null,null,null,null,null,0]

{"sheet":"Table 5-Sources","index":18,"n_rows":26,"n_cols":7,"rows_kept":26,"cut":false,"hidden":false,"merged":[[2,6,4,6]]}
["TABLE 5 - PROJECT SOURCES / PARTNERS' CONTRIBUTION"]
[]
["Project partners","PP1 (LP)","PP2","PP3","PP4","PP5","Total"]
["Country",{"$f":"IF(('PP1(LP)'!K14=1),\"BG\",\"RS\")","v":"BG"},{"$f":"IF(('PP2'!K14=1),\"BG\",\"RS\")","v":"RS"},{"$f":"IF(('PP3'!K14=1),\"BG\",\"RS\")","v":"BG"},{"$f":"IF(('PP4'!K14=1),\"BG\",\"RS\")","v":"RS"},{"$f":"IF(('PP5'!K14=1),\"BG\",\"RS\")","v":"BG"}]
["Eligible area",{"$f":"IF('Table 3-summary'!S4,\"Out\",\"In\")","v":"In"},{"$f":"IF('Table 3-summary'!T4,\"Out\",\"In\")","v":"In"},{"$f":"IF('Table 3-summary'!U4,\"Out\",\"In\")","v":"In"},{"$f":"IF('Table 3-summary'!V4,\"Out\",\"In\")","v":"In"},{"$f":"IF('Table 3-summary'!W4,\"Out\",\"In\")","v":"In"}]
["Total partner's contribution             (including EU + national co-financing)",{"$f":"'T2-B(PP1)'!J232","v":0},{"$f":"'T2-B(PP2)'!J242","v":0},{"$f":"'T2-B(PP3)'!J242","v":0},{"$f":"'T2-B(PP4)'!J242","v":0},{"$f":"'T2-B(PP5)'!J242","v":0},{"$f":"SUM(B6:F6)","v":0}]
["National co-financing",{"$f":"SUM(B8:B10)","v":0},{"$f":"SUM(C8:C10)","v":0},{"$f":"SUM(D8:D10)","v":0},{"$f":"SUM(E8:E10)","v":0},{"$f":"SUM(F8:F10)","v":0},{"$f":"SUM(B7:F7)","v":0}]
[" Thereof state co-fin.",{"$f":"IF(B4=\"BG\",ROUNDUP((B6-B10)*15/100,2),0)","v":0},{"$f":"IF(C4=\"BG\",ROUNDUP((C6-C10)*15/100,2),0)","v":0},{"$f":"IF(D4=\"BG\",ROUNDUP((D6-D10)*15/100,2),0)","v":0},{"$f":"IF(E4=\"BG\",ROUNDUP((E6-E10)*15/100,2),0)","v":0},{"$f":"IF(F4=\"BG\",ROUNDUP((F6-F10)*15/100,2),0)","v":0},{"$f":"SUM(B8:F8)","v":0}]
[" Thereof own co-fin.",{"$f":"IF(B4=\"RS\",ROUNDUP((B6-B10)*15/100,2),0)","v":0},{"$f":"IF(C4=\"RS\",ROUNDUP((C6-C10)*15/100,2),0)","v":0},{"$f":"IF(D4=\"RS\",ROUNDUP((D6-D10)*15/100,2),0)","v":0},{"$f":"IF(E4=\"RS\",ROUNDUP((E6-E10)*15/100,2),0)","v":0},{"$f":"IF(F4=\"RS\",ROUNDUP((F6-F10)*15/100,2),0)","v":0},{"$f":"SUM(B9:F9)","v":0}]
[" Thereof others co-fin.",null,null,null,null,null,{"$f":"SUM(B10:F10)","v":0}]
["EU co-financing rate",{"$f":"B12/B6","v":{"$error":"#DIV/0!"}},{"$error":"#DIV/0!"},{"$error":"#DIV/0!"},{"$error":"#DIV/0!"},{"$error":"#DIV/0!"},{"$error":"#DIV/0!"}]
["EU subsidy",{"$f":"B6-B7","v":0},{"$f":"C6-C7","v":0},{"$f":"D6-D7","v":0},{"$f":"E6-E7","v":0},{"$f":"F6-F7","v":0},{"$f":"SUM(B12:F12)","v":0}]
[]
[null,"Wrong choice of Priority/Area of Intervention"]
[{"$error":"#REF!"}]
[]
[]
[]
[]
[]
[]
[]
[]
[]
[]
[null,null," "]

{"sheet":"Statements","index":19,"n_rows":181,"n_cols":7,"rows_kept":181,"cut":false,"hidden":false,"merged":[[160,0,160,8],[97,0,97,4],[99,0,99,4],[171,0,171,4],[137,0,137,1],[169,0,169,8],[166,1,166,2],[166,3,166,8],[100,0,100,1],[101,0,101,1],[117,0,117,8],[159,0,159,8],[123,0,123,8],[60,0,60,4],[62,0,62,4],[63,0,63,1],[64,0,64,1],[86,0,86,8],[175,0,175,1],[80,0,80,8],[85,0,85,8],[122,0,122,8],[132,0,132,8],[134,0,134,4],[92,1,92,2],[92,3,92,8],[129,1,129,2],[129,3,129,8],[136,0,136,4],[95,0,95,8],[173,0,173,4],[174,0,174,1],[138,0,138,1],[154,0,154,8],[48,0,48,8],[58,0,58,8],[17,1,17,8],[55,3,55,8],[5,0,5,8],[27,0,27,1],[43,0,43,8],[26,0,26,1],[21,0,21,8],[25,0,25,4],[23,0,23,4],[10,0,10,8],[49,0,49,8],[11,0,11,8],[55,1,55,2]]}
[]
[]
["                      PARTNERSHIP AND CO-FINANCING STATEMENT"]
[]
[]
[{"$f":"IF(Cover!C21=\"\",\"\",Cover!C21)","v":""}]
["(Project Title)"]
[]
[]
["In the case of approval of the above mentioned project, applying for assistance from the"]
["Interreg - IPA CBC Bulgaria - Serbia Programme we hereby declare that "]
[{"$f":"IF(Cover!C35=\"\",\"\",Cover!C35)","v":""}]
["(Name of Institution)"]
[]
["listed as PP 1 / LP in Table 1 of the Application form - Part 3,"]
["has examined and agreed on his tasks and activities described in the Application form - Part 2,"]
["undertakes to comply with the principles of good partnership practice and to provide"]
["EUR",{"$f":"'Table 5-Sources'!B10+'Table 5-Sources'!B9","v":0}]
["as own contribution and/or other sources to the Interreg - IPA CBC project budget."]
[]
["We furthermore confirm that any project expenditure related to the above mentioned project"]
["will not be funded by any other EU programme."]
[]
[{"$f":"'PP1(LP)'!C23","v":""}]
["(Name of the legal representative of the Project Partner)"]
[{"$f":"IF('PP1(LP)'!C25=\"\",\"\",'PP1(LP)'!C25)","v":""}]
["(Position)"]
[]
["(Date)"]
[]
[]
[null,null,null,null,null,null,"(Signature)"]
[null,null,null,null,null,null,"(Official Stamp of Project Partner)"]
[]
[]
[]
[]
[]
[]
[]
["                      PARTNERSHIP AND CO-FINANCING STATEMENT"]
[]
[]
[{"$f":"A6","v":""}]
["(Project Title)"]
[]
[]
["In the case of approval of the above mentioned project, applying for assistance from the "]
["Interreg - IPA CBC Bulgaria - Serbia Programme we hereby declare that "]
[{"$f":"'PP2'!C7","v":0}]
["(Name of Institution)"]
[]
["listed as PP 2 in Table 1 of the Application form - Part 3,"]
["has examined and agreed on his tasks and activities described in the Application form - Part 2,"]
["undertakes to comply with the principles of good partnership practice and to provide"]
["EUR",{"$f":"'Table 5-Sources'!C9+'Table 5-Sources'!C10","v":0},null,"as own contribution and/or other sources to the IPA CBC"]
["project budget"]
["We furthermore confirm that any project expenditure related to the above mentioned project"]
["will not be funded by any other EU programme."]
[]
[{"$f":"'PP2'!C23","v":0}]
["(Name of the legal representative of the Project Partner)"]
[{"$f":"'PP2'!C25","v":0}]
["(Position)"]
[]
["(Date)"]
[]
[]
[null,null,null,null,null,null,"(Signature)"]
[null,null,null,null,null,null,"(Official Stamp of Project Partner)"]
[]
[]
[]
[]
[]
[]
[]
["                      PARTNERSHIP AND CO-FINANCING STATEMENT"]
[]
[]
[{"$f":"A6","v":""}]
["(Project Title)"]
[]
[]
["In the case of approval of the above mentioned project, applying for assistance from the "]
["Interreg - IPA CBC Bulgaria - Serbia Programme we hereby declare that "]
[{"$f":"'PP3'!C7","v":0}]
["(Name of Institution)"]
[]
["listed as PP 3 in Table 1 of the Application form - Part 3,"]
["has examined and agreed on his tasks and activities described in the Application form - Part 2,"]
["undertakes to comply with the principles of good partnership practice and to provide"]
["EUR",{"$f":"'Table 5-Sources'!C46+'Table 5-Sources'!C47","v":0},null,"as own contribution and/or other sources to the IPA CBC"]
["project budget"]
["We furthermore confirm that any project expenditure related to the above mentioned project"]
["will not be funded by any other EU programme."]
[]
[{"$f":"'PP3'!C23","v":0}]
["(Name of the legal representative of the Project Partner)"]
[{"$f":"'PP3'!C25","v":0}]
["(Position)"]
[]
["(Date)"]
[]
[]
[null,null,null,null,null,null,"(Signature)"]
[null,null,null,null,null,null,"(Official Stamp of Project Partner)"]
[]
[]
[]
[]
[]
[]
[]
["                      PARTNERSHIP AND CO-FINANCING STATEMENT"]
[]
[]
[{"$f":"A6","v":""}]
["(Project Title)"]
[]
[]
["In the case of approval of the above mentioned project, applying for assistance from the "]
["Interreg - IPA CBC Bulgaria - Serbia Programme we hereby declare that "]
[{"$f":"'PP4'!C7","v":0}]
["(Name of Institution)"]
[]
["listed as PP 4 in Table 1 of the Application form - Part 3,"]
["has examined and agreed on his tasks and activities described in the Application form - Part 2,"]
["undertakes to comply with the principles of good partnership practice and to provide"]
["EUR",{"$f":"'Table 5-Sources'!C83+'Table 5-Sources'!C84","v":0},null,"as own contribution and/or other sources to the IPA CBC"]
["project budget"]
["We furthermore confirm that any project expenditure related to the above mentioned project"]
["will not be funded by any other EU programme."]
[]
[{"$f":"'PP4'!C23","v":0}]
["(Name of the legal representative of the Project Partner)"]
[{"$f":"'PP4'!C25","v":0}]
["(Position)"]
[]
["(Date)"]
[]
[]
[null,null,null,null,null,null,"(Signature)"]
[null,null,null,null,null,null,"(Official Stamp of Project Partner)"]
[]
[]
[]
[]
[]
[]
[]
["                      PARTNERSHIP AND CO-FINANCING STATEMENT"]
[]
[]
[{"$f":"A6","v":""}]
["(Project Title)"]
[]
[]
["In the case of approval of the above mentioned project, applying for assistance from the "]
["Interreg - IPA CBC Bulgaria - Serbia Programme we hereby declare that "]
[{"$f":"'PP5'!C7","v":0}]
["(Name of Institution)"]
[]
["listed as PP 5 in Table 1 of the Application form - Part 3,"]
["has examined and agreed on his tasks and activities described in the Application form - Part 2,"]
["undertakes to comply with the principles of good partnership practice and to provide"]
["EUR",{"$f":"'Table 5-Sources'!C120+'Table 5-Sources'!C121","v":0},null,"as own contribution and/or other sources to the IPA CBC"]
["project budget"]
["We furthermore confirm that any project expenditure related to the above mentioned project"]
["will not be funded by any other EU programme."]
[]
[{"$f":"'PP5'!C23","v":0}]
["(Name of the legal representative of the Project Partner)"]
[{"$f":"'PP5'!C25","v":0}]
["(Position)"]
[]
["(Date)"]
[]
[]
[null,null,null,null,null,null,"(Signature)"]
[null,null,null,null,null,null,"(Official Stamp of Project Partner)"]

{"sheet":"Summary_BG","index":20,"n_rows":30,"n_cols":1,"rows_kept":30,"cut":false,"hidden":false,"merged":[[27,1,29,1],[4,0,4,1],[0,2,3,2],[0,0,3,1],[8,1,10,1],[11,0,12,0],[11,1,12,1],[13,0,14,0],[17,1,18,1],[13,1,14,1],[15,1,16,1],[19,0,20,0],[19,1,20,1],[21,1,23,1],[24,1,26,1]]}
["Interreg - IPA CBC Bulgaria – Serbia Programme\nCCI Number 2014TC16I5CB007\n"]
[]
[]
[]
["РЕЗЮМЕ НА ПРОЕКТА"]
[]
["Заглавие на проекта"]
["Водещ партньор (име/ държава)"]
["Проектни партньори"]
["(Моля, попълнете партньорите в реда, в който са посочени във Формуляра за кандидатстване)"]
[]
["Приоритетна ос"]
[]
["Специфична цел"]
[]
["Продължителност"]
["(в месеци)"]
["Общ бюджет "]
["(в евро)"]
["Цели на проекта"]
[]
["Дейности по проекта "]
["(Моля, опишете на кратко планираните проектни дейности) "]
[]
["Резултати и продукти по проекта Project results and outputs"]
["(Моля, опишете какви резултати/ ползи ще се постигнат с реализацията на проекта)"]
[]
["Целеви групи"]
["(Моля, опишете основните целеви групи, които ще се възползват от резултатите и продуктите по проекта) "]
[" "]

{"sheet":"Summary_EN","index":21,"n_rows":31,"n_cols":8,"rows_kept":31,"cut":false,"hidden":false,"merged":[[19,0,20,0],[19,1,20,1],[0,0,3,1],[0,2,3,2],[4,0,4,1],[15,0,16,0],[17,0,18,0],[13,0,14,0],[13,1,14,1],[15,1,16,1],[17,1,18,1],[6,0,7,0],[6,1,7,1],[8,0,9,0],[8,1,9,1],[10,1,12,1],[21,0,22,0],[21,1,22,1],[23,1,25,1],[26,1,28,1],[29,1,31,1]]}
["Interreg - IPA CBC Bulgaria – Serbia Programme\nCCI Number 2014TC16I5CB007\n"]
[]
[]
[]
["PROJECT SUMMARY"]
[]
["Project title",{"$f":"Cover!C21","v":0}]
[]
["Lead Partner(name/country)",{"$f":"Cover!C35","v":0}]
[]
["Other partner/s",{"$f":"CONCATENATE(E13,F13,G13,H13)","v":""},null,null,{"$f":"'PP2'!C7","v":0},{"$f":"'PP3'!C7","v":0},{"$f":"'PP4'!C7","v":0},{"$f":"'PP5'!C7","v":0}]
["(Please fill each partner in order of appearance in the Application form)",null,null,null,{"$f":"E11<>0","v":false},{"$f":"F11<>0","v":false},false,false]
[null,null,null,null,{"$f":"IF(E12,CONCATENATE(\"1.\",E11),\"\")","v":""},{"$f":"IF(F12,CONCATENATE(\";   2.\",F11),\"\")","v":""},{"$f":"IF(G12,CONCATENATE(\";   3.\",G11),\"\")","v":""},{"$f":"IF(H12,CONCATENATE(\";  4.\",H11),\"\")","v":""}]
["Priority axis",{"$f":"Cover!C27","v":0}]
[]
["Specific Objective",{"$f":"Cover!C29","v":0}]
[]
["Duration (in months)",{"$f":"'Project identification'!C17","v":0}]
[]
["Total budget (in Euro)",{"$f":"'Table 4 PP`BL'!H15","v":0}]
[]
["Project objectives"]
[]
["Project activities"]
["(Please provide brief description of the planned project activities)"]
[]
["Project results and outputs"]
["(Please describe results/benefits to be achieved  by  this project)"]
[]
["Target Groups"]
["(Please describe the main target groups that will benefit from project results and outputs)"]

{"sheet":"Summary_RS","index":22,"n_rows":23,"n_cols":1,"rows_kept":23,"cut":false,"hidden":false,"merged":[[0,2,3,2],[4,0,4,1],[12,1,13,1],[14,1,15,1],[21,1,22,1],[0,0,3,1],[17,1,18,1],[19,1,20,1],[8,1,9,1]]}
["Interreg - IPA CBC Bulgaria – Serbia Programme\nCCI Number 2014TC16I5CB007\n"]
[]
[]
[]
["РЕЗИМЕ ПРОЈЕКТА"]
[]
["Назив пројекта"]
["Водећи партнер (назив/држава)"]
["Други партнер/и"]
["(Молимо наведите све остале пројектне партнере, по реду по којем су наведени у апликационом формулару)"]
["Приоритетна оса"]
["Специфични приоритет"]
["Трајање пројекта"]
["(у месецима)"]
["Укупан буџет"]
["(у еврима)"]
["Циљеви пројекта"]
["Активности пројекта"]
["(Молимо опишите укратко основне активности планиране током имплементације пројекта) "]
["Резултати пројекта"]
["(Молимо опишите очекиване резултате и користи пројекта)"]
["Циљне групе"]
["(Молимо опишите основне циљне групе грађана који ће имати конкретне користи од активности и резултата пројекта)"]

{"sheet":"Named_ranges","index":23,"n_rows":9830,"n_cols":3,"rows_kept":9830,"cut":false,"hidden":true,"merged":[]}
["action_plan_actv_1",{"$f":"'Project identification'!$B$310","v":""},"#'Project identification'!$B$310"]
["action_plan_actv_1_1",{"$f":"'Project identification'!$C$310","v":0},"#'Project identification'!$C$310"]
["action_plan_actv_1_2",{"$f":"'Project identification'!$D$310","v":0},"#'Project identification'!$D$310"]
["action_plan_actv_1_3",{"$f":"'Project identification'!$E$310","v":0},"#'Project identification'!$E$310"]
["action_plan_actv_1_4",{"$f":"'Project identification'!$G$310","v":0},"#'Project identification'!$G$310"]
["action_plan_actv_1_5",{"$f":"'Project identification'!$H$310","v":0},"#'Project identification'!$H$310"]
["action_plan_actv_1_6",{"$f":"'Project identification'!$F$310","v":0},"#'Project identification'!$F$310"]
["action_plan_actv_1_7",{"$f":"'Project identification'!$I$310","v":0},"#'Project identification'!$I$310"]
["action_plan_actv_1_8",{"$f":"'Project identification'!$J$310","v":0},"#'Project identification'!$J$310"]
["action_plan_actv_10",{"$f":"'Project identification'!$B$319","v":""},"#'Project identification'!$B$319"]
["action_plan_actv_10_1",{"$f":"'Project identification'!$C$319","v":0},"#'Project identification'!$C$319"]
["action_plan_actv_10_2",{"$f":"'Project identification'!$D$319","v":0},"#'Project identification'!$D$319"]
["action_plan_actv_10_3",{"$f":"'Project identification'!$E$319","v":0},"#'Project identification'!$E$319"]
["action_plan_actv_10_4",{"$f":"'Project identification'!$G$319","v":0},"#'Project identification'!$G$319"]
["action_plan_actv_10_5",{"$f":"'Project identification'!$H$319","v":0},"#'Project identification'!$H$319"]
["action_plan_actv_10_6",{"$f":"'Project identification'!$F$319","v":0},"#'Project identification'!$F$319"]
["action_plan_actv_10_7",{"$f":"'Project identification'!$I$319","v":0},"#'Project identification'!$I$319"]
["action_plan_actv_10_8",{"$f":"'Project identification'!$J$319","v":0},"#'Project identification'!$J$319"]
["action_plan_actv_11",{"$f":"'Project identification'!$B$320","v":""},"#'Project identification'!$B$320"]
["action_plan_actv_11_1",{"$f":"'Project identification'!$C$320","v":0},"#'Project identification'!$C$320"]
["action_plan_actv_11_2",{"$f":"'Project identification'!$D$320","v":0},"#'Project identification'!$D$320"]
["action_plan_actv_11_3",{"$f":"'Project identification'!$E$320","v":0},"#'Project identification'!$E$320"]
["action_plan_actv_11_4",{"$f":"'Project identification'!$G$320","v":0},"#'Project identification'!$G$320"]
["action_plan_actv_11_5",{"$f":"'Project identification'!$H$320","v":0},"#'Project identification'!$H$320"]
["action_plan_actv_11_6",{"$f":"'Project identification'!$F$320","v":0},"#'Project identification'!$F$320"]
["action_plan_actv_11_7",{"$f":"'Project identification'!$I$320","v":0},"#'Project identification'!$I$320"]
["action_plan_actv_11_8",{"$f":"'Project identification'!$J$320","v":0},"#'Project identification'!$J$320"]
["action_plan_actv_12",{"$f":"'Project identification'!$B$321","v":""},"#'Project identification'!$B$321"]
["action_plan_actv_12_1",{"$f":"'Project identification'!$C$321","v":0},"#'Project identification'!$C$321"]
["action_plan_actv_12_2",{"$f":"'Project identification'!$D$321","v":0},"#'Project identification'!$D$321"]
["action_plan_actv_12_3",{"$f":"'Project identification'!$E$321","v":0},"#'Project identification'!$E$321"]
["action_plan_actv_12_4",{"$f":"'Project identification'!$G$321","v":0},"#'Project identification'!$G$321"]
["action_plan_actv_12_5",{"$f":"'Project identification'!$H$321","v":0},"#'Project identification'!$H$321"]
["action_plan_actv_12_6",{"$f":"'Project identification'!$F$321","v":0},"#'Project identification'!$F$321"]
["action_plan_actv_12_7",{"$f":"'Project identification'!$I$321","v":0},"#'Project identification'!$I$321"]
["action_plan_actv_12_8",{"$f":"'Project identification'!$J$321","v":0},"#'Project identification'!$J$321"]
["action_plan_actv_13",{"$f":"'Project identification'!$B$322","v":""},"#'Project identification'!$B$322"]
["action_plan_actv_13_1",{"$f":"'Project identification'!$C$322","v":0},"#'Project identification'!$C$322"]
["action_plan_actv_13_2",{"$f":"'Project identification'!$D$322","v":0},"#'Project identification'!$D$322"]
["action_plan_actv_13_3",{"$f":"'Project identification'!$E$322","v":0},"#'Project identification'!$E$322"]
["action_plan_actv_13_4",{"$f":"'Project identification'!$G$322","v":0},"#'Project identification'!$G$322"]
["action_plan_actv_13_5",{"$f":"'Project identification'!$H$322","v":0},"#'Project identification'!$H$322"]
["action_plan_actv_13_6",{"$f":"'Project identification'!$F$322","v":0},"#'Project identification'!$F$322"]
["action_plan_actv_13_7",{"$f":"'Project identification'!$I$322","v":0},"#'Project identification'!$I$322"]
["action_plan_actv_13_8",{"$f":"'Project identification'!$J$322","v":0},"#'Project identification'!$J$322"]
["action_plan_actv_14",{"$f":"'Project identification'!$B$323","v":""},"#'Project identification'!$B$323"]
["action_plan_actv_14_1",{"$f":"'Project identification'!$C$323","v":0},"#'Project identification'!$C$323"]
["action_plan_actv_14_2",{"$f":"'Project identification'!$D$323","v":0},"#'Project identification'!$D$323"]
["action_plan_actv_14_3",{"$f":"'Project identification'!$E$323","v":0},"#'Project identification'!$E$323"]
["action_plan_actv_14_4",{"$f":"'Project identification'!$G$323","v":0},"#'Project identification'!$G$323"]
["action_plan_actv_14_5",{"$f":"'Project identification'!$H$323","v":0},"#'Project identification'!$H$323"]
["action_plan_actv_14_6",{"$f":"'Project identification'!$F$323","v":0},"#'Project identification'!$F$323"]
["action_plan_actv_14_7",{"$f":"'Project identification'!$I$323","v":0},"#'Project identification'!$I$323"]
["action_plan_actv_14_8",{"$f":"'Project identification'!$J$323","v":0},"#'Project identification'!$J$323"]
["action_plan_actv_15",{"$f":"'Project identification'!$B$324","v":""},"#'Project identification'!$B$324"]
["action_plan_actv_15_1",{"$f":"'Project identification'!$C$324","v":0},"#'Project identification'!$C$324"]
["action_plan_actv_15_2",{"$f":"'Project identification'!$D$324","v":0},"#'Project identification'!$D$324"]
["action_plan_actv_15_3",{"$f":"'Project identification'!$E$324","v":0},"#'Project identification'!$E$324"]
["action_plan_actv_15_4",{"$f":"'Project identification'!$G$324","v":0},"#'Project identification'!$G$324"]
["action_plan_actv_15_5",{"$f":"'Project identification'!$H$324","v":0},"#'Project identification'!$H$324"]
["action_plan_actv_15_6",{"$f":"'Project identification'!$F$324","v":0},"#'Project identification'!$F$324"]
["action_plan_actv_15_7",{"$f":"'Project identification'!$I$324","v":0},"#'Project identification'!$I$324"]
["action_plan_actv_15_8",{"$f":"'Project identification'!$J$324","v":0},"#'Project identification'!$J$324"]
["action_plan_actv_2",{"$f":"'Project identification'!$B$311","v":""},"#'Project identification'!$B$311"]
["action_plan_actv_2_1",{"$f":"'Project identification'!$C$311","v":0},"#'Project identification'!$C$311"]
["action_plan_actv_2_2",{"$f":"'Project identification'!$D$311","v":0},"#'Project identification'!$D$311"]
["action_plan_actv_2_3",{"$f":"'Project identification'!$E$311","v":0},"#'Project identification'!$E$311"]
["action_plan_actv_2_4",{"$f":"'Project identification'!$G$311","v":0},"#'Project identification'!$G$311"]
["action_plan_actv_2_5",{"$f":"'Project identification'!$H$311","v":0},"#'Project identification'!$H$311"]
["action_plan_actv_2_6",{"$f":"'Project identification'!$F$311","v":0},"#'Project identification'!$F$311"]
["action_plan_actv_2_7",{"$f":"'Project identification'!$I$311","v":0},"#'Project identification'!$I$311"]
["action_plan_actv_2_8",{"$f":"'Project identification'!$J$311","v":0},"#'Project identification'!$J$311"]
["action_plan_actv_3",{"$f":"'Project identification'!$B$312","v":""},"#'Project identification'!$B$312"]
["action_plan_actv_3_1",{"$f":"'Project identification'!$C$312","v":0},"#'Project identification'!$C$312"]
["action_plan_actv_3_2",{"$f":"'Project identification'!$D$312","v":0},"#'Project identification'!$D$312"]
["action_plan_actv_3_3",{"$f":"'Project identification'!$E$312","v":0},"#'Project identification'!$E$312"]
["action_plan_actv_3_4",{"$f":"'Project identification'!$G$312","v":0},"#'Project identification'!$G$312"]
["action_plan_actv_3_5",{"$f":"'Project identification'!$H$312","v":0},"#'Project identification'!$H$312"]
["action_plan_actv_3_6",{"$f":"'Project identification'!$F$312","v":0},"#'Project identification'!$F$312"]
["action_plan_actv_3_7",{"$f":"'Project identification'!$I$312","v":0},"#'Project identification'!$I$312"]
["action_plan_actv_3_8",{"$f":"'Project identification'!$J$312","v":0},"#'Project identification'!$J$312"]
["action_plan_actv_4",{"$f":"'Project identification'!$B$313","v":""},"#'Project identification'!$B$313"]
["action_plan_actv_4_1",{"$f":"'Project identification'!$C$313","v":0},"#'Project identification'!$C$313"]
["action_plan_actv_4_2",{"$f":"'Project identification'!$D$313","v":0},"#'Project identification'!$D$313"]
["action_plan_actv_4_3",{"$f":"'Project identification'!$E$313","v":0},"#'Project identification'!$E$313"]
["action_plan_actv_4_4",{"$f":"'Project identification'!$G$313","v":0},"#'Project identification'!$G$313"]
["action_plan_actv_4_5",{"$f":"'Project identification'!$H$313","v":0},"#'Project identification'!$H$313"]
["action_plan_actv_4_6",{"$f":"'Project identification'!$F$313","v":0},"#'Project identification'!$F$313"]
["action_plan_actv_4_7",{"$f":"'Project identification'!$I$313","v":0},"#'Project identification'!$I$313"]
["action_plan_actv_4_8",{"$f":"'Project identification'!$J$313","v":0},"#'Project identification'!$J$313"]
["action_plan_actv_5",{"$f":"'Project identification'!$B$314","v":""},"#'Project identification'!$B$314"]
["action_plan_actv_5_1",{"$f":"'Project identification'!$C$314","v":0},"#'Project identification'!$C$314"]
["action_plan_actv_5_2",{"$f":"'Project identification'!$D$314","v":0},"#'Project identification'!$D$314"]
["action_plan_actv_5_3",{"$f":"'Project identification'!$E$314","v":0},"#'Project identification'!$E$314"]
["action_plan_actv_5_4",{"$f":"'Project identification'!$G$314","v":0},"#'Project identification'!$G$314"]
["action_plan_actv_5_5",{"$f":"'Project identification'!$H$314","v":0},"#'Project identification'!$H$314"]
["action_plan_actv_5_6",{"$f":"'Project identification'!$F$314","v":0},"#'Project identification'!$F$314"]
["action_plan_actv_5_7",{"$f":"'Project identification'!$I$314","v":0},"#'Project identification'!$I$314"]
["action_plan_actv_5_8",{"$f":"'Project identification'!$J$314","v":0},"#'Project identification'!$J$314"]
["action_plan_actv_6",{"$f":"'Project identification'!$B$315","v":""},"#'Project identification'!$B$315"]
["action_plan_actv_6_1",{"$f":"'Project identification'!$C$315","v":0},"#'Project identification'!$C$315"]
["action_plan_actv_6_2",{"$f":"'Project identification'!$D$315","v":0},"#'Project identification'!$D$315"]
["action_plan_actv_6_3",{"$f":"'Project identification'!$E$315","v":0},"#'Project identification'!$E$315"]
["action_plan_actv_6_4",{"$f":"'Project identification'!$G$315","v":0},"#'Project identification'!$G$315"]
["action_plan_actv_6_5",{"$f":"'Project identification'!$H$315","v":0},"#'Project identification'!$H$315"]
["action_plan_actv_6_6",{"$f":"'Project identification'!$F$315","v":0},"#'Project identification'!$F$315"]
["action_plan_actv_6_7",{"$f":"'Project identification'!$I$315","v":0},"#'Project identification'!$I$315"]
["action_plan_actv_6_8",{"$f":"'Project identification'!$J$315","v":0},"#'Project identification'!$J$315"]
["action_plan_actv_7",{"$f":"'Project identification'!$B$316","v":""},"#'Project identification'!$B$316"]
["action_plan_actv_7_1",{"$f":"'Project identification'!$C$316","v":0},"#'Project identification'!$C$316"]
["action_plan_actv_7_2",{"$f":"'Project identification'!$D$316","v":0},"#'Project identification'!$D$316"]
["action_plan_actv_7_3",{"$f":"'Project identification'!$E$316","v":0},"#'Project identification'!$E$316"]
["action_plan_actv_7_4",{"$f":"'Project identification'!$G$316","v":0},"#'Project identification'!$G$316"]
["action_plan_actv_7_5",{"$f":"'Project identification'!$H$316","v":0},"#'Project identification'!$H$316"]
["action_plan_actv_7_6",{"$f":"'Project identification'!$F$316","v":0},"#'Project identification'!$F$316"]
["action_plan_actv_7_7",{"$f":"'Project identification'!$I$316","v":0},"#'Project identification'!$I$316"]
["action_plan_actv_7_8",{"$f":"'Project identification'!$J$316","v":0},"#'Project identification'!$J$316"]
["action_plan_actv_8",{"$f":"'Project identification'!$B$317","v":""},"#'Project identification'!$B$317"]
["action_plan_actv_8_1",{"$f":"'Project identification'!$C$317","v":0},"#'Project identification'!$C$317"]
["action_plan_actv_8_2",{"$f":"'Project identification'!$D$317","v":0},"#'Project identification'!$D$317"]
["action_plan_actv_8_3",{"$f":"'Project identification'!$E$317","v":0},"#'Project identification'!$E$317"]
["action_plan_actv_8_4",{"$f":"'Project identification'!$G$317","v":0},"#'Project identification'!$G$317"]
["action_plan_actv_8_5",{"$f":"'Project identification'!$H$317","v":0},"#'Project identification'!$H$317"]
["action_plan_actv_8_6",{"$f":"'Project identification'!$F$317","v":0},"#'Project identification'!$F$317"]
["action_plan_actv_8_7",{"$f":"'Project identification'!$I$317","v":0},"#'Project identification'!$I$317"]
["action_plan_actv_8_8",{"$f":"'Project identification'!$J$317","v":0},"#'Project identification'!$J$317"]
["action_plan_actv_9",{"$f":"'Project identification'!$B$318","v":""},"#'Project identification'!$B$318"]
["action_plan_actv_9_1",{"$f":"'Project identification'!$C$318","v":0},"#'Project identification'!$C$318"]
["action_plan_actv_9_2",{"$f":"'Project identification'!$D$318","v":0},"#'Project identification'!$D$318"]
["action_plan_actv_9_3",{"$f":"'Project identification'!$E$318","v":0},"#'Project identification'!$E$318"]
["action_plan_actv_9_4",{"$f":"'Project identification'!$G$318","v":0},"#'Project identification'!$G$318"]
["action_plan_actv_9_5",{"$f":"'Project identification'!$H$318","v":0},"#'Project identification'!$H$318"]
["action_plan_actv_9_6",{"$f":"'Project identification'!$F$318","v":0},"#'Project identification'!$F$318"]
["action_plan_actv_9_7",{"$f":"'Project identification'!$I$318","v":0},"#'Project identification'!$I$318"]
["action_plan_actv_9_8",{"$f":"'Project identification'!$J$318","v":0},"#'Project identification'!$J$318"]
["T2-B(PP1)'!BL3_E",{"$f":"'T2-B(PP1)'!$D$16:$E$25,'T2-B(PP1)'!$G$16:$H$25,'T2-B(PP1)'!$D$27:$E$36,'T2-B(PP1)'!$G$27:$H$36,'T2-B(PP1)'!$D$38:$E$47,'T2-B(PP1)'!$G$38:$H$47","v":{"$error":"#VALUE!"}},"#'T2-B(PP1)'!$D$16:$E$25,'T2-B(PP1)'!$G$16:$H$25,'T2-B(PP1)'!$D$27:$E$36,'T2-B(PP1)'!$G$27:$H$36,'T2-B(PP1)'!$D$38:$E$47,'T2-B(PP1)'!$G$38:$H$47"]
["T2-B(PP1)'!BL3_NE",{"$f":"'T2-B(PP1)'!$G$38:$H$47,'T2-B(PP1)'!$G$27:$H$36,'T2-B(PP1)'!$G$16:$H$25","v":{"$error":"#VALUE!"}},"#'T2-B(PP1)'!$G$38:$H$47,'T2-B(PP1)'!$G$27:$H$36,'T2-B(PP1)'!$G$16:$H$25"]
["T2-B(PP1)'!BL4_E",{"$f":"'T2-B(PP1)'!$D$53:$E$62,'T2-B(PP1)'!$G$53:$H$62,'T2-B(PP1)'!$D$64:$E$73,'T2-B(PP1)'!$G$64:$H$73,'T2-B(PP1)'!$D$75:$E$84,'T2-B(PP1)'!$G$75:$H$84,'T2-B(PP1)'!$D$86:$E$95,'T2-B(PP1)'!$G$86:$H$95,'T2-B(PP1)'!$D$97:$E$106,'T2-B(PP1)'!$G$97:$H$106,'T2-B(PP1)'!$D$108:$E$117,'T2-B(PP1)'!$G$108:$H$117,'T2-B(PP1)'!$D$119:$E$128,'T2-B(PP1)'!$G$119:$H$128,'T2-B(PP1)'!$D$130:$E$139,'T2-B(PP1)'!$G$130:$H$139,'T2-B(PP1)'!$D$141:$E$150,'T2-B(PP1)'!$G$141:$H$150,'T2-B(PP1)'!$D$152:$E$161,'T2-B(PP1)'!$G$152:$H$161,'T2-B(PP1)'!$D$163:$E$172,'T2-B(PP1)'!$G$163:$H$172,'T2-B(PP1)'!#REF!,'T2-B(PP1)'!#REF!,'T2-B(PP1)'!#REF!,'T2-B(PP1)'!#REF!","v":{"$error":"#REF!"}},"#'T2-B(PP1)'!$D$53:$E$62,'T2-B(PP1)'!$G$53:$H$62,'T2-B(PP1)'!$D$64:$E$73,'T2-B(PP1)'!$G$64:$H$73,'T2-B(PP1)'!$D$75:$E$84,'T2-B(PP1)'!$G$75:$H$84,'T2-B(PP1)'!$D$86:$E$95,'T2-B(PP1)'!$G$86:$H$95,'T2-B(PP1)'!$D$97:$E$106,'T2-B(PP1)'!$G$97:$H$106,'T2-B(PP1)'!$D$108:$E$117,'T2-B(PP1)'!$G$108:$H$117,'T2-B(PP1)'!$D$119:$E$128,'T2-B(PP1)'!$G$119:$H$128,'T2-B(PP1)'!$D$130:$E$139,'T2-B(PP1)'!$G$130:$H$139,'T2-B(PP1)'!$D$141:$E$150,'T2-B(PP1)'!$G$141:$H$150,'T2-B(PP1)'!$D$152:$E$161,'T2-B(PP1)'!$G$152:$H$161,'T2-B(PP1)'!$D$163:$E$172,'T2-B(PP1)'!$G$163:$H$172,'T2-B(PP1)'!#REF!,'T2-B(PP1)'!#REF!,'T2-B(PP1)'!#REF!,'T2-B(PP1)'!#REF!"]
["T2-B(PP1)'!BL4_NE",{"$f":"'T2-B(PP1)'!#REF!,'T2-B(PP1)'!#REF!,'T2-B(PP1)'!$G$163:$H$172,'T2-B(PP1)'!$G$152:$H$161,'T2-B(PP1)'!$G$141:$H$150,'T2-B(PP1)'!$G$130:$H$139,'T2-B(PP1)'!$G$119:$H$128,'T2-B(PP1)'!$G$108:$H$117,'T2-B(PP1)'!$G$97:$H$106,'T2-B(PP1)'!$G$86:$H$95,'T2-B(PP1)'!$G$75:$H$84,'T2-B(PP1)'!$G$64:$H$73,'T2-B(PP1)'!$G$53:$H$62","v":{"$error":"#REF!"}},"#'T2-B(PP1)'!#REF!,'T2-B(PP1)'!#REF!,'T2-B(PP1)'!$G$163:$H$172,'T2-B(PP1)'!$G$152:$H$161,'T2-B(PP1)'!$G$141:$H$150,'T2-B(PP1)'!$G$130:$H$139,'T2-B(PP1)'!$G$119:$H$128,'T2-B(PP1)'!$G$108:$H$117,'T2-B(PP1)'!$G$97:$H$106,'T2-B(PP1)'!$G$86:$H$95,'T2-B(PP1)'!$G$75:$H$84,'T2-B(PP1)'!$G$64:$H$73,'T2-B(PP1)'!$G$53:$H$62"]
["T2-B(PP1)'!BL6_E",{"$f":"'T2-B(PP1)'!$D$178:$E$187,'T2-B(PP1)'!$D$189:$E$198,'T2-B(PP1)'!$D$203:$E$212","v":{"$error":"#VALUE!"}},"#'T2-B(PP1)'!$D$178:$E$187,'T2-B(PP1)'!$D$189:$E$198,'T2-B(PP1)'!$D$203:$E$212"]
["BL6_NE",{"$f":"'T2-B(PP1)'!$G$178:$H$187,'T2-B(PP1)'!$G$189:$H$198,'T2-B(PP1)'!$G$203:$H$212","v":{"$error":"#VALUE!"}},"#'T2-B(PP1)'!$G$178:$H$187,'T2-B(PP1)'!$G$189:$H$198,'T2-B(PP1)'!$G$203:$H$212"]
["Both",{"$f":"'Project identification'!$P$15:$P$16","v":{"$error":"#VALUE!"}},"#'Project identification'!$P$15:$P$16"]
["duration_project",{"$f":"'Project identification'!$C$17","v":0},"#'Project identification'!$C$17"]
["Cover!Enviroment",{"$f":"Cover!$U$27:$U$28","v":{"$error":"#VALUE!"}},"#Cover!$U$27:$U$28"]
["Enviroment",{"$f":"'Project identification'!$U$11:$U$12","v":{"$error":"#VALUE!"}},"#'Project identification'!$U$11:$U$12"]
["Cover!Environment",{"$f":"Cover!$U$27:$U$28","v":{"$error":"#VALUE!"}},"#Cover!$U$27:$U$28"]
["Project identification'!Environment",{"$f":"'Project identification'!$U$11:$U$12","v":{"$error":"#VALUE!"}},"#'Project identification'!$U$11:$U$12"]
["Cover!Environment1",{"$f":"Cover!$P$42:$P$43","v":{"$error":"#VALUE!"}},"#Cover!$P$42:$P$43"]
["invention_fild",{"$f":"Cover!$C$33","v":0},"#Cover!$C$33"]
["Cover!Investment",{"$f":"'Project identification'!$O$15","v":"Investment"},"#'Project identification'!$O$15"]
["Project identification'!Investment",{"$f":"'Project identification'!$O$15","v":"Investment"},"#'Project identification'!$O$15"]
["is_pp3",{"$f":"Checklist!$D$20","v":"X"},"#Checklist!$D$20"]
["is_pp4",{"$f":"Checklist!$D$28","v":"X"},"#Checklist!$D$28"]
["is_pp5",{"$f":"Checklist!$D$36","v":"X"},"#Checklist!$D$36"]
["Project identification'!List1",{"$f":"'Project identification'!$P$344:$S$347","v":{"$error":"#VALUE!"}},"#'Project identification'!$P$344:$S$347"]
["Project identification'!List2",{"$f":"'Project identification'!$P$348:$S$350","v":{"$error":"#VALUE!"}},"#'Project identification'!$P$348:$S$350"]
["Project identification'!List3",{"$f":"'Project identification'!$P$351:$S$353","v":{"$error":"#VALUE!"}},"#'Project identification'!$P$351:$S$353"]
["Project identification'!List4",{"$f":"'Project identification'!$P$354:$S$355","v":{"$error":"#VALUE!"}},"#'Project identification'!$P$354:$S$355"]
["Project identification'!List5",{"$f":"'Project identification'!$P$356","v":"2.2.1. Total number of youth networking initiatives supported by the Programme"},"#'Project identification'!$P$356"]
["Project identification'!List6",{"$f":"'Project identification'!$P$357:$S$362","v":{"$error":"#VALUE!"}},"#'Project identification'!$P$357:$S$362"]
["Project identification'!List7",{"$f":"'Project identification'!$P$363:$S$366","v":{"$error":"#VALUE!"}},"#'Project identification'!$P$363:$S$366"]
["Locations",{"$f":"'Project identification'!$O$92:$O$105","v":{"$error":"#VALUE!"}},"#'Project identification'!$O$92:$O$105"]
["PP1(LP)'!Orga1",{"$f":"'PP1(LP)'!$M$11:$M$17","v":{"$error":"#VALUE!"}},"#'PP1(LP)'!$M$11:$M$17"]
["PP2'!Orga1",{"$f":"'PP2'!$M$11:$M$17","v":{"$error":"#VALUE!"}},"#'PP2'!$M$11:$M$17"]
["PP3'!Orga1",{"$f":"'PP3'!$M$11:$M$17","v":{"$error":"#VALUE!"}},"#'PP3'!$M$11:$M$17"]
["PP4'!Orga1",{"$f":"'PP4'!$M$11:$M$17","v":{"$error":"#VALUE!"}},"#'PP4'!$M$11:$M$17"]
["PP5'!Orga1",{"$f":"'PP5'!$M$11:$M$17","v":{"$error":"#VALUE!"}},"#'PP5'!$M$11:$M$17"]
["PP2'!Orga2",{"$f":"'PP2'!$N$11:$N$18","v":{"$error":"#VALUE!"}},"#'PP2'!$N$11:$N$18"]
["PP3'!Orga2",{"$f":"'PP3'!$N$11:$N$18","v":{"$error":"#VALUE!"}},"#'PP3'!$N$11:$N$18"]
["PP4'!Orga2",{"$f":"'PP4'!$N$11:$N$18","v":{"$error":"#VALUE!"}},"#'PP4'!$N$11:$N$18"]
["PP5'!Orga2",{"$f":"'PP5'!$N$11:$N$18","v":{"$error":"#VALUE!"}},"#'PP5'!$N$11:$N$18"]
["Orga2",{"$f":"'PP1(LP)'!$N$11:$N$18","v":{"$error":"#VALUE!"}},"#'PP1(LP)'!$N$11:$N$18"]
["PP2'!Orga3",{"$f":"'PP2'!$O$11:$O$18","v":{"$error":"#VALUE!"}},"#'PP2'!$O$11:$O$18"]
["PP3'!Orga3",{"$f":"'PP3'!$O$11:$O$18","v":{"$error":"#VALUE!"}},"#'PP3'!$O$11:$O$18"]
["PP4'!Orga3",{"$f":"'PP4'!$O$11:$O$18","v":{"$error":"#VALUE!"}},"#'PP4'!$O$11:$O$18"]
["PP5'!Orga3",{"$f":"'PP5'!$O$11:$O$18","v":{"$error":"#VALUE!"}},"#'PP5'!$O$11:$O$18"]
["Orga3",{"$f":"'PP1(LP)'!$O$11:$O$18","v":{"$error":"#VALUE!"}},"#'PP1(LP)'!$O$11:$O$18"]
["PP2'!Orga4",{"$f":"'PP2'!$P$11:$P$19","v":{"$error":"#VALUE!"}},"#'PP2'!$P$11:$P$19"]
["PP3'!Orga4",{"$f":"'PP3'!$P$11:$P$19","v":{"$error":"#VALUE!"}},"#'PP3'!$P$11:$P$19"]
["PP4'!Orga4",{"$f":"'PP4'!$P$11:$P$19","v":{"$error":"#VALUE!"}},"#'PP4'!$P$11:$P$19"]
["PP5'!Orga4",{"$f":"'PP5'!$P$11:$P$19","v":{"$error":"#VALUE!"}},"#'PP5'!$P$11:$P$19"]
["Orga4",{"$f":"'PP1(LP)'!$P$11:$P$19","v":{"$error":"#VALUE!"}},"#'PP1(LP)'!$P$11:$P$19"]
["PP2'!Orga5",{"$f":"'PP2'!$Q$11:$Q$19","v":{"$error":"#VALUE!"}},"#'PP2'!$Q$11:$Q$19"]
["PP3'!Orga5",{"$f":"'PP3'!$Q$11:$Q$19","v":{"$error":"#VALUE!"}},"#'PP3'!$Q$11:$Q$19"]
["PP4'!Orga5",{"$f":"'PP4'!$Q$11:$Q$19","v":{"$error":"#VALUE!"}},"#'PP4'!$Q$11:$Q$19"]
["PP5'!Orga5",{"$f":"'PP5'!$Q$11:$Q$19","v":{"$error":"#VALUE!"}},"#'PP5'!$Q$11:$Q$19"]
["Orga5",{"$f":"'PP1(LP)'!$Q$11:$Q$19","v":{"$error":"#VALUE!"}},"#'PP1(LP)'!$Q$11:$Q$19"]
["PP2'!Orga6",{"$f":"'PP2'!$R$11:$R$14","v":{"$error":"#VALUE!"}},"#'PP2'!$R$11:$R$14"]
["PP3'!Orga6",{"$f":"'PP3'!$R$11:$R$14","v":{"$error":"#VALUE!"}},"#'PP3'!$R$11:$R$14"]
["PP4'!Orga6",{"$f":"'PP4'!$R$11:$R$14","v":{"$error":"#VALUE!"}},"#'PP4'!$R$11:$R$14"]
["PP5'!Orga6",{"$f":"'PP5'!$R$11:$R$14","v":{"$error":"#VALUE!"}},"#'PP5'!$R$11:$R$14"]
["Orga6",{"$f":"'PP1(LP)'!$R$11:$R$14","v":{"$error":"#VALUE!"}},"#'PP1(LP)'!$R$11:$R$14"]
["PP2'!Orga7",{"$f":"'PP2'!$S$11:$S$18","v":{"$error":"#VALUE!"}},"#'PP2'!$S$11:$S$18"]
["PP3'!Orga7",{"$f":"'PP3'!$S$11:$S$18","v":{"$error":"#VALUE!"}},"#'PP3'!$S$11:$S$18"]
["PP4'!Orga7",{"$f":"'PP4'!$S$11:$S$18","v":{"$error":"#VALUE!"}},"#'PP4'!$S$11:$S$18"]
["PP5'!Orga7",{"$f":"'PP5'!$S$11:$S$18","v":{"$error":"#VALUE!"}},"#'PP5'!$S$11:$S$18"]
["Orga7",{"$f":"'PP1(LP)'!$S$11:$S$18","v":{"$error":"#VALUE!"}},"#'PP1(LP)'!$S$11:$S$18"]
["T2-B(PP2)'!P2_BL3_E",{"$f":"'T2-B(PP2)'!$D$16:$E$25,'T2-B(PP2)'!$D$27:$E$36,'T2-B(PP2)'!$D$38:$E$47","v":{"$error":"#VALUE!"}},"#'T2-B(PP2)'!$D$16:$E$25,'T2-B(PP2)'!$D$27:$E$36,'T2-B(PP2)'!$D$38:$E$47"]
["T2-B(PP2)'!P2_BL3_NE",{"$f":"'T2-B(PP2)'!$G$16:$H$25,'T2-B(PP2)'!$G$27:$H$36,'T2-B(PP2)'!$G$38:$H$47","v":{"$error":"#VALUE!"}},"#'T2-B(PP2)'!$G$16:$H$25,'T2-B(PP2)'!$G$27:$H$36,'T2-B(PP2)'!$G$38:$H$47"]
["T2-B(PP2)'!P2_BL4_E",{"$f":"'T2-B(PP2)'!$D$53:$E$62,'T2-B(PP2)'!$D$64:$E$73,'T2-B(PP2)'!$D$75:$E$84,'T2-B(PP2)'!$D$86:$E$95,'T2-B(PP2)'!$D$97:$E$106,'T2-B(PP2)'!$D$108:$E$117,'T2-B(PP2)'!$D$119:$E$128,'T2-B(PP2)'!$D$130:$E$139,'T2-B(PP2)'!$D$141:$E$150,'T2-B(PP2)'!$D$152:$E$161,'T2-B(PP2)'!$D$163:$E$172,'T2-B(PP2)'!$D$174:$E$183,'T2-B(PP2)'!$D$185:$E$194","v":{"$error":"#VALUE!"}},"#'T2-B(PP2)'!$D$53:$E$62,'T2-B(PP2)'!$D$64:$E$73,'T2-B(PP2)'!$D$75:$E$84,'T2-B(PP2)'!$D$86:$E$95,'T2-B(PP2)'!$D$97:$E$106,'T2-B(PP2)'!$D$108:$E$117,'T2-B(PP2)'!$D$119:$E$128,'T2-B(PP2)'!$D$130:$E$139,'T2-B(PP2)'!$D$141:$E$150,'T2-B(PP2)'!$D$152:$E$161,'T2-B(PP2)'!$D$163:$E$172,'T2-B(PP2)'!$D$174:$E$183,'T2-B(PP2)'!$D$185:$E$194"]
["T2-B(PP2)'!P2_BL4_NE",{"$f":"'T2-B(PP2)'!$G$53:$H$62,'T2-B(PP2)'!$G$64:$H$73,'T2-B(PP2)'!$G$75:$H$84,'T2-B(PP2)'!$G$86:$H$95,'T2-B(PP2)'!$G$97:$H$106,'T2-B(PP2)'!$G$108:$H$117,'T2-B(PP2)'!$G$119:$H$128,'T2-B(PP2)'!$G$130:$H$139,'T2-B(PP2)'!$G$141:$H$150,'T2-B(PP2)'!$G$152:$H$161,'T2-B(PP2)'!$G$163:$H$172,'T2-B(PP2)'!$G$174:$H$183,'T2-B(PP2)'!$G$185:$H$194","v":{"$error":"#VALUE!"}},"#'T2-B(PP2)'!$G$53:$H$62,'T2-B(PP2)'!$G$64:$H$73,'T2-B(PP2)'!$G$75:$H$84,'T2-B(PP2)'!$G$86:$H$95,'T2-B(PP2)'!$G$97:$H$106,'T2-B(PP2)'!$G$108:$H$117,'T2-B(PP2)'!$G$119:$H$128,'T2-B(PP2)'!$G$130:$H$139,'T2-B(PP2)'!$G$141:$H$150,'T2-B(PP2)'!$G$152:$H$161,'T2-B(PP2)'!$G$163:$H$172,'T2-B(PP2)'!$G$174:$H$183,'T2-B(PP2)'!$G$185:$H$194"]
["T2-B(PP2)'!P2_BL6_E",{"$f":"'T2-B(PP2)'!$D$200:$E$209,'T2-B(PP2)'!$D$211:$E$220,'T2-B(PP2)'!$D$225:$E$234","v":{"$error":"#VALUE!"}},"#'T2-B(PP2)'!$D$200:$E$209,'T2-B(PP2)'!$D$211:$E$220,'T2-B(PP2)'!$D$225:$E$234"]
["T2-B(PP2)'!P2_BL6_NE",{"$f":"'T2-B(PP2)'!$G$200:$H$209,'T2-B(PP2)'!$G$211:$H$220,'T2-B(PP2)'!$G$225:$H$234","v":{"$error":"#VALUE!"}},"#'T2-B(PP2)'!$G$200:$H$209,'T2-B(PP2)'!$G$211:$H$220,'T2-B(PP2)'!$G$225:$H$234"]
["T2-B(PP3)'!P3_BL3_E",{"$f":"'T2-B(PP3)'!$D$16:$E$25,'T2-B(PP3)'!$D$27:$E$36,'T2-B(PP3)'!$D$38:$E$47","v":{"$error":"#VALUE!"}},"#'T2-B(PP3)'!$D$16:$E$25,'T2-B(PP3)'!$D$27:$E$36,'T2-B(PP3)'!$D$38:$E$47"]
["T2-B(PP3)'!P3_BL3_NE",{"$f":"'T2-B(PP3)'!$G$16:$H$25,'T2-B(PP3)'!$G$27:$H$36,'T2-B(PP3)'!$G$38:$H$47","v":{"$error":"#VALUE!"}},"#'T2-B(PP3)'!$G$16:$H$25,'T2-B(PP3)'!$G$27:$H$36,'T2-B(PP3)'!$G$38:$H$47"]
["T2-B(PP3)'!P3_BL4_E",{"$f":"'T2-B(PP3)'!$D$53:$E$62,'T2-B(PP3)'!$D$64:$E$73,'T2-B(PP3)'!$D$75:$E$84,'T2-B(PP3)'!$D$86:$E$95,'T2-B(PP3)'!$D$97:$E$106,'T2-B(PP3)'!$D$108:$E$117,'T2-B(PP3)'!$D$119:$E$128,'T2-B(PP3)'!$D$130:$E$139,'T2-B(PP3)'!$D$141:$E$150,'T2-B(PP3)'!$D$152:$E$161,'T2-B(PP3)'!$D$163:$E$172,'T2-B(PP3)'!$D$174:$E$183,'T2-B(PP3)'!$D$185:$E$194","v":{"$error":"#VALUE!"}},"#'T2-B(PP3)'!$D$53:$E$62,'T2-B(PP3)'!$D$64:$E$73,'T2-B(PP3)'!$D$75:$E$84,'T2-B(PP3)'!$D$86:$E$95,'T2-B(PP3)'!$D$97:$E$106,'T2-B(PP3)'!$D$108:$E$117,'T2-B(PP3)'!$D$119:$E$128,'T2-B(PP3)'!$D$130:$E$139,'T2-B(PP3)'!$D$141:$E$150,'T2-B(PP3)'!$D$152:$E$161,'T2-B(PP3)'!$D$163:$E$172,'T2-B(PP3)'!$D$174:$E$183,'T2-B(PP3)'!$D$185:$E$194"]
["T2-B(PP3)'!P3_BL4_NE",{"$f":"'T2-B(PP3)'!$G$53:$H$62,'T2-B(PP3)'!$G$64:$H$73,'T2-B(PP3)'!$G$75:$H$84,'T2-B(PP3)'!$G$86:$H$95,'T2-B(PP3)'!$G$97:$H$106,'T2-B(PP3)'!$G$108:$H$117,'T2-B(PP3)'!$G$119:$H$128,'T2-B(PP3)'!$G$130:$H$139,'T2-B(PP3)'!$G$141:$H$150,'T2-B(PP3)'!$G$152:$H$161,'T2-B(PP3)'!$G$163:$H$172,'T2-B(PP3)'!$G$174:$H$183,'T2-B(PP3)'!$G$185:$H$194","v":{"$error":"#VALUE!"}},"#'T2-B(PP3)'!$G$53:$H$62,'T2-B(PP3)'!$G$64:$H$73,'T2-B(PP3)'!$G$75:$H$84,'T2-B(PP3)'!$G$86:$H$95,'T2-B(PP3)'!$G$97:$H$106,'T2-B(PP3)'!$G$108:$H$117,'T2-B(PP3)'!$G$119:$H$128,'T2-B(PP3)'!$G$130:$H$139,'T2-B(PP3)'!$G$141:$H$150,'T2-B(PP3)'!$G$152:$H$161,'T2-B(PP3)'!$G$163:$H$172,'T2-B(PP3)'!$G$174:$H$183,'T2-B(PP3)'!$G$185:$H$194"]
["T2-B(PP3)'!P3_BL6_E",{"$f":"'T2-B(PP3)'!$D$200:$E$209,'T2-B(PP3)'!$D$211:$E$220,'T2-B(PP3)'!$D$225:$E$234","v":{"$error":"#VALUE!"}},"#'T2-B(PP3)'!$D$200:$E$209,'T2-B(PP3)'!$D$211:$E$220,'T2-B(PP3)'!$D$225:$E$234"]
["T2-B(PP3)'!P3_BL6_NE",{"$f":"'T2-B(PP3)'!$G$200:$H$209,'T2-B(PP3)'!$G$211:$H$220,'T2-B(PP3)'!$G$225:$H$234","v":{"$error":"#VALUE!"}},"#'T2-B(PP3)'!$G$200:$H$209,'T2-B(PP3)'!$G$211:$H$220,'T2-B(PP3)'!$G$225:$H$234"]
["T2-B(PP4)'!P4_BL3_E",{"$f":"'T2-B(PP4)'!$D$16:$E$25,'T2-B(PP4)'!$D$27:$E$36,'T2-B(PP4)'!$D$38:$E$47","v":{"$error":"#VALUE!"}},"#'T2-B(PP4)'!$D$16:$E$25,'T2-B(PP4)'!$D$27:$E$36,'T2-B(PP4)'!$D$38:$E$47"]
["T2-B(PP4)'!P4_BL3_NE",{"$f":"'T2-B(PP4)'!$G$16:$H$25,'T2-B(PP4)'!$G$27:$H$36,'T2-B(PP4)'!$G$38:$H$47","v":{"$error":"#VALUE!"}},"#'T2-B(PP4)'!$G$16:$H$25,'T2-B(PP4)'!$G$27:$H$36,'T2-B(PP4)'!$G$38:$H$47"]
["T2-B(PP4)'!P4_BL4_E",{"$f":"'T2-B(PP4)'!$D$53:$E$62,'T2-B(PP4)'!$D$64:$E$73,'T2-B(PP4)'!$D$75:$E$84,'T2-B(PP4)'!$D$86:$E$95,'T2-B(PP4)'!$D$97:$E$106,'T2-B(PP4)'!$D$108:$E$117,'T2-B(PP4)'!$D$119:$E$128,'T2-B(PP4)'!$D$130:$E$139,'T2-B(PP4)'!$D$141:$E$150,'T2-B(PP4)'!$D$152:$E$161,'T2-B(PP4)'!$D$163:$E$172,'T2-B(PP4)'!$D$174:$E$183,'T2-B(PP4)'!$D$185:$E$194","v":{"$error":"#VALUE!"}},"#'T2-B(PP4)'!$D$53:$E$62,'T2-B(PP4)'!$D$64:$E$73,'T2-B(PP4)'!$D$75:$E$84,'T2-B(PP4)'!$D$86:$E$95,'T2-B(PP4)'!$D$97:$E$106,'T2-B(PP4)'!$D$108:$E$117,'T2-B(PP4)'!$D$119:$E$128,'T2-B(PP4)'!$D$130:$E$139,'T2-B(PP4)'!$D$141:$E$150,'T2-B(PP4)'!$D$152:$E$161,'T2-B(PP4)'!$D$163:$E$172,'T2-B(PP4)'!$D$174:$E$183,'T2-B(PP4)'!$D$185:$E$194"]
["T2-B(PP4)'!P4_BL4_NE",{"$f":"'T2-B(PP4)'!$G$53:$H$62,'T2-B(PP4)'!$G$64:$H$73,'T2-B(PP4)'!$G$75:$H$84,'T2-B(PP4)'!$G$86:$H$95,'T2-B(PP4)'!$G$97:$H$106,'T2-B(PP4)'!$G$108:$H$117,'T2-B(PP4)'!$G$119:$H$128,'T2-B(PP4)'!$G$130:$H$139,'T2-B(PP4)'!$G$141:$H$150,'T2-B(PP4)'!$G$152:$H$161,'T2-B(PP4)'!$G$163:$H$172,'T2-B(PP4)'!$G$174:$H$183,'T2-B(PP4)'!$G$185:$H$194","v":{"$error":"#VALUE!"}},"#'T2-B(PP4)'!$G$53:$H$62,'T2-B(PP4)'!$G$64:$H$73,'T2-B(PP4)'!$G$75:$H$84,'T2-B(PP4)'!$G$86:$H$95,'T2-B(PP4)'!$G$97:$H$106,'T2-B(PP4)'!$G$108:$H$117,'T2-B(PP4)'!$G$119:$H$128,'T2-B(PP4)'!$G$130:$H$139,'T2-B(PP4)'!$G$141:$H$150,'T2-B(PP4)'!$G$152:$H$161,'T2-B(PP4)'!$G$163:$H$172,'T2-B(PP4)'!$G$174:$H$183,'T2-B(PP4)'!$G$185:$H$194"]
["T2-B(PP4)'!P4_BL6_E",{"$f":"'T2-B(PP4)'!$D$200:$E$209,'T2-B(PP4)'!$D$211:$E$220,'T2-B(PP4)'!$D$225:$E$234","v":{"$error":"#VALUE!"}},"#'T2-B(PP4)'!$D$200:$E$209,'T2-B(PP4)'!$D$211:$E$220,'T2-B(PP4)'!$D$225:$E$234"]
["T2-B(PP4)'!P4_BL6_NE",{"$f":"'T2-B(PP4)'!$G$200:$H$209,'T2-B(PP4)'!$G$211:$H$220,'T2-B(PP4)'!$G$225:$H$234","v":{"$error":"#VALUE!"}},"#'T2-B(PP4)'!$G$200:$H$209,'T2-B(PP4)'!$G$211:$H$220,'T2-B(PP4)'!$G$225:$H$234"]
["T2-B(PP5)'!P5_BL3_E",{"$f":"'T2-B(PP5)'!$D$38:$E$47,'T2-B(PP5)'!$D$27:$E$36,'T2-B(PP5)'!$D$16:$E$25","v":{"$error":"#VALUE!"}},"#'T2-B(PP5)'!$D$38:$E$47,'T2-B(PP5)'!$D$27:$E$36,'T2-B(PP5)'!$D$16:$E$25"]
["T2-B(PP5)'!P5_BL3_NE",{"$f":"'T2-B(PP5)'!$G$16:$H$25,'T2-B(PP5)'!$G$27:$H$36,'T2-B(PP5)'!$G$38:$H$47","v":{"$error":"#VALUE!"}},"#'T2-B(PP5)'!$G$16:$H$25,'T2-B(PP5)'!$G$27:$H$36,'T2-B(PP5)'!$G$38:$H$47"]
["T2-B(PP5)'!P5_BL4_E",{"$f":"'T2-B(PP5)'!$D$53:$E$62,'T2-B(PP5)'!$D$64:$E$73,'T2-B(PP5)'!$D$75:$E$84,'T2-B(PP5)'!$D$86:$E$95,'T2-B(PP5)'!$D$97:$E$106,'T2-B(PP5)'!$D$108:$E$117,'T2-B(PP5)'!$D$119:$E$128,'T2-B(PP5)'!$D$130:$E$139,'T2-B(PP5)'!$D$141:$E$150,'T2-B(PP5)'!$D$152:$E$161,'T2-B(PP5)'!$D$163:$E$172,'T2-B(PP5)'!$D$174:$E$183,'T2-B(PP5)'!$D$185:$E$194","v":{"$error":"#VALUE!"}},"#'T2-B(PP5)'!$D$53:$E$62,'T2-B(PP5)'!$D$64:$E$73,'T2-B(PP5)'!$D$75:$E$84,'T2-B(PP5)'!$D$86:$E$95,'T2-B(PP5)'!$D$97:$E$106,'T2-B(PP5)'!$D$108:$E$117,'T2-B(PP5)'!$D$119:$E$128,'T2-B(PP5)'!$D$130:$E$139,'T2-B(PP5)'!$D$141:$E$150,'T2-B(PP5)'!$D$152:$E$161,'T2-B(PP5)'!$D$163:$E$172,'T2-B(PP5)'!$D$174:$E$183,'T2-B(PP5)'!$D$185:$E$194"]
["T2-B(PP5)'!P5_BL4_NE",{"$f":"'T2-B(PP5)'!$G$53:$H$62,'T2-B(PP5)'!$G$64:$H$73,'T2-B(PP5)'!$G$75:$H$84,'T2-B(PP5)'!$G$86:$H$95,'T2-B(PP5)'!$G$97:$H$106,'T2-B(PP5)'!$G$108:$H$117,'T2-B(PP5)'!$G$119:$H$128,'T2-B(PP5)'!$G$130:$H$139,'T2-B(PP5)'!$G$141:$H$150,'T2-B(PP5)'!$G$152:$H$161,'T2-B(PP5)'!$G$163:$H$172,'T2-B(PP5)'!$G$174:$H$183,'T2-B(PP5)'!$G$185:$H$194","v":{"$error":"#VALUE!"}},"#'T2-B(PP5)'!$G$53:$H$62,'T2-B(PP5)'!$G$64:$H$73,'T2-B(PP5)'!$G$75:$H$84,'T2-B(PP5)'!$G$86:$H$95,'T2-B(PP5)'!$G$97:$H$106,'T2-B(PP5)'!$G$108:$H$117,'T2-B(PP5)'!$G$119:$H$128,'T2-B(PP5)'!$G$130:$H$139,'T2-B(PP5)'!$G$141:$H$150,'T2-B(PP5)'!$G$152:$H$161,'T2-B(PP5)'!$G$163:$H$172,'T2-B(PP5)'!$G$174:$H$183,'T2-B(PP5)'!$G$185:$H$194"]
["T2-B(PP5)'!P5_BL6_E",{"$f":"'T2-B(PP5)'!$D$200:$E$209,'T2-B(PP5)'!$D$211:$E$220,'T2-B(PP5)'!$D$225:$E$234","v":{"$error":"#VALUE!"}},"#'T2-B(PP5)'!$D$200:$E$209,'T2-B(PP5)'!$D$211:$E$220,'T2-B(PP5)'!$D$225:$E$234"]
["T2-B(PP5)'!P5_BL6_NE",{"$f":"'T2-B(PP5)'!$G$225:$H$234,'T2-B(PP5)'!$G$211:$H$220,'T2-B(PP5)'!$G$200:$H$209","v":{"$error":"#VALUE!"}},"#'T2-B(PP5)'!$G$225:$H$234,'T2-B(PP5)'!$G$211:$H$220,'T2-B(PP5)'!$G$200:$H$209"]
["pi_act_1_descrp",{"$f":"'Project identification'!$B$95","v":0},"#'Project identification'!$B$95"]
["pi_act_1_location",{"$f":"'Project identification'!$D$93","v":0},"#'Project identification'!$D$93"]
["pi_act_1_metod",{"$f":"'Project identification'!$B$99","v":0},"#'Project identification'!$B$99"]
["pi_act_1_output",{"$f":"'Project identification'!$B$101","v":0},"#'Project identification'!$B$101"]
["pi_act_1_report",{"$f":"'Project identification'!$B$97","v":0},"#'Project identification'!$B$97"]
["pi_act_1_title",{"$f":"'Project identification'!$D$92","v":0},"#'Project identification'!$D$92"]
["pi_act_10_descrp",{"$f":"'Project identification'!$B$221","v":0},"#'Project identification'!$B$221"]
["pi_act_10_location",{"$f":"'Project identification'!$D$219","v":0},"#'Project identification'!$D$219"]
["pi_act_10_metod",{"$f":"'Project identification'!$B$225","v":0},"#'Project identification'!$B$225"]
["pi_act_10_output",{"$f":"'Project identification'!$B$227","v":0},"#'Project identification'!$B$227"]
["pi_act_10_report",{"$f":"'Project identification'!$B$223","v":0},"#'Project identification'!$B$223"]
["pi_act_10_title",{"$f":"'Project identification'!$D$218","v":0},"#'Project identification'!$D$218"]
["pi_act_11_descrp",{"$f":"'Project identification'!$B$235","v":0},"#'Project identification'!$B$235"]
["pi_act_11_location",{"$f":"'Project identification'!$D$233","v":0},"#'Project identification'!$D$233"]
["pi_act_11_metod",{"$f":"'Project identification'!$B$239","v":0},"#'Project identification'!$B$239"]
["pi_act_11_output",{"$f":"'Project identification'!$B$241","v":0},"#'Project identification'!$B$241"]
["pi_act_11_report",{"$f":"'Project identification'!$B$237","v":0},"#'Project identification'!$B$237"]
["pi_act_11_title",{"$f":"'Project identification'!$D$232","v":0},"#'Project identification'!$D$232"]
["pi_act_12_descrp",{"$f":"'Project identification'!$B$249","v":0},"#'Project identification'!$B$249"]
["pi_act_12_location",{"$f":"'Project identification'!$D$247","v":0},"#'Project identification'!$D$247"]
["pi_act_12_metod",{"$f":"'Project identification'!$B$253","v":0},"#'Project identification'!$B$253"]
["pi_act_12_output",{"$f":"'Project identification'!$B$255","v":0},"#'Project identification'!$B$255"]
["pi_act_12_report",{"$f":"'Project identification'!$B$251","v":0},"#'Project identification'!$B$251"]
["pi_act_12_title",{"$f":"'Project identification'!$D$246","v":0},"#'Project identification'!$D$246"]
["pi_act_13_descrp",{"$f":"'Project identification'!$B$263","v":0},"#'Project identification'!$B$263"]
["pi_act_13_location",{"$f":"'Project identification'!$D$261","v":0},"#'Project identification'!$D$261"]
["pi_act_13_metod",{"$f":"'Project identification'!$B$267","v":0},"#'Project identification'!$B$267"]
["pi_act_13_output",{"$f":"'Project identification'!$B$269","v":0},"#'Project identification'!$B$269"]
["pi_act_13_report",{"$f":"'Project identification'!$B$265","v":0},"#'Project identification'!$B$265"]
["pi_act_13_title",{"$f":"'Project identification'!$D$260","v":0},"#'Project identification'!$D$260"]
["pi_act_14_descrp",{"$f":"'Project identification'!$B$277","v":0},"#'Project identification'!$B$277"]
["pi_act_14_location",{"$f":"'Project identification'!$D$275","v":0},"#'Project identification'!$D$275"]
["pi_act_14_metod",{"$f":"'Project identification'!$B$281","v":0},"#'Project identification'!$B$281"]
["pi_act_14_output",{"$f":"'Project identification'!$B$283","v":0},"#'Project identification'!$B$283"]
["pi_act_14_report",{"$f":"'Project identification'!$B$279","v":0},"#'Project identification'!$B$279"]
["pi_act_14_title",{"$f":"'Project identification'!$D$274","v":0},"#'Project identification'!$D$274"]
["pi_act_15_descrp",{"$f":"'Project identification'!$B$291","v":0},"#'Project identification'!$B$291"]
["pi_act_15_location",{"$f":"'Project identification'!$D$289","v":0},"#'Project identification'!$D$289"]
["pi_act_15_metod",{"$f":"'Project identification'!$B$295","v":0},"#'Project identification'!$B$295"]
["pi_act_15_output",{"$f":"'Project identification'!$B$297","v":0},"#'Project identification'!$B$297"]
["pi_act_15_report",{"$f":"'Project identification'!$B$293","v":0},"#'Project identification'!$B$293"]
["pi_act_15_title",{"$f":"'Project identification'!$D$288","v":0},"#'Project identification'!$D$288"]
["pi_act_2_descrp",{"$f":"'Project identification'!$B$109","v":0},"#'Project identification'!$B$109"]
["pi_act_2_location",{"$f":"'Project identification'!$D$107","v":0},"#'Project identification'!$D$107"]
["pi_act_2_metod",{"$f":"'Project identification'!$B$113","v":0},"#'Project identification'!$B$113"]
["pi_act_2_output",{"$f":"'Project identification'!$B$115","v":0},"#'Project identification'!$B$115"]
["pi_act_2_report",{"$f":"'Project identification'!$B$111","v":0},"#'Project identification'!$B$111"]
["pi_act_2_title",{"$f":"'Project identification'!$D$106","v":0},"#'Project identification'!$D$106"]
["pi_act_3_descrp",{"$f":"'Project identification'!$B$123","v":0},"#'Project identification'!$B$123"]
["pi_act_3_location",{"$f":"'Project identification'!$D$121","v":0},"#'Project identification'!$D$121"]
["pi_act_3_metod",{"$f":"'Project identification'!$B$127","v":0},"#'Project identification'!$B$127"]
["pi_act_3_output",{"$f":"'Project identification'!$B$129","v":0},"#'Project identification'!$B$129"]
["pi_act_3_report",{"$f":"'Project identification'!$B$125","v":0},"#'Project identification'!$B$125"]
["pi_act_3_title",{"$f":"'Project identification'!$D$120","v":0},"#'Project identification'!$D$120"]
["pi_act_4_descrp",{"$f":"'Project identification'!$B$137","v":0},"#'Project identification'!$B$137"]
["pi_act_4_location",{"$f":"'Project identification'!$D$135","v":0},"#'Project identification'!$D$135"]
["pi_act_4_metod",{"$f":"'Project identification'!$B$141","v":0},"#'Project identification'!$B$141"]
["pi_act_4_output",{"$f":"'Project identification'!$B$143","v":0},"#'Project identification'!$B$143"]
["pi_act_4_report",{"$f":"'Project identification'!$B$139","v":0},"#'Project identification'!$B$139"]
["pi_act_4_title",{"$f":"'Project identification'!$D$134","v":0},"#'Project identification'!$D$134"]
["pi_act_5_descrp",{"$f":"'Project identification'!$B$151","v":0},"#'Project identification'!$B$151"]
["pi_act_5_location",{"$f":"'Project identification'!$D$149","v":0},"#'Project identification'!$D$149"]
["pi_act_5_metod",{"$f":"'Project identification'!$B$155","v":0},"#'Project identification'!$B$155"]
["pi_act_5_output",{"$f":"'Project identification'!$B$157","v":0},"#'Project identification'!$B$157"]
["pi_act_5_report",{"$f":"'Project identification'!$B$153","v":0},"#'Project identification'!$B$153"]
["pi_act_5_title",{"$f":"'Project identification'!$D$148","v":0},"#'Project identification'!$D$148"]
["pi_act_6_descrp",{"$f":"'Project identification'!$B$165","v":0},"#'Project identification'!$B$165"]
["pi_act_6_location",{"$f":"'Project identification'!$D$163","v":0},"#'Project identification'!$D$163"]
["pi_act_6_metod",{"$f":"'Project identification'!$B$169","v":0},"#'Project identification'!$B$169"]
["pi_act_6_output",{"$f":"'Project identification'!$B$171","v":0},"#'Project identification'!$B$171"]
["pi_act_6_report",{"$f":"'Project identification'!$B$167","v":0},"#'Project identification'!$B$167"]
["pi_act_6_title",{"$f":"'Project identification'!$D$162","v":0},"#'Project identification'!$D$162"]
["pi_act_7_descrp",{"$f":"'Project identification'!$B$179","v":0},"#'Project identification'!$B$179"]
["pi_act_7_location",{"$f":"'Project identification'!$D$177","v":0},"#'Project identification'!$D$177"]
["pi_act_7_metod",{"$f":"'Project identification'!$B$183","v":0},"#'Project identification'!$B$183"]
["pi_act_7_output",{"$f":"'Project identification'!$B$185","v":0},"#'Project identification'!$B$185"]
["pi_act_7_report",{"$f":"'Project identification'!$B$181","v":0},"#'Project identification'!$B$181"]
["pi_act_7_title",{"$f":"'Project identification'!$D$176","v":0},"#'Project identification'!$D$176"]
["pi_act_8_descrp",{"$f":"'Project identification'!$B$193","v":0},"#'Project identification'!$B$193"]
["pi_act_8_location",{"$f":"'Project identification'!$D$191","v":0},"#'Project identification'!$D$191"]
["pi_act_8_metod",{"$f":"'Project identification'!$B$197","v":0},"#'Project identification'!$B$197"]
["pi_act_8_output",{"$f":"'Project identification'!$B$199","v":0},"#'Project identification'!$B$199"]
["pi_act_8_report",{"$f":"'Project identification'!$B$195","v":0},"#'Project identification'!$B$195"]
["pi_act_8_title",{"$f":"'Project identification'!$D$190","v":0},"#'Project identification'!$D$190"]
["pi_act_9_descrp",{"$f":"'Project identification'!$B$207","v":0},"#'Project identification'!$B$207"]
["pi_act_9_location",{"$f":"'Project identification'!$D$205","v":0},"#'Project identification'!$D$205"]
["pi_act_9_metod",{"$f":"'Project identification'!$B$211","v":0},"#'Project identification'!$B$211"]
["pi_act_9_output",{"$f":"'Project identification'!$B$213","v":0},"#'Project identification'!$B$213"]
["pi_act_9_report",{"$f":"'Project identification'!$B$209","v":0},"#'Project identification'!$B$209"]
["pi_act_9_title",{"$f":"'Project identification'!$D$204","v":0},"#'Project identification'!$D$204"]
["pi_comm_vis",{"$f":"'Project identification'!$B$305","v":0},"#'Project identification'!$B$305"]
["pi_coop_crit1_check",{"$f":"'Project identification'!$C$24","v":0},"#'Project identification'!$C$24"]
["pi_coop_crit1_descr",{"$f":"'Project identification'!$B$25","v":0},"#'Project identification'!$B$25"]
["pi_coop_crit2_check",{"$f":"'Project identification'!$C$26","v":0},"#'Project identification'!$C$26"]
["pi_coop_crit2_descr",{"$f":"'Project identification'!$B$27","v":0},"#'Project identification'!$B$27"]
["pi_coop_crit3_check",{"$f":"'Project identification'!$C$28","v":0},"#'Project identification'!$C$28"]
["pi_coop_crit3_descr",{"$f":"'Project identification'!$B$29","v":0},"#'Project identification'!$B$29"]
["pi_coop_crit4_check",{"$f":"'Project identification'!$C$30","v":0},"#'Project identification'!$C$30"]
["pi_coop_crit4_descr",{"$f":"'Project identification'!$B$31","v":0},"#'Project identification'!$B$31"]
["pi_correspondence",{"$f":"'Project identification'!$B$76","v":0},"#'Project identification'!$B$76"]
["pi_cross_border_impact",{"$f":"'Project identification'!$B$36","v":0},"#'Project identification'!$B$36"]
["pi_efect",{"$f":"'Project identification'!$B$352","v":0},"#'Project identification'!$B$352"]
["pi_hrz_1",{"$f":"'Project identification'!$D$373","v":0},"#'Project identification'!$D$373"]
["pi_hrz_2",{"$f":"'Project identification'!$D$374","v":0},"#'Project identification'!$D$374"]
["pi_hrz_3",{"$f":"'Project identification'!$D$375","v":0},"#'Project identification'!$D$375"]
["pi_management",{"$f":"'Project identification'!$B$333","v":0},"#'Project identification'!$B$333"]
["pi_monit_quant",{"$f":"'Project identification'!$C$344","v":0},"#'Project identification'!$C$344"]
["pi_monit_verif",{"$f":"'Project identification'!$E$344","v":0},"#'Project identification'!$E$344"]
["pi_other_prj",{"$f":"'Project identification'!$B$368","v":0},"#'Project identification'!$B$368"]
["pi_other_str",{"$f":"'Project identification'!$B$365","v":0},"#'Project identification'!$B$365"]
["pi_other_strategies",{"$f":"'Project identification'!$B$364","v":0},"#'Project identification'!$B$364"]
["pi_out_indicator1",{"$f":"'Project identification'!$B$344","v":0},"#'Project identification'!$B$344"]
["pi_out_indicator16",{"$f":"'Project identification'!$B$349","v":0},"#'Project identification'!$B$349"]
["pi_out_indicator2",{"$f":"'Project identification'!$B$345","v":0},"#'Project identification'!$B$345"]
["pi_out_indicator3",{"$f":"'Project identification'!$B$346","v":0},"#'Project identification'!$B$346"]
["pi_out_indicator4",{"$f":"'Project identification'!$B$347","v":0},"#'Project identification'!$B$347"]
["pi_out_indicator5",{"$f":"'Project identification'!$B$348","v":0},"#'Project identification'!$B$348"]
["pi_out_indicator6",{"$f":"'Project identification'!$B$349","v":0},"#'Project identification'!$B$349"]
["pi_out_indicators",{"$f":"'Project identification'!$B$344","v":0},"#'Project identification'!$B$344"]
["pi_pd_back1",{"$f":"'Project identification'!$B$68","v":0},"#'Project identification'!$B$68"]
["pi_pd_const",{"$f":"'Project identification'!$B$72","v":0},"#'Project identification'!$B$72"]
["pi_pd_direct_benef_desk",{"$f":"'Project identification'!$C$84","v":0},"#'Project identification'!$C$84"]
["pi_pd_direct_benef_num",{"$f":"'Project identification'!$I$84","v":0},"#'Project identification'!$I$84"]
["pi_pd_final_benef_desk",{"$f":"'Project identification'!$C$85","v":0},"#'Project identification'!$C$85"]
["pi_pd_final_benef_num",{"$f":"'Project identification'!$I$85","v":0},"#'Project identification'!$I$85"]
["pi_pd_target_desk",{"$f":"'Project identification'!$C$83","v":0},"#'Project identification'!$C$83"]
["pi_pd_target_num",{"$f":"'Project identification'!$I$83","v":0},"#'Project identification'!$I$83"]
["pi_sustainability",{"$f":"'Project identification'!$B$357","v":"00:00:00"},"#'Project identification'!$B$357"]
["pp_1_bl1_1_name",{"$f":"'T2-B(PP1)'!$B$5","v":" project"},"#'T2-B(PP1)'!$B$5"]
["pp_1_bl1_1_perc",{"$f":"'T2-B(PP1)'!$G$5","v":0},"#'T2-B(PP1)'!$G$5"]
["pp_1_bl1_1_total",{"$f":"'T2-B(PP1)'!$J$5","v":0},"#'T2-B(PP1)'!$J$5"]
["pp_1_bl1_total",{"$f":"'T2-B(PP1)'!$J$6","v":0},"#'T2-B(PP1)'!$J$6"]
["pp_1_bl2_1_name",{"$f":"'T2-B(PP1)'!$B$10","v":" project"},"#'T2-B(PP1)'!$B$10"]
["pp_1_bl2_1_perc",{"$f":"'T2-B(PP1)'!$G$10","v":0},"#'T2-B(PP1)'!$G$10"]
["pp_1_bl2_1_total",{"$f":"'T2-B(PP1)'!$J$10","v":0},"#'T2-B(PP1)'!$J$10"]
["pp_1_bl2_total",{"$f":"'T2-B(PP1)'!$J$11","v":0},"#'T2-B(PP1)'!$J$11"]
["pp_1_proj_direct_total",{"$f":"'T2-B(PP1)'!$J$252","v":0},"#'T2-B(PP1)'!$J$252"]
["pp_1_proj_direct_total_in",{"$f":"'T2-B(PP1)'!$F$252","v":0},"#'T2-B(PP1)'!$F$252"]
["pp_1_proj_direct_total_out",{"$f":"'T2-B(PP1)'!$G$252","v":0},"#'T2-B(PP1)'!$G$252"]
["pp_1_proj_total",{"$f":"'T2-B(PP1)'!$J$253","v":0},"#'T2-B(PP1)'!$J$253"]
["pp_1_proj_total_in",{"$f":"'T2-B(PP1)'!$F$253","v":0},"#'T2-B(PP1)'!$F$253"]
["pp_1_proj_total_out",{"$f":"'T2-B(PP1)'!$G$253","v":0},"#'T2-B(PP1)'!$G$253"]
["pp_2_bl1_1_name",{"$f":"'T2-B(PP2)'!$B$5","v":" project"},"#'T2-B(PP2)'!$B$5"]
["pp_2_bl1_1_perc",{"$f":"'T2-B(PP2)'!$G$5","v":0},"#'T2-B(PP2)'!$G$5"]
["pp_2_bl1_1_total",{"$f":"'T2-B(PP2)'!$J$5","v":0},"#'T2-B(PP2)'!$J$5"]
["pp_2_bl1_total",{"$f":"'T2-B(PP2)'!$J$6","v":0},"#'T2-B(PP2)'!$J$6"]
["pp_2_bl2_1_name",{"$f":"'T2-B(PP2)'!$B$10","v":" project"},"#'T2-B(PP2)'!$B$10"]
["pp_2_bl2_1_perc",{"$f":"'T2-B(PP2)'!$G$10","v":0},"#'T2-B(PP2)'!$G$10"]
["pp_2_bl2_1_total",{"$f":"'T2-B(PP2)'!$J$10","v":0},"#'T2-B(PP2)'!$J$10"]
["pp_2_bl2_total",{"$f":"'T2-B(PP2)'!$J$11","v":0},"#'T2-B(PP2)'!$J$11"]
["pp_2_proj_direct_total",{"$f":"'T2-B(PP2)'!$J$262","v":0},"#'T2-B(PP2)'!$J$262"]
["pp_2_proj_direct_total_in",{"$f":"'T2-B(PP2)'!$F$262","v":0},"#'T2-B(PP2)'!$F$262"]
["pp_2_proj_direct_total_out",{"$f":"'T2-B(PP2)'!$G$262","v":0},"#'T2-B(PP2)'!$G$262"]
["pp_2_proj_total",{"$f":"'T2-B(PP2)'!$J$263","v":0},"#'T2-B(PP2)'!$J$263"]
["pp_2_proj_total_in",{"$f":"'T2-B(PP2)'!$F$263","v":0},"#'T2-B(PP2)'!$F$263"]
["pp_2_proj_total_out",{"$f":"'T2-B(PP2)'!$G$263","v":0},"#'T2-B(PP2)'!$G$263"]
["pp_3_bl1_1_name",{"$f":"'T2-B(PP3)'!$B$5","v":" project"},"#'T2-B(PP3)'!$B$5"]
["pp_3_bl1_1_perc",{"$f":"'T2-B(PP3)'!$G$5","v":0},"#'T2-B(PP3)'!$G$5"]
["pp_3_bl1_1_total",{"$f":"'T2-B(PP3)'!$J$5","v":0},"#'T2-B(PP3)'!$J$5"]
["pp_3_bl1_total",{"$f":"'T2-B(PP3)'!$J$6","v":0},"#'T2-B(PP3)'!$J$6"]
["pp_3_bl2_1_name",{"$f":"'T2-B(PP3)'!$B$10","v":" project"},"#'T2-B(PP3)'!$B$10"]
["pp_3_bl2_1_perc",{"$f":"'T2-B(PP3)'!$G$10","v":0},"#'T2-B(PP3)'!$G$10"]
["pp_3_bl2_1_total",{"$f":"'T2-B(PP3)'!$J$10","v":0},"#'T2-B(PP3)'!$J$10"]
["pp_3_bl2_total",{"$f":"'T2-B(PP3)'!$J$11","v":0},"#'T2-B(PP3)'!$J$11"]
["pp_3_proj_direct_total",{"$f":"'T2-B(PP3)'!$J$262","v":0},"#'T2-B(PP3)'!$J$262"]
["pp_3_proj_direct_total_in",{"$f":"'T2-B(PP3)'!$F$262","v":0},"#'T2-B(PP3)'!$F$262"]
["pp_3_proj_direct_total_out",{"$f":"'T2-B(PP3)'!$G$262","v":0},"#'T2-B(PP3)'!$G$262"]
["pp_3_proj_total",{"$f":"'T2-B(PP3)'!$J$263","v":0},"#'T2-B(PP3)'!$J$263"]
["pp_3_proj_total_in",{"$f":"'T2-B(PP3)'!$F$263","v":0},"#'T2-B(PP3)'!$F$263"]
["pp_3_proj_total_out",{"$f":"'T2-B(PP3)'!$G$263","v":0},"#'T2-B(PP3)'!$G$263"]
["pp_4_bl1_1_name",{"$f":"'T2-B(PP4)'!$B$5","v":" project"},"#'T2-B(PP4)'!$B$5"]
["pp_4_bl1_1_perc",{"$f":"'T2-B(PP4)'!$G$5","v":0},"#'T2-B(PP4)'!$G$5"]
["pp_4_bl1_1_total",{"$f":"'T2-B(PP4)'!$J$5","v":0},"#'T2-B(PP4)'!$J$5"]
["pp_4_bl1_total",{"$f":"'T2-B(PP4)'!$J$6","v":0},"#'T2-B(PP4)'!$J$6"]
["pp_4_bl2_1_name",{"$f":"'T2-B(PP4)'!$B$10","v":" project"},"#'T2-B(PP4)'!$B$10"]
["pp_4_bl2_1_perc",{"$f":"'T2-B(PP4)'!$G$10","v":0},"#'T2-B(PP4)'!$G$10"]
["pp_4_bl2_1_total",{"$f":"'T2-B(PP4)'!$J$10","v":0},"#'T2-B(PP4)'!$J$10"]
["pp_4_bl2_total",{"$f":"'T2-B(PP4)'!$J$11","v":0},"#'T2-B(PP4)'!$J$11"]
["pp_4_proj_direct_total",{"$f":"'T2-B(PP4)'!$J$262","v":0},"#'T2-B(PP4)'!$J$262"]
["pp_4_proj_direct_total_in",{"$f":"'T2-B(PP4)'!$F$262","v":0},"#'T2-B(PP4)'!$F$262"]
["pp_4_proj_direct_total_out",{"$f":"'T2-B(PP4)'!$G$262","v":0},"#'T2-B(PP4)'!$G$262"]
["pp_4_proj_total",{"$f":"'T2-B(PP4)'!$J$263","v":0},"#'T2-B(PP4)'!$J$263"]
["pp_4_proj_total_in",{"$f":"'T2-B(PP4)'!$F$263","v":0},"#'T2-B(PP4)'!$F$263"]
["pp_4_proj_total_out",{"$f":"'T2-B(PP4)'!$G$263","v":0},"#'T2-B(PP4)'!$G$263"]
["pp_5_bl1_1_name",{"$f":"'T2-B(PP5)'!$B$5","v":" project"},"#'T2-B(PP5)'!$B$5"]
["pp_5_bl1_1_perc",{"$f":"'T2-B(PP5)'!$G$5","v":0},"#'T2-B(PP5)'!$G$5"]
["pp_5_bl1_1_total",{"$f":"'T2-B(PP5)'!$J$5","v":0},"#'T2-B(PP5)'!$J$5"]
["pp_5_bl1_total",{"$f":"'T2-B(PP5)'!$J$6","v":0},"#'T2-B(PP5)'!$J$6"]
["pp_5_bl2_1_name",{"$f":"'T2-B(PP5)'!$B$10","v":" project"},"#'T2-B(PP5)'!$B$10"]
["pp_5_bl2_1_perc",{"$f":"'T2-B(PP5)'!$G$10","v":0},"#'T2-B(PP5)'!$G$10"]
["pp_5_bl2_1_total",{"$f":"'T2-B(PP5)'!$J$10","v":0},"#'T2-B(PP5)'!$J$10"]
["pp_5_bl2_total",{"$f":"'T2-B(PP5)'!$J$11","v":0},"#'T2-B(PP5)'!$J$11"]
["pp_5_proj_direct_total",{"$f":"'T2-B(PP5)'!$J$262","v":0},"#'T2-B(PP5)'!$J$262"]
["pp_5_proj_direct_total_in",{"$f":"'T2-B(PP5)'!$F$262","v":0},"#'T2-B(PP5)'!$F$262"]
["pp_5_proj_direct_total_out",{"$f":"'T2-B(PP5)'!$G$262","v":0},"#'T2-B(PP5)'!$G$262"]
["pp_5_proj_total",{"$f":"'T2-B(PP5)'!$J$263","v":0},"#'T2-B(PP5)'!$J$263"]
["pp_5_proj_total_in",{"$f":"'T2-B(PP5)'!$F$263","v":0},"#'T2-B(PP5)'!$F$263"]
["pp_5_proj_total_out",{"$f":"'T2-B(PP5)'!$G$263","v":0},"#'T2-B(PP5)'!$G$263"]
["pp1_2012_fulltime_staff",{"$f":"'PP1(LP)'!$D$84","v":0},"#'PP1(LP)'!$D$84"]
["pp1_2012_offices",{"$f":"'PP1(LP)'!$F$84","v":0},"#'PP1(LP)'!$F$84"]
["pp1_2012_parttime_staff",{"$f":"'PP1(LP)'!$E$84","v":0},"#'PP1(LP)'!$E$84"]
["pp1_2012_turnover",{"$f":"'PP1(LP)'!$C$84","v":0},"#'PP1(LP)'!$C$84"]
["pp1_2013_fulltime_staff",{"$f":"'PP1(LP)'!$D$83","v":0},"#'PP1(LP)'!$D$83"]
["pp1_2013_offices",{"$f":"'PP1(LP)'!$F$83","v":0},"#'PP1(LP)'!$F$83"]
["pp1_2013_parttime_staff",{"$f":"'PP1(LP)'!$E$83","v":0},"#'PP1(LP)'!$E$83"]
["pp1_2013_turnover",{"$f":"'PP1(LP)'!$C$83","v":0},"#'PP1(LP)'!$C$83"]
["pp1_2014_fulltime_staff",{"$f":"'PP1(LP)'!$D$82","v":0},"#'PP1(LP)'!$D$82"]
["pp1_2014_offices",{"$f":"'PP1(LP)'!$F$82","v":0},"#'PP1(LP)'!$F$82"]
["pp1_2014_parttime_staff",{"$f":"'PP1(LP)'!$E$82","v":0},"#'PP1(LP)'!$E$82"]
["pp1_2014_turnover",{"$f":"'PP1(LP)'!$C$82","v":0},"#'PP1(LP)'!$C$82"]
["pp1_address",{"$f":"'PP1(LP)'!$C$19","v":0},"#'PP1(LP)'!$C$19"]
["pp1_bl3_1_1_name",{"$f":"'T2-B(PP1)'!$B$16","v":0},"#'T2-B(PP1)'!$B$16"]
["pp1_bl3_1_1_rate_in",{"$f":"'T2-B(PP1)'!$E$16","v":0},"#'T2-B(PP1)'!$E$16"]
["pp1_bl3_1_1_rate_out",{"$f":"'T2-B(PP1)'!$H$16","v":0},"#'T2-B(PP1)'!$H$16"]
["pp1_bl3_1_1_total",{"$f":"'T2-B(PP1)'!$J$16","v":0},"#'T2-B(PP1)'!$J$16"]
["pp1_bl3_1_1_total_in",{"$f":"'T2-B(PP1)'!$F$16","v":0},"#'T2-B(PP1)'!$F$16"]
["pp1_bl3_1_1_total_out",{"$f":"'T2-B(PP1)'!$I$16","v":0},"#'T2-B(PP1)'!$I$16"]
["pp1_bl3_1_1_unit",{"$f":"'T2-B(PP1)'!$C$16","v":0},"#'T2-B(PP1)'!$C$16"]
["pp1_bl3_1_1_unit_in",{"$f":"'T2-B(PP1)'!$D$16","v":0},"#'T2-B(PP1)'!$D$16"]
["pp1_bl3_1_1_units_out",{"$f":"'T2-B(PP1)'!$G$16","v":0},"#'T2-B(PP1)'!$G$16"]
["pp1_bl3_1_10_name",{"$f":"'T2-B(PP1)'!$B$25","v":0},"#'T2-B(PP1)'!$B$25"]
["pp1_bl3_1_10_rate_in",{"$f":"'T2-B(PP1)'!$E$25","v":0},"#'T2-B(PP1)'!$E$25"]
["pp1_bl3_1_10_rate_out",{"$f":"'T2-B(PP1)'!$H$25","v":0},"#'T2-B(PP1)'!$H$25"]
["pp1_bl3_1_10_total",{"$f":"'T2-B(PP1)'!$J$25","v":0},"#'T2-B(PP1)'!$J$25"]
["pp1_bl3_1_10_total_in",{"$f":"'T2-B(PP1)'!$F$25","v":0},"#'T2-B(PP1)'!$F$25"]
["pp1_bl3_1_10_total_out",{"$f":"'T2-B(PP1)'!$I$25","v":0},"#'T2-B(PP1)'!$I$25"]
["pp1_bl3_1_10_unit",{"$f":"'T2-B(PP1)'!$C$25","v":0},"#'T2-B(PP1)'!$C$25"]
["pp1_bl3_1_10_unit_in",{"$f":"'T2-B(PP1)'!$D$25","v":0},"#'T2-B(PP1)'!$D$25"]
["pp1_bl3_1_10_units_out",{"$f":"'T2-B(PP1)'!$G$25","v":0},"#'T2-B(PP1)'!$G$25"]
["pp1_bl3_1_2_name",{"$f":"'T2-B(PP1)'!$B$17","v":0},"#'T2-B(PP1)'!$B$17"]
["pp1_bl3_1_2_rate_in",{"$f":"'T2-B(PP1)'!$E$17","v":0},"#'T2-B(PP1)'!$E$17"]
["pp1_bl3_1_2_rate_out",{"$f":"'T2-B(PP1)'!$H$17","v":0},"#'T2-B(PP1)'!$H$17"]
["pp1_bl3_1_2_total",{"$f":"'T2-B(PP1)'!$J$17","v":0},"#'T2-B(PP1)'!$J$17"]
["pp1_bl3_1_2_total_in",{"$f":"'T2-B(PP1)'!$F$17","v":0},"#'T2-B(PP1)'!$F$17"]
["pp1_bl3_1_2_total_out",{"$f":"'T2-B(PP1)'!$I$17","v":0},"#'T2-B(PP1)'!$I$17"]
["pp1_bl3_1_2_unit",{"$f":"'T2-B(PP1)'!$C$17","v":0},"#'T2-B(PP1)'!$C$17"]
["pp1_bl3_1_2_unit_in",{"$f":"'T2-B(PP1)'!$D$17","v":0},"#'T2-B(PP1)'!$D$17"]
["pp1_bl3_1_2_units_out",{"$f":"'T2-B(PP1)'!$G$17","v":0},"#'T2-B(PP1)'!$G$17"]
["pp1_bl3_1_3_name",{"$f":"'T2-B(PP1)'!$B$18","v":0},"#'T2-B(PP1)'!$B$18"]
["pp1_bl3_1_3_rate_in",{"$f":"'T2-B(PP1)'!$E$18","v":0},"#'T2-B(PP1)'!$E$18"]
["pp1_bl3_1_3_rate_out",{"$f":"'T2-B(PP1)'!$H$18","v":0},"#'T2-B(PP1)'!$H$18"]
["pp1_bl3_1_3_total",{"$f":"'T2-B(PP1)'!$J$18","v":0},"#'T2-B(PP1)'!$J$18"]
["pp1_bl3_1_3_total_in",{"$f":"'T2-B(PP1)'!$F$18","v":0},"#'T2-B(PP1)'!$F$18"]
["pp1_bl3_1_3_total_out",{"$f":"'T2-B(PP1)'!$I$18","v":0},"#'T2-B(PP1)'!$I$18"]
["pp1_bl3_1_3_unit",{"$f":"'T2-B(PP1)'!$C$18","v":0},"#'T2-B(PP1)'!$C$18"]
["pp1_bl3_1_3_unit_in",{"$f":"'T2-B(PP1)'!$D$18","v":0},"#'T2-B(PP1)'!$D$18"]
["pp1_bl3_1_3_units_out",{"$f":"'T2-B(PP1)'!$G$18","v":0},"#'T2-B(PP1)'!$G$18"]
["pp1_bl3_1_4_name",{"$f":"'T2-B(PP1)'!$B$19","v":0},"#'T2-B(PP1)'!$B$19"]
["pp1_bl3_1_4_rate_in",{"$f":"'T2-B(PP1)'!$E$19","v":0},"#'T2-B(PP1)'!$E$19"]
["pp1_bl3_1_4_rate_out",{"$f":"'T2-B(PP1)'!$H$19","v":0},"#'T2-B(PP1)'!$H$19"]
["pp1_bl3_1_4_total",{"$f":"'T2-B(PP1)'!$J$19","v":0},"#'T2-B(PP1)'!$J$19"]
["pp1_bl3_1_4_total_in",{"$f":"'T2-B(PP1)'!$F$19","v":0},"#'T2-B(PP1)'!$F$19"]
["pp1_bl3_1_4_total_out",{"$f":"'T2-B(PP1)'!$I$19","v":0},"#'T2-B(PP1)'!$I$19"]
["pp1_bl3_1_4_unit",{"$f":"'T2-B(PP1)'!$C$19","v":0},"#'T2-B(PP1)'!$C$19"]
["pp1_bl3_1_4_unit_in",{"$f":"'T2-B(PP1)'!$D$19","v":0},"#'T2-B(PP1)'!$D$19"]
["pp1_bl3_1_4_units_out",{"$f":"'T2-B(PP1)'!$G$19","v":0},"#'T2-B(PP1)'!$G$19"]
["pp1_bl3_1_5_name",{"$f":"'T2-B(PP1)'!$B$20","v":0},"#'T2-B(PP1)'!$B$20"]
["pp1_bl3_1_5_rate_in",{"$f":"'T2-B(PP1)'!$E$20","v":0},"#'T2-B(PP1)'!$E$20"]
["pp1_bl3_1_5_rate_out",{"$f":"'T2-B(PP1)'!$H$20","v":0},"#'T2-B(PP1)'!$H$20"]
["pp1_bl3_1_5_total",{"$f":"'T2-B(PP1)'!$J$20","v":0},"#'T2-B(PP1)'!$J$20"]
["pp1_bl3_1_5_total_in",{"$f":"'T2-B(PP1)'!$F$20","v":0},"#'T2-B(PP1)'!$F$20"]
["pp1_bl3_1_5_total_out",{"$f":"'T2-B(PP1)'!$I$20","v":0},"#'T2-B(PP1)'!$I$20"]
["pp1_bl3_1_5_unit",{"$f":"'T2-B(PP1)'!$C$20","v":0},"#'T2-B(PP1)'!$C$20"]
["pp1_bl3_1_5_unit_in",{"$f":"'T2-B(PP1)'!$D$20","v":0},"#'T2-B(PP1)'!$D$20"]
["pp1_bl3_1_5_units_out",{"$f":"'T2-B(PP1)'!$G$20","v":0},"#'T2-B(PP1)'!$G$20"]
["pp1_bl3_1_6_name",{"$f":"'T2-B(PP1)'!$B$21","v":0},"#'T2-B(PP1)'!$B$21"]
["pp1_bl3_1_6_rate_in",{"$f":"'T2-B(PP1)'!$E$21","v":0},"#'T2-B(PP1)'!$E$21"]
["pp1_bl3_1_6_rate_out",{"$f":"'T2-B(PP1)'!$H$21","v":0},"#'T2-B(PP1)'!$H$21"]
["pp1_bl3_1_6_total",{"$f":"'T2-B(PP1)'!$J$21","v":0},"#'T2-B(PP1)'!$J$21"]
["pp1_bl3_1_6_total_in",{"$f":"'T2-B(PP1)'!$F$21","v":0},"#'T2-B(PP1)'!$F$21"]
["pp1_bl3_1_6_total_out",{"$f":"'T2-B(PP1)'!$I$21","v":0},"#'T2-B(PP1)'!$I$21"]
["pp1_bl3_1_6_unit",{"$f":"'T2-B(PP1)'!$C$21","v":0},"#'T2-B(PP1)'!$C$21"]
["pp1_bl3_1_6_unit_in",{"$f":"'T2-B(PP1)'!$D$21","v":0},"#'T2-B(PP1)'!$D$21"]
["pp1_bl3_1_6_units_out",{"$f":"'T2-B(PP1)'!$G$21","v":0},"#'T2-B(PP1)'!$G$21"]
["pp1_bl3_1_7_name",{"$f":"'T2-B(PP1)'!$B$22","v":0},"#'T2-B(PP1)'!$B$22"]
["pp1_bl3_1_7_rate_in",{"$f":"'T2-B(PP1)'!$E$22","v":0},"#'T2-B(PP1)'!$E$22"]
["pp1_bl3_1_7_rate_out",{"$f":"'T2-B(PP1)'!$H$22","v":0},"#'T2-B(PP1)'!$H$22"]
["pp1_bl3_1_7_total",{"$f":"'T2-B(PP1)'!$J$22","v":0},"#'T2-B(PP1)'!$J$22"]
["pp1_bl3_1_7_total_in",{"$f":"'T2-B(PP1)'!$F$22","v":0},"#'T2-B(PP1)'!$F$22"]
["pp1_bl3_1_7_total_out",{"$f":"'T2-B(PP1)'!$I$22","v":0},"#'T2-B(PP1)'!$I$22"]
["pp1_bl3_1_7_unit",{"$f":"'T2-B(PP1)'!$C$22","v":0},"#'T2-B(PP1)'!$C$22"]
["pp1_bl3_1_7_unit_in",{"$f":"'T2-B(PP1)'!$D$22","v":0},"#'T2-B(PP1)'!$D$22"]
["pp1_bl3_1_7_units_out",{"$f":"'T2-B(PP1)'!$G$22","v":0},"#'T2-B(PP1)'!$G$22"]
["pp1_bl3_1_8_name",{"$f":"'T2-B(PP1)'!$B$23","v":0},"#'T2-B(PP1)'!$B$23"]
["pp1_bl3_1_8_rate_in",{"$f":"'T2-B(PP1)'!$E$23","v":0},"#'T2-B(PP1)'!$E$23"]
["pp1_bl3_1_8_rate_out",{"$f":"'T2-B(PP1)'!$H$23","v":0},"#'T2-B(PP1)'!$H$23"]
["pp1_bl3_1_8_total",{"$f":"'T2-B(PP1)'!$J$23","v":0},"#'T2-B(PP1)'!$J$23"]
["pp1_bl3_1_8_total_in",{"$f":"'T2-B(PP1)'!$F$23","v":0},"#'T2-B(PP1)'!$F$23"]
["pp1_bl3_1_8_total_out",{"$f":"'T2-B(PP1)'!$I$23","v":0},"#'T2-B(PP1)'!$I$23"]
["pp1_bl3_1_8_unit",{"$f":"'T2-B(PP1)'!$C$23","v":0},"#'T2-B(PP1)'!$C$23"]
["pp1_bl3_1_8_unit_in",{"$f":"'T2-B(PP1)'!$D$23","v":0},"#'T2-B(PP1)'!$D$23"]
["pp1_bl3_1_8_units_out",{"$f":"'T2-B(PP1)'!$G$23","v":0},"#'T2-B(PP1)'!$G$23"]
["pp1_bl3_1_9_name",{"$f":"'T2-B(PP1)'!$B$24","v":0},"#'T2-B(PP1)'!$B$24"]
["pp1_bl3_1_9_rate_in",{"$f":"'T2-B(PP1)'!$E$24","v":0},"#'T2-B(PP1)'!$E$24"]
["pp1_bl3_1_9_rate_out",{"$f":"'T2-B(PP1)'!$H$24","v":0},"#'T2-B(PP1)'!$H$24"]
["pp1_bl3_1_9_total",{"$f":"'T2-B(PP1)'!$J$24","v":0},"#'T2-B(PP1)'!$J$24"]
["pp1_bl3_1_9_total_in",{"$f":"'T2-B(PP1)'!$F$24","v":0},"#'T2-B(PP1)'!$F$24"]
["pp1_bl3_1_9_total_out",{"$f":"'T2-B(PP1)'!$I$24","v":0},"#'T2-B(PP1)'!$I$24"]
["pp1_bl3_1_9_unit",{"$f":"'T2-B(PP1)'!$C$24","v":0},"#'T2-B(PP1)'!$C$24"]
["pp1_bl3_1_9_unit_in",{"$f":"'T2-B(PP1)'!$D$24","v":0},"#'T2-B(PP1)'!$D$24"]
["pp1_bl3_1_9_units_out",{"$f":"'T2-B(PP1)'!$G$24","v":0},"#'T2-B(PP1)'!$G$24"]
["pp1_bl3_1_total",{"$f":"'T2-B(PP1)'!$J$15","v":0},"#'T2-B(PP1)'!$J$15"]
["pp1_bl3_1_total_in",{"$f":"'T2-B(PP1)'!$F$15","v":0},"#'T2-B(PP1)'!$F$15"]
["pp1_bl3_1_total_out",{"$f":"'T2-B(PP1)'!$I$15","v":0},"#'T2-B(PP1)'!$I$15"]
["pp1_bl3_2_1_name",{"$f":"'T2-B(PP1)'!$B$27","v":0},"#'T2-B(PP1)'!$B$27"]
["pp1_bl3_2_1_rate_in",{"$f":"'T2-B(PP1)'!$E$27","v":0},"#'T2-B(PP1)'!$E$27"]
["pp1_bl3_2_1_rate_out",{"$f":"'T2-B(PP1)'!$H$27","v":0},"#'T2-B(PP1)'!$H$27"]
["pp1_bl3_2_1_total",{"$f":"'T2-B(PP1)'!$J$27","v":0},"#'T2-B(PP1)'!$J$27"]
["pp1_bl3_2_1_total_in",{"$f":"'T2-B(PP1)'!$F$27","v":0},"#'T2-B(PP1)'!$F$27"]
["pp1_bl3_2_1_total_out",{"$f":"'T2-B(PP1)'!$I$27","v":0},"#'T2-B(PP1)'!$I$27"]
["pp1_bl3_2_1_unit",{"$f":"'T2-B(PP1)'!$C$27","v":0},"#'T2-B(PP1)'!$C$27"]
["pp1_bl3_2_1_unit_in",{"$f":"'T2-B(PP1)'!$D$27","v":0},"#'T2-B(PP1)'!$D$27"]
["pp1_bl3_2_1_units_out",{"$f":"'T2-B(PP1)'!$G$27","v":0},"#'T2-B(PP1)'!$G$27"]
["pp1_bl3_2_10_name",{"$f":"'T2-B(PP1)'!$B$36","v":0},"#'T2-B(PP1)'!$B$36"]
["pp1_bl3_2_10_rate_in",{"$f":"'T2-B(PP1)'!$E$36","v":0},"#'T2-B(PP1)'!$E$36"]
["pp1_bl3_2_10_rate_out",{"$f":"'T2-B(PP1)'!$H$36","v":0},"#'T2-B(PP1)'!$H$36"]
["pp1_bl3_2_10_total",{"$f":"'T2-B(PP1)'!$J$36","v":0},"#'T2-B(PP1)'!$J$36"]
["pp1_bl3_2_10_total_in",{"$f":"'T2-B(PP1)'!$F$36","v":0},"#'T2-B(PP1)'!$F$36"]
["pp1_bl3_2_10_total_out",{"$f":"'T2-B(PP1)'!$I$36","v":0},"#'T2-B(PP1)'!$I$36"]
["pp1_bl3_2_10_unit",{"$f":"'T2-B(PP1)'!$C$36","v":0},"#'T2-B(PP1)'!$C$36"]
["pp1_bl3_2_10_unit_in",{"$f":"'T2-B(PP1)'!$D$36","v":0},"#'T2-B(PP1)'!$D$36"]
["pp1_bl3_2_10_units_out",{"$f":"'T2-B(PP1)'!$G$36","v":0},"#'T2-B(PP1)'!$G$36"]
["pp1_bl3_2_2_name",{"$f":"'T2-B(PP1)'!$B$28","v":0},"#'T2-B(PP1)'!$B$28"]
["pp1_bl3_2_2_rate_in",{"$f":"'T2-B(PP1)'!$E$28","v":0},"#'T2-B(PP1)'!$E$28"]
["pp1_bl3_2_2_rate_out",{"$f":"'T2-B(PP1)'!$H$28","v":0},"#'T2-B(PP1)'!$H$28"]
["pp1_bl3_2_2_total",{"$f":"'T2-B(PP1)'!$J$28","v":0},"#'T2-B(PP1)'!$J$28"]
["pp1_bl3_2_2_total_in",{"$f":"'T2-B(PP1)'!$F$28","v":0},"#'T2-B(PP1)'!$F$28"]
["pp1_bl3_2_2_total_out",{"$f":"'T2-B(PP1)'!$I$28","v":0},"#'T2-B(PP1)'!$I$28"]
["pp1_bl3_2_2_unit",{"$f":"'T2-B(PP1)'!$C$28","v":0},"#'T2-B(PP1)'!$C$28"]
["pp1_bl3_2_2_unit_in",{"$f":"'T2-B(PP1)'!$D$28","v":0},"#'T2-B(PP1)'!$D$28"]
["pp1_bl3_2_2_units_out",{"$f":"'T2-B(PP1)'!$G$28","v":0},"#'T2-B(PP1)'!$G$28"]
["pp1_bl3_2_3_name",{"$f":"'T2-B(PP1)'!$B$29","v":0},"#'T2-B(PP1)'!$B$29"]
["pp1_bl3_2_3_rate_in",{"$f":"'T2-B(PP1)'!$E$29","v":0},"#'T2-B(PP1)'!$E$29"]
["pp1_bl3_2_3_rate_out",{"$f":"'T2-B(PP1)'!$H$29","v":0},"#'T2-B(PP1)'!$H$29"]
["pp1_bl3_2_3_total",{"$f":"'T2-B(PP1)'!$J$29","v":0},"#'T2-B(PP1)'!$J$29"]
["pp1_bl3_2_3_total_in",{"$f":"'T2-B(PP1)'!$F$29","v":0},"#'T2-B(PP1)'!$F$29"]
["pp1_bl3_2_3_total_out",{"$f":"'T2-B(PP1)'!$I$29","v":0},"#'T2-B(PP1)'!$I$29"]
["pp1_bl3_2_3_unit",{"$f":"'T2-B(PP1)'!$C$29","v":0},"#'T2-B(PP1)'!$C$29"]
["pp1_bl3_2_3_unit_in",{"$f":"'T2-B(PP1)'!$D$29","v":0},"#'T2-B(PP1)'!$D$29"]
["pp1_bl3_2_3_units_out",{"$f":"'T2-B(PP1)'!$G$29","v":0},"#'T2-B(PP1)'!$G$29"]
["pp1_bl3_2_4_name",{"$f":"'T2-B(PP1)'!$B$30","v":0},"#'T2-B(PP1)'!$B$30"]
["pp1_bl3_2_4_rate_in",{"$f":"'T2-B(PP1)'!$E$30","v":0},"#'T2-B(PP1)'!$E$30"]
["pp1_bl3_2_4_rate_out",{"$f":"'T2-B(PP1)'!$H$30","v":0},"#'T2-B(PP1)'!$H$30"]
["pp1_bl3_2_4_total",{"$f":"'T2-B(PP1)'!$J$30","v":0},"#'T2-B(PP1)'!$J$30"]
["pp1_bl3_2_4_total_in",{"$f":"'T2-B(PP1)'!$F$30","v":0},"#'T2-B(PP1)'!$F$30"]
["pp1_bl3_2_4_total_out",{"$f":"'T2-B(PP1)'!$I$30","v":0},"#'T2-B(PP1)'!$I$30"]
["pp1_bl3_2_4_unit",{"$f":"'T2-B(PP1)'!$C$30","v":0},"#'T2-B(PP1)'!$C$30"]
["pp1_bl3_2_4_unit_in",{"$f":"'T2-B(PP1)'!$D$30","v":0},"#'T2-B(PP1)'!$D$30"]
["pp1_bl3_2_4_units_out",{"$f":"'T2-B(PP1)'!$G$30","v":0},"#'T2-B(PP1)'!$G$30"]
["pp1_bl3_2_5_name",{"$f":"'T2-B(PP1)'!$B$31","v":0},"#'T2-B(PP1)'!$B$31"]
["pp1_bl3_2_5_rate_in",{"$f":"'T2-B(PP1)'!$E$31","v":0},"#'T2-B(PP1)'!$E$31"]
["pp1_bl3_2_5_rate_out",{"$f":"'T2-B(PP1)'!$H$31","v":0},"#'T2-B(PP1)'!$H$31"]
["pp1_bl3_2_5_total",{"$f":"'T2-B(PP1)'!$J$31","v":0},"#'T2-B(PP1)'!$J$31"]
["pp1_bl3_2_5_total_in",{"$f":"'T2-B(PP1)'!$F$31","v":0},"#'T2-B(PP1)'!$F$31"]
["pp1_bl3_2_5_total_out",{"$f":"'T2-B(PP1)'!$I$31","v":0},"#'T2-B(PP1)'!$I$31"]
["pp1_bl3_2_5_unit",{"$f":"'T2-B(PP1)'!$C$31","v":0},"#'T2-B(PP1)'!$C$31"]
["pp1_bl3_2_5_unit_in",{"$f":"'T2-B(PP1)'!$D$31","v":0},"#'T2-B(PP1)'!$D$31"]
["pp1_bl3_2_5_units_out",{"$f":"'T2-B(PP1)'!$G$31","v":0},"#'T2-B(PP1)'!$G$31"]
["pp1_bl3_2_6_name",{"$f":"'T2-B(PP1)'!$B$32","v":0},"#'T2-B(PP1)'!$B$32"]
["pp1_bl3_2_6_rate_in",{"$f":"'T2-B(PP1)'!$E$32","v":0},"#'T2-B(PP1)'!$E$32"]
["pp1_bl3_2_6_rate_out",{"$f":"'T2-B(PP1)'!$H$32","v":0},"#'T2-B(PP1)'!$H$32"]
["pp1_bl3_2_6_total",{"$f":"'T2-B(PP1)'!$J$32","v":0},"#'T2-B(PP1)'!$J$32"]
["pp1_bl3_2_6_total_in",{"$f":"'T2-B(PP1)'!$F$32","v":0},"#'T2-B(PP1)'!$F$32"]
["pp1_bl3_2_6_total_out",{"$f":"'T2-B(PP1)'!$I$32","v":0},"#'T2-B(PP1)'!$I$32"]
["pp1_bl3_2_6_unit",{"$f":"'T2-B(PP1)'!$C$32","v":0},"#'T2-B(PP1)'!$C$32"]
["pp1_bl3_2_6_unit_in",{"$f":"'T2-B(PP1)'!$D$32","v":0},"#'T2-B(PP1)'!$D$32"]
["pp1_bl3_2_6_units_out",{"$f":"'T2-B(PP1)'!$G$32","v":0},"#'T2-B(PP1)'!$G$32"]
["pp1_bl3_2_7_name",{"$f":"'T2-B(PP1)'!$B$33","v":0},"#'T2-B(PP1)'!$B$33"]
["pp1_bl3_2_7_rate_in",{"$f":"'T2-B(PP1)'!$E$33","v":0},"#'T2-B(PP1)'!$E$33"]
["pp1_bl3_2_7_rate_out",{"$f":"'T2-B(PP1)'!$H$33","v":0},"#'T2-B(PP1)'!$H$33"]
["pp1_bl3_2_7_total",{"$f":"'T2-B(PP1)'!$J$33","v":0},"#'T2-B(PP1)'!$J$33"]
["pp1_bl3_2_7_total_in",{"$f":"'T2-B(PP1)'!$F$33","v":0},"#'T2-B(PP1)'!$F$33"]
["pp1_bl3_2_7_total_out",{"$f":"'T2-B(PP1)'!$I$33","v":0},"#'T2-B(PP1)'!$I$33"]
["pp1_bl3_2_7_unit",{"$f":"'T2-B(PP1)'!$C$33","v":0},"#'T2-B(PP1)'!$C$33"]
["pp1_bl3_2_7_unit_in",{"$f":"'T2-B(PP1)'!$D$33","v":0},"#'T2-B(PP1)'!$D$33"]
["pp1_bl3_2_7_units_out",{"$f":"'T2-B(PP1)'!$G$33","v":0},"#'T2-B(PP1)'!$G$33"]
["pp1_bl3_2_8_name",{"$f":"'T2-B(PP1)'!$B$34","v":0},"#'T2-B(PP1)'!$B$34"]
["pp1_bl3_2_8_rate_in",{"$f":"'T2-B(PP1)'!$E$34","v":0},"#'T2-B(PP1)'!$E$34"]
["pp1_bl3_2_8_rate_out",{"$f":"'T2-B(PP1)'!$H$34","v":0},"#'T2-B(PP1)'!$H$34"]
["pp1_bl3_2_8_total",{"$f":"'T2-B(PP1)'!$J$34","v":0},"#'T2-B(PP1)'!$J$34"]
["pp1_bl3_2_8_total_in",{"$f":"'T2-B(PP1)'!$F$34","v":0},"#'T2-B(PP1)'!$F$34"]
["pp1_bl3_2_8_total_out",{"$f":"'T2-B(PP1)'!$I$34","v":0},"#'T2-B(PP1)'!$I$34"]
["pp1_bl3_2_8_unit",{"$f":"'T2-B(PP1)'!$C$34","v":0},"#'T2-B(PP1)'!$C$34"]
["pp1_bl3_2_8_unit_in",{"$f":"'T2-B(PP1)'!$D$34","v":0},"#'T2-B(PP1)'!$D$34"]
["pp1_bl3_2_8_units_out",{"$f":"'T2-B(PP1)'!$G$34","v":0},"#'T2-B(PP1)'!$G$34"]
["pp1_bl3_2_9_name",{"$f":"'T2-B(PP1)'!$B$35","v":0},"#'T2-B(PP1)'!$B$35"]
["pp1_bl3_2_9_rate_in",{"$f":"'T2-B(PP1)'!$E$35","v":0},"#'T2-B(PP1)'!$E$35"]
["pp1_bl3_2_9_rate_out",{"$f":"'T2-B(PP1)'!$H$35","v":0},"#'T2-B(PP1)'!$H$35"]
["pp1_bl3_2_9_total",{"$f":"'T2-B(PP1)'!$J$35","v":0},"#'T2-B(PP1)'!$J$35"]
["pp1_bl3_2_9_total_in",{"$f":"'T2-B(PP1)'!$F$35","v":0},"#'T2-B(PP1)'!$F$35"]
["pp1_bl3_2_9_total_out",{"$f":"'T2-B(PP1)'!$I$35","v":0},"#'T2-B(PP1)'!$I$35"]
["pp1_bl3_2_9_unit",{"$f":"'T2-B(PP1)'!$C$35","v":0},"#'T2-B(PP1)'!$C$35"]
["pp1_bl3_2_9_unit_in",{"$f":"'T2-B(PP1)'!$D$35","v":0},"#'T2-B(PP1)'!$D$35"]
["pp1_bl3_2_9_units_out",{"$f":"'T2-B(PP1)'!$G$35","v":0},"#'T2-B(PP1)'!$G$35"]
["pp1_bl3_2_total",{"$f":"'T2-B(PP1)'!$J$26","v":0},"#'T2-B(PP1)'!$J$26"]
["pp1_bl3_2_total_in",{"$f":"'T2-B(PP1)'!$F$26","v":0},"#'T2-B(PP1)'!$F$26"]
["pp1_bl3_2_total_out",{"$f":"'T2-B(PP1)'!$I$26","v":0},"#'T2-B(PP1)'!$I$26"]
["pp1_bl3_3_1_name",{"$f":"'T2-B(PP1)'!$B$38","v":0},"#'T2-B(PP1)'!$B$38"]
["pp1_bl3_3_1_rate_in",{"$f":"'T2-B(PP1)'!$E$38","v":0},"#'T2-B(PP1)'!$E$38"]
["pp1_bl3_3_1_rate_out",{"$f":"'T2-B(PP1)'!$H$38","v":0},"#'T2-B(PP1)'!$H$38"]
["pp1_bl3_3_1_total",{"$f":"'T2-B(PP1)'!$J$38","v":0},"#'T2-B(PP1)'!$J$38"]
["pp1_bl3_3_1_total_in",{"$f":"'T2-B(PP1)'!$F$38","v":0},"#'T2-B(PP1)'!$F$38"]
["pp1_bl3_3_1_total_out",{"$f":"'T2-B(PP1)'!$I$38","v":0},"#'T2-B(PP1)'!$I$38"]
["pp1_bl3_3_1_unit",{"$f":"'T2-B(PP1)'!$C$38","v":0},"#'T2-B(PP1)'!$C$38"]
["pp1_bl3_3_1_unit_in",{"$f":"'T2-B(PP1)'!$D$38","v":0},"#'T2-B(PP1)'!$D$38"]
["pp1_bl3_3_1_units_out",{"$f":"'T2-B(PP1)'!$G$38","v":0},"#'T2-B(PP1)'!$G$38"]
["pp1_bl3_3_10_name",{"$f":"'T2-B(PP1)'!$B$47","v":0},"#'T2-B(PP1)'!$B$47"]
["pp1_bl3_3_10_rate_in",{"$f":"'T2-B(PP1)'!$E$47","v":0},"#'T2-B(PP1)'!$E$47"]
["pp1_bl3_3_10_rate_out",{"$f":"'T2-B(PP1)'!$H$47","v":0},"#'T2-B(PP1)'!$H$47"]
["pp1_bl3_3_10_total",{"$f":"'T2-B(PP1)'!$J$47","v":0},"#'T2-B(PP1)'!$J$47"]
["pp1_bl3_3_10_total_in",{"$f":"'T2-B(PP1)'!$F$47","v":0},"#'T2-B(PP1)'!$F$47"]
["pp1_bl3_3_10_total_out",{"$f":"'T2-B(PP1)'!$I$47","v":0},"#'T2-B(PP1)'!$I$47"]
["pp1_bl3_3_10_unit",{"$f":"'T2-B(PP1)'!$C$47","v":0},"#'T2-B(PP1)'!$C$47"]
["pp1_bl3_3_10_unit_in",{"$f":"'T2-B(PP1)'!$D$47","v":0},"#'T2-B(PP1)'!$D$47"]
["pp1_bl3_3_10_units_out",{"$f":"'T2-B(PP1)'!$G$47","v":0},"#'T2-B(PP1)'!$G$47"]
["pp1_bl3_3_2_name",{"$f":"'T2-B(PP1)'!$B$39","v":0},"#'T2-B(PP1)'!$B$39"]
["pp1_bl3_3_2_rate_in",{"$f":"'T2-B(PP1)'!$E$39","v":0},"#'T2-B(PP1)'!$E$39"]
["pp1_bl3_3_2_rate_out",{"$f":"'T2-B(PP1)'!$H$39","v":0},"#'T2-B(PP1)'!$H$39"]
["pp1_bl3_3_2_total",{"$f":"'T2-B(PP1)'!$J$39","v":0},"#'T2-B(PP1)'!$J$39"]
["pp1_bl3_3_2_total_in",{"$f":"'T2-B(PP1)'!$F$39","v":0},"#'T2-B(PP1)'!$F$39"]
["pp1_bl3_3_2_total_out",{"$f":"'T2-B(PP1)'!$I$39","v":0},"#'T2-B(PP1)'!$I$39"]
["pp1_bl3_3_2_unit",{"$f":"'T2-B(PP1)'!$C$39","v":0},"#'T2-B(PP1)'!$C$39"]
["pp1_bl3_3_2_unit_in",{"$f":"'T2-B(PP1)'!$D$39","v":0},"#'T2-B(PP1)'!$D$39"]
["pp1_bl3_3_2_units_out",{"$f":"'T2-B(PP1)'!$G$39","v":0},"#'T2-B(PP1)'!$G$39"]
["pp1_bl3_3_3_name",{"$f":"'T2-B(PP1)'!$B$40","v":0},"#'T2-B(PP1)'!$B$40"]
["pp1_bl3_3_3_rate_in",{"$f":"'T2-B(PP1)'!$E$40","v":0},"#'T2-B(PP1)'!$E$40"]
["pp1_bl3_3_3_rate_out",{"$f":"'T2-B(PP1)'!$H$40","v":0},"#'T2-B(PP1)'!$H$40"]
["pp1_bl3_3_3_total",{"$f":"'T2-B(PP1)'!$J$40","v":0},"#'T2-B(PP1)'!$J$40"]
["pp1_bl3_3_3_total_in",{"$f":"'T2-B(PP1)'!$F$40","v":0},"#'T2-B(PP1)'!$F$40"]
["pp1_bl3_3_3_total_out",{"$f":"'T2-B(PP1)'!$I$40","v":0},"#'T2-B(PP1)'!$I$40"]
["pp1_bl3_3_3_unit",{"$f":"'T2-B(PP1)'!$C$40","v":0},"#'T2-B(PP1)'!$C$40"]
["pp1_bl3_3_3_unit_in",{"$f":"'T2-B(PP1)'!$D$40","v":0},"#'T2-B(PP1)'!$D$40"]
["pp1_bl3_3_3_units_out",{"$f":"'T2-B(PP1)'!$G$40","v":0},"#'T2-B(PP1)'!$G$40"]
["pp1_bl3_3_4_name",{"$f":"'T2-B(PP1)'!$B$41","v":0},"#'T2-B(PP1)'!$B$41"]
["pp1_bl3_3_4_rate_in",{"$f":"'T2-B(PP1)'!$E$41","v":0},"#'T2-B(PP1)'!$E$41"]
["pp1_bl3_3_4_rate_out",{"$f":"'T2-B(PP1)'!$H$41","v":0},"#'T2-B(PP1)'!$H$41"]
["pp1_bl3_3_4_total",{"$f":"'T2-B(PP1)'!$J$41","v":0},"#'T2-B(PP1)'!$J$41"]
["pp1_bl3_3_4_total_in",{"$f":"'T2-B(PP1)'!$F$41","v":0},"#'T2-B(PP1)'!$F$41"]
["pp1_bl3_3_4_total_out",{"$f":"'T2-B(PP1)'!$I$41","v":0},"#'T2-B(PP1)'!$I$41"]
["pp1_bl3_3_4_unit",{"$f":"'T2-B(PP1)'!$C$41","v":0},"#'T2-B(PP1)'!$C$41"]
["pp1_bl3_3_4_unit_in",{"$f":"'T2-B(PP1)'!$D$41","v":0},"#'T2-B(PP1)'!$D$41"]
["pp1_bl3_3_4_units_out",{"$f":"'T2-B(PP1)'!$G$41","v":0},"#'T2-B(PP1)'!$G$41"]
["pp1_bl3_3_5_name",{"$f":"'T2-B(PP1)'!$B$42","v":0},"#'T2-B(PP1)'!$B$42"]
["pp1_bl3_3_5_rate_in",{"$f":"'T2-B(PP1)'!$E$42","v":0},"#'T2-B(PP1)'!$E$42"]
["pp1_bl3_3_5_rate_out",{"$f":"'T2-B(PP1)'!$H$42","v":0},"#'T2-B(PP1)'!$H$42"]
["pp1_bl3_3_5_total",{"$f":"'T2-B(PP1)'!$J$42","v":0},"#'T2-B(PP1)'!$J$42"]
["pp1_bl3_3_5_total_in",{"$f":"'T2-B(PP1)'!$F$42","v":0},"#'T2-B(PP1)'!$F$42"]
["pp1_bl3_3_5_total_out",{"$f":"'T2-B(PP1)'!$I$42","v":0},"#'T2-B(PP1)'!$I$42"]
["pp1_bl3_3_5_unit",{"$f":"'T2-B(PP1)'!$C$42","v":0},"#'T2-B(PP1)'!$C$42"]
["pp1_bl3_3_5_unit_in",{"$f":"'T2-B(PP1)'!$D$42","v":0},"#'T2-B(PP1)'!$D$42"]
["pp1_bl3_3_5_units_out",{"$f":"'T2-B(PP1)'!$G$42","v":0},"#'T2-B(PP1)'!$G$42"]
["pp1_bl3_3_6_name",{"$f":"'T2-B(PP1)'!$B$43","v":0},"#'T2-B(PP1)'!$B$43"]
["pp1_bl3_3_6_rate_in",{"$f":"'T2-B(PP1)'!$E$43","v":0},"#'T2-B(PP1)'!$E$43"]
["pp1_bl3_3_6_rate_out",{"$f":"'T2-B(PP1)'!$H$43","v":0},"#'T2-B(PP1)'!$H$43"]
["pp1_bl3_3_6_total",{"$f":"'T2-B(PP1)'!$J$43","v":0},"#'T2-B(PP1)'!$J$43"]
["pp1_bl3_3_6_total_in",{"$f":"'T2-B(PP1)'!$F$43","v":0},"#'T2-B(PP1)'!$F$43"]
["pp1_bl3_3_6_total_out",{"$f":"'T2-B(PP1)'!$I$43","v":0},"#'T2-B(PP1)'!$I$43"]
["pp1_bl3_3_6_unit",{"$f":"'T2-B(PP1)'!$C$43","v":0},"#'T2-B(PP1)'!$C$43"]
["pp1_bl3_3_6_unit_in",{"$f":"'T2-B(PP1)'!$D$43","v":0},"#'T2-B(PP1)'!$D$43"]
["pp1_bl3_3_6_units_out",{"$f":"'T2-B(PP1)'!$G$43","v":0},"#'T2-B(PP1)'!$G$43"]
["pp1_bl3_3_7_name",{"$f":"'T2-B(PP1)'!$B$44","v":0},"#'T2-B(PP1)'!$B$44"]
["pp1_bl3_3_7_rate_in",{"$f":"'T2-B(PP1)'!$E$44","v":0},"#'T2-B(PP1)'!$E$44"]
["pp1_bl3_3_7_rate_out",{"$f":"'T2-B(PP1)'!$H$44","v":0},"#'T2-B(PP1)'!$H$44"]
["pp1_bl3_3_7_total",{"$f":"'T2-B(PP1)'!$J$44","v":0},"#'T2-B(PP1)'!$J$44"]
["pp1_bl3_3_7_total_in",{"$f":"'T2-B(PP1)'!$F$44","v":0},"#'T2-B(PP1)'!$F$44"]
["pp1_bl3_3_7_total_out",{"$f":"'T2-B(PP1)'!$I$44","v":0},"#'T2-B(PP1)'!$I$44"]
["pp1_bl3_3_7_unit",{"$f":"'T2-B(PP1)'!$C$44","v":0},"#'T2-B(PP1)'!$C$44"]
["pp1_bl3_3_7_unit_in",{"$f":"'T2-B(PP1)'!$D$44","v":0},"#'T2-B(PP1)'!$D$44"]
["pp1_bl3_3_7_units_out",{"$f":"'T2-B(PP1)'!$G$44","v":0},"#'T2-B(PP1)'!$G$44"]
["pp1_bl3_3_8_name",{"$f":"'T2-B(PP1)'!$B$45","v":0},"#'T2-B(PP1)'!$B$45"]
["pp1_bl3_3_8_rate_in",{"$f":"'T2-B(PP1)'!$E$45","v":0},"#'T2-B(PP1)'!$E$45"]
["pp1_bl3_3_8_rate_out",{"$f":"'T2-B(PP1)'!$H$45","v":0},"#'T2-B(PP1)'!$H$45"]
["pp1_bl3_3_8_total",{"$f":"'T2-B(PP1)'!$J$45","v":0},"#'T2-B(PP1)'!$J$45"]
["pp1_bl3_3_8_total_in",{"$f":"'T2-B(PP1)'!$F$45","v":0},"#'T2-B(PP1)'!$F$45"]
["pp1_bl3_3_8_total_out",{"$f":"'T2-B(PP1)'!$I$45","v":0},"#'T2-B(PP1)'!$I$45"]
["pp1_bl3_3_8_unit",{"$f":"'T2-B(PP1)'!$C$45","v":0},"#'T2-B(PP1)'!$C$45"]
["pp1_bl3_3_8_unit_in",{"$f":"'T2-B(PP1)'!$D$45","v":0},"#'T2-B(PP1)'!$D$45"]
["pp1_bl3_3_8_units_out",{"$f":"'T2-B(PP1)'!$G$45","v":0},"#'T2-B(PP1)'!$G$45"]
["pp1_bl3_3_9_name",{"$f":"'T2-B(PP1)'!$B$46","v":0},"#'T2-B(PP1)'!$B$46"]
["pp1_bl3_3_9_rate_in",{"$f":"'T2-B(PP1)'!$E$46","v":0},"#'T2-B(PP1)'!$E$46"]
["pp1_bl3_3_9_rate_out",{"$f":"'T2-B(PP1)'!$H$46","v":0},"#'T2-B(PP1)'!$H$46"]
["pp1_bl3_3_9_total",{"$f":"'T2-B(PP1)'!$J$46","v":0},"#'T2-B(PP1)'!$J$46"]
["pp1_bl3_3_9_total_in",{"$f":"'T2-B(PP1)'!$F$46","v":0},"#'T2-B(PP1)'!$F$46"]
["pp1_bl3_3_9_total_out",{"$f":"'T2-B(PP1)'!$I$46","v":0},"#'T2-B(PP1)'!$I$46"]
["pp1_bl3_3_9_unit",{"$f":"'T2-B(PP1)'!$C$46","v":0},"#'T2-B(PP1)'!$C$46"]
["pp1_bl3_3_9_unit_in",{"$f":"'T2-B(PP1)'!$D$46","v":0},"#'T2-B(PP1)'!$D$46"]
["pp1_bl3_3_9_units_out",{"$f":"'T2-B(PP1)'!$G$46","v":0},"#'T2-B(PP1)'!$G$46"]
["pp1_bl3_3_total",{"$f":"'T2-B(PP1)'!$J$37","v":0},"#'T2-B(PP1)'!$J$37"]
["pp1_bl3_3_total_in",{"$f":"'T2-B(PP1)'!$F$37","v":0},"#'T2-B(PP1)'!$F$37"]
["pp1_bl3_3_total_out",{"$f":"'T2-B(PP1)'!$I$37","v":0},"#'T2-B(PP1)'!$I$37"]
["pp1_bl3_total",{"$f":"'T2-B(PP1)'!$J$48","v":0},"#'T2-B(PP1)'!$J$48"]
["pp1_bl3_total_in",{"$f":"'T2-B(PP1)'!$F$48","v":0},"#'T2-B(PP1)'!$F$48"]
["pp1_bl3_total_out",{"$f":"'T2-B(PP1)'!$I$48","v":0},"#'T2-B(PP1)'!$I$48"]
["pp1_bl4_1_1_name",{"$f":"'T2-B(PP1)'!$B$53","v":0},"#'T2-B(PP1)'!$B$53"]
["pp1_bl4_1_1_rate_in",{"$f":"'T2-B(PP1)'!$E$53","v":0},"#'T2-B(PP1)'!$E$53"]
["pp1_bl4_1_1_rate_out",{"$f":"'T2-B(PP1)'!$H$53","v":0},"#'T2-B(PP1)'!$H$53"]
["pp1_bl4_1_1_total",{"$f":"'T2-B(PP1)'!$J$53","v":0},"#'T2-B(PP1)'!$J$53"]
["pp1_bl4_1_1_total_in",{"$f":"'T2-B(PP1)'!$F$53","v":0},"#'T2-B(PP1)'!$F$53"]
["pp1_bl4_1_1_total_out",{"$f":"'T2-B(PP1)'!$I$53","v":0},"#'T2-B(PP1)'!$I$53"]
["pp1_bl4_1_1_unit",{"$f":"'T2-B(PP1)'!$C$53","v":0},"#'T2-B(PP1)'!$C$53"]
["pp1_bl4_1_1_unit_in",{"$f":"'T2-B(PP1)'!$D$53","v":0},"#'T2-B(PP1)'!$D$53"]
["pp1_bl4_1_1_units_out",{"$f":"'T2-B(PP1)'!$G$53","v":0},"#'T2-B(PP1)'!$G$53"]
["pp1_bl4_1_10_name",{"$f":"'T2-B(PP1)'!$B$62","v":0},"#'T2-B(PP1)'!$B$62"]
["pp1_bl4_1_10_rate_in",{"$f":"'T2-B(PP1)'!$E$62","v":0},"#'T2-B(PP1)'!$E$62"]
["pp1_bl4_1_10_rate_out",{"$f":"'T2-B(PP1)'!$H$62","v":0},"#'T2-B(PP1)'!$H$62"]
["pp1_bl4_1_10_total",{"$f":"'T2-B(PP1)'!$J$62","v":0},"#'T2-B(PP1)'!$J$62"]
["pp1_bl4_1_10_total_in",{"$f":"'T2-B(PP1)'!$F$62","v":0},"#'T2-B(PP1)'!$F$62"]
["pp1_bl4_1_10_total_out",{"$f":"'T2-B(PP1)'!$I$62","v":0},"#'T2-B(PP1)'!$I$62"]
["pp1_bl4_1_10_unit",{"$f":"'T2-B(PP1)'!$C$62","v":0},"#'T2-B(PP1)'!$C$62"]
["pp1_bl4_1_10_unit_in",{"$f":"'T2-B(PP1)'!$D$62","v":0},"#'T2-B(PP1)'!$D$62"]
["pp1_bl4_1_10_units_out",{"$f":"'T2-B(PP1)'!$G$62","v":0},"#'T2-B(PP1)'!$G$62"]
["pp1_bl4_1_2_name",{"$f":"'T2-B(PP1)'!$B$54","v":0},"#'T2-B(PP1)'!$B$54"]
["pp1_bl4_1_2_rate_in",{"$f":"'T2-B(PP1)'!$E$54","v":0},"#'T2-B(PP1)'!$E$54"]
["pp1_bl4_1_2_rate_out",{"$f":"'T2-B(PP1)'!$H$54","v":0},"#'T2-B(PP1)'!$H$54"]
["pp1_bl4_1_2_total",{"$f":"'T2-B(PP1)'!$J$54","v":0},"#'T2-B(PP1)'!$J$54"]
["pp1_bl4_1_2_total_in",{"$f":"'T2-B(PP1)'!$F$54","v":0},"#'T2-B(PP1)'!$F$54"]
["pp1_bl4_1_2_total_out",{"$f":"'T2-B(PP1)'!$I$54","v":0},"#'T2-B(PP1)'!$I$54"]
["pp1_bl4_1_2_unit",{"$f":"'T2-B(PP1)'!$C$54","v":0},"#'T2-B(PP1)'!$C$54"]
["pp1_bl4_1_2_unit_in",{"$f":"'T2-B(PP1)'!$D$54","v":0},"#'T2-B(PP1)'!$D$54"]
["pp1_bl4_1_2_units_out",{"$f":"'T2-B(PP1)'!$G$54","v":0},"#'T2-B(PP1)'!$G$54"]
["pp1_bl4_1_3_name",{"$f":"'T2-B(PP1)'!$B$55","v":0},"#'T2-B(PP1)'!$B$55"]
["pp1_bl4_1_3_rate_in",{"$f":"'T2-B(PP1)'!$E$55","v":0},"#'T2-B(PP1)'!$E$55"]
["pp1_bl4_1_3_rate_out",{"$f":"'T2-B(PP1)'!$H$55","v":0},"#'T2-B(PP1)'!$H$55"]
["pp1_bl4_1_3_total",{"$f":"'T2-B(PP1)'!$J$55","v":0},"#'T2-B(PP1)'!$J$55"]
["pp1_bl4_1_3_total_in",{"$f":"'T2-B(PP1)'!$F$55","v":0},"#'T2-B(PP1)'!$F$55"]
["pp1_bl4_1_3_total_out",{"$f":"'T2-B(PP1)'!$I$55","v":0},"#'T2-B(PP1)'!$I$55"]
["pp1_bl4_1_3_unit",{"$f":"'T2-B(PP1)'!$C$55","v":0},"#'T2-B(PP1)'!$C$55"]
["pp1_bl4_1_3_unit_in",{"$f":"'T2-B(PP1)'!$D$55","v":0},"#'T2-B(PP1)'!$D$55"]
["pp1_bl4_1_3_units_out",{"$f":"'T2-B(PP1)'!$G$55","v":0},"#'T2-B(PP1)'!$G$55"]
["pp1_bl4_1_4_name",{"$f":"'T2-B(PP1)'!$B$56","v":0},"#'T2-B(PP1)'!$B$56"]
["pp1_bl4_1_4_rate_in",{"$f":"'T2-B(PP1)'!$E$56","v":0},"#'T2-B(PP1)'!$E$56"]
["pp1_bl4_1_4_rate_out",{"$f":"'T2-B(PP1)'!$H$56","v":0},"#'T2-B(PP1)'!$H$56"]
["pp1_bl4_1_4_total",{"$f":"'T2-B(PP1)'!$J$56","v":0},"#'T2-B(PP1)'!$J$56"]
["pp1_bl4_1_4_total_in",{"$f":"'T2-B(PP1)'!$F$56","v":0},"#'T2-B(PP1)'!$F$56"]
["pp1_bl4_1_4_total_out",{"$f":"'T2-B(PP1)'!$I$56","v":0},"#'T2-B(PP1)'!$I$56"]
["pp1_bl4_1_4_unit",{"$f":"'T2-B(PP1)'!$C$56","v":0},"#'T2-B(PP1)'!$C$56"]
["pp1_bl4_1_4_unit_in",{"$f":"'T2-B(PP1)'!$D$56","v":0},"#'T2-B(PP1)'!$D$56"]
["pp1_bl4_1_4_units_out",{"$f":"'T2-B(PP1)'!$G$56","v":0},"#'T2-B(PP1)'!$G$56"]
["pp1_bl4_1_5_name",{"$f":"'T2-B(PP1)'!$B$57","v":0},"#'T2-B(PP1)'!$B$57"]
["pp1_bl4_1_5_rate_in",{"$f":"'T2-B(PP1)'!$E$57","v":0},"#'T2-B(PP1)'!$E$57"]
["pp1_bl4_1_5_rate_out",{"$f":"'T2-B(PP1)'!$H$57","v":0},"#'T2-B(PP1)'!$H$57"]
["pp1_bl4_1_5_total",{"$f":"'T2-B(PP1)'!$J$57","v":0},"#'T2-B(PP1)'!$J$57"]
["pp1_bl4_1_5_total_in",{"$f":"'T2-B(PP1)'!$F$57","v":0},"#'T2-B(PP1)'!$F$57"]
["pp1_bl4_1_5_total_out",{"$f":"'T2-B(PP1)'!$I$57","v":0},"#'T2-B(PP1)'!$I$57"]
["pp1_bl4_1_5_unit",{"$f":"'T2-B(PP1)'!$C$57","v":0},"#'T2-B(PP1)'!$C$57"]
["pp1_bl4_1_5_unit_in",{"$f":"'T2-B(PP1)'!$D$57","v":0},"#'T2-B(PP1)'!$D$57"]
["pp1_bl4_1_5_units_out",{"$f":"'T2-B(PP1)'!$G$57","v":0},"#'T2-B(PP1)'!$G$57"]
["pp1_bl4_1_6_name",{"$f":"'T2-B(PP1)'!$B$58","v":0},"#'T2-B(PP1)'!$B$58"]
["pp1_bl4_1_6_rate_in",{"$f":"'T2-B(PP1)'!$E$58","v":0},"#'T2-B(PP1)'!$E$58"]
["pp1_bl4_1_6_rate_out",{"$f":"'T2-B(PP1)'!$H$58","v":0},"#'T2-B(PP1)'!$H$58"]
["pp1_bl4_1_6_total",{"$f":"'T2-B(PP1)'!$J$58","v":0},"#'T2-B(PP1)'!$J$58"]
["pp1_bl4_1_6_total_in",{"$f":"'T2-B(PP1)'!$F$58","v":0},"#'T2-B(PP1)'!$F$58"]
["pp1_bl4_1_6_total_out",{"$f":"'T2-B(PP1)'!$I$58","v":0},"#'T2-B(PP1)'!$I$58"]
["pp1_bl4_1_6_unit",{"$f":"'T2-B(PP1)'!$C$58","v":0},"#'T2-B(PP1)'!$C$58"]
["pp1_bl4_1_6_unit_in",{"$f":"'T2-B(PP1)'!$D$58","v":0},"#'T2-B(PP1)'!$D$58"]
["pp1_bl4_1_6_units_out",{"$f":"'T2-B(PP1)'!$G$58","v":0},"#'T2-B(PP1)'!$G$58"]
["pp1_bl4_1_7_name",{"$f":"'T2-B(PP1)'!$B$59","v":0},"#'T2-B(PP1)'!$B$59"]
["pp1_bl4_1_7_rate_in",{"$f":"'T2-B(PP1)'!$E$59","v":0},"#'T2-B(PP1)'!$E$59"]
["pp1_bl4_1_7_rate_out",{"$f":"'T2-B(PP1)'!$H$59","v":0},"#'T2-B(PP1)'!$H$59"]
["pp1_bl4_1_7_total",{"$f":"'T2-B(PP1)'!$J$59","v":0},"#'T2-B(PP1)'!$J$59"]
["pp1_bl4_1_7_total_in",{"$f":"'T2-B(PP1)'!$F$59","v":0},"#'T2-B(PP1)'!$F$59"]
["pp1_bl4_1_7_total_out",{"$f":"'T2-B(PP1)'!$I$59","v":0},"#'T2-B(PP1)'!$I$59"]
["pp1_bl4_1_7_unit",{"$f":"'T2-B(PP1)'!$C$59","v":0},"#'T2-B(PP1)'!$C$59"]
["pp1_bl4_1_7_unit_in",{"$f":"'T2-B(PP1)'!$D$59","v":0},"#'T2-B(PP1)'!$D$59"]
["pp1_bl4_1_7_units_out",{"$f":"'T2-B(PP1)'!$G$59","v":0},"#'T2-B(PP1)'!$G$59"]
["pp1_bl4_1_8_name",{"$f":"'T2-B(PP1)'!$B$60","v":0},"#'T2-B(PP1)'!$B$60"]
["pp1_bl4_1_8_rate_in",{"$f":"'T2-B(PP1)'!$E$60","v":0},"#'T2-B(PP1)'!$E$60"]
["pp1_bl4_1_8_rate_out",{"$f":"'T2-B(PP1)'!$H$60","v":0},"#'T2-B(PP1)'!$H$60"]
["pp1_bl4_1_8_total",{"$f":"'T2-B(PP1)'!$J$60","v":0},"#'T2-B(PP1)'!$J$60"]
["pp1_bl4_1_8_total_in",{"$f":"'T2-B(PP1)'!$F$60","v":0},"#'T2-B(PP1)'!$F$60"]
["pp1_bl4_1_8_total_out",{"$f":"'T2-B(PP1)'!$I$60","v":0},"#'T2-B(PP1)'!$I$60"]
["pp1_bl4_1_8_unit",{"$f":"'T2-B(PP1)'!$C$60","v":0},"#'T2-B(PP1)'!$C$60"]
["pp1_bl4_1_8_unit_in",{"$f":"'T2-B(PP1)'!$D$60","v":0},"#'T2-B(PP1)'!$D$60"]
["pp1_bl4_1_8_units_out",{"$f":"'T2-B(PP1)'!$G$60","v":0},"#'T2-B(PP1)'!$G$60"]
["pp1_bl4_1_9_name",{"$f":"'T2-B(PP1)'!$B$61","v":0},"#'T2-B(PP1)'!$B$61"]
["pp1_bl4_1_9_rate_in",{"$f":"'T2-B(PP1)'!$E$61","v":0},"#'T2-B(PP1)'!$E$61"]
["pp1_bl4_1_9_rate_out",{"$f":"'T2-B(PP1)'!$H$61","v":0},"#'T2-B(PP1)'!$H$61"]
["pp1_bl4_1_9_total",{"$f":"'T2-B(PP1)'!$J$61","v":0},"#'T2-B(PP1)'!$J$61"]
["pp1_bl4_1_9_total_in",{"$f":"'T2-B(PP1)'!$F$61","v":0},"#'T2-B(PP1)'!$F$61"]
["pp1_bl4_1_9_total_out",{"$f":"'T2-B(PP1)'!$I$61","v":0},"#'T2-B(PP1)'!$I$61"]
["pp1_bl4_1_9_unit",{"$f":"'T2-B(PP1)'!$C$61","v":0},"#'T2-B(PP1)'!$C$61"]
["pp1_bl4_1_9_unit_in",{"$f":"'T2-B(PP1)'!$D$61","v":0},"#'T2-B(PP1)'!$D$61"]
["pp1_bl4_1_9_units_out",{"$f":"'T2-B(PP1)'!$G$61","v":0},"#'T2-B(PP1)'!$G$61"]
["pp1_bl4_1_total",{"$f":"'T2-B(PP1)'!$J$52","v":0},"#'T2-B(PP1)'!$J$52"]
["pp1_bl4_1_total_in",{"$f":"'T2-B(PP1)'!$F$52","v":0},"#'T2-B(PP1)'!$F$52"]
["pp1_bl4_1_total_out",{"$f":"'T2-B(PP1)'!$I$52","v":0},"#'T2-B(PP1)'!$I$52"]
["pp1_bl4_10_1_name",{"$f":"'T2-B(PP1)'!$B$152","v":0},"#'T2-B(PP1)'!$B$152"]
["pp1_bl4_10_1_rate_in",{"$f":"'T2-B(PP1)'!$E$152","v":0},"#'T2-B(PP1)'!$E$152"]
["pp1_bl4_10_1_rate_out",{"$f":"'T2-B(PP1)'!$H$152","v":0},"#'T2-B(PP1)'!$H$152"]
["pp1_bl4_10_1_total",{"$f":"'T2-B(PP1)'!$J$152","v":0},"#'T2-B(PP1)'!$J$152"]
["pp1_bl4_10_1_total_in",{"$f":"'T2-B(PP1)'!$F$152","v":0},"#'T2-B(PP1)'!$F$152"]
["pp1_bl4_10_1_total_out",{"$f":"'T2-B(PP1)'!$I$152","v":0},"#'T2-B(PP1)'!$I$152"]
["pp1_bl4_10_1_unit",{"$f":"'T2-B(PP1)'!$C$152","v":0},"#'T2-B(PP1)'!$C$152"]
["pp1_bl4_10_1_unit_in",{"$f":"'T2-B(PP1)'!$D$152","v":0},"#'T2-B(PP1)'!$D$152"]
["pp1_bl4_10_1_units_out",{"$f":"'T2-B(PP1)'!$G$152","v":0},"#'T2-B(PP1)'!$G$152"]
["pp1_bl4_10_10_name",{"$f":"'T2-B(PP1)'!$B$161","v":0},"#'T2-B(PP1)'!$B$161"]
["pp1_bl4_10_10_rate_in",{"$f":"'T2-B(PP1)'!$E$161","v":0},"#'T2-B(PP1)'!$E$161"]
["pp1_bl4_10_10_rate_out",{"$f":"'T2-B(PP1)'!$H$161","v":0},"#'T2-B(PP1)'!$H$161"]
["pp1_bl4_10_10_total",{"$f":"'T2-B(PP1)'!$J$161","v":0},"#'T2-B(PP1)'!$J$161"]
["pp1_bl4_10_10_total_in",{"$f":"'T2-B(PP1)'!$F$161","v":0},"#'T2-B(PP1)'!$F$161"]
["pp1_bl4_10_10_total_out",{"$f":"'T2-B(PP1)'!$I$161","v":0},"#'T2-B(PP1)'!$I$161"]
["pp1_bl4_10_10_unit",{"$f":"'T2-B(PP1)'!$C$161","v":0},"#'T2-B(PP1)'!$C$161"]
["pp1_bl4_10_10_unit_in",{"$f":"'T2-B(PP1)'!$D$161","v":0},"#'T2-B(PP1)'!$D$161"]
["pp1_bl4_10_10_units_out",{"$f":"'T2-B(PP1)'!$G$161","v":0},"#'T2-B(PP1)'!$G$161"]
["pp1_bl4_10_2_name",{"$f":"'T2-B(PP1)'!$B$153","v":0},"#'T2-B(PP1)'!$B$153"]
["pp1_bl4_10_2_rate_in",{"$f":"'T2-B(PP1)'!$E$153","v":0},"#'T2-B(PP1)'!$E$153"]
["pp1_bl4_10_2_rate_out",{"$f":"'T2-B(PP1)'!$H$153","v":0},"#'T2-B(PP1)'!$H$153"]
["pp1_bl4_10_2_total",{"$f":"'T2-B(PP1)'!$J$153","v":0},"#'T2-B(PP1)'!$J$153"]
["pp1_bl4_10_2_total_in",{"$f":"'T2-B(PP1)'!$F$153","v":0},"#'T2-B(PP1)'!$F$153"]
["pp1_bl4_10_2_total_out",{"$f":"'T2-B(PP1)'!$I$153","v":0},"#'T2-B(PP1)'!$I$153"]
["pp1_bl4_10_2_unit",{"$f":"'T2-B(PP1)'!$C$153","v":0},"#'T2-B(PP1)'!$C$153"]
["pp1_bl4_10_2_unit_in",{"$f":"'T2-B(PP1)'!$D$153","v":0},"#'T2-B(PP1)'!$D$153"]
["pp1_bl4_10_2_units_out",{"$f":"'T2-B(PP1)'!$G$153","v":0},"#'T2-B(PP1)'!$G$153"]
["pp1_bl4_10_3_name",{"$f":"'T2-B(PP1)'!$B$154","v":0},"#'T2-B(PP1)'!$B$154"]
["pp1_bl4_10_3_rate_in",{"$f":"'T2-B(PP1)'!$E$154","v":0},"#'T2-B(PP1)'!$E$154"]
["pp1_bl4_10_3_rate_out",{"$f":"'T2-B(PP1)'!$H$154","v":0},"#'T2-B(PP1)'!$H$154"]
["pp1_bl4_10_3_total",{"$f":"'T2-B(PP1)'!$J$154","v":0},"#'T2-B(PP1)'!$J$154"]
["pp1_bl4_10_3_total_in",{"$f":"'T2-B(PP1)'!$F$154","v":0},"#'T2-B(PP1)'!$F$154"]
["pp1_bl4_10_3_total_out",{"$f":"'T2-B(PP1)'!$I$154","v":0},"#'T2-B(PP1)'!$I$154"]
["pp1_bl4_10_3_unit",{"$f":"'T2-B(PP1)'!$C$154","v":0},"#'T2-B(PP1)'!$C$154"]
["pp1_bl4_10_3_unit_in",{"$f":"'T2-B(PP1)'!$D$154","v":0},"#'T2-B(PP1)'!$D$154"]
["pp1_bl4_10_3_units_out",{"$f":"'T2-B(PP1)'!$G$154","v":0},"#'T2-B(PP1)'!$G$154"]
["pp1_bl4_10_4_name",{"$f":"'T2-B(PP1)'!$B$155","v":0},"#'T2-B(PP1)'!$B$155"]
["pp1_bl4_10_4_rate_in",{"$f":"'T2-B(PP1)'!$E$155","v":0},"#'T2-B(PP1)'!$E$155"]
["pp1_bl4_10_4_rate_out",{"$f":"'T2-B(PP1)'!$H$155","v":0},"#'T2-B(PP1)'!$H$155"]
["pp1_bl4_10_4_total",{"$f":"'T2-B(PP1)'!$J$155","v":0},"#'T2-B(PP1)'!$J$155"]
["pp1_bl4_10_4_total_in",{"$f":"'T2-B(PP1)'!$F$155","v":0},"#'T2-B(PP1)'!$F$155"]
["pp1_bl4_10_4_total_out",{"$f":"'T2-B(PP1)'!$I$155","v":0},"#'T2-B(PP1)'!$I$155"]
["pp1_bl4_10_4_unit",{"$f":"'T2-B(PP1)'!$C$155","v":0},"#'T2-B(PP1)'!$C$155"]
["pp1_bl4_10_4_unit_in",{"$f":"'T2-B(PP1)'!$D$155","v":0},"#'T2-B(PP1)'!$D$155"]
["pp1_bl4_10_4_units_out",{"$f":"'T2-B(PP1)'!$G$155","v":0},"#'T2-B(PP1)'!$G$155"]
["pp1_bl4_10_5_name",{"$f":"'T2-B(PP1)'!$B$156","v":0},"#'T2-B(PP1)'!$B$156"]
["pp1_bl4_10_5_rate_in",{"$f":"'T2-B(PP1)'!$E$156","v":0},"#'T2-B(PP1)'!$E$156"]
["pp1_bl4_10_5_rate_out",{"$f":"'T2-B(PP1)'!$H$156","v":0},"#'T2-B(PP1)'!$H$156"]
["pp1_bl4_10_5_total",{"$f":"'T2-B(PP1)'!$J$156","v":0},"#'T2-B(PP1)'!$J$156"]
["pp1_bl4_10_5_total_in",{"$f":"'T2-B(PP1)'!$F$156","v":0},"#'T2-B(PP1)'!$F$156"]
["pp1_bl4_10_5_total_out",{"$f":"'T2-B(PP1)'!$I$156","v":0},"#'T2-B(PP1)'!$I$156"]
["pp1_bl4_10_5_unit",{"$f":"'T2-B(PP1)'!$C$156","v":0},"#'T2-B(PP1)'!$C$156"]
["pp1_bl4_10_5_unit_in",{"$f":"'T2-B(PP1)'!$D$156","v":0},"#'T2-B(PP1)'!$D$156"]
["pp1_bl4_10_5_units_out",{"$f":"'T2-B(PP1)'!$G$156","v":0},"#'T2-B(PP1)'!$G$156"]
["pp1_bl4_10_6_name",{"$f":"'T2-B(PP1)'!$B$157","v":0},"#'T2-B(PP1)'!$B$157"]
["pp1_bl4_10_6_rate_in",{"$f":"'T2-B(PP1)'!$E$157","v":0},"#'T2-B(PP1)'!$E$157"]
["pp1_bl4_10_6_rate_out",{"$f":"'T2-B(PP1)'!$H$157","v":0},"#'T2-B(PP1)'!$H$157"]
["pp1_bl4_10_6_total",{"$f":"'T2-B(PP1)'!$J$157","v":0},"#'T2-B(PP1)'!$J$157"]
["pp1_bl4_10_6_total_in",{"$f":"'T2-B(PP1)'!$F$157","v":0},"#'T2-B(PP1)'!$F$157"]
["pp1_bl4_10_6_total_out",{"$f":"'T2-B(PP1)'!$I$157","v":0},"#'T2-B(PP1)'!$I$157"]
["pp1_bl4_10_6_unit",{"$f":"'T2-B(PP1)'!$C$157","v":0},"#'T2-B(PP1)'!$C$157"]
["pp1_bl4_10_6_unit_in",{"$f":"'T2-B(PP1)'!$D$157","v":0},"#'T2-B(PP1)'!$D$157"]
["pp1_bl4_10_6_units_out",{"$f":"'T2-B(PP1)'!$G$157","v":0},"#'T2-B(PP1)'!$G$157"]
["pp1_bl4_10_7_name",{"$f":"'T2-B(PP1)'!$B$158","v":0},"#'T2-B(PP1)'!$B$158"]
["pp1_bl4_10_7_rate_in",{"$f":"'T2-B(PP1)'!$E$158","v":0},"#'T2-B(PP1)'!$E$158"]
["pp1_bl4_10_7_rate_out",{"$f":"'T2-B(PP1)'!$H$158","v":0},"#'T2-B(PP1)'!$H$158"]
["pp1_bl4_10_7_total",{"$f":"'T2-B(PP1)'!$J$158","v":0},"#'T2-B(PP1)'!$J$158"]
["pp1_bl4_10_7_total_in",{"$f":"'T2-B(PP1)'!$F$158","v":0},"#'T2-B(PP1)'!$F$158"]
["pp1_bl4_10_7_total_out",{"$f":"'T2-B(PP1)'!$I$158","v":0},"#'T2-B(PP1)'!$I$158"]
["pp1_bl4_10_7_unit",{"$f":"'T2-B(PP1)'!$C$158","v":0},"#'T2-B(PP1)'!$C$158"]
["pp1_bl4_10_7_unit_in",{"$f":"'T2-B(PP1)'!$D$158","v":0},"#'T2-B(PP1)'!$D$158"]
["pp1_bl4_10_7_units_out",{"$f":"'T2-B(PP1)'!$G$158","v":0},"#'T2-B(PP1)'!$G$158"]
["pp1_bl4_10_8_name",{"$f":"'T2-B(PP1)'!$B$159","v":0},"#'T2-B(PP1)'!$B$159"]
["pp1_bl4_10_8_rate_in",{"$f":"'T2-B(PP1)'!$E$159","v":0},"#'T2-B(PP1)'!$E$159"]
["pp1_bl4_10_8_rate_out",{"$f":"'T2-B(PP1)'!$H$159","v":0},"#'T2-B(PP1)'!$H$159"]
["pp1_bl4_10_8_total",{"$f":"'T2-B(PP1)'!$J$159","v":0},"#'T2-B(PP1)'!$J$159"]
["pp1_bl4_10_8_total_in",{"$f":"'T2-B(PP1)'!$F$159","v":0},"#'T2-B(PP1)'!$F$159"]
["pp1_bl4_10_8_total_out",{"$f":"'T2-B(PP1)'!$I$159","v":0},"#'T2-B(PP1)'!$I$159"]
["pp1_bl4_10_8_unit",{"$f":"'T2-B(PP1)'!$C$159","v":0},"#'T2-B(PP1)'!$C$159"]
["pp1_bl4_10_8_unit_in",{"$f":"'T2-B(PP1)'!$D$159","v":0},"#'T2-B(PP1)'!$D$159"]
["pp1_bl4_10_8_units_out",{"$f":"'T2-B(PP1)'!$G$159","v":0},"#'T2-B(PP1)'!$G$159"]
["pp1_bl4_10_9_name",{"$f":"'T2-B(PP1)'!$B$160","v":0},"#'T2-B(PP1)'!$B$160"]
["pp1_bl4_10_9_rate_in",{"$f":"'T2-B(PP1)'!$E$160","v":0},"#'T2-B(PP1)'!$E$160"]
["pp1_bl4_10_9_rate_out",{"$f":"'T2-B(PP1)'!$H$160","v":0},"#'T2-B(PP1)'!$H$160"]
["pp1_bl4_10_9_total",{"$f":"'T2-B(PP1)'!$J$160","v":0},"#'T2-B(PP1)'!$J$160"]
["pp1_bl4_10_9_total_in",{"$f":"'T2-B(PP1)'!$F$160","v":0},"#'T2-B(PP1)'!$F$160"]
["pp1_bl4_10_9_total_out",{"$f":"'T2-B(PP1)'!$I$160","v":0},"#'T2-B(PP1)'!$I$160"]
["pp1_bl4_10_9_unit",{"$f":"'T2-B(PP1)'!$C$160","v":0},"#'T2-B(PP1)'!$C$160"]
["pp1_bl4_10_9_unit_in",{"$f":"'T2-B(PP1)'!$D$160","v":0},"#'T2-B(PP1)'!$D$160"]
["pp1_bl4_10_9_units_out",{"$f":"'T2-B(PP1)'!$G$160","v":0},"#'T2-B(PP1)'!$G$160"]
["pp1_bl4_10_total",{"$f":"'T2-B(PP1)'!$J$151","v":0},"#'T2-B(PP1)'!$J$151"]
["pp1_bl4_10_total_in",{"$f":"'T2-B(PP1)'!$F$151","v":0},"#'T2-B(PP1)'!$F$151"]
["pp1_bl4_10_total_out",{"$f":"'T2-B(PP1)'!$I$151","v":0},"#'T2-B(PP1)'!$I$151"]
["pp1_bl4_11_1_name",{"$f":"'T2-B(PP1)'!$B$163","v":0},"#'T2-B(PP1)'!$B$163"]
["pp1_bl4_11_1_rate_in",{"$f":"'T2-B(PP1)'!$E$163","v":0},"#'T2-B(PP1)'!$E$163"]
["pp1_bl4_11_1_rate_out",{"$f":"'T2-B(PP1)'!$H$163","v":0},"#'T2-B(PP1)'!$H$163"]
["pp1_bl4_11_1_total",{"$f":"'T2-B(PP1)'!$J$163","v":0},"#'T2-B(PP1)'!$J$163"]
["pp1_bl4_11_1_total_in",{"$f":"'T2-B(PP1)'!$F$163","v":0},"#'T2-B(PP1)'!$F$163"]
["pp1_bl4_11_1_total_out",{"$f":"'T2-B(PP1)'!$I$163","v":0},"#'T2-B(PP1)'!$I$163"]
["pp1_bl4_11_1_unit",{"$f":"'T2-B(PP1)'!$C$163","v":0},"#'T2-B(PP1)'!$C$163"]
["pp1_bl4_11_1_unit_in",{"$f":"'T2-B(PP1)'!$D$163","v":0},"#'T2-B(PP1)'!$D$163"]
["pp1_bl4_11_1_units_out",{"$f":"'T2-B(PP1)'!$G$163","v":0},"#'T2-B(PP1)'!$G$163"]
["pp1_bl4_11_10_name",{"$f":"'T2-B(PP1)'!$B$172","v":0},"#'T2-B(PP1)'!$B$172"]
["pp1_bl4_11_10_rate_in",{"$f":"'T2-B(PP1)'!$E$172","v":0},"#'T2-B(PP1)'!$E$172"]
["pp1_bl4_11_10_rate_out",{"$f":"'T2-B(PP1)'!$H$172","v":0},"#'T2-B(PP1)'!$H$172"]
["pp1_bl4_11_10_total",{"$f":"'T2-B(PP1)'!$J$172","v":0},"#'T2-B(PP1)'!$J$172"]
["pp1_bl4_11_10_total_in",{"$f":"'T2-B(PP1)'!$F$172","v":0},"#'T2-B(PP1)'!$F$172"]
["pp1_bl4_11_10_total_out",{"$f":"'T2-B(PP1)'!$I$172","v":0},"#'T2-B(PP1)'!$I$172"]
["pp1_bl4_11_10_unit",{"$f":"'T2-B(PP1)'!$C$172","v":0},"#'T2-B(PP1)'!$C$172"]
["pp1_bl4_11_10_unit_in",{"$f":"'T2-B(PP1)'!$D$172","v":0},"#'T2-B(PP1)'!$D$172"]
["pp1_bl4_11_10_units_out",{"$f":"'T2-B(PP1)'!$G$172","v":0},"#'T2-B(PP1)'!$G$172"]
["pp1_bl4_11_2_name",{"$f":"'T2-B(PP1)'!$B$164","v":0},"#'T2-B(PP1)'!$B$164"]
["pp1_bl4_11_2_rate_in",{"$f":"'T2-B(PP1)'!$E$164","v":0},"#'T2-B(PP1)'!$E$164"]
["pp1_bl4_11_2_rate_out",{"$f":"'T2-B(PP1)'!$H$164","v":0},"#'T2-B(PP1)'!$H$164"]
["pp1_bl4_11_2_total",{"$f":"'T2-B(PP1)'!$J$164","v":0},"#'T2-B(PP1)'!$J$164"]
["pp1_bl4_11_2_total_in",{"$f":"'T2-B(PP1)'!$F$164","v":0},"#'T2-B(PP1)'!$F$164"]
["pp1_bl4_11_2_total_out",{"$f":"'T2-B(PP1)'!$I$164","v":0},"#'T2-B(PP1)'!$I$164"]
["pp1_bl4_11_2_unit",{"$f":"'T2-B(PP1)'!$C$164","v":0},"#'T2-B(PP1)'!$C$164"]
["pp1_bl4_11_2_unit_in",{"$f":"'T2-B(PP1)'!$D$164","v":0},"#'T2-B(PP1)'!$D$164"]
["pp1_bl4_11_2_units_out",{"$f":"'T2-B(PP1)'!$G$164","v":0},"#'T2-B(PP1)'!$G$164"]
["pp1_bl4_11_3_name",{"$f":"'T2-B(PP1)'!$B$165","v":0},"#'T2-B(PP1)'!$B$165"]
["pp1_bl4_11_3_rate_in",{"$f":"'T2-B(PP1)'!$E$165","v":0},"#'T2-B(PP1)'!$E$165"]
["pp1_bl4_11_3_rate_out",{"$f":"'T2-B(PP1)'!$H$165","v":0},"#'T2-B(PP1)'!$H$165"]
["pp1_bl4_11_3_total",{"$f":"'T2-B(PP1)'!$J$165","v":0},"#'T2-B(PP1)'!$J$165"]
["pp1_bl4_11_3_total_in",{"$f":"'T2-B(PP1)'!$F$165","v":0},"#'T2-B(PP1)'!$F$165"]
["pp1_bl4_11_3_total_out",{"$f":"'T2-B(PP1)'!$I$165","v":0},"#'T2-B(PP1)'!$I$165"]
["pp1_bl4_11_3_unit",{"$f":"'T2-B(PP1)'!$C$165","v":0},"#'T2-B(PP1)'!$C$165"]
["pp1_bl4_11_3_unit_in",{"$f":"'T2-B(PP1)'!$D$165","v":0},"#'T2-B(PP1)'!$D$165"]
["pp1_bl4_11_3_units_out",{"$f":"'T2-B(PP1)'!$G$165","v":0},"#'T2-B(PP1)'!$G$165"]
["pp1_bl4_11_4_name",{"$f":"'T2-B(PP1)'!$B$166","v":0},"#'T2-B(PP1)'!$B$166"]
["pp1_bl4_11_4_rate_in",{"$f":"'T2-B(PP1)'!$E$166","v":0},"#'T2-B(PP1)'!$E$166"]
["pp1_bl4_11_4_rate_out",{"$f":"'T2-B(PP1)'!$H$166","v":0},"#'T2-B(PP1)'!$H$166"]
["pp1_bl4_11_4_total",{"$f":"'T2-B(PP1)'!$J$166","v":0},"#'T2-B(PP1)'!$J$166"]
["pp1_bl4_11_4_total_in",{"$f":"'T2-B(PP1)'!$F$166","v":0},"#'T2-B(PP1)'!$F$166"]
["pp1_bl4_11_4_total_out",{"$f":"'T2-B(PP1)'!$I$166","v":0},"#'T2-B(PP1)'!$I$166"]
["pp1_bl4_11_4_unit",{"$f":"'T2-B(PP1)'!$C$166","v":0},"#'T2-B(PP1)'!$C$166"]
["pp1_bl4_11_4_unit_in",{"$f":"'T2-B(PP1)'!$D$166","v":0},"#'T2-B(PP1)'!$D$166"]
["pp1_bl4_11_4_units_out",{"$f":"'T2-B(PP1)'!$G$166","v":0},"#'T2-B(PP1)'!$G$166"]
["pp1_bl4_11_5_name",{"$f":"'T2-B(PP1)'!$B$167","v":0},"#'T2-B(PP1)'!$B$167"]
["pp1_bl4_11_5_rate_in",{"$f":"'T2-B(PP1)'!$E$167","v":0},"#'T2-B(PP1)'!$E$167"]
["pp1_bl4_11_5_rate_out",{"$f":"'T2-B(PP1)'!$H$167","v":0},"#'T2-B(PP1)'!$H$167"]
["pp1_bl4_11_5_total",{"$f":"'T2-B(PP1)'!$J$167","v":0},"#'T2-B(PP1)'!$J$167"]
["pp1_bl4_11_5_total_in",{"$f":"'T2-B(PP1)'!$F$167","v":0},"#'T2-B(PP1)'!$F$167"]
["pp1_bl4_11_5_total_out",{"$f":"'T2-B(PP1)'!$I$167","v":0},"#'T2-B(PP1)'!$I$167"]
["pp1_bl4_11_5_unit",{"$f":"'T2-B(PP1)'!$C$167","v":0},"#'T2-B(PP1)'!$C$167"]
["pp1_bl4_11_5_unit_in",{"$f":"'T2-B(PP1)'!$D$167","v":0},"#'T2-B(PP1)'!$D$167"]
["pp1_bl4_11_5_units_out",{"$f":"'T2-B(PP1)'!$G$167","v":0},"#'T2-B(PP1)'!$G$167"]
["pp1_bl4_11_6_name",{"$f":"'T2-B(PP1)'!$B$168","v":0},"#'T2-B(PP1)'!$B$168"]
["pp1_bl4_11_6_rate_in",{"$f":"'T2-B(PP1)'!$E$168","v":0},"#'T2-B(PP1)'!$E$168"]
["pp1_bl4_11_6_rate_out",{"$f":"'T2-B(PP1)'!$H$168","v":0},"#'T2-B(PP1)'!$H$168"]
["pp1_bl4_11_6_total",{"$f":"'T2-B(PP1)'!$J$168","v":0},"#'T2-B(PP1)'!$J$168"]
["pp1_bl4_11_6_total_in",{"$f":"'T2-B(PP1)'!$F$168","v":0},"#'T2-B(PP1)'!$F$168"]
["pp1_bl4_11_6_total_out",{"$f":"'T2-B(PP1)'!$I$168","v":0},"#'T2-B(PP1)'!$I$168"]
["pp1_bl4_11_6_unit",{"$f":"'T2-B(PP1)'!$C$168","v":0},"#'T2-B(PP1)'!$C$168"]
["pp1_bl4_11_6_unit_in",{"$f":"'T2-B(PP1)'!$D$168","v":0},"#'T2-B(PP1)'!$D$168"]
["pp1_bl4_11_6_units_out",{"$f":"'T2-B(PP1)'!$G$168","v":0},"#'T2-B(PP1)'!$G$168"]
["pp1_bl4_11_7_name",{"$f":"'T2-B(PP1)'!$B$169","v":0},"#'T2-B(PP1)'!$B$169"]
["pp1_bl4_11_7_rate_in",{"$f":"'T2-B(PP1)'!$E$169","v":0},"#'T2-B(PP1)'!$E$169"]
["pp1_bl4_11_7_rate_out",{"$f":"'T2-B(PP1)'!$H$169","v":0},"#'T2-B(PP1)'!$H$169"]
["pp1_bl4_11_7_total",{"$f":"'T2-B(PP1)'!$J$169","v":0},"#'T2-B(PP1)'!$J$169"]
["pp1_bl4_11_7_total_in",{"$f":"'T2-B(PP1)'!$F$169","v":0},"#'T2-B(PP1)'!$F$169"]
["pp1_bl4_11_7_total_out",{"$f":"'T2-B(PP1)'!$I$169","v":0},"#'T2-B(PP1)'!$I$169"]
["pp1_bl4_11_7_unit",{"$f":"'T2-B(PP1)'!$C$169","v":0},"#'T2-B(PP1)'!$C$169"]
["pp1_bl4_11_7_unit_in",{"$f":"'T2-B(PP1)'!$D$169","v":0},"#'T2-B(PP1)'!$D$169"]
["pp1_bl4_11_7_units_out",{"$f":"'T2-B(PP1)'!$G$169","v":0},"#'T2-B(PP1)'!$G$169"]
["pp1_bl4_11_8_name",{"$f":"'T2-B(PP1)'!$B$170","v":0},"#'T2-B(PP1)'!$B$170"]
["pp1_bl4_11_8_rate_in",{"$f":"'T2-B(PP1)'!$E$170","v":0},"#'T2-B(PP1)'!$E$170"]
["pp1_bl4_11_8_rate_out",{"$f":"'T2-B(PP1)'!$H$170","v":0},"#'T2-B(PP1)'!$H$170"]
["pp1_bl4_11_8_total",{"$f":"'T2-B(PP1)'!$J$170","v":0},"#'T2-B(PP1)'!$J$170"]
["pp1_bl4_11_8_total_in",{"$f":"'T2-B(PP1)'!$F$170","v":0},"#'T2-B(PP1)'!$F$170"]
["pp1_bl4_11_8_total_out",{"$f":"'T2-B(PP1)'!$I$170","v":0},"#'T2-B(PP1)'!$I$170"]
["pp1_bl4_11_8_unit",{"$f":"'T2-B(PP1)'!$C$170","v":0},"#'T2-B(PP1)'!$C$170"]
["pp1_bl4_11_8_unit_in",{"$f":"'T2-B(PP1)'!$D$170","v":0},"#'T2-B(PP1)'!$D$170"]
["pp1_bl4_11_8_units_out",{"$f":"'T2-B(PP1)'!$G$170","v":0},"#'T2-B(PP1)'!$G$170"]
["pp1_bl4_11_9_name",{"$f":"'T2-B(PP1)'!$B$171","v":0},"#'T2-B(PP1)'!$B$171"]
["pp1_bl4_11_9_rate_in",{"$f":"'T2-B(PP1)'!$E$171","v":0},"#'T2-B(PP1)'!$E$171"]
["pp1_bl4_11_9_rate_out",{"$f":"'T2-B(PP1)'!$H$171","v":0},"#'T2-B(PP1)'!$H$171"]
["pp1_bl4_11_9_total",{"$f":"'T2-B(PP1)'!$J$171","v":0},"#'T2-B(PP1)'!$J$171"]
["pp1_bl4_11_9_total_in",{"$f":"'T2-B(PP1)'!$F$171","v":0},"#'T2-B(PP1)'!$F$171"]
["pp1_bl4_11_9_total_out",{"$f":"'T2-B(PP1)'!$I$171","v":0},"#'T2-B(PP1)'!$I$171"]
["pp1_bl4_11_9_unit",{"$f":"'T2-B(PP1)'!$C$171","v":0},"#'T2-B(PP1)'!$C$171"]
["pp1_bl4_11_9_unit_in",{"$f":"'T2-B(PP1)'!$D$171","v":0},"#'T2-B(PP1)'!$D$171"]
["pp1_bl4_11_9_units_out",{"$f":"'T2-B(PP1)'!$G$171","v":0},"#'T2-B(PP1)'!$G$171"]
["pp1_bl4_11_total",{"$f":"'T2-B(PP1)'!$J$162","v":0},"#'T2-B(PP1)'!$J$162"]
["pp1_bl4_11_total_in",{"$f":"'T2-B(PP1)'!$F$162","v":0},"#'T2-B(PP1)'!$F$162"]
["pp1_bl4_11_total_out",{"$f":"'T2-B(PP1)'!$I$162","v":0},"#'T2-B(PP1)'!$I$162"]
["pp1_bl4_12_1_name",{"$f":"'T2-B(PP1)'!#REF!","v":{"$error":"#REF!"}},"#'T2-B(PP1)'!#REF!"]
["pp1_bl4_12_1_rate_in",{"$f":"'T2-B(PP1)'!#REF!","v":{"$error":"#REF!"}},"#'T2-B(PP1)'!#REF!"]
["pp1_bl4_12_1_rate_out",{"$f":"'T2-B(PP1)'!#REF!","v":{"$error":"#REF!"}},"#'T2-B(PP1)'!#REF!"]
["pp1_bl4_12_1_total",{"$f":"'T2-B(PP1)'!#REF!","v":{"$error":"#REF!"}},"#'T2-B(PP1)'!#REF!"]
["pp1_bl4_12_1_total_in",{"$f":"'T2-B(PP1)'!#REF!","v":{"$error":"#REF!"}},"#'T2-B(PP1)'!#REF!"]
["pp1_bl4_12_1_total_out",{"$f":"'T2-B(PP1)'!#REF!","v":{"$error":"#REF!"}},"#'T2-B(PP1)'!#REF!"]
["pp1_bl4_12_1_unit",{"$f":"'T2-B(PP1)'!#REF!","v":{"$error":"#REF!"}},"#'T2-B(PP1)'!#REF!"]
["pp1_bl4_12_1_unit_in",{"$f":"'T2-B(PP1)'!#REF!","v":{"$error":"#REF!"}},"#'T2-B(PP1)'!#REF!"]
["pp1_bl4_12_1_units_out",{"$f":"'T2-B(PP1)'!#REF!","v":{"$error":"#REF!"}},"#'T2-B(PP1)'!#REF!"]
["pp1_bl4_12_10_name",{"$f":"'T2-B(PP1)'!#REF!","v":{"$error":"#REF!"}},"#'T2-B(PP1)'!#REF!"]
["pp1_bl4_12_10_rate_in",{"$f":"'T2-B(PP1)'!#REF!","v":{"$error":"#REF!"}},"#'T2-B(PP1)'!#REF!"]
["pp1_bl4_12_10_rate_out",{"$f":"'T2-B(PP1)'!#REF!","v":{"$error":"#REF!"}},"#'T2-B(PP1)'!#REF!"]
["pp1_bl4_12_10_total",{"$f":"'T2-B(PP1)'!#REF!","v":{"$error":"#REF!"}},"#'T2-B(PP1)'!#REF!"]
["pp1_bl4_12_10_total_in",{"$f":"'T2-B(PP1)'!#REF!","v":{"$error":"#REF!"}},"#'T2-B(PP1)'!#REF!"]
["pp1_bl4_12_10_total_out",{"$f":"'T2-B(PP1)'!#REF!","v":{"$error":"#REF!"}},"#'T2-B(PP1)'!#REF!"]
["pp1_bl4_12_10_unit",{"$f":"'T2-B(PP1)'!#REF!","v":{"$error":"#REF!"}},"#'T2-B(PP1)'!#REF!"]
["pp1_bl4_12_10_unit_in",{"$f":"'T2-B(PP1)'!#REF!","v":{"$error":"#REF!"}},"#'T2-B(PP1)'!#REF!"]
["pp1_bl4_12_10_units_out",{"$f":"'T2-B(PP1)'!#REF!","v":{"$error":"#REF!"}},"#'T2-B(PP1)'!#REF!"]
["pp1_bl4_12_2_name",{"$f":"'T2-B(PP1)'!#REF!","v":{"$error":"#REF!"}},"#'T2-B(PP1)'!#REF!"]
["pp1_bl4_12_2_rate_in",{"$f":"'T2-B(PP1)'!#REF!","v":{"$error":"#REF!"}},"#'T2-B(PP1)'!#REF!"]
["pp1_bl4_12_2_rate_out",{"$f":"'T2-B(PP1)'!#REF!","v":{"$error":"#REF!"}},"#'T2-B(PP1)'!#REF!"]
["pp1_bl4_12_2_total",{"$f":"'T2-B(PP1)'!#REF!","v":{"$error":"#REF!"}},"#'T2-B(PP1)'!#REF!"]
["pp1_bl4_12_2_total_in",{"$f":"'T2-B(PP1)'!#REF!","v":{"$error":"#REF!"}},"#'T2-B(PP1)'!#REF!"]
["pp1_bl4_12_2_total_out",{"$f":"'T2-B(PP1)'!#REF!","v":{"$error":"#REF!"}},"#'T2-B(PP1)'!#REF!"]
["pp1_bl4_12_2_unit",{"$f":"'T2-B(PP1)'!#REF!","v":{"$error":"#REF!"}},"#'T2-B(PP1)'!#REF!"]
["pp1_bl4_12_2_unit_in",{"$f":"'T2-B(PP1)'!#REF!","v":{"$error":"#REF!"}},"#'T2-B(PP1)'!#REF!"]
["pp1_bl4_12_2_units_out",{"$f":"'T2-B(PP1)'!#REF!","v":{"$error":"#REF!"}},"#'T2-B(PP1)'!#REF!"]
["pp1_bl4_12_3_name",{"$f":"'T2-B(PP1)'!#REF!","v":{"$error":"#REF!"}},"#'T2-B(PP1)'!#REF!"]
["pp1_bl4_12_3_rate_in",{"$f":"'T2-B(PP1)'!#REF!","v":{"$error":"#REF!"}},"#'T2-B(PP1)'!#REF!"]
["pp1_bl4_12_3_rate_out",{"$f":"'T2-B(PP1)'!#REF!","v":{"$error":"#REF!"}},"#'T2-B(PP1)'!#REF!"]
["pp1_bl4_12_3_total",{"$f":"'T2-B(PP1)'!#REF!","v":{"$error":"#REF!"}},"#'T2-B(PP1)'!#REF!"]
["pp1_bl4_12_3_total_in",{"$f":"'T2-B(PP1)'!#REF!","v":{"$error":"#REF!"}},"#'T2-B(PP1)'!#REF!"]
["pp1_bl4_12_3_total_out",{"$f":"'T2-B(PP1)'!#REF!","v":{"$error":"#REF!"}},"#'T2-B(PP1)'!#REF!"]
["pp1_bl4_12_3_unit",{"$f":"'T2-B(PP1)'!#REF!","v":{"$error":"#REF!"}},"#'T2-B(PP1)'!#REF!"]
["pp1_bl4_12_3_unit_in",{"$f":"'T2-B(PP1)'!#REF!","v":{"$error":"#REF!"}},"#'T2-B(PP1)'!#REF!"]
["pp1_bl4_12_3_units_out",{"$f":"'T2-B(PP1)'!#REF!","v":{"$error":"#REF!"}},"#'T2-B(PP1)'!#REF!"]
["pp1_bl4_12_4_name",{"$f":"'T2-B(PP1)'!#REF!","v":{"$error":"#REF!"}},"#'T2-B(PP1)'!#REF!"]
["pp1_bl4_12_4_rate_in",{"$f":"'T2-B(PP1)'!#REF!","v":{"$error":"#REF!"}},"#'T2-B(PP1)'!#REF!"]
["pp1_bl4_12_4_rate_out",{"$f":"'T2-B(PP1)'!#REF!","v":{"$error":"#REF!"}},"#'T2-B(PP1)'!#REF!"]
["pp1_bl4_12_4_total",{"$f":"'T2-B(PP1)'!#REF!","v":{"$error":"#REF!"}},"#'T2-B(PP1)'!#REF!"]
["pp1_bl4_12_4_total_in",{"$f":"'T2-B(PP1)'!#REF!","v":{"$error":"#REF!"}},"#'T2-B(PP1)'!#REF!"]
["pp1_bl4_12_4_total_out",{"$f":"'T2-B(PP1)'!#REF!","v":{"$error":"#REF!"}},"#'T2-B(PP1)'!#REF!"]
["pp1_bl4_12_4_unit",{"$f":"'T2-B(PP1)'!#REF!","v":{"$error":"#REF!"}},"#'T2-B(PP1)'!#REF!"]
["pp1_bl4_12_4_unit_in",{"$f":"'T2-B(PP1)'!#REF!","v":{"$error":"#REF!"}},"#'T2-B(PP1)'!#REF!"]
["pp1_bl4_12_4_units_out",{"$f":"'T2-B(PP1)'!#REF!","v":{"$error":"#REF!"}},"#'T2-B(PP1)'!#REF!"]
["pp1_bl4_12_5_name",{"$f":"'T2-B(PP1)'!#REF!","v":{"$error":"#REF!"}},"#'T2-B(PP1)'!#REF!"]
["pp1_bl4_12_5_rate_in",{"$f":"'T2-B(PP1)'!#REF!","v":{"$error":"#REF!"}},"#'T2-B(PP1)'!#REF!"]
["pp1_bl4_12_5_rate_out",{"$f":"'T2-B(PP1)'!#REF!","v":{"$error":"#REF!"}},"#'T2-B(PP1)'!#REF!"]
["pp1_bl4_12_5_total",{"$f":"'T2-B(PP1)'!#REF!","v":{"$error":"#REF!"}},"#'T2-B(PP1)'!#REF!"]
["pp1_bl4_12_5_total_in",{"$f":"'T2-B(PP1)'!#REF!","v":{"$error":"#REF!"}},"#'T2-B(PP1)'!#REF!"]
["pp1_bl4_12_5_total_out",{"$f":"'T2-B(PP1)'!#REF!","v":{"$error":"#REF!"}},"#'T2-B(PP1)'!#REF!"]
["pp1_bl4_12_5_unit",{"$f":"'T2-B(PP1)'!#REF!","v":{"$error":"#REF!"}},"#'T2-B(PP1)'!#REF!"]
["pp1_bl4_12_5_unit_in",{"$f":"'T2-B(PP1)'!#REF!","v":{"$error":"#REF!"}},"#'T2-B(PP1)'!#REF!"]
["pp1_bl4_12_5_units_out",{"$f":"'T2-B(PP1)'!#REF!","v":{"$error":"#REF!"}},"#'T2-B(PP1)'!#REF!"]
["pp1_bl4_12_6_name",{"$f":"'T2-B(PP1)'!#REF!","v":{"$error":"#REF!"}},"#'T2-B(PP1)'!#REF!"]
["pp1_bl4_12_6_rate_in",{"$f":"'T2-B(PP1)'!#REF!","v":{"$error":"#REF!"}},"#'T2-B(PP1)'!#REF!"]
["pp1_bl4_12_6_rate_out",{"$f":"'T2-B(PP1)'!#REF!","v":{"$error":"#REF!"}},"#'T2-B(PP1)'!#REF!"]
["pp1_bl4_12_6_total",{"$f":"'T2-B(PP1)'!#REF!","v":{"$error":"#REF!"}},"#'T2-B(PP1)'!#REF!"]
["pp1_bl4_12_6_total_in",{"$f":"'T2-B(PP1)'!#REF!","v":{"$error":"#REF!"}},"#'T2-B(PP1)'!#REF!"]
["pp1_bl4_12_6_total_out",{"$f":"'T2-B(PP1)'!#REF!","v":{"$error":"#REF!"}},"#'T2-B(PP1)'!#REF!"]
["pp1_bl4_12_6_unit",{"$f":"'T2-B(PP1)'!#REF!","v":{"$error":"#REF!"}},"#'T2-B(PP1)'!#REF!"]
["pp1_bl4_12_6_unit_in",{"$f":"'T2-B(PP1)'!#REF!","v":{"$error":"#REF!"}},"#'T2-B(PP1)'!#REF!"]
["pp1_bl4_12_6_units_out",{"$f":"'T2-B(PP1)'!#REF!","v":{"$error":"#REF!"}},"#'T2-B(PP1)'!#REF!"]
["pp1_bl4_12_7_name",{"$f":"'T2-B(PP1)'!#REF!","v":{"$error":"#REF!"}},"#'T2-B(PP1)'!#REF!"]
["pp1_bl4_12_7_rate_in",{"$f":"'T2-B(PP1)'!#REF!","v":{"$error":"#REF!"}},"#'T2-B(PP1)'!#REF!"]
["pp1_bl4_12_7_rate_out",{"$f":"'T2-B(PP1)'!#REF!","v":{"$error":"#REF!"}},"#'T2-B(PP1)'!#REF!"]
["pp1_bl4_12_7_total",{"$f":"'T2-B(PP1)'!#REF!","v":{"$error":"#REF!"}},"#'T2-B(PP1)'!#REF!"]
["pp1_bl4_12_7_total_in",{"$f":"'T2-B(PP1)'!#REF!","v":{"$error":"#REF!"}},"#'T2-B(PP1)'!#REF!"]
["pp1_bl4_12_7_total_out",{"$f":"'T2-B(PP1)'!#REF!","v":{"$error":"#REF!"}},"#'T2-B(PP1)'!#REF!"]
["pp1_bl4_12_7_unit",{"$f":"'T2-B(PP1)'!#REF!","v":{"$error":"#REF!"}},"#'T2-B(PP1)'!#REF!"]
["pp1_bl4_12_7_unit_in",{"$f":"'T2-B(PP1)'!#REF!","v":{"$error":"#REF!"}},"#'T2-B(PP1)'!#REF!"]
["pp1_bl4_12_7_units_out",{"$f":"'T2-B(PP1)'!#REF!","v":{"$error":"#REF!"}},"#'T2-B(PP1)'!#REF!"]
["pp1_bl4_12_8_name",{"$f":"'T2-B(PP1)'!#REF!","v":{"$error":"#REF!"}},"#'T2-B(PP1)'!#REF!"]
["pp1_bl4_12_8_rate_in",{"$f":"'T2-B(PP1)'!#REF!","v":{"$error":"#REF!"}},"#'T2-B(PP1)'!#REF!"]
["pp1_bl4_12_8_rate_out",{"$f":"'T2-B(PP1)'!#REF!","v":{"$error":"#REF!"}},"#'T2-B(PP1)'!#REF!"]
["pp1_bl4_12_8_total",{"$f":"'T2-B(PP1)'!#REF!","v":{"$error":"#REF!"}},"#'T2-B(PP1)'!#REF!"]
["pp1_bl4_12_8_total_in",{"$f":"'T2-B(PP1)'!#REF!","v":{"$error":"#REF!"}},"#'T2-B(PP1)'!#REF!"]
["pp1_bl4_12_8_total_out",{"$f":"'T2-B(PP1)'!#REF!","v":{"$error":"#REF!"}},"#'T2-B(PP1)'!#REF!"]
["pp1_bl4_12_8_unit",{"$f":"'T2-B(PP1)'!#REF!","v":{"$error":"#REF!"}},"#'T2-B(PP1)'!#REF!"]
["pp1_bl4_12_8_unit_in",{"$f":"'T2-B(PP1)'!#REF!","v":{"$error":"#REF!"}},"#'T2-B(PP1)'!#REF!"]
["pp1_bl4_12_8_units_out",{"$f":"'T2-B(PP1)'!#REF!","v":{"$error":"#REF!"}},"#'T2-B(PP1)'!#REF!"]
["pp1_bl4_12_9_name",{"$f":"'T2-B(PP1)'!#REF!","v":{"$error":"#REF!"}},"#'T2-B(PP1)'!#REF!"]
["pp1_bl4_12_9_rate_in",{"$f":"'T2-B(PP1)'!#REF!","v":{"$error":"#REF!"}},"#'T2-B(PP1)'!#REF!"]
["pp1_bl4_12_9_rate_out",{"$f":"'T2-B(PP1)'!#REF!","v":{"$error":"#REF!"}},"#'T2-B(PP1)'!#REF!"]
["pp1_bl4_12_9_total",{"$f":"'T2-B(PP1)'!#REF!","v":{"$error":"#REF!"}},"#'T2-B(PP1)'!#REF!"]
["pp1_bl4_12_9_total_in",{"$f":"'T2-B(PP1)'!#REF!","v":{"$error":"#REF!"}},"#'T2-B(PP1)'!#REF!"]
["pp1_bl4_12_9_total_out",{"$f":"'T2-B(PP1)'!#REF!","v":{"$error":"#REF!"}},"#'T2-B(PP1)'!#REF!"]
["pp1_bl4_12_9_unit",{"$f":"'T2-B(PP1)'!#REF!","v":{"$error":"#REF!"}},"#'T2-B(PP1)'!#REF!"]
["pp1_bl4_12_9_unit_in",{"$f":"'T2-B(PP1)'!#REF!","v":{"$error":"#REF!"}},"#'T2-B(PP1)'!#REF!"]
["pp1_bl4_12_9_units_out",{"$f":"'T2-B(PP1)'!#REF!","v":{"$error":"#REF!"}},"#'T2-B(PP1)'!#REF!"]
["pp1_bl4_12_total",{"$f":"'T2-B(PP1)'!#REF!","v":{"$error":"#REF!"}},"#'T2-B(PP1)'!#REF!"]
["pp1_bl4_12_total_in",{"$f":"'T2-B(PP1)'!#REF!","v":{"$error":"#REF!"}},"#'T2-B(PP1)'!#REF!"]
["pp1_bl4_12_total_out",{"$f":"'T2-B(PP1)'!#REF!","v":{"$error":"#REF!"}},"#'T2-B(PP1)'!#REF!"]
["pp1_bl4_13_1_name",{"$f":"'T2-B(PP1)'!#REF!","v":{"$error":"#REF!"}},"#'T2-B(PP1)'!#REF!"]
["pp1_bl4_13_1_rate_in",{"$f":"'T2-B(PP1)'!#REF!","v":{"$error":"#REF!"}},"#'T2-B(PP1)'!#REF!"]
["pp1_bl4_13_1_rate_out",{"$f":"'T2-B(PP1)'!#REF!","v":{"$error":"#REF!"}},"#'T2-B(PP1)'!#REF!"]
["pp1_bl4_13_1_total",{"$f":"'T2-B(PP1)'!#REF!","v":{"$error":"#REF!"}},"#'T2-B(PP1)'!#REF!"]
["pp1_bl4_13_1_total_in",{"$f":"'T2-B(PP1)'!#REF!","v":{"$error":"#REF!"}},"#'T2-B(PP1)'!#REF!"]
["pp1_bl4_13_1_total_out",{"$f":"'T2-B(PP1)'!#REF!","v":{"$error":"#REF!"}},"#'T2-B(PP1)'!#REF!"]
["pp1_bl4_13_1_unit",{"$f":"'T2-B(PP1)'!#REF!","v":{"$error":"#REF!"}},"#'T2-B(PP1)'!#REF!"]
["pp1_bl4_13_1_unit_in",{"$f":"'T2-B(PP1)'!#REF!","v":{"$error":"#REF!"}},"#'T2-B(PP1)'!#REF!"]
["pp1_bl4_13_1_units_out",{"$f":"'T2-B(PP1)'!#REF!","v":{"$error":"#REF!"}},"#'T2-B(PP1)'!#REF!"]
["pp1_bl4_13_10_name",{"$f":"'T2-B(PP1)'!#REF!","v":{"$error":"#REF!"}},"#'T2-B(PP1)'!#REF!"]
["pp1_bl4_13_10_rate_in",{"$f":"'T2-B(PP1)'!#REF!","v":{"$error":"#REF!"}},"#'T2-B(PP1)'!#REF!"]
["pp1_bl4_13_10_rate_out",{"$f":"'T2-B(PP1)'!#REF!","v":{"$error":"#REF!"}},"#'T2-B(PP1)'!#REF!"]
["pp1_bl4_13_10_total",{"$f":"'T2-B(PP1)'!#REF!","v":{"$error":"#REF!"}},"#'T2-B(PP1)'!#REF!"]
["pp1_bl4_13_10_total_in",{"$f":"'T2-B(PP1)'!#REF!","v":{"$error":"#REF!"}},"#'T2-B(PP1)'!#REF!"]
["pp1_bl4_13_10_total_out",{"$f":"'T2-B(PP1)'!#REF!","v":{"$error":"#REF!"}},"#'T2-B(PP1)'!#REF!"]
["pp1_bl4_13_10_unit",{"$f":"'T2-B(PP1)'!#REF!","v":{"$error":"#REF!"}},"#'T2-B(PP1)'!#REF!"]
["pp1_bl4_13_10_unit_in",{"$f":"'T2-B(PP1)'!#REF!","v":{"$error":"#REF!"}},"#'T2-B(PP1)'!#REF!"]
["pp1_bl4_13_10_units_out",{"$f":"'T2-B(PP1)'!#REF!","v":{"$error":"#REF!"}},"#'T2-B(PP1)'!#REF!"]
["pp1_bl4_13_2_name",{"$f":"'T2-B(PP1)'!#REF!","v":{"$error":"#REF!"}},"#'T2-B(PP1)'!#REF!"]
["pp1_bl4_13_2_rate_in",{"$f":"'T2-B(PP1)'!#REF!","v":{"$error":"#REF!"}},"#'T2-B(PP1)'!#REF!"]
["pp1_bl4_13_2_rate_out",{"$f":"'T2-B(PP1)'!#REF!","v":{"$error":"#REF!"}},"#'T2-B(PP1)'!#REF!"]
["pp1_bl4_13_2_total",{"$f":"'T2-B(PP1)'!#REF!","v":{"$error":"#REF!"}},"#'T2-B(PP1)'!#REF!"]
["pp1_bl4_13_2_total_in",{"$f":"'T2-B(PP1)'!#REF!","v":{"$error":"#REF!"}},"#'T2-B(PP1)'!#REF!"]
["pp1_bl4_13_2_total_out",{"$f":"'T2-B(PP1)'!#REF!","v":{"$error":"#REF!"}},"#'T2-B(PP1)'!#REF!"]
["pp1_bl4_13_2_unit",{"$f":"'T2-B(PP1)'!#REF!","v":{"$error":"#REF!"}},"#'T2-B(PP1)'!#REF!"]
["pp1_bl4_13_2_unit_in",{"$f":"'T2-B(PP1)'!#REF!","v":{"$error":"#REF!"}},"#'T2-B(PP1)'!#REF!"]
["pp1_bl4_13_2_units_out",{"$f":"'T2-B(PP1)'!#REF!","v":{"$error":"#REF!"}},"#'T2-B(PP1)'!#REF!"]
["pp1_bl4_13_3_name",{"$f":"'T2-B(PP1)'!#REF!","v":{"$error":"#REF!"}},"#'T2-B(PP1)'!#REF!"]
["pp1_bl4_13_3_rate_in",{"$f":"'T2-B(PP1)'!#REF!","v":{"$error":"#REF!"}},"#'T2-B(PP1)'!#REF!"]
["pp1_bl4_13_3_rate_out",{"$f":"'T2-B(PP1)'!#REF!","v":{"$error":"#REF!"}},"#'T2-B(PP1)'!#REF!"]
["pp1_bl4_13_3_total",{"$f":"'T2-B(PP1)'!#REF!","v":{"$error":"#REF!"}},"#'T2-B(PP1)'!#REF!"]
["pp1_bl4_13_3_total_in",{"$f":"'T2-B(PP1)'!#REF!","v":{"$error":"#REF!"}},"#'T2-B(PP1)'!#REF!"]
["pp1_bl4_13_3_total_out",{"$f":"'T2-B(PP1)'!#REF!","v":{"$error":"#REF!"}},"#'T2-B(PP1)'!#REF!"]
["pp1_bl4_13_3_unit",{"$f":"'T2-B(PP1)'!#REF!","v":{"$error":"#REF!"}},"#'T2-B(PP1)'!#REF!"]
["pp1_bl4_13_3_unit_in",{"$f":"'T2-B(PP1)'!#REF!","v":{"$error":"#REF!"}},"#'T2-B(PP1)'!#REF!"]
["pp1_bl4_13_3_units_out",{"$f":"'T2-B(PP1)'!#REF!","v":{"$error":"#REF!"}},"#'T2-B(PP1)'!#REF!"]
["pp1_bl4_13_4_name",{"$f":"'T2-B(PP1)'!#REF!","v":{"$error":"#REF!"}},"#'T2-B(PP1)'!#REF!"]
["pp1_bl4_13_4_rate_in",{"$f":"'T2-B(PP1)'!#REF!","v":{"$error":"#REF!"}},"#'T2-B(PP1)'!#REF!"]
["pp1_bl4_13_4_rate_out",{"$f":"'T2-B(PP1)'!#REF!","v":{"$error":"#REF!"}},"#'T2-B(PP1)'!#REF!"]
["pp1_bl4_13_4_total",{"$f":"'T2-B(PP1)'!#REF!","v":{"$error":"#REF!"}},"#'T2-B(PP1)'!#REF!"]
["pp1_bl4_13_4_total_in",{"$f":"'T2-B(PP1)'!#REF!","v":{"$error":"#REF!"}},"#'T2-B(PP1)'!#REF!"]
["pp1_bl4_13_4_total_out",{"$f":"'T2-B(PP1)'!#REF!","v":{"$error":"#REF!"}},"#'T2-B(PP1)'!#REF!"]
["pp1_bl4_13_4_unit",{"$f":"'T2-B(PP1)'!#REF!","v":{"$error":"#REF!"}},"#'T2-B(PP1)'!#REF!"]
["pp1_bl4_13_4_unit_in",{"$f":"'T2-B(PP1)'!#REF!","v":{"$error":"#REF!"}},"#'T2-B(PP1)'!#REF!"]
["pp1_bl4_13_4_units_out",{"$f":"'T2-B(PP1)'!#REF!","v":{"$error":"#REF!"}},"#'T2-B(PP1)'!#REF!"]
["pp1_bl4_13_5_name",{"$f":"'T2-B(PP1)'!#REF!","v":{"$error":"#REF!"}},"#'T2-B(PP1)'!#REF!"]
["pp1_bl4_13_5_rate_in",{"$f":"'T2-B(PP1)'!#REF!","v":{"$error":"#REF!"}},"#'T2-B(PP1)'!#REF!"]
["pp1_bl4_13_5_rate_out",{"$f":"'T2-B(PP1)'!#REF!","v":{"$error":"#REF!"}},"#'T2-B(PP1)'!#REF!"]
["pp1_bl4_13_5_total",{"$f":"'T2-B(PP1)'!#REF!","v":{"$error":"#REF!"}},"#'T2-B(PP1)'!#REF!"]
["pp1_bl4_13_5_total_in",{"$f":"'T2-B(PP1)'!#REF!","v":{"$error":"#REF!"}},"#'T2-B(PP1)'!#REF!"]
["pp1_bl4_13_5_total_out",{"$f":"'T2-B(PP1)'!#REF!","v":{"$error":"#REF!"}},"#'T2-B(PP1)'!#REF!"]
["pp1_bl4_13_5_unit",{"$f":"'T2-B(PP1)'!#REF!","v":{"$error":"#REF!"}},"#'T2-B(PP1)'!#REF!"]
["pp1_bl4_13_5_unit_in",{"$f":"'T2-B(PP1)'!#REF!","v":{"$error":"#REF!"}},"#'T2-B(PP1)'!#REF!"]
["pp1_bl4_13_5_units_out",{"$f":"'T2-B(PP1)'!#REF!","v":{"$error":"#REF!"}},"#'T2-B(PP1)'!#REF!"]
["pp1_bl4_13_6_name",{"$f":"'T2-B(PP1)'!#REF!","v":{"$error":"#REF!"}},"#'T2-B(PP1)'!#REF!"]
["pp1_bl4_13_6_rate_in",{"$f":"'T2-B(PP1)'!#REF!","v":{"$error":"#REF!"}},"#'T2-B(PP1)'!#REF!"]
["pp1_bl4_13_6_rate_out",{"$f":"'T2-B(PP1)'!#REF!","v":{"$error":"#REF!"}},"#'T2-B(PP1)'!#REF!"]
["pp1_bl4_13_6_total",{"$f":"'T2-B(PP1)'!#REF!","v":{"$error":"#REF!"}},"#'T2-B(PP1)'!#REF!"]
["pp1_bl4_13_6_total_in",{"$f":"'T2-B(PP1)'!#REF!","v":{"$error":"#REF!"}},"#'T2-B(PP1)'!#REF!"]
["pp1_bl4_13_6_total_out",{"$f":"'T2-B(PP1)'!#REF!","v":{"$error":"#REF!"}},"#'T2-B(PP1)'!#REF!"]
["pp1_bl4_13_6_unit",{"$f":"'T2-B(PP1)'!#REF!","v":{"$error":"#REF!"}},"#'T2-B(PP1)'!#REF!"]
["pp1_bl4_13_6_unit_in",{"$f":"'T2-B(PP1)'!#REF!","v":{"$error":"#REF!"}},"#'T2-B(PP1)'!#REF!"]
["pp1_bl4_13_6_units_out",{"$f":"'T2-B(PP1)'!#REF!","v":{"$error":"#REF!"}},"#'T2-B(PP1)'!#REF!"]
["pp1_bl4_13_7_name",{"$f":"'T2-B(PP1)'!#REF!","v":{"$error":"#REF!"}},"#'T2-B(PP1)'!#REF!"]
["pp1_bl4_13_7_rate_in",{"$f":"'T2-B(PP1)'!#REF!","v":{"$error":"#REF!"}},"#'T2-B(PP1)'!#REF!"]
["pp1_bl4_13_7_rate_out",{"$f":"'T2-B(PP1)'!#REF!","v":{"$error":"#REF!"}},"#'T2-B(PP1)'!#REF!"]
["pp1_bl4_13_7_total",{"$f":"'T2-B(PP1)'!#REF!","v":{"$error":"#REF!"}},"#'T2-B(PP1)'!#REF!"]
["pp1_bl4_13_7_total_in",{"$f":"'T2-B(PP1)'!#REF!","v":{"$error":"#REF!"}},"#'T2-B(PP1)'!#REF!"]
["pp1_bl4_13_7_total_out",{"$f":"'T2-B(PP1)'!#REF!","v":{"$error":"#REF!"}},"#'T2-B(PP1)'!#REF!"]
["pp1_bl4_13_7_unit",{"$f":"'T2-B(PP1)'!#REF!","v":{"$error":"#REF!"}},"#'T2-B(PP1)'!#REF!"]
["pp1_bl4_13_7_unit_in",{"$f":"'T2-B(PP1)'!#REF!","v":{"$error":"#REF!"}},"#'T2-B(PP1)'!#REF!"]
["pp1_bl4_13_7_units_out",{"$f":"'T2-B(PP1)'!#REF!","v":{"$error":"#REF!"}},"#'T2-B(PP1)'!#REF!"]
["pp1_bl4_13_8_name",{"$f":"'T2-B(PP1)'!#REF!","v":{"$error":"#REF!"}},"#'T2-B(PP1)'!#REF!"]
["pp1_bl4_13_8_rate_in",{"$f":"'T2-B(PP1)'!#REF!","v":{"$error":"#REF!"}},"#'T2-B(PP1)'!#REF!"]
["pp1_bl4_13_8_rate_out",{"$f":"'T2-B(PP1)'!#REF!","v":{"$error":"#REF!"}},"#'T2-B(PP1)'!#REF!"]
["pp1_bl4_13_8_total",{"$f":"'T2-B(PP1)'!#REF!","v":{"$error":"#REF!"}},"#'T2-B(PP1)'!#REF!"]
["pp1_bl4_13_8_total_in",{"$f":"'T2-B(PP1)'!#REF!","v":{"$error":"#REF!"}},"#'T2-B(PP1)'!#REF!"]
["pp1_bl4_13_8_total_out",{"$f":"'T2-B(PP1)'!#REF!","v":{"$error":"#REF!"}},"#'T2-B(PP1)'!#REF!"]
["pp1_bl4_13_8_unit",{"$f":"'T2-B(PP1)'!#REF!","v":{"$error":"#REF!"}},"#'T2-B(PP1)'!#REF!"]
["pp1_bl4_13_8_unit_in",{"$f":"'T2-B(PP1)'!#REF!","v":{"$error":"#REF!"}},"#'T2-B(PP1)'!#REF!"]
["pp1_bl4_13_8_units_out",{"$f":"'T2-B(PP1)'!#REF!","v":{"$error":"#REF!"}},"#'T2-B(PP1)'!#REF!"]
["pp1_bl4_13_9_name",{"$f":"'T2-B(PP1)'!#REF!","v":{"$error":"#REF!"}},"#'T2-B(PP1)'!#REF!"]
["pp1_bl4_13_9_rate_in",{"$f":"'T2-B(PP1)'!#REF!","v":{"$error":"#REF!"}},"#'T2-B(PP1)'!#REF!"]
["pp1_bl4_13_9_rate_out",{"$f":"'T2-B(PP1)'!#REF!","v":{"$error":"#REF!"}},"#'T2-B(PP1)'!#REF!"]
["pp1_bl4_13_9_total",{"$f":"'T2-B(PP1)'!#REF!","v":{"$error":"#REF!"}},"#'T2-B(PP1)'!#REF!"]
["pp1_bl4_13_9_total_in",{"$f":"'T2-B(PP1)'!#REF!","v":{"$error":"#REF!"}},"#'T2-B(PP1)'!#REF!"]
["pp1_bl4_13_9_total_out",{"$f":"'T2-B(PP1)'!#REF!","v":{"$error":"#REF!"}},"#'T2-B(PP1)'!#REF!"]
["pp1_bl4_13_9_unit",{"$f":"'T2-B(PP1)'!#REF!","v":{"$error":"#REF!"}},"#'T2-B(PP1)'!#REF!"]
["pp1_bl4_13_9_unit_in",{"$f":"'T2-B(PP1)'!#REF!","v":{"$error":"#REF!"}},"#'T2-B(PP1)'!#REF!"]
["pp1_bl4_13_9_units_out",{"$f":"'T2-B(PP1)'!#REF!","v":{"$error":"#REF!"}},"#'T2-B(PP1)'!#REF!"]
["pp1_bl4_13_total",{"$f":"'T2-B(PP1)'!#REF!","v":{"$error":"#REF!"}},"#'T2-B(PP1)'!#REF!"]
["pp1_bl4_13_total_in",{"$f":"'T2-B(PP1)'!#REF!","v":{"$error":"#REF!"}},"#'T2-B(PP1)'!#REF!"]
["pp1_bl4_13_total_out",{"$f":"'T2-B(PP1)'!#REF!","v":{"$error":"#REF!"}},"#'T2-B(PP1)'!#REF!"]
["pp1_bl4_2_1_name",{"$f":"'T2-B(PP1)'!$B$64","v":0},"#'T2-B(PP1)'!$B$64"]
["pp1_bl4_2_1_rate_in",{"$f":"'T2-B(PP1)'!$E$64","v":0},"#'T2-B(PP1)'!$E$64"]
["pp1_bl4_2_1_rate_out",{"$f":"'T2-B(PP1)'!$H$64","v":0},"#'T2-B(PP1)'!$H$64"]
["pp1_bl4_2_1_total",{"$f":"'T2-B(PP1)'!$J$64","v":0},"#'T2-B(PP1)'!$J$64"]
["pp1_bl4_2_1_total_in",{"$f":"'T2-B(PP1)'!$F$64","v":0},"#'T2-B(PP1)'!$F$64"]
["pp1_bl4_2_1_total_out",{"$f":"'T2-B(PP1)'!$I$64","v":0},"#'T2-B(PP1)'!$I$64"]
["pp1_bl4_2_1_unit",{"$f":"'T2-B(PP1)'!$C$64","v":0},"#'T2-B(PP1)'!$C$64"]
["pp1_bl4_2_1_unit_in",{"$f":"'T2-B(PP1)'!$D$64","v":0},"#'T2-B(PP1)'!$D$64"]
["pp1_bl4_2_1_units_out",{"$f":"'T2-B(PP1)'!$G$64","v":0},"#'T2-B(PP1)'!$G$64"]
["pp1_bl4_2_10_name",{"$f":"'T2-B(PP1)'!$B$73","v":0},"#'T2-B(PP1)'!$B$73"]
["pp1_bl4_2_10_rate_in",{"$f":"'T2-B(PP1)'!$E$73","v":0},"#'T2-B(PP1)'!$E$73"]
["pp1_bl4_2_10_rate_out",{"$f":"'T2-B(PP1)'!$H$73","v":0},"#'T2-B(PP1)'!$H$73"]
["pp1_bl4_2_10_total",{"$f":"'T2-B(PP1)'!$J$73","v":0},"#'T2-B(PP1)'!$J$73"]
["pp1_bl4_2_10_total_in",{"$f":"'T2-B(PP1)'!$F$73","v":0},"#'T2-B(PP1)'!$F$73"]
["pp1_bl4_2_10_total_out",{"$f":"'T2-B(PP1)'!$I$73","v":0},"#'T2-B(PP1)'!$I$73"]
["pp1_bl4_2_10_unit",{"$f":"'T2-B(PP1)'!$C$73","v":0},"#'T2-B(PP1)'!$C$73"]
["pp1_bl4_2_10_unit_in",{"$f":"'T2-B(PP1)'!$D$73","v":0},"#'T2-B(PP1)'!$D$73"]
["pp1_bl4_2_10_units_out",{"$f":"'T2-B(PP1)'!$G$73","v":0},"#'T2-B(PP1)'!$G$73"]
["pp1_bl4_2_2_name",{"$f":"'T2-B(PP1)'!$B$65","v":0},"#'T2-B(PP1)'!$B$65"]
["pp1_bl4_2_2_rate_in",{"$f":"'T2-B(PP1)'!$E$65","v":0},"#'T2-B(PP1)'!$E$65"]
["pp1_bl4_2_2_rate_out",{"$f":"'T2-B(PP1)'!$H$65","v":0},"#'T2-B(PP1)'!$H$65"]
["pp1_bl4_2_2_total",{"$f":"'T2-B(PP1)'!$J$65","v":0},"#'T2-B(PP1)'!$J$65"]
["pp1_bl4_2_2_total_in",{"$f":"'T2-B(PP1)'!$F$65","v":0},"#'T2-B(PP1)'!$F$65"]
["pp1_bl4_2_2_total_out",{"$f":"'T2-B(PP1)'!$I$65","v":0},"#'T2-B(PP1)'!$I$65"]
["pp1_bl4_2_2_unit",{"$f":"'T2-B(PP1)'!$C$65","v":0},"#'T2-B(PP1)'!$C$65"]
["pp1_bl4_2_2_unit_in",{"$f":"'T2-B(PP1)'!$D$65","v":0},"#'T2-B(PP1)'!$D$65"]
["pp1_bl4_2_2_units_out",{"$f":"'T2-B(PP1)'!$G$65","v":0},"#'T2-B(PP1)'!$G$65"]
["pp1_bl4_2_3_name",{"$f":"'T2-B(PP1)'!$B$66","v":0},"#'T2-B(PP1)'!$B$66"]
["pp1_bl4_2_3_rate_in",{"$f":"'T2-B(PP1)'!$E$66","v":0},"#'T2-B(PP1)'!$E$66"]
["pp1_bl4_2_3_rate_out",{"$f":"'T2-B(PP1)'!$H$66","v":0},"#'T2-B(PP1)'!$H$66"]
["pp1_bl4_2_3_total",{"$f":"'T2-B(PP1)'!$J$66","v":0},"#'T2-B(PP1)'!$J$66"]
["pp1_bl4_2_3_total_in",{"$f":"'T2-B(PP1)'!$F$66","v":0},"#'T2-B(PP1)'!$F$66"]
["pp1_bl4_2_3_total_out",{"$f":"'T2-B(PP1)'!$I$66","v":0},"#'T2-B(PP1)'!$I$66"]
["pp1_bl4_2_3_unit",{"$f":"'T2-B(PP1)'!$C$66","v":0},"#'T2-B(PP1)'!$C$66"]
["pp1_bl4_2_3_unit_in",{"$f":"'T2-B(PP1)'!$D$66","v":0},"#'T2-B(PP1)'!$D$66"]
["pp1_bl4_2_3_units_out",{"$f":"'T2-B(PP1)'!$G$66","v":0},"#'T2-B(PP1)'!$G$66"]
["pp1_bl4_2_4_name",{"$f":"'T2-B(PP1)'!$B$67","v":0},"#'T2-B(PP1)'!$B$67"]
["pp1_bl4_2_4_rate_in",{"$f":"'T2-B(PP1)'!$E$67","v":0},"#'T2-B(PP1)'!$E$67"]
["pp1_bl4_2_4_rate_out",{"$f":"'T2-B(PP1)'!$H$67","v":0},"#'T2-B(PP1)'!$H$67"]
["pp1_bl4_2_4_total",{"$f":"'T2-B(PP1)'!$J$67","v":0},"#'T2-B(PP1)'!$J$67"]
["pp1_bl4_2_4_total_in",{"$f":"'T2-B(PP1)'!$F$67","v":0},"#'T2-B(PP1)'!$F$67"]
["pp1_bl4_2_4_total_out",{"$f":"'T2-B(PP1)'!$I$67","v":0},"#'T2-B(PP1)'!$I$67"]
["pp1_bl4_2_4_unit",{"$f":"'T2-B(PP1)'!$C$67","v":0},"#'T2-B(PP1)'!$C$67"]
["pp1_bl4_2_4_unit_in",{"$f":"'T2-B(PP1)'!$D$67","v":0},"#'T2-B(PP1)'!$D$67"]
["pp1_bl4_2_4_units_out",{"$f":"'T2-B(PP1)'!$G$67","v":0},"#'T2-B(PP1)'!$G$67"]
["pp1_bl4_2_5_name",{"$f":"'T2-B(PP1)'!$B$68","v":0},"#'T2-B(PP1)'!$B$68"]
["pp1_bl4_2_5_rate_in",{"$f":"'T2-B(PP1)'!$E$68","v":0},"#'T2-B(PP1)'!$E$68"]
["pp1_bl4_2_5_rate_out",{"$f":"'T2-B(PP1)'!$H$68","v":0},"#'T2-B(PP1)'!$H$68"]
["pp1_bl4_2_5_total",{"$f":"'T2-B(PP1)'!$J$68","v":0},"#'T2-B(PP1)'!$J$68"]
["pp1_bl4_2_5_total_in",{"$f":"'T2-B(PP1)'!$F$68","v":0},"#'T2-B(PP1)'!$F$68"]
["pp1_bl4_2_5_total_out",{"$f":"'T2-B(PP1)'!$I$68","v":0},"#'T2-B(PP1)'!$I$68"]
["pp1_bl4_2_5_unit",{"$f":"'T2-B(PP1)'!$C$68","v":0},"#'T2-B(PP1)'!$C$68"]
["pp1_bl4_2_5_unit_in",{"$f":"'T2-B(PP1)'!$D$68","v":0},"#'T2-B(PP1)'!$D$68"]
["pp1_bl4_2_5_units_out",{"$f":"'T2-B(PP1)'!$G$68","v":0},"#'T2-B(PP1)'!$G$68"]
["pp1_bl4_2_6_name",{"$f":"'T2-B(PP1)'!$B$69","v":0},"#'T2-B(PP1)'!$B$69"]
["pp1_bl4_2_6_rate_in",{"$f":"'T2-B(PP1)'!$E$69","v":0},"#'T2-B(PP1)'!$E$69"]
["pp1_bl4_2_6_rate_out",{"$f":"'T2-B(PP1)'!$H$69","v":0},"#'T2-B(PP1)'!$H$69"]
["pp1_bl4_2_6_total",{"$f":"'T2-B(PP1)'!$J$69","v":0},"#'T2-B(PP1)'!$J$69"]
["pp1_bl4_2_6_total_in",{"$f":"'T2-B(PP1)'!$F$69","v":0},"#'T2-B(PP1)'!$F$69"]
["pp1_bl4_2_6_total_out",{"$f":"'T2-B(PP1)'!$I$69","v":0},"#'T2-B(PP1)'!$I$69"]
["pp1_bl4_2_6_unit",{"$f":"'T2-B(PP1)'!$C$69","v":0},"#'T2-B(PP1)'!$C$69"]
["pp1_bl4_2_6_unit_in",{"$f":"'T2-B(PP1)'!$D$69","v":0},"#'T2-B(PP1)'!$D$69"]
["pp1_bl4_2_6_units_out",{"$f":"'T2-B(PP1)'!$G$69","v":0},"#'T2-B(PP1)'!$G$69"]
["pp1_bl4_2_7_name",{"$f":"'T2-B(PP1)'!$B$70","v":0},"#'T2-B(PP1)'!$B$70"]
["pp1_bl4_2_7_rate_in",{"$f":"'T2-B(PP1)'!$E$70","v":0},"#'T2-B(PP1)'!$E$70"]
["pp1_bl4_2_7_rate_out",{"$f":"'T2-B(PP1)'!$H$70","v":0},"#'T2-B(PP1)'!$H$70"]
["pp1_bl4_2_7_total",{"$f":"'T2-B(PP1)'!$J$70","v":0},"#'T2-B(PP1)'!$J$70"]
["pp1_bl4_2_7_total_in",{"$f":"'T2-B(PP1)'!$F$70","v":0},"#'T2-B(PP1)'!$F$70"]
["pp1_bl4_2_7_total_out",{"$f":"'T2-B(PP1)'!$I$70","v":0},"#'T2-B(PP1)'!$I$70"]
["pp1_bl4_2_7_unit",{"$f":"'T2-B(PP1)'!$C$70","v":0},"#'T2-B(PP1)'!$C$70"]
["pp1_bl4_2_7_unit_in",{"$f":"'T2-B(PP1)'!$D$70","v":0},"#'T2-B(PP1)'!$D$70"]
["pp1_bl4_2_7_units_out",{"$f":"'T2-B(PP1)'!$G$70","v":0},"#'T2-B(PP1)'!$G$70"]
["pp1_bl4_2_8_name",{"$f":"'T2-B(PP1)'!$B$71","v":0},"#'T2-B(PP1)'!$B$71"]
["pp1_bl4_2_8_rate_in",{"$f":"'T2-B(PP1)'!$E$71","v":0},"#'T2-B(PP1)'!$E$71"]
["pp1_bl4_2_8_rate_out",{"$f":"'T2-B(PP1)'!$H$71","v":0},"#'T2-B(PP1)'!$H$71"]
["pp1_bl4_2_8_total",{"$f":"'T2-B(PP1)'!$J$71","v":0},"#'T2-B(PP1)'!$J$71"]
["pp1_bl4_2_8_total_in",{"$f":"'T2-B(PP1)'!$F$71","v":0},"#'T2-B(PP1)'!$F$71"]
["pp1_bl4_2_8_total_out",{"$f":"'T2-B(PP1)'!$I$71","v":0},"#'T2-B(PP1)'!$I$71"]
["pp1_bl4_2_8_unit",{"$f":"'T2-B(PP1)'!$C$71","v":0},"#'T2-B(PP1)'!$C$71"]
["pp1_bl4_2_8_unit_in",{"$f":"'T2-B(PP1)'!$D$71","v":0},"#'T2-B(PP1)'!$D$71"]
["pp1_bl4_2_8_units_out",{"$f":"'T2-B(PP1)'!$G$71","v":0},"#'T2-B(PP1)'!$G$71"]
["pp1_bl4_2_9_name",{"$f":"'T2-B(PP1)'!$B$72","v":0},"#'T2-B(PP1)'!$B$72"]
["pp1_bl4_2_9_rate_in",{"$f":"'T2-B(PP1)'!$E$72","v":0},"#'T2-B(PP1)'!$E$72"]
["pp1_bl4_2_9_rate_out",{"$f":"'T2-B(PP1)'!$H$72","v":0},"#'T2-B(PP1)'!$H$72"]
["pp1_bl4_2_9_total",{"$f":"'T2-B(PP1)'!$J$72","v":0},"#'T2-B(PP1)'!$J$72"]
["pp1_bl4_2_9_total_in",{"$f":"'T2-B(PP1)'!$F$72","v":0},"#'T2-B(PP1)'!$F$72"]
["pp1_bl4_2_9_total_out",{"$f":"'T2-B(PP1)'!$I$72","v":0},"#'T2-B(PP1)'!$I$72"]
["pp1_bl4_2_9_unit",{"$f":"'T2-B(PP1)'!$C$72","v":0},"#'T2-B(PP1)'!$C$72"]
["pp1_bl4_2_9_unit_in",{"$f":"'T2-B(PP1)'!$D$72","v":0},"#'T2-B(PP1)'!$D$72"]
["pp1_bl4_2_9_units_out",{"$f":"'T2-B(PP1)'!$G$72","v":0},"#'T2-B(PP1)'!$G$72"]
["pp1_bl4_2_total",{"$f":"'T2-B(PP1)'!$J$63","v":0},"#'T2-B(PP1)'!$J$63"]
["pp1_bl4_2_total_in",{"$f":"'T2-B(PP1)'!$F$63","v":0},"#'T2-B(PP1)'!$F$63"]
["pp1_bl4_2_total_out",{"$f":"'T2-B(PP1)'!$I$63","v":0},"#'T2-B(PP1)'!$I$63"]
["pp1_bl4_3_1_name",{"$f":"'T2-B(PP1)'!$B$75","v":0},"#'T2-B(PP1)'!$B$75"]
["pp1_bl4_3_1_rate_in",{"$f":"'T2-B(PP1)'!$E$75","v":0},"#'T2-B(PP1)'!$E$75"]
["pp1_bl4_3_1_rate_out",{"$f":"'T2-B(PP1)'!$H$75","v":0},"#'T2-B(PP1)'!$H$75"]
["pp1_bl4_3_1_total",{"$f":"'T2-B(PP1)'!$J$75","v":0},"#'T2-B(PP1)'!$J$75"]
["pp1_bl4_3_1_total_in",{"$f":"'T2-B(PP1)'!$F$75","v":0},"#'T2-B(PP1)'!$F$75"]
["pp1_bl4_3_1_total_out",{"$f":"'T2-B(PP1)'!$I$75","v":0},"#'T2-B(PP1)'!$I$75"]
["pp1_bl4_3_1_unit",{"$f":"'T2-B(PP1)'!$C$75","v":0},"#'T2-B(PP1)'!$C$75"]
["pp1_bl4_3_1_unit_in",{"$f":"'T2-B(PP1)'!$D$75","v":0},"#'T2-B(PP1)'!$D$75"]
["pp1_bl4_3_1_units_out",{"$f":"'T2-B(PP1)'!$G$75","v":0},"#'T2-B(PP1)'!$G$75"]
["pp1_bl4_3_10_name",{"$f":"'T2-B(PP1)'!$B$84","v":0},"#'T2-B(PP1)'!$B$84"]
["pp1_bl4_3_10_rate_in",{"$f":"'T2-B(PP1)'!$E$84","v":0},"#'T2-B(PP1)'!$E$84"]
["pp1_bl4_3_10_rate_out",{"$f":"'T2-B(PP1)'!$H$84","v":0},"#'T2-B(PP1)'!$H$84"]
["pp1_bl4_3_10_total",{"$f":"'T2-B(PP1)'!$J$84","v":0},"#'T2-B(PP1)'!$J$84"]
["pp1_bl4_3_10_total_in",{"$f":"'T2-B(PP1)'!$F$84","v":0},"#'T2-B(PP1)'!$F$84"]
["pp1_bl4_3_10_total_out",{"$f":"'T2-B(PP1)'!$I$84","v":0},"#'T2-B(PP1)'!$I$84"]
["pp1_bl4_3_10_unit",{"$f":"'T2-B(PP1)'!$C$84","v":0},"#'T2-B(PP1)'!$C$84"]
["pp1_bl4_3_10_unit_in",{"$f":"'T2-B(PP1)'!$D$84","v":0},"#'T2-B(PP1)'!$D$84"]
["pp1_bl4_3_10_units_out",{"$f":"'T2-B(PP1)'!$G$84","v":0},"#'T2-B(PP1)'!$G$84"]
["pp1_bl4_3_2_name",{"$f":"'T2-B(PP1)'!$B$76","v":0},"#'T2-B(PP1)'!$B$76"]
["pp1_bl4_3_2_rate_in",{"$f":"'T2-B(PP1)'!$E$76","v":0},"#'T2-B(PP1)'!$E$76"]
["pp1_bl4_3_2_rate_out",{"$f":"'T2-B(PP1)'!$H$76","v":0},"#'T2-B(PP1)'!$H$76"]
["pp1_bl4_3_2_total",{"$f":"'T2-B(PP1)'!$J$76","v":0},"#'T2-B(PP1)'!$J$76"]
["pp1_bl4_3_2_total_in",{"$f":"'T2-B(PP1)'!$F$76","v":0},"#'T2-B(PP1)'!$F$76"]
["pp1_bl4_3_2_total_out",{"$f":"'T2-B(PP1)'!$I$76","v":0},"#'T2-B(PP1)'!$I$76"]
["pp1_bl4_3_2_unit",{"$f":"'T2-B(PP1)'!$C$76","v":0},"#'T2-B(PP1)'!$C$76"]
["pp1_bl4_3_2_unit_in",{"$f":"'T2-B(PP1)'!$D$76","v":0},"#'T2-B(PP1)'!$D$76"]
["pp1_bl4_3_2_units_out",{"$f":"'T2-B(PP1)'!$G$76","v":0},"#'T2-B(PP1)'!$G$76"]
["pp1_bl4_3_3_name",{"$f":"'T2-B(PP1)'!$B$77","v":0},"#'T2-B(PP1)'!$B$77"]
["pp1_bl4_3_3_rate_in",{"$f":"'T2-B(PP1)'!$E$77","v":0},"#'T2-B(PP1)'!$E$77"]
["pp1_bl4_3_3_rate_out",{"$f":"'T2-B(PP1)'!$H$77","v":0},"#'T2-B(PP1)'!$H$77"]
["pp1_bl4_3_3_total",{"$f":"'T2-B(PP1)'!$J$77","v":0},"#'T2-B(PP1)'!$J$77"]
["pp1_bl4_3_3_total_in",{"$f":"'T2-B(PP1)'!$F$77","v":0},"#'T2-B(PP1)'!$F$77"]
["pp1_bl4_3_3_total_out",{"$f":"'T2-B(PP1)'!$I$77","v":0},"#'T2-B(PP1)'!$I$77"]
["pp1_bl4_3_3_unit",{"$f":"'T2-B(PP1)'!$C$77","v":0},"#'T2-B(PP1)'!$C$77"]
["pp1_bl4_3_3_unit_in",{"$f":"'T2-B(PP1)'!$D$77","v":0},"#'T2-B(PP1)'!$D$77"]
["pp1_bl4_3_3_units_out",{"$f":"'T2-B(PP1)'!$G$77","v":0},"#'T2-B(PP1)'!$G$77"]
["pp1_bl4_3_4_name",{"$f":"'T2-B(PP1)'!$B$78","v":0},"#'T2-B(PP1)'!$B$78"]
["pp1_bl4_3_4_rate_in",{"$f":"'T2-B(PP1)'!$E$78","v":0},"#'T2-B(PP1)'!$E$78"]
["pp1_bl4_3_4_rate_out",{"$f":"'T2-B(PP1)'!$H$78","v":0},"#'T2-B(PP1)'!$H$78"]
["pp1_bl4_3_4_total",{"$f":"'T2-B(PP1)'!$J$78","v":0},"#'T2-B(PP1)'!$J$78"]
["pp1_bl4_3_4_total_in",{"$f":"'T2-B(PP1)'!$F$78","v":0},"#'T2-B(PP1)'!$F$78"]
["pp1_bl4_3_4_total_out",{"$f":"'T2-B(PP1)'!$I$78","v":0},"#'T2-B(PP1)'!$I$78"]
["pp1_bl4_3_4_unit",{"$f":"'T2-B(PP1)'!$C$78","v":0},"#'T2-B(PP1)'!$C$78"]
["pp1_bl4_3_4_unit_in",{"$f":"'T2-B(PP1)'!$D$78","v":0},"#'T2-B(PP1)'!$D$78"]
["pp1_bl4_3_4_units_out",{"$f":"'T2-B(PP1)'!$G$78","v":0},"#'T2-B(PP1)'!$G$78"]
["pp1_bl4_3_5_name",{"$f":"'T2-B(PP1)'!$B$79","v":0},"#'T2-B(PP1)'!$B$79"]
["pp1_bl4_3_5_rate_in",{"$f":"'T2-B(PP1)'!$E$79","v":0},"#'T2-B(PP1)'!$E$79"]
["pp1_bl4_3_5_rate_out",{"$f":"'T2-B(PP1)'!$H$79","v":0},"#'T2-B(PP1)'!$H$79"]
["pp1_bl4_3_5_total",{"$f":"'T2-B(PP1)'!$J$79","v":0},"#'T2-B(PP1)'!$J$79"]
["pp1_bl4_3_5_total_in",{"$f":"'T2-B(PP1)'!$F$79","v":0},"#'T2-B(PP1)'!$F$79"]
["pp1_bl4_3_5_total_out",{"$f":"'T2-B(PP1)'!$I$79","v":0},"#'T2-B(PP1)'!$I$79"]
["pp1_bl4_3_5_unit",{"$f":"'T2-B(PP1)'!$C$79","v":0},"#'T2-B(PP1)'!$C$79"]
["pp1_bl4_3_5_unit_in",{"$f":"'T2-B(PP1)'!$D$79","v":0},"#'T2-B(PP1)'!$D$79"]
["pp1_bl4_3_5_units_out",{"$f":"'T2-B(PP1)'!$G$79","v":0},"#'T2-B(PP1)'!$G$79"]
["pp1_bl4_3_6_name",{"$f":"'T2-B(PP1)'!$B$80","v":0},"#'T2-B(PP1)'!$B$80"]
["pp1_bl4_3_6_rate_in",{"$f":"'T2-B(PP1)'!$E$80","v":0},"#'T2-B(PP1)'!$E$80"]
["pp1_bl4_3_6_rate_out",{"$f":"'T2-B(PP1)'!$H$80","v":0},"#'T2-B(PP1)'!$H$80"]
["pp1_bl4_3_6_total",{"$f":"'T2-B(PP1)'!$J$80","v":0},"#'T2-B(PP1)'!$J$80"]
["pp1_bl4_3_6_total_in",{"$f":"'T2-B(PP1)'!$F$80","v":0},"#'T2-B(PP1)'!$F$80"]
["pp1_bl4_3_6_total_out",{"$f":"'T2-B(PP1)'!$I$80","v":0},"#'T2-B(PP1)'!$I$80"]
["pp1_bl4_3_6_unit",{"$f":"'T2-B(PP1)'!$C$80","v":0},"#'T2-B(PP1)'!$C$80"]
["pp1_bl4_3_6_unit_in",{"$f":"'T2-B(PP1)'!$D$80","v":0},"#'T2-B(PP1)'!$D$80"]
["pp1_bl4_3_6_units_out",{"$f":"'T2-B(PP1)'!$G$80","v":0},"#'T2-B(PP1)'!$G$80"]
["pp1_bl4_3_7_name",{"$f":"'T2-B(PP1)'!$B$81","v":0},"#'T2-B(PP1)'!$B$81"]
["pp1_bl4_3_7_rate_in",{"$f":"'T2-B(PP1)'!$E$81","v":0},"#'T2-B(PP1)'!$E$81"]
["pp1_bl4_3_7_rate_out",{"$f":"'T2-B(PP1)'!$H$81","v":0},"#'T2-B(PP1)'!$H$81"]
["pp1_bl4_3_7_total",{"$f":"'T2-B(PP1)'!$J$81","v":0},"#'T2-B(PP1)'!$J$81"]
["pp1_bl4_3_7_total_in",{"$f":"'T2-B(PP1)'!$F$81","v":0},"#'T2-B(PP1)'!$F$81"]
["pp1_bl4_3_7_total_out",{"$f":"'T2-B(PP1)'!$I$81","v":0},"#'T2-B(PP1)'!$I$81"]
["pp1_bl4_3_7_unit",{"$f":"'T2-B(PP1)'!$C$81","v":0},"#'T2-B(PP1)'!$C$81"]
["pp1_bl4_3_7_unit_in",{"$f":"'T2-B(PP1)'!$D$81","v":0},"#'T2-B(PP1)'!$D$81"]
["pp1_bl4_3_7_units_out",{"$f":"'T2-B(PP1)'!$G$81","v":0},"#'T2-B(PP1)'!$G$81"]
["pp1_bl4_3_8_name",{"$f":"'T2-B(PP1)'!$B$82","v":0},"#'T2-B(PP1)'!$B$82"]
["pp1_bl4_3_8_rate_in",{"$f":"'T2-B(PP1)'!$E$82","v":0},"#'T2-B(PP1)'!$E$82"]
["pp1_bl4_3_8_rate_out",{"$f":"'T2-B(PP1)'!$H$82","v":0},"#'T2-B(PP1)'!$H$82"]
["pp1_bl4_3_8_total",{"$f":"'T2-B(PP1)'!$J$82","v":0},"#'T2-B(PP1)'!$J$82"]
["pp1_bl4_3_8_total_in",{"$f":"'T2-B(PP1)'!$F$82","v":0},"#'T2-B(PP1)'!$F$82"]
["pp1_bl4_3_8_total_out",{"$f":"'T2-B(PP1)'!$I$82","v":0},"#'T2-B(PP1)'!$I$82"]
["pp1_bl4_3_8_unit",{"$f":"'T2-B(PP1)'!$C$82","v":0},"#'T2-B(PP1)'!$C$82"]
["pp1_bl4_3_8_unit_in",{"$f":"'T2-B(PP1)'!$D$82","v":0},"#'T2-B(PP1)'!$D$82"]
["pp1_bl4_3_8_units_out",{"$f":"'T2-B(PP1)'!$G$82","v":0},"#'T2-B(PP1)'!$G$82"]
["pp1_bl4_3_9_name",{"$f":"'T2-B(PP1)'!$B$83","v":0},"#'T2-B(PP1)'!$B$83"]
["pp1_bl4_3_9_rate_in",{"$f":"'T2-B(PP1)'!$E$83","v":0},"#'T2-B(PP1)'!$E$83"]
["pp1_bl4_3_9_rate_out",{"$f":"'T2-B(PP1)'!$H$83","v":0},"#'T2-B(PP1)'!$H$83"]
["pp1_bl4_3_9_total",{"$f":"'T2-B(PP1)'!$J$83","v":0},"#'T2-B(PP1)'!$J$83"]
["pp1_bl4_3_9_total_in",{"$f":"'T2-B(PP1)'!$F$83","v":0},"#'T2-B(PP1)'!$F$83"]
["pp1_bl4_3_9_total_out",{"$f":"'T2-B(PP1)'!$I$83","v":0},"#'T2-B(PP1)'!$I$83"]
["pp1_bl4_3_9_unit",{"$f":"'T2-B(PP1)'!$C$83","v":0},"#'T2-B(PP1)'!$C$83"]
["pp1_bl4_3_9_unit_in",{"$f":"'T2-B(PP1)'!$D$83","v":0},"#'T2-B(PP1)'!$D$83"]
["pp1_bl4_3_9_units_out",{"$f":"'T2-B(PP1)'!$G$83","v":0},"#'T2-B(PP1)'!$G$83"]
["pp1_bl4_3_total",{"$f":"'T2-B(PP1)'!$J$74","v":0},"#'T2-B(PP1)'!$J$74"]
["pp1_bl4_3_total_in",{"$f":"'T2-B(PP1)'!$F$74","v":0},"#'T2-B(PP1)'!$F$74"]
["pp1_bl4_3_total_out",{"$f":"'T2-B(PP1)'!$I$74","v":0},"#'T2-B(PP1)'!$I$74"]
["pp1_bl4_4_1_name",{"$f":"'T2-B(PP1)'!$B$86","v":0},"#'T2-B(PP1)'!$B$86"]
["pp1_bl4_4_1_rate_in",{"$f":"'T2-B(PP1)'!$E$86","v":0},"#'T2-B(PP1)'!$E$86"]
["pp1_bl4_4_1_rate_out",{"$f":"'T2-B(PP1)'!$H$86","v":0},"#'T2-B(PP1)'!$H$86"]
["pp1_bl4_4_1_total",{"$f":"'T2-B(PP1)'!$J$86","v":0},"#'T2-B(PP1)'!$J$86"]
["pp1_bl4_4_1_total_in",{"$f":"'T2-B(PP1)'!$F$86","v":0},"#'T2-B(PP1)'!$F$86"]
["pp1_bl4_4_1_total_out",{"$f":"'T2-B(PP1)'!$I$86","v":0},"#'T2-B(PP1)'!$I$86"]
["pp1_bl4_4_1_unit",{"$f":"'T2-B(PP1)'!$C$86","v":0},"#'T2-B(PP1)'!$C$86"]
["pp1_bl4_4_1_unit_in",{"$f":"'T2-B(PP1)'!$D$86","v":0},"#'T2-B(PP1)'!$D$86"]
["pp1_bl4_4_1_units_out",{"$f":"'T2-B(PP1)'!$G$86","v":0},"#'T2-B(PP1)'!$G$86"]
["pp1_bl4_4_10_name",{"$f":"'T2-B(PP1)'!$B$95","v":0},"#'T2-B(PP1)'!$B$95"]
["pp1_bl4_4_10_rate_in",{"$f":"'T2-B(PP1)'!$E$95","v":0},"#'T2-B(PP1)'!$E$95"]
["pp1_bl4_4_10_rate_out",{"$f":"'T2-B(PP1)'!$H$95","v":0},"#'T2-B(PP1)'!$H$95"]
["pp1_bl4_4_10_total",{"$f":"'T2-B(PP1)'!$J$95","v":0},"#'T2-B(PP1)'!$J$95"]
["pp1_bl4_4_10_total_in",{"$f":"'T2-B(PP1)'!$F$95","v":0},"#'T2-B(PP1)'!$F$95"]
["pp1_bl4_4_10_total_out",{"$f":"'T2-B(PP1)'!$I$95","v":0},"#'T2-B(PP1)'!$I$95"]
["pp1_bl4_4_10_unit",{"$f":"'T2-B(PP1)'!$C$95","v":0},"#'T2-B(PP1)'!$C$95"]
["pp1_bl4_4_10_unit_in",{"$f":"'T2-B(PP1)'!$D$95","v":0},"#'T2-B(PP1)'!$D$95"]
["pp1_bl4_4_10_units_out",{"$f":"'T2-B(PP1)'!$G$95","v":0},"#'T2-B(PP1)'!$G$95"]
["pp1_bl4_4_2_name",{"$f":"'T2-B(PP1)'!$B$87","v":0},"#'T2-B(PP1)'!$B$87"]
["pp1_bl4_4_2_rate_in",{"$f":"'T2-B(PP1)'!$E$87","v":0},"#'T2-B(PP1)'!$E$87"]
["pp1_bl4_4_2_rate_out",{"$f":"'T2-B(PP1)'!$H$87","v":0},"#'T2-B(PP1)'!$H$87"]
["pp1_bl4_4_2_total",{"$f":"'T2-B(PP1)'!$J$87","v":0},"#'T2-B(PP1)'!$J$87"]
["pp1_bl4_4_2_total_in",{"$f":"'T2-B(PP1)'!$F$87","v":0},"#'T2-B(PP1)'!$F$87"]
["pp1_bl4_4_2_total_out",{"$f":"'T2-B(PP1)'!$I$87","v":0},"#'T2-B(PP1)'!$I$87"]
["pp1_bl4_4_2_unit",{"$f":"'T2-B(PP1)'!$C$87","v":0},"#'T2-B(PP1)'!$C$87"]
["pp1_bl4_4_2_unit_in",{"$f":"'T2-B(PP1)'!$D$87","v":0},"#'T2-B(PP1)'!$D$87"]
["pp1_bl4_4_2_units_out",{"$f":"'T2-B(PP1)'!$G$87","v":0},"#'T2-B(PP1)'!$G$87"]
["pp1_bl4_4_3_name",{"$f":"'T2-B(PP1)'!$B$88","v":0},"#'T2-B(PP1)'!$B$88"]
["pp1_bl4_4_3_rate_in",{"$f":"'T2-B(PP1)'!$E$88","v":0},"#'T2-B(PP1)'!$E$88"]
["pp1_bl4_4_3_rate_out",{"$f":"'T2-B(PP1)'!$H$88","v":0},"#'T2-B(PP1)'!$H$88"]
["pp1_bl4_4_3_total",{"$f":"'T2-B(PP1)'!$J$88","v":0},"#'T2-B(PP1)'!$J$88"]
["pp1_bl4_4_3_total_in",{"$f":"'T2-B(PP1)'!$F$88","v":0},"#'T2-B(PP1)'!$F$88"]
["pp1_bl4_4_3_total_out",{"$f":"'T2-B(PP1)'!$I$88","v":0},"#'T2-B(PP1)'!$I$88"]
["pp1_bl4_4_3_unit",{"$f":"'T2-B(PP1)'!$C$88","v":0},"#'T2-B(PP1)'!$C$88"]
["pp1_bl4_4_3_unit_in",{"$f":"'T2-B(PP1)'!$D$88","v":0},"#'T2-B(PP1)'!$D$88"]
["pp1_bl4_4_3_units_out",{"$f":"'T2-B(PP1)'!$G$88","v":0},"#'T2-B(PP1)'!$G$88"]
["pp1_bl4_4_4_name",{"$f":"'T2-B(PP1)'!$B$89","v":0},"#'T2-B(PP1)'!$B$89"]
["pp1_bl4_4_4_rate_in",{"$f":"'T2-B(PP1)'!$E$89","v":0},"#'T2-B(PP1)'!$E$89"]
["pp1_bl4_4_4_rate_out",{"$f":"'T2-B(PP1)'!$H$89","v":0},"#'T2-B(PP1)'!$H$89"]
["pp1_bl4_4_4_total",{"$f":"'T2-B(PP1)'!$J$89","v":0},"#'T2-B(PP1)'!$J$89"]
["pp1_bl4_4_4_total_in",{"$f":"'T2-B(PP1)'!$F$89","v":0},"#'T2-B(PP1)'!$F$89"]
["pp1_bl4_4_4_total_out",{"$f":"'T2-B(PP1)'!$I$89","v":0},"#'T2-B(PP1)'!$I$89"]
["pp1_bl4_4_4_unit",{"$f":"'T2-B(PP1)'!$C$89","v":0},"#'T2-B(PP1)'!$C$89"]
["pp1_bl4_4_4_unit_in",{"$f":"'T2-B(PP1)'!$D$89","v":0},"#'T2-B(PP1)'!$D$89"]
["pp1_bl4_4_4_units_out",{"$f":"'T2-B(PP1)'!$G$89","v":0},"#'T2-B(PP1)'!$G$89"]
["pp1_bl4_4_5_name",{"$f":"'T2-B(PP1)'!$B$90","v":0},"#'T2-B(PP1)'!$B$90"]
["pp1_bl4_4_5_rate_in",{"$f":"'T2-B(PP1)'!$E$90","v":0},"#'T2-B(PP1)'!$E$90"]
["pp1_bl4_4_5_rate_out",{"$f":"'T2-B(PP1)'!$H$90","v":0},"#'T2-B(PP1)'!$H$90"]
["pp1_bl4_4_5_total",{"$f":"'T2-B(PP1)'!$J$90","v":0},"#'T2-B(PP1)'!$J$90"]
["pp1_bl4_4_5_total_in",{"$f":"'T2-B(PP1)'!$F$90","v":0},"#'T2-B(PP1)'!$F$90"]
["pp1_bl4_4_5_total_out",{"$f":"'T2-B(PP1)'!$I$90","v":0},"#'T2-B(PP1)'!$I$90"]
["pp1_bl4_4_5_unit",{"$f":"'T2-B(PP1)'!$C$90","v":0},"#'T2-B(PP1)'!$C$90"]
["pp1_bl4_4_5_unit_in",{"$f":"'T2-B(PP1)'!$D$90","v":0},"#'T2-B(PP1)'!$D$90"]
["pp1_bl4_4_5_units_out",{"$f":"'T2-B(PP1)'!$G$90","v":0},"#'T2-B(PP1)'!$G$90"]
["pp1_bl4_4_6_name",{"$f":"'T2-B(PP1)'!$B$91","v":0},"#'T2-B(PP1)'!$B$91"]
["pp1_bl4_4_6_rate_in",{"$f":"'T2-B(PP1)'!$E$91","v":0},"#'T2-B(PP1)'!$E$91"]
["pp1_bl4_4_6_rate_out",{"$f":"'T2-B(PP1)'!$H$91","v":0},"#'T2-B(PP1)'!$H$91"]
["pp1_bl4_4_6_total",{"$f":"'T2-B(PP1)'!$J$91","v":0},"#'T2-B(PP1)'!$J$91"]
["pp1_bl4_4_6_total_in",{"$f":"'T2-B(PP1)'!$F$91","v":0},"#'T2-B(PP1)'!$F$91"]
["pp1_bl4_4_6_total_out",{"$f":"'T2-B(PP1)'!$I$91","v":0},"#'T2-B(PP1)'!$I$91"]
["pp1_bl4_4_6_unit",{"$f":"'T2-B(PP1)'!$C$91","v":0},"#'T2-B(PP1)'!$C$91"]
["pp1_bl4_4_6_unit_in",{"$f":"'T2-B(PP1)'!$D$91","v":0},"#'T2-B(PP1)'!$D$91"]
["pp1_bl4_4_6_units_out",{"$f":"'T2-B(PP1)'!$G$91","v":0},"#'T2-B(PP1)'!$G$91"]
["pp1_bl4_4_7_name",{"$f":"'T2-B(PP1)'!$B$92","v":0},"#'T2-B(PP1)'!$B$92"]
["pp1_bl4_4_7_rate_in",{"$f":"'T2-B(PP1)'!$E$92","v":0},"#'T2-B(PP1)'!$E$92"]
["pp1_bl4_4_7_rate_out",{"$f":"'T2-B(PP1)'!$H$92","v":0},"#'T2-B(PP1)'!$H$92"]
["pp1_bl4_4_7_total",{"$f":"'T2-B(PP1)'!$J$92","v":0},"#'T2-B(PP1)'!$J$92"]
["pp1_bl4_4_7_total_in",{"$f":"'T2-B(PP1)'!$F$92","v":0},"#'T2-B(PP1)'!$F$92"]
["pp1_bl4_4_7_total_out",{"$f":"'T2-B(PP1)'!$I$92","v":0},"#'T2-B(PP1)'!$I$92"]
["pp1_bl4_4_7_unit",{"$f":"'T2-B(PP1)'!$C$92","v":0},"#'T2-B(PP1)'!$C$92"]
["pp1_bl4_4_7_unit_in",{"$f":"'T2-B(PP1)'!$D$92","v":0},"#'T2-B(PP1)'!$D$92"]
["pp1_bl4_4_7_units_out",{"$f":"'T2-B(PP1)'!$G$92","v":0},"#'T2-B(PP1)'!$G$92"]
["pp1_bl4_4_8_name",{"$f":"'T2-B(PP1)'!$B$93","v":0},"#'T2-B(PP1)'!$B$93"]
["pp1_bl4_4_8_rate_in",{"$f":"'T2-B(PP1)'!$E$93","v":0},"#'T2-B(PP1)'!$E$93"]
["pp1_bl4_4_8_rate_out",{"$f":"'T2-B(PP1)'!$H$93","v":0},"#'T2-B(PP1)'!$H$93"]
["pp1_bl4_4_8_total",{"$f":"'T2-B(PP1)'!$J$93","v":0},"#'T2-B(PP1)'!$J$93"]
["pp1_bl4_4_8_total_in",{"$f":"'T2-B(PP1)'!$F$93","v":0},"#'T2-B(PP1)'!$F$93"]
["pp1_bl4_4_8_total_out",{"$f":"'T2-B(PP1)'!$I$93","v":0},"#'T2-B(PP1)'!$I$93"]
["pp1_bl4_4_8_unit",{"$f":"'T2-B(PP1)'!$C$93","v":0},"#'T2-B(PP1)'!$C$93"]
["pp1_bl4_4_8_unit_in",{"$f":"'T2-B(PP1)'!$D$93","v":0},"#'T2-B(PP1)'!$D$93"]
["pp1_bl4_4_8_units_out",{"$f":"'T2-B(PP1)'!$G$93","v":0},"#'T2-B(PP1)'!$G$93"]
["pp1_bl4_4_9_name",{"$f":"'T2-B(PP1)'!$B$94","v":0},"#'T2-B(PP1)'!$B$94"]
["pp1_bl4_4_9_rate_in",{"$f":"'T2-B(PP1)'!$E$94","v":0},"#'T2-B(PP1)'!$E$94"]
["pp1_bl4_4_9_rate_out",{"$f":"'T2-B(PP1)'!$H$94","v":0},"#'T2-B(PP1)'!$H$94"]
["pp1_bl4_4_9_total",{"$f":"'T2-B(PP1)'!$J$94","v":0},"#'T2-B(PP1)'!$J$94"]
["pp1_bl4_4_9_total_in",{"$f":"'T2-B(PP1)'!$F$94","v":0},"#'T2-B(PP1)'!$F$94"]
["pp1_bl4_4_9_total_out",{"$f":"'T2-B(PP1)'!$I$94","v":0},"#'T2-B(PP1)'!$I$94"]
["pp1_bl4_4_9_unit",{"$f":"'T2-B(PP1)'!$C$94","v":0},"#'T2-B(PP1)'!$C$94"]
["pp1_bl4_4_9_unit_in",{"$f":"'T2-B(PP1)'!$D$94","v":0},"#'T2-B(PP1)'!$D$94"]
["pp1_bl4_4_9_units_out",{"$f":"'T2-B(PP1)'!$G$94","v":0},"#'T2-B(PP1)'!$G$94"]
["pp1_bl4_4_total",{"$f":"'T2-B(PP1)'!$J$85","v":0},"#'T2-B(PP1)'!$J$85"]
["pp1_bl4_4_total_in",{"$f":"'T2-B(PP1)'!$F$85","v":0},"#'T2-B(PP1)'!$F$85"]
["pp1_bl4_4_total_out",{"$f":"'T2-B(PP1)'!$I$85","v":0},"#'T2-B(PP1)'!$I$85"]
["pp1_bl4_5_1_name",{"$f":"'T2-B(PP1)'!$B$97","v":0},"#'T2-B(PP1)'!$B$97"]
["pp1_bl4_5_1_rate_in",{"$f":"'T2-B(PP1)'!$E$97","v":0},"#'T2-B(PP1)'!$E$97"]
["pp1_bl4_5_1_rate_out",{"$f":"'T2-B(PP1)'!$H$97","v":0},"#'T2-B(PP1)'!$H$97"]
["pp1_bl4_5_1_total",{"$f":"'T2-B(PP1)'!$J$97","v":0},"#'T2-B(PP1)'!$J$97"]
["pp1_bl4_5_1_total_in",{"$f":"'T2-B(PP1)'!$F$97","v":0},"#'T2-B(PP1)'!$F$97"]
["pp1_bl4_5_1_total_out",{"$f":"'T2-B(PP1)'!$I$97","v":0},"#'T2-B(PP1)'!$I$97"]
["pp1_bl4_5_1_unit",{"$f":"'T2-B(PP1)'!$C$97","v":0},"#'T2-B(PP1)'!$C$97"]
["pp1_bl4_5_1_unit_in",{"$f":"'T2-B(PP1)'!$D$97","v":0},"#'T2-B(PP1)'!$D$97"]
["pp1_bl4_5_1_units_out",{"$f":"'T2-B(PP1)'!$G$97","v":0},"#'T2-B(PP1)'!$G$97"]
["pp1_bl4_5_10_name",{"$f":"'T2-B(PP1)'!$B$106","v":0},"#'T2-B(PP1)'!$B$106"]
["pp1_bl4_5_10_rate_in",{"$f":"'T2-B(PP1)'!$E$106","v":0},"#'T2-B(PP1)'!$E$106"]
["pp1_bl4_5_10_rate_out",{"$f":"'T2-B(PP1)'!$H$106","v":0},"#'T2-B(PP1)'!$H$106"]
["pp1_bl4_5_10_total",{"$f":"'T2-B(PP1)'!$J$106","v":0},"#'T2-B(PP1)'!$J$106"]
["pp1_bl4_5_10_total_in",{"$f":"'T2-B(PP1)'!$F$106","v":0},"#'T2-B(PP1)'!$F$106"]
["pp1_bl4_5_10_total_out",{"$f":"'T2-B(PP1)'!$I$106","v":0},"#'T2-B(PP1)'!$I$106"]
["pp1_bl4_5_10_unit",{"$f":"'T2-B(PP1)'!$C$106","v":0},"#'T2-B(PP1)'!$C$106"]
["pp1_bl4_5_10_unit_in",{"$f":"'T2-B(PP1)'!$D$106","v":0},"#'T2-B(PP1)'!$D$106"]
["pp1_bl4_5_10_units_out",{"$f":"'T2-B(PP1)'!$G$106","v":0},"#'T2-B(PP1)'!$G$106"]
["pp1_bl4_5_2_name",{"$f":"'T2-B(PP1)'!$B$98","v":0},"#'T2-B(PP1)'!$B$98"]
["pp1_bl4_5_2_rate_in",{"$f":"'T2-B(PP1)'!$E$98","v":0},"#'T2-B(PP1)'!$E$98"]
["pp1_bl4_5_2_rate_out",{"$f":"'T2-B(PP1)'!$H$98","v":0},"#'T2-B(PP1)'!$H$98"]
["pp1_bl4_5_2_total",{"$f":"'T2-B(PP1)'!$J$98","v":0},"#'T2-B(PP1)'!$J$98"]
["pp1_bl4_5_2_total_in",{"$f":"'T2-B(PP1)'!$F$98","v":0},"#'T2-B(PP1)'!$F$98"]
["pp1_bl4_5_2_total_out",{"$f":"'T2-B(PP1)'!$I$98","v":0},"#'T2-B(PP1)'!$I$98"]
["pp1_bl4_5_2_unit",{"$f":"'T2-B(PP1)'!$C$98","v":0},"#'T2-B(PP1)'!$C$98"]
["pp1_bl4_5_2_unit_in",{"$f":"'T2-B(PP1)'!$D$98","v":0},"#'T2-B(PP1)'!$D$98"]
["pp1_bl4_5_2_units_out",{"$f":"'T2-B(PP1)'!$G$98","v":0},"#'T2-B(PP1)'!$G$98"]
["pp1_bl4_5_3_name",{"$f":"'T2-B(PP1)'!$B$99","v":0},"#'T2-B(PP1)'!$B$99"]
["pp1_bl4_5_3_rate_in",{"$f":"'T2-B(PP1)'!$E$99","v":0},"#'T2-B(PP1)'!$E$99"]
["pp1_bl4_5_3_rate_out",{"$f":"'T2-B(PP1)'!$H$99","v":0},"#'T2-B(PP1)'!$H$99"]
["pp1_bl4_5_3_total",{"$f":"'T2-B(PP1)'!$J$99","v":0},"#'T2-B(PP1)'!$J$99"]
["pp1_bl4_5_3_total_in",{"$f":"'T2-B(PP1)'!$F$99","v":0},"#'T2-B(PP1)'!$F$99"]
["pp1_bl4_5_3_total_out",{"$f":"'T2-B(PP1)'!$I$99","v":0},"#'T2-B(PP1)'!$I$99"]
["pp1_bl4_5_3_unit",{"$f":"'T2-B(PP1)'!$C$99","v":0},"#'T2-B(PP1)'!$C$99"]
["pp1_bl4_5_3_unit_in",{"$f":"'T2-B(PP1)'!$D$99","v":0},"#'T2-B(PP1)'!$D$99"]
["pp1_bl4_5_3_units_out",{"$f":"'T2-B(PP1)'!$G$99","v":0},"#'T2-B(PP1)'!$G$99"]
["pp1_bl4_5_4_name",{"$f":"'T2-B(PP1)'!$B$100","v":0},"#'T2-B(PP1)'!$B$100"]
["pp1_bl4_5_4_rate_in",{"$f":"'T2-B(PP1)'!$E$100","v":0},"#'T2-B(PP1)'!$E$100"]
["pp1_bl4_5_4_rate_out",{"$f":"'T2-B(PP1)'!$H$100","v":0},"#'T2-B(PP1)'!$H$100"]
["pp1_bl4_5_4_total",{"$f":"'T2-B(PP1)'!$J$100","v":0},"#'T2-B(PP1)'!$J$100"]
["pp1_bl4_5_4_total_in",{"$f":"'T2-B(PP1)'!$F$100","v":0},"#'T2-B(PP1)'!$F$100"]
["pp1_bl4_5_4_total_out",{"$f":"'T2-B(PP1)'!$I$100","v":0},"#'T2-B(PP1)'!$I$100"]
["pp1_bl4_5_4_unit",{"$f":"'T2-B(PP1)'!$C$100","v":0},"#'T2-B(PP1)'!$C$100"]
["pp1_bl4_5_4_unit_in",{"$f":"'T2-B(PP1)'!$D$100","v":0},"#'T2-B(PP1)'!$D$100"]
["pp1_bl4_5_4_units_out",{"$f":"'T2-B(PP1)'!$G$100","v":0},"#'T2-B(PP1)'!$G$100"]
["pp1_bl4_5_5_name",{"$f":"'T2-B(PP1)'!$B$101","v":0},"#'T2-B(PP1)'!$B$101"]
["pp1_bl4_5_5_rate_in",{"$f":"'T2-B(PP1)'!$E$101","v":0},"#'T2-B(PP1)'!$E$101"]
["pp1_bl4_5_5_rate_out",{"$f":"'T2-B(PP1)'!$H$101","v":0},"#'T2-B(PP1)'!$H$101"]
["pp1_bl4_5_5_total",{"$f":"'T2-B(PP1)'!$J$101","v":0},"#'T2-B(PP1)'!$J$101"]
["pp1_bl4_5_5_total_in",{"$f":"'T2-B(PP1)'!$F$101","v":0},"#'T2-B(PP1)'!$F$101"]
["pp1_bl4_5_5_total_out",{"$f":"'T2-B(PP1)'!$I$101","v":0},"#'T2-B(PP1)'!$I$101"]
["pp1_bl4_5_5_unit",{"$f":"'T2-B(PP1)'!$C$101","v":0},"#'T2-B(PP1)'!$C$101"]
["pp1_bl4_5_5_unit_in",{"$f":"'T2-B(PP1)'!$D$101","v":0},"#'T2-B(PP1)'!$D$101"]
["pp1_bl4_5_5_units_out",{"$f":"'T2-B(PP1)'!$G$101","v":0},"#'T2-B(PP1)'!$G$101"]
["pp1_bl4_5_6_name",{"$f":"'T2-B(PP1)'!$B$102","v":0},"#'T2-B(PP1)'!$B$102"]
["pp1_bl4_5_6_rate_in",{"$f":"'T2-B(PP1)'!$E$102","v":0},"#'T2-B(PP1)'!$E$102"]
["pp1_bl4_5_6_rate_out",{"$f":"'T2-B(PP1)'!$H$102","v":0},"#'T2-B(PP1)'!$H$102"]
["pp1_bl4_5_6_total",{"$f":"'T2-B(PP1)'!$J$102","v":0},"#'T2-B(PP1)'!$J$102"]
["pp1_bl4_5_6_total_in",{"$f":"'T2-B(PP1)'!$F$102","v":0},"#'T2-B(PP1)'!$F$102"]
["pp1_bl4_5_6_total_out",{"$f":"'T2-B(PP1)'!$I$102","v":0},"#'T2-B(PP1)'!$I$102"]
["pp1_bl4_5_6_unit",{"$f":"'T2-B(PP1)'!$C$102","v":0},"#'T2-B(PP1)'!$C$102"]
["pp1_bl4_5_6_unit_in",{"$f":"'T2-B(PP1)'!$D$102","v":0},"#'T2-B(PP1)'!$D$102"]
["pp1_bl4_5_6_units_out",{"$f":"'T2-B(PP1)'!$G$102","v":0},"#'T2-B(PP1)'!$G$102"]
["pp1_bl4_5_7_name",{"$f":"'T2-B(PP1)'!$B$103","v":0},"#'T2-B(PP1)'!$B$103"]
["pp1_bl4_5_7_rate_in",{"$f":"'T2-B(PP1)'!$E$103","v":0},"#'T2-B(PP1)'!$E$103"]
["pp1_bl4_5_7_rate_out",{"$f":"'T2-B(PP1)'!$H$103","v":0},"#'T2-B(PP1)'!$H$103"]
["pp1_bl4_5_7_total",{"$f":"'T2-B(PP1)'!$J$103","v":0},"#'T2-B(PP1)'!$J$103"]
["pp1_bl4_5_7_total_in",{"$f":"'T2-B(PP1)'!$F$103","v":0},"#'T2-B(PP1)'!$F$103"]
["pp1_bl4_5_7_total_out",{"$f":"'T2-B(PP1)'!$I$103","v":0},"#'T2-B(PP1)'!$I$103"]
["pp1_bl4_5_7_unit",{"$f":"'T2-B(PP1)'!$C$103","v":0},"#'T2-B(PP1)'!$C$103"]
["pp1_bl4_5_7_unit_in",{"$f":"'T2-B(PP1)'!$D$103","v":0},"#'T2-B(PP1)'!$D$103"]
["pp1_bl4_5_7_units_out",{"$f":"'T2-B(PP1)'!$G$103","v":0},"#'T2-B(PP1)'!$G$103"]
["pp1_bl4_5_8_name",{"$f":"'T2-B(PP1)'!$B$104","v":0},"#'T2-B(PP1)'!$B$104"]
["pp1_bl4_5_8_rate_in",{"$f":"'T2-B(PP1)'!$E$104","v":0},"#'T2-B(PP1)'!$E$104"]
["pp1_bl4_5_8_rate_out",{"$f":"'T2-B(PP1)'!$H$104","v":0},"#'T2-B(PP1)'!$H$104"]
["pp1_bl4_5_8_total",{"$f":"'T2-B(PP1)'!$J$104","v":0},"#'T2-B(PP1)'!$J$104"]
["pp1_bl4_5_8_total_in",{"$f":"'T2-B(PP1)'!$F$104","v":0},"#'T2-B(PP1)'!$F$104"]
["pp1_bl4_5_8_total_out",{"$f":"'T2-B(PP1)'!$I$104","v":0},"#'T2-B(PP1)'!$I$104"]
["pp1_bl4_5_8_unit",{"$f":"'T2-B(PP1)'!$C$104","v":0},"#'T2-B(PP1)'!$C$104"]
["pp1_bl4_5_8_unit_in",{"$f":"'T2-B(PP1)'!$D$104","v":0},"#'T2-B(PP1)'!$D$104"]
["pp1_bl4_5_8_units_out",{"$f":"'T2-B(PP1)'!$G$104","v":0},"#'T2-B(PP1)'!$G$104"]
["pp1_bl4_5_9_name",{"$f":"'T2-B(PP1)'!$B$105","v":0},"#'T2-B(PP1)'!$B$105"]
["pp1_bl4_5_9_rate_in",{"$f":"'T2-B(PP1)'!$E$105","v":0},"#'T2-B(PP1)'!$E$105"]
["pp1_bl4_5_9_rate_out",{"$f":"'T2-B(PP1)'!$H$105","v":0},"#'T2-B(PP1)'!$H$105"]
["pp1_bl4_5_9_total",{"$f":"'T2-B(PP1)'!$J$105","v":0},"#'T2-B(PP1)'!$J$105"]
["pp1_bl4_5_9_total_in",{"$f":"'T2-B(PP1)'!$F$105","v":0},"#'T2-B(PP1)'!$F$105"]
["pp1_bl4_5_9_total_out",{"$f":"'T2-B(PP1)'!$I$105","v":0},"#'T2-B(PP1)'!$I$105"]
["pp1_bl4_5_9_unit",{"$f":"'T2-B(PP1)'!$C$105","v":0},"#'T2-B(PP1)'!$C$105"]
["pp1_bl4_5_9_unit_in",{"$f":"'T2-B(PP1)'!$D$105","v":0},"#'T2-B(PP1)'!$D$105"]
["pp1_bl4_5_9_units_out",{"$f":"'T2-B(PP1)'!$G$105","v":0},"#'T2-B(PP1)'!$G$105"]
["pp1_bl4_5_total",{"$f":"'T2-B(PP1)'!$J$96","v":0},"#'T2-B(PP1)'!$J$96"]
["pp1_bl4_5_total_in",{"$f":"'T2-B(PP1)'!$F$96","v":0},"#'T2-B(PP1)'!$F$96"]
["pp1_bl4_5_total_out",{"$f":"'T2-B(PP1)'!$I$96","v":0},"#'T2-B(PP1)'!$I$96"]
["pp1_bl4_6_1_name",{"$f":"'T2-B(PP1)'!$B$108","v":0},"#'T2-B(PP1)'!$B$108"]
["pp1_bl4_6_1_rate_in",{"$f":"'T2-B(PP1)'!$E$108","v":0},"#'T2-B(PP1)'!$E$108"]
["pp1_bl4_6_1_rate_out",{"$f":"'T2-B(PP1)'!$H$108","v":0},"#'T2-B(PP1)'!$H$108"]
["pp1_bl4_6_1_total",{"$f":"'T2-B(PP1)'!$J$108","v":0},"#'T2-B(PP1)'!$J$108"]
["pp1_bl4_6_1_total_in",{"$f":"'T2-B(PP1)'!$F$108","v":0},"#'T2-B(PP1)'!$F$108"]
["pp1_bl4_6_1_total_out",{"$f":"'T2-B(PP1)'!$I$108","v":0},"#'T2-B(PP1)'!$I$108"]
["pp1_bl4_6_1_unit",{"$f":"'T2-B(PP1)'!$C$108","v":0},"#'T2-B(PP1)'!$C$108"]
["pp1_bl4_6_1_unit_in",{"$f":"'T2-B(PP1)'!$D$108","v":0},"#'T2-B(PP1)'!$D$108"]
["pp1_bl4_6_1_units_out",{"$f":"'T2-B(PP1)'!$G$108","v":0},"#'T2-B(PP1)'!$G$108"]
["pp1_bl4_6_10_name",{"$f":"'T2-B(PP1)'!$B$117","v":0},"#'T2-B(PP1)'!$B$117"]
["pp1_bl4_6_10_rate_in",{"$f":"'T2-B(PP1)'!$E$117","v":0},"#'T2-B(PP1)'!$E$117"]
["pp1_bl4_6_10_rate_out",{"$f":"'T2-B(PP1)'!$H$117","v":0},"#'T2-B(PP1)'!$H$117"]
["pp1_bl4_6_10_total",{"$f":"'T2-B(PP1)'!$J$117","v":0},"#'T2-B(PP1)'!$J$117"]
["pp1_bl4_6_10_total_in",{"$f":"'T2-B(PP1)'!$F$117","v":0},"#'T2-B(PP1)'!$F$117"]
["pp1_bl4_6_10_total_out",{"$f":"'T2-B(PP1)'!$I$117","v":0},"#'T2-B(PP1)'!$I$117"]
["pp1_bl4_6_10_unit",{"$f":"'T2-B(PP1)'!$C$117","v":0},"#'T2-B(PP1)'!$C$117"]
["pp1_bl4_6_10_unit_in",{"$f":"'T2-B(PP1)'!$D$117","v":0},"#'T2-B(PP1)'!$D$117"]
["pp1_bl4_6_10_units_out",{"$f":"'T2-B(PP1)'!$G$117","v":0},"#'T2-B(PP1)'!$G$117"]
["pp1_bl4_6_2_name",{"$f":"'T2-B(PP1)'!$B$109","v":0},"#'T2-B(PP1)'!$B$109"]
["pp1_bl4_6_2_rate_in",{"$f":"'T2-B(PP1)'!$E$109","v":0},"#'T2-B(PP1)'!$E$109"]
["pp1_bl4_6_2_rate_out",{"$f":"'T2-B(PP1)'!$H$109","v":0},"#'T2-B(PP1)'!$H$109"]
["pp1_bl4_6_2_total",{"$f":"'T2-B(PP1)'!$J$109","v":0},"#'T2-B(PP1)'!$J$109"]
["pp1_bl4_6_2_total_in",{"$f":"'T2-B(PP1)'!$F$109","v":0},"#'T2-B(PP1)'!$F$109"]
["pp1_bl4_6_2_total_out",{"$f":"'T2-B(PP1)'!$I$109","v":0},"#'T2-B(PP1)'!$I$109"]
["pp1_bl4_6_2_unit",{"$f":"'T2-B(PP1)'!$C$109","v":0},"#'T2-B(PP1)'!$C$109"]
["pp1_bl4_6_2_unit_in",{"$f":"'T2-B(PP1)'!$D$109","v":0},"#'T2-B(PP1)'!$D$109"]
["pp1_bl4_6_2_units_out",{"$f":"'T2-B(PP1)'!$G$109","v":0},"#'T2-B(PP1)'!$G$109"]
["pp1_bl4_6_3_name",{"$f":"'T2-B(PP1)'!$B$110","v":0},"#'T2-B(PP1)'!$B$110"]
["pp1_bl4_6_3_rate_in",{"$f":"'T2-B(PP1)'!$E$110","v":0},"#'T2-B(PP1)'!$E$110"]
["pp1_bl4_6_3_rate_out",{"$f":"'T2-B(PP1)'!$H$110","v":0},"#'T2-B(PP1)'!$H$110"]
["pp1_bl4_6_3_total",{"$f":"'T2-B(PP1)'!$J$110","v":0},"#'T2-B(PP1)'!$J$110"]
["pp1_bl4_6_3_total_in",{"$f":"'T2-B(PP1)'!$F$110","v":0},"#'T2-B(PP1)'!$F$110"]
["pp1_bl4_6_3_total_out",{"$f":"'T2-B(PP1)'!$I$110","v":0},"#'T2-B(PP1)'!$I$110"]
["pp1_bl4_6_3_unit",{"$f":"'T2-B(PP1)'!$C$110","v":0},"#'T2-B(PP1)'!$C$110"]
["pp1_bl4_6_3_unit_in",{"$f":"'T2-B(PP1)'!$D$110","v":0},"#'T2-B(PP1)'!$D$110"]
["pp1_bl4_6_3_units_out",{"$f":"'T2-B(PP1)'!$G$110","v":0},"#'T2-B(PP1)'!$G$110"]
["pp1_bl4_6_4_name",{"$f":"'T2-B(PP1)'!$B$111","v":0},"#'T2-B(PP1)'!$B$111"]
["pp1_bl4_6_4_rate_in",{"$f":"'T2-B(PP1)'!$E$111","v":0},"#'T2-B(PP1)'!$E$111"]
["pp1_bl4_6_4_rate_out",{"$f":"'T2-B(PP1)'!$H$111","v":0},"#'T2-B(PP1)'!$H$111"]
["pp1_bl4_6_4_total",{"$f":"'T2-B(PP1)'!$J$111","v":0},"#'T2-B(PP1)'!$J$111"]
["pp1_bl4_6_4_total_in",{"$f":"'T2-B(PP1)'!$F$111","v":0},"#'T2-B(PP1)'!$F$111"]
["pp1_bl4_6_4_total_out",{"$f":"'T2-B(PP1)'!$I$111","v":0},"#'T2-B(PP1)'!$I$111"]
["pp1_bl4_6_4_unit",{"$f":"'T2-B(PP1)'!$C$111","v":0},"#'T2-B(PP1)'!$C$111"]
["pp1_bl4_6_4_unit_in",{"$f":"'T2-B(PP1)'!$D$111","v":0},"#'T2-B(PP1)'!$D$111"]
["pp1_bl4_6_4_units_out",{"$f":"'T2-B(PP1)'!$G$111","v":0},"#'T2-B(PP1)'!$G$111"]
["pp1_bl4_6_5_name",{"$f":"'T2-B(PP1)'!$B$112","v":0},"#'T2-B(PP1)'!$B$112"]
["pp1_bl4_6_5_rate_in",{"$f":"'T2-B(PP1)'!$E$112","v":0},"#'T2-B(PP1)'!$E$112"]
["pp1_bl4_6_5_rate_out",{"$f":"'T2-B(PP1)'!$H$112","v":0},"#'T2-B(PP1)'!$H$112"]
["pp1_bl4_6_5_total",{"$f":"'T2-B(PP1)'!$J$112","v":0},"#'T2-B(PP1)'!$J$112"]
["pp1_bl4_6_5_total_in",{"$f":"'T2-B(PP1)'!$F$112","v":0},"#'T2-B(PP1)'!$F$112"]
["pp1_bl4_6_5_total_out",{"$f":"'T2-B(PP1)'!$I$112","v":0},"#'T2-B(PP1)'!$I$112"]
["pp1_bl4_6_5_unit",{"$f":"'T2-B(PP1)'!$C$112","v":0},"#'T2-B(PP1)'!$C$112"]
["pp1_bl4_6_5_unit_in",{"$f":"'T2-B(PP1)'!$D$112","v":0},"#'T2-B(PP1)'!$D$112"]
["pp1_bl4_6_5_units_out",{"$f":"'T2-B(PP1)'!$G$112","v":0},"#'T2-B(PP1)'!$G$112"]
["pp1_bl4_6_6_name",{"$f":"'T2-B(PP1)'!$B$113","v":0},"#'T2-B(PP1)'!$B$113"]
["pp1_bl4_6_6_rate_in",{"$f":"'T2-B(PP1)'!$E$113","v":0},"#'T2-B(PP1)'!$E$113"]
["pp1_bl4_6_6_rate_out",{"$f":"'T2-B(PP1)'!$H$113","v":0},"#'T2-B(PP1)'!$H$113"]
["pp1_bl4_6_6_total",{"$f":"'T2-B(PP1)'!$J$113","v":0},"#'T2-B(PP1)'!$J$113"]
["pp1_bl4_6_6_total_in",{"$f":"'T2-B(PP1)'!$F$113","v":0},"#'T2-B(PP1)'!$F$113"]
["pp1_bl4_6_6_total_out",{"$f":"'T2-B(PP1)'!$I$113","v":0},"#'T2-B(PP1)'!$I$113"]
["pp1_bl4_6_6_unit",{"$f":"'T2-B(PP1)'!$C$113","v":0},"#'T2-B(PP1)'!$C$113"]
["pp1_bl4_6_6_unit_in",{"$f":"'T2-B(PP1)'!$D$113","v":0},"#'T2-B(PP1)'!$D$113"]
["pp1_bl4_6_6_units_out",{"$f":"'T2-B(PP1)'!$G$113","v":0},"#'T2-B(PP1)'!$G$113"]
["pp1_bl4_6_7_name",{"$f":"'T2-B(PP1)'!$B$114","v":0},"#'T2-B(PP1)'!$B$114"]
["pp1_bl4_6_7_rate_in",{"$f":"'T2-B(PP1)'!$E$114","v":0},"#'T2-B(PP1)'!$E$114"]
["pp1_bl4_6_7_rate_out",{"$f":"'T2-B(PP1)'!$H$114","v":0},"#'T2-B(PP1)'!$H$114"]
["pp1_bl4_6_7_total",{"$f":"'T2-B(PP1)'!$J$114","v":0},"#'T2-B(PP1)'!$J$114"]
["pp1_bl4_6_7_total_in",{"$f":"'T2-B(PP1)'!$F$114","v":0},"#'T2-B(PP1)'!$F$114"]
["pp1_bl4_6_7_total_out",{"$f":"'T2-B(PP1)'!$I$114","v":0},"#'T2-B(PP1)'!$I$114"]
["pp1_bl4_6_7_unit",{"$f":"'T2-B(PP1)'!$C$114","v":0},"#'T2-B(PP1)'!$C$114"]
["pp1_bl4_6_7_unit_in",{"$f":"'T2-B(PP1)'!$D$114","v":0},"#'T2-B(PP1)'!$D$114"]
["pp1_bl4_6_7_units_out",{"$f":"'T2-B(PP1)'!$G$114","v":0},"#'T2-B(PP1)'!$G$114"]
["pp1_bl4_6_8_name",{"$f":"'T2-B(PP1)'!$B$115","v":0},"#'T2-B(PP1)'!$B$115"]
["pp1_bl4_6_8_rate_in",{"$f":"'T2-B(PP1)'!$E$115","v":0},"#'T2-B(PP1)'!$E$115"]
["pp1_bl4_6_8_rate_out",{"$f":"'T2-B(PP1)'!$H$115","v":0},"#'T2-B(PP1)'!$H$115"]
["pp1_bl4_6_8_total",{"$f":"'T2-B(PP1)'!$J$115","v":0},"#'T2-B(PP1)'!$J$115"]
["pp1_bl4_6_8_total_in",{"$f":"'T2-B(PP1)'!$F$115","v":0},"#'T2-B(PP1)'!$F$115"]
["pp1_bl4_6_8_total_out",{"$f":"'T2-B(PP1)'!$I$115","v":0},"#'T2-B(PP1)'!$I$115"]
["pp1_bl4_6_8_unit",{"$f":"'T2-B(PP1)'!$C$115","v":0},"#'T2-B(PP1)'!$C$115"]
["pp1_bl4_6_8_unit_in",{"$f":"'T2-B(PP1)'!$D$115","v":0},"#'T2-B(PP1)'!$D$115"]
["pp1_bl4_6_8_units_out",{"$f":"'T2-B(PP1)'!$G$115","v":0},"#'T2-B(PP1)'!$G$115"]
["pp1_bl4_6_9_name",{"$f":"'T2-B(PP1)'!$B$116","v":0},"#'T2-B(PP1)'!$B$116"]
["pp1_bl4_6_9_rate_in",{"$f":"'T2-B(PP1)'!$E$116","v":0},"#'T2-B(PP1)'!$E$116"]
["pp1_bl4_6_9_rate_out",{"$f":"'T2-B(PP1)'!$H$116","v":0},"#'T2-B(PP1)'!$H$116"]
["pp1_bl4_6_9_total",{"$f":"'T2-B(PP1)'!$J$116","v":0},"#'T2-B(PP1)'!$J$116"]
["pp1_bl4_6_9_total_in",{"$f":"'T2-B(PP1)'!$F$116","v":0},"#'T2-B(PP1)'!$F$116"]
["pp1_bl4_6_9_total_out",{"$f":"'T2-B(PP1)'!$I$116","v":0},"#'T2-B(PP1)'!$I$116"]
["pp1_bl4_6_9_unit",{"$f":"'T2-B(PP1)'!$C$116","v":0},"#'T2-B(PP1)'!$C$116"]
["pp1_bl4_6_9_unit_in",{"$f":"'T2-B(PP1)'!$D$116","v":0},"#'T2-B(PP1)'!$D$116"]
["pp1_bl4_6_9_units_out",{"$f":"'T2-B(PP1)'!$G$116","v":0},"#'T2-B(PP1)'!$G$116"]
["pp1_bl4_6_total",{"$f":"'T2-B(PP1)'!$J$107","v":0},"#'T2-B(PP1)'!$J$107"]
["pp1_bl4_6_total_in",{"$f":"'T2-B(PP1)'!$F$107","v":0},"#'T2-B(PP1)'!$F$107"]
["pp1_bl4_6_total_out",{"$f":"'T2-B(PP1)'!$I$107","v":0},"#'T2-B(PP1)'!$I$107"]
["pp1_bl4_7_1_name",{"$f":"'T2-B(PP1)'!$B$119","v":0},"#'T2-B(PP1)'!$B$119"]
["pp1_bl4_7_1_rate_in",{"$f":"'T2-B(PP1)'!$E$119","v":0},"#'T2-B(PP1)'!$E$119"]
["pp1_bl4_7_1_rate_out",{"$f":"'T2-B(PP1)'!$H$119","v":0},"#'T2-B(PP1)'!$H$119"]
["pp1_bl4_7_1_total",{"$f":"'T2-B(PP1)'!$J$119","v":0},"#'T2-B(PP1)'!$J$119"]
["pp1_bl4_7_1_total_in",{"$f":"'T2-B(PP1)'!$F$119","v":0},"#'T2-B(PP1)'!$F$119"]
["pp1_bl4_7_1_total_out",{"$f":"'T2-B(PP1)'!$I$119","v":0},"#'T2-B(PP1)'!$I$119"]
["pp1_bl4_7_1_unit",{"$f":"'T2-B(PP1)'!$C$119","v":0},"#'T2-B(PP1)'!$C$119"]
["pp1_bl4_7_1_unit_in",{"$f":"'T2-B(PP1)'!$D$119","v":0},"#'T2-B(PP1)'!$D$119"]
["pp1_bl4_7_1_units_out",{"$f":"'T2-B(PP1)'!$G$119","v":0},"#'T2-B(PP1)'!$G$119"]
["pp1_bl4_7_10_name",{"$f":"'T2-B(PP1)'!$B$128","v":0},"#'T2-B(PP1)'!$B$128"]
["pp1_bl4_7_10_rate_in",{"$f":"'T2-B(PP1)'!$E$128","v":0},"#'T2-B(PP1)'!$E$128"]
["pp1_bl4_7_10_rate_out",{"$f":"'T2-B(PP1)'!$H$128","v":0},"#'T2-B(PP1)'!$H$128"]
["pp1_bl4_7_10_total",{"$f":"'T2-B(PP1)'!$J$128","v":0},"#'T2-B(PP1)'!$J$128"]
["pp1_bl4_7_10_total_in",{"$f":"'T2-B(PP1)'!$F$128","v":0},"#'T2-B(PP1)'!$F$128"]
["pp1_bl4_7_10_total_out",{"$f":"'T2-B(PP1)'!$I$128","v":0},"#'T2-B(PP1)'!$I$128"]
["pp1_bl4_7_10_unit",{"$f":"'T2-B(PP1)'!$C$128","v":0},"#'T2-B(PP1)'!$C$128"]
["pp1_bl4_7_10_unit_in",{"$f":"'T2-B(PP1)'!$D$128","v":0},"#'T2-B(PP1)'!$D$128"]
["pp1_bl4_7_10_units_out",{"$f":"'T2-B(PP1)'!$G$128","v":0},"#'T2-B(PP1)'!$G$128"]
["pp1_bl4_7_2_name",{"$f":"'T2-B(PP1)'!$B$120","v":0},"#'T2-B(PP1)'!$B$120"]
["pp1_bl4_7_2_rate_in",{"$f":"'T2-B(PP1)'!$E$120","v":0},"#'T2-B(PP1)'!$E$120"]
["pp1_bl4_7_2_rate_out",{"$f":"'T2-B(PP1)'!$H$120","v":0},"#'T2-B(PP1)'!$H$120"]
["pp1_bl4_7_2_total",{"$f":"'T2-B(PP1)'!$J$120","v":0},"#'T2-B(PP1)'!$J$120"]
["pp1_bl4_7_2_total_in",{"$f":"'T2-B(PP1)'!$F$120","v":0},"#'T2-B(PP1)'!$F$120"]
["pp1_bl4_7_2_total_out",{"$f":"'T2-B(PP1)'!$I$120","v":0},"#'T2-B(PP1)'!$I$120"]
["pp1_bl4_7_2_unit",{"$f":"'T2-B(PP1)'!$C$120","v":0},"#'T2-B(PP1)'!$C$120"]
["pp1_bl4_7_2_unit_in",{"$f":"'T2-B(PP1)'!$D$120","v":0},"#'T2-B(PP1)'!$D$120"]
["pp1_bl4_7_2_units_out",{"$f":"'T2-B(PP1)'!$G$120","v":0},"#'T2-B(PP1)'!$G$120"]
["pp1_bl4_7_3_name",{"$f":"'T2-B(PP1)'!$B$121","v":0},"#'T2-B(PP1)'!$B$121"]
["pp1_bl4_7_3_rate_in",{"$f":"'T2-B(PP1)'!$E$121","v":0},"#'T2-B(PP1)'!$E$121"]
["pp1_bl4_7_3_rate_out",{"$f":"'T2-B(PP1)'!$H$121","v":0},"#'T2-B(PP1)'!$H$121"]
["pp1_bl4_7_3_total",{"$f":"'T2-B(PP1)'!$J$121","v":0},"#'T2-B(PP1)'!$J$121"]
["pp1_bl4_7_3_total_in",{"$f":"'T2-B(PP1)'!$F$121","v":0},"#'T2-B(PP1)'!$F$121"]
["pp1_bl4_7_3_total_out",{"$f":"'T2-B(PP1)'!$I$121","v":0},"#'T2-B(PP1)'!$I$121"]
["pp1_bl4_7_3_unit",{"$f":"'T2-B(PP1)'!$C$121","v":0},"#'T2-B(PP1)'!$C$121"]
["pp1_bl4_7_3_unit_in",{"$f":"'T2-B(PP1)'!$D$121","v":0},"#'T2-B(PP1)'!$D$121"]
["pp1_bl4_7_3_units_out",{"$f":"'T2-B(PP1)'!$G$121","v":0},"#'T2-B(PP1)'!$G$121"]
["pp1_bl4_7_4_name",{"$f":"'T2-B(PP1)'!$B$122","v":0},"#'T2-B(PP1)'!$B$122"]
["pp1_bl4_7_4_rate_in",{"$f":"'T2-B(PP1)'!$E$122","v":0},"#'T2-B(PP1)'!$E$122"]
["pp1_bl4_7_4_rate_out",{"$f":"'T2-B(PP1)'!$H$122","v":0},"#'T2-B(PP1)'!$H$122"]
["pp1_bl4_7_4_total",{"$f":"'T2-B(PP1)'!$J$122","v":0},"#'T2-B(PP1)'!$J$122"]
["pp1_bl4_7_4_total_in",{"$f":"'T2-B(PP1)'!$F$122","v":0},"#'T2-B(PP1)'!$F$122"]
["pp1_bl4_7_4_total_out",{"$f":"'T2-B(PP1)'!$I$122","v":0},"#'T2-B(PP1)'!$I$122"]
["pp1_bl4_7_4_unit",{"$f":"'T2-B(PP1)'!$C$122","v":0},"#'T2-B(PP1)'!$C$122"]
["pp1_bl4_7_4_unit_in",{"$f":"'T2-B(PP1)'!$D$122","v":0},"#'T2-B(PP1)'!$D$122"]
["pp1_bl4_7_4_units_out",{"$f":"'T2-B(PP1)'!$G$122","v":0},"#'T2-B(PP1)'!$G$122"]
["pp1_bl4_7_5_name",{"$f":"'T2-B(PP1)'!$B$123","v":0},"#'T2-B(PP1)'!$B$123"]
["pp1_bl4_7_5_rate_in",{"$f":"'T2-B(PP1)'!$E$123","v":0},"#'T2-B(PP1)'!$E$123"]
["pp1_bl4_7_5_rate_out",{"$f":"'T2-B(PP1)'!$H$123","v":0},"#'T2-B(PP1)'!$H$123"]
["pp1_bl4_7_5_total",{"$f":"'T2-B(PP1)'!$J$123","v":0},"#'T2-B(PP1)'!$J$123"]
["pp1_bl4_7_5_total_in",{"$f":"'T2-B(PP1)'!$F$123","v":0},"#'T2-B(PP1)'!$F$123"]
["pp1_bl4_7_5_total_out",{"$f":"'T2-B(PP1)'!$I$123","v":0},"#'T2-B(PP1)'!$I$123"]
["pp1_bl4_7_5_unit",{"$f":"'T2-B(PP1)'!$C$123","v":0},"#'T2-B(PP1)'!$C$123"]
["pp1_bl4_7_5_unit_in",{"$f":"'T2-B(PP1)'!$D$123","v":0},"#'T2-B(PP1)'!$D$123"]
["pp1_bl4_7_5_units_out",{"$f":"'T2-B(PP1)'!$G$123","v":0},"#'T2-B(PP1)'!$G$123"]
["pp1_bl4_7_6_name",{"$f":"'T2-B(PP1)'!$B$124","v":0},"#'T2-B(PP1)'!$B$124"]
["pp1_bl4_7_6_rate_in",{"$f":"'T2-B(PP1)'!$E$124","v":0},"#'T2-B(PP1)'!$E$124"]
["pp1_bl4_7_6_rate_out",{"$f":"'T2-B(PP1)'!$H$124","v":0},"#'T2-B(PP1)'!$H$124"]
["pp1_bl4_7_6_total",{"$f":"'T2-B(PP1)'!$J$124","v":0},"#'T2-B(PP1)'!$J$124"]
["pp1_bl4_7_6_total_in",{"$f":"'T2-B(PP1)'!$F$124","v":0},"#'T2-B(PP1)'!$F$124"]
["pp1_bl4_7_6_total_out",{"$f":"'T2-B(PP1)'!$I$124","v":0},"#'T2-B(PP1)'!$I$124"]
["pp1_bl4_7_6_unit",{"$f":"'T2-B(PP1)'!$C$124","v":0},"#'T2-B(PP1)'!$C$124"]
["pp1_bl4_7_6_unit_in",{"$f":"'T2-B(PP1)'!$D$124","v":0},"#'T2-B(PP1)'!$D$124"]
["pp1_bl4_7_6_units_out",{"$f":"'T2-B(PP1)'!$G$124","v":0},"#'T2-B(PP1)'!$G$124"]
["pp1_bl4_7_7_name",{"$f":"'T2-B(PP1)'!$B$125","v":0},"#'T2-B(PP1)'!$B$125"]
["pp1_bl4_7_7_rate_in",{"$f":"'T2-B(PP1)'!$E$125","v":0},"#'T2-B(PP1)'!$E$125"]
["pp1_bl4_7_7_rate_out",{"$f":"'T2-B(PP1)'!$H$125","v":0},"#'T2-B(PP1)'!$H$125"]
["pp1_bl4_7_7_total",{"$f":"'T2-B(PP1)'!$J$125","v":0},"#'T2-B(PP1)'!$J$125"]
["pp1_bl4_7_7_total_in",{"$f":"'T2-B(PP1)'!$F$125","v":0},"#'T2-B(PP1)'!$F$125"]
["pp1_bl4_7_7_total_out",{"$f":"'T2-B(PP1)'!$I$125","v":0},"#'T2-B(PP1)'!$I$125"]
["pp1_bl4_7_7_unit",{"$f":"'T2-B(PP1)'!$C$125","v":0},"#'T2-B(PP1)'!$C$125"]
["pp1_bl4_7_7_unit_in",{"$f":"'T2-B(PP1)'!$D$125","v":0},"#'T2-B(PP1)'!$D$125"]
["pp1_bl4_7_7_units_out",{"$f":"'T2-B(PP1)'!$G$125","v":0},"#'T2-B(PP1)'!$G$125"]
["pp1_bl4_7_8_name",{"$f":"'T2-B(PP1)'!$B$126","v":0},"#'T2-B(PP1)'!$B$126"]
["pp1_bl4_7_8_rate_in",{"$f":"'T2-B(PP1)'!$E$126","v":0},"#'T2-B(PP1)'!$E$126"]
["pp1_bl4_7_8_rate_out",{"$f":"'T2-B(PP1)'!$H$126","v":0},"#'T2-B(PP1)'!$H$126"]
["pp1_bl4_7_8_total",{"$f":"'T2-B(PP1)'!$J$126","v":0},"#'T2-B(PP1)'!$J$126"]
["pp1_bl4_7_8_total_in",{"$f":"'T2-B(PP1)'!$F$126","v":0},"#'T2-B(PP1)'!$F$126"]
["pp1_bl4_7_8_total_out",{"$f":"'T2-B(PP1)'!$I$126","v":0},"#'T2-B(PP1)'!$I$126"]
["pp1_bl4_7_8_unit",{"$f":"'T2-B(PP1)'!$C$126","v":0},"#'T2-B(PP1)'!$C$126"]
["pp1_bl4_7_8_unit_in",{"$f":"'T2-B(PP1)'!$D$126","v":0},"#'T2-B(PP1)'!$D$126"]
["pp1_bl4_7_8_units_out",{"$f":"'T2-B(PP1)'!$G$126","v":0},"#'T2-B(PP1)'!$G$126"]
["pp1_bl4_7_9_name",{"$f":"'T2-B(PP1)'!$B$127","v":0},"#'T2-B(PP1)'!$B$127"]
["pp1_bl4_7_9_rate_in",{"$f":"'T2-B(PP1)'!$E$127","v":0},"#'T2-B(PP1)'!$E$127"]
["pp1_bl4_7_9_rate_out",{"$f":"'T2-B(PP1)'!$H$127","v":0},"#'T2-B(PP1)'!$H$127"]
["pp1_bl4_7_9_total",{"$f":"'T2-B(PP1)'!$J$127","v":0},"#'T2-B(PP1)'!$J$127"]
["pp1_bl4_7_9_total_in",{"$f":"'T2-B(PP1)'!$F$127","v":0},"#'T2-B(PP1)'!$F$127"]
["pp1_bl4_7_9_total_out",{"$f":"'T2-B(PP1)'!$I$127","v":0},"#'T2-B(PP1)'!$I$127"]
["pp1_bl4_7_9_unit",{"$f":"'T2-B(PP1)'!$C$127","v":0},"#'T2-B(PP1)'!$C$127"]
["pp1_bl4_7_9_unit_in",{"$f":"'T2-B(PP1)'!$D$127","v":0},"#'T2-B(PP1)'!$D$127"]
["pp1_bl4_7_9_units_out",{"$f":"'T2-B(PP1)'!$G$127","v":0},"#'T2-B(PP1)'!$G$127"]
["pp1_bl4_7_total",{"$f":"'T2-B(PP1)'!$J$118","v":0},"#'T2-B(PP1)'!$J$118"]
["pp1_bl4_7_total_in",{"$f":"'T2-B(PP1)'!$F$118","v":0},"#'T2-B(PP1)'!$F$118"]
["pp1_bl4_7_total_out",{"$f":"'T2-B(PP1)'!$I$118","v":0},"#'T2-B(PP1)'!$I$118"]
["pp1_bl4_8_1_name",{"$f":"'T2-B(PP1)'!$B$130","v":0},"#'T2-B(PP1)'!$B$130"]
["pp1_bl4_8_1_rate_in",{"$f":"'T2-B(PP1)'!$E$130","v":0},"#'T2-B(PP1)'!$E$130"]
["pp1_bl4_8_1_rate_out",{"$f":"'T2-B(PP1)'!$H$130","v":0},"#'T2-B(PP1)'!$H$130"]
["pp1_bl4_8_1_total",{"$f":"'T2-B(PP1)'!$J$130","v":0},"#'T2-B(PP1)'!$J$130"]
["pp1_bl4_8_1_total_in",{"$f":"'T2-B(PP1)'!$F$130","v":0},"#'T2-B(PP1)'!$F$130"]
["pp1_bl4_8_1_total_out",{"$f":"'T2-B(PP1)'!$I$130","v":0},"#'T2-B(PP1)'!$I$130"]
["pp1_bl4_8_1_unit",{"$f":"'T2-B(PP1)'!$C$130","v":0},"#'T2-B(PP1)'!$C$130"]
["pp1_bl4_8_1_unit_in",{"$f":"'T2-B(PP1)'!$D$130","v":0},"#'T2-B(PP1)'!$D$130"]
["pp1_bl4_8_1_units_out",{"$f":"'T2-B(PP1)'!$G$130","v":0},"#'T2-B(PP1)'!$G$130"]
["pp1_bl4_8_10_name",{"$f":"'T2-B(PP1)'!$B$139","v":0},"#'T2-B(PP1)'!$B$139"]
["pp1_bl4_8_10_rate_in",{"$f":"'T2-B(PP1)'!$E$139","v":0},"#'T2-B(PP1)'!$E$139"]
["pp1_bl4_8_10_rate_out",{"$f":"'T2-B(PP1)'!$H$139","v":0},"#'T2-B(PP1)'!$H$139"]
["pp1_bl4_8_10_total",{"$f":"'T2-B(PP1)'!$J$139","v":0},"#'T2-B(PP1)'!$J$139"]
["pp1_bl4_8_10_total_in",{"$f":"'T2-B(PP1)'!$F$139","v":0},"#'T2-B(PP1)'!$F$139"]
["pp1_bl4_8_10_total_out",{"$f":"'T2-B(PP1)'!$I$139","v":0},"#'T2-B(PP1)'!$I$139"]
["pp1_bl4_8_10_unit",{"$f":"'T2-B(PP1)'!$C$139","v":0},"#'T2-B(PP1)'!$C$139"]
["pp1_bl4_8_10_unit_in",{"$f":"'T2-B(PP1)'!$D$139","v":0},"#'T2-B(PP1)'!$D$139"]
["pp1_bl4_8_10_units_out",{"$f":"'T2-B(PP1)'!$G$139","v":0},"#'T2-B(PP1)'!$G$139"]
["pp1_bl4_8_2_name",{"$f":"'T2-B(PP1)'!$B$131","v":0},"#'T2-B(PP1)'!$B$131"]
["pp1_bl4_8_2_rate_in",{"$f":"'T2-B(PP1)'!$E$131","v":0},"#'T2-B(PP1)'!$E$131"]
["pp1_bl4_8_2_rate_out",{"$f":"'T2-B(PP1)'!$H$131","v":0},"#'T2-B(PP1)'!$H$131"]
["pp1_bl4_8_2_total",{"$f":"'T2-B(PP1)'!$J$131","v":0},"#'T2-B(PP1)'!$J$131"]
["pp1_bl4_8_2_total_in",{"$f":"'T2-B(PP1)'!$F$131","v":0},"#'T2-B(PP1)'!$F$131"]
["pp1_bl4_8_2_total_out",{"$f":"'T2-B(PP1)'!$I$131","v":0},"#'T2-B(PP1)'!$I$131"]
["pp1_bl4_8_2_unit",{"$f":"'T2-B(PP1)'!$C$131","v":0},"#'T2-B(PP1)'!$C$131"]
["pp1_bl4_8_2_unit_in",{"$f":"'T2-B(PP1)'!$D$131","v":0},"#'T2-B(PP1)'!$D$131"]
["pp1_bl4_8_2_units_out",{"$f":"'T2-B(PP1)'!$G$131","v":0},"#'T2-B(PP1)'!$G$131"]
["pp1_bl4_8_3_name",{"$f":"'T2-B(PP1)'!$B$132","v":0},"#'T2-B(PP1)'!$B$132"]
["pp1_bl4_8_3_rate_in",{"$f":"'T2-B(PP1)'!$E$132","v":0},"#'T2-B(PP1)'!$E$132"]
["pp1_bl4_8_3_rate_out",{"$f":"'T2-B(PP1)'!$H$132","v":0},"#'T2-B(PP1)'!$H$132"]
["pp1_bl4_8_3_total",{"$f":"'T2-B(PP1)'!$J$132","v":0},"#'T2-B(PP1)'!$J$132"]
["pp1_bl4_8_3_total_in",{"$f":"'T2-B(PP1)'!$F$132","v":0},"#'T2-B(PP1)'!$F$132"]
["pp1_bl4_8_3_total_out",{"$f":"'T2-B(PP1)'!$I$132","v":0},"#'T2-B(PP1)'!$I$132"]
["pp1_bl4_8_3_unit",{"$f":"'T2-B(PP1)'!$C$132","v":0},"#'T2-B(PP1)'!$C$132"]
["pp1_bl4_8_3_unit_in",{"$f":"'T2-B(PP1)'!$D$132","v":0},"#'T2-B(PP1)'!$D$132"]
["pp1_bl4_8_3_units_out",{"$f":"'T2-B(PP1)'!$G$132","v":0},"#'T2-B(PP1)'!$G$132"]
["pp1_bl4_8_4_name",{"$f":"'T2-B(PP1)'!$B$133","v":0},"#'T2-B(PP1)'!$B$133"]
["pp1_bl4_8_4_rate_in",{"$f":"'T2-B(PP1)'!$E$133","v":0},"#'T2-B(PP1)'!$E$133"]
["pp1_bl4_8_4_rate_out",{"$f":"'T2-B(PP1)'!$H$133","v":0},"#'T2-B(PP1)'!$H$133"]
["pp1_bl4_8_4_total",{"$f":"'T2-B(PP1)'!$J$133","v":0},"#'T2-B(PP1)'!$J$133"]
["pp1_bl4_8_4_total_in",{"$f":"'T2-B(PP1)'!$F$133","v":0},"#'T2-B(PP1)'!$F$133"]
["pp1_bl4_8_4_total_out",{"$f":"'T2-B(PP1)'!$I$133","v":0},"#'T2-B(PP1)'!$I$133"]
["pp1_bl4_8_4_unit",{"$f":"'T2-B(PP1)'!$C$133","v":0},"#'T2-B(PP1)'!$C$133"]
["pp1_bl4_8_4_unit_in",{"$f":"'T2-B(PP1)'!$D$133","v":0},"#'T2-B(PP1)'!$D$133"]
["pp1_bl4_8_4_units_out",{"$f":"'T2-B(PP1)'!$G$133","v":0},"#'T2-B(PP1)'!$G$133"]
["pp1_bl4_8_5_name",{"$f":"'T2-B(PP1)'!$B$134","v":0},"#'T2-B(PP1)'!$B$134"]
["pp1_bl4_8_5_rate_in",{"$f":"'T2-B(PP1)'!$E$134","v":0},"#'T2-B(PP1)'!$E$134"]
["pp1_bl4_8_5_rate_out",{"$f":"'T2-B(PP1)'!$H$134","v":0},"#'T2-B(PP1)'!$H$134"]
["pp1_bl4_8_5_total",{"$f":"'T2-B(PP1)'!$J$134","v":0},"#'T2-B(PP1)'!$J$134"]
["pp1_bl4_8_5_total_in",{"$f":"'T2-B(PP1)'!$F$134","v":0},"#'T2-B(PP1)'!$F$134"]
["pp1_bl4_8_5_total_out",{"$f":"'T2-B(PP1)'!$I$134","v":0},"#'T2-B(PP1)'!$I$134"]
["pp1_bl4_8_5_unit",{"$f":"'T2-B(PP1)'!$C$134","v":0},"#'T2-B(PP1)'!$C$134"]
["pp1_bl4_8_5_unit_in",{"$f":"'T2-B(PP1)'!$D$134","v":0},"#'T2-B(PP1)'!$D$134"]
["pp1_bl4_8_5_units_out",{"$f":"'T2-B(PP1)'!$G$134","v":0},"#'T2-B(PP1)'!$G$134"]
["pp1_bl4_8_6_name",{"$f":"'T2-B(PP1)'!$B$135","v":0},"#'T2-B(PP1)'!$B$135"]
["pp1_bl4_8_6_rate_in",{"$f":"'T2-B(PP1)'!$E$135","v":0},"#'T2-B(PP1)'!$E$135"]
["pp1_bl4_8_6_rate_out",{"$f":"'T2-B(PP1)'!$H$135","v":0},"#'T2-B(PP1)'!$H$135"]
["pp1_bl4_8_6_total",{"$f":"'T2-B(PP1)'!$J$135","v":0},"#'T2-B(PP1)'!$J$135"]
["pp1_bl4_8_6_total_in",{"$f":"'T2-B(PP1)'!$F$135","v":0},"#'T2-B(PP1)'!$F$135"]
["pp1_bl4_8_6_total_out",{"$f":"'T2-B(PP1)'!$I$135","v":0},"#'T2-B(PP1)'!$I$135"]
["pp1_bl4_8_6_unit",{"$f":"'T2-B(PP1)'!$C$135","v":0},"#'T2-B(PP1)'!$C$135"]
["pp1_bl4_8_6_unit_in",{"$f":"'T2-B(PP1)'!$D$135","v":0},"#'T2-B(PP1)'!$D$135"]
["pp1_bl4_8_6_units_out",{"$f":"'T2-B(PP1)'!$G$135","v":0},"#'T2-B(PP1)'!$G$135"]
["pp1_bl4_8_7_name",{"$f":"'T2-B(PP1)'!$B$136","v":0},"#'T2-B(PP1)'!$B$136"]
["pp1_bl4_8_7_rate_in",{"$f":"'T2-B(PP1)'!$E$136","v":0},"#'T2-B(PP1)'!$E$136"]
["pp1_bl4_8_7_rate_out",{"$f":"'T2-B(PP1)'!$H$136","v":0},"#'T2-B(PP1)'!$H$136"]
["pp1_bl4_8_7_total",{"$f":"'T2-B(PP1)'!$J$136","v":0},"#'T2-B(PP1)'!$J$136"]
["pp1_bl4_8_7_total_in",{"$f":"'T2-B(PP1)'!$F$136","v":0},"#'T2-B(PP1)'!$F$136"]
["pp1_bl4_8_7_total_out",{"$f":"'T2-B(PP1)'!$I$136","v":0},"#'T2-B(PP1)'!$I$136"]
["pp1_bl4_8_7_unit",{"$f":"'T2-B(PP1)'!$C$136","v":0},"#'T2-B(PP1)'!$C$136"]
["pp1_bl4_8_7_unit_in",{"$f":"'T2-B(PP1)'!$D$136","v":0},"#'T2-B(PP1)'!$D$136"]
["pp1_bl4_8_7_units_out",{"$f":"'T2-B(PP1)'!$G$136","v":0},"#'T2-B(PP1)'!$G$136"]
["pp1_bl4_8_8_name",{"$f":"'T2-B(PP1)'!$B$137","v":0},"#'T2-B(PP1)'!$B$137"]
["pp1_bl4_8_8_rate_in",{"$f":"'T2-B(PP1)'!$E$137","v":0},"#'T2-B(PP1)'!$E$137"]
["pp1_bl4_8_8_rate_out",{"$f":"'T2-B(PP1)'!$H$137","v":0},"#'T2-B(PP1)'!$H$137"]
["pp1_bl4_8_8_total",{"$f":"'T2-B(PP1)'!$J$137","v":0},"#'T2-B(PP1)'!$J$137"]
["pp1_bl4_8_8_total_in",{"$f":"'T2-B(PP1)'!$F$137","v":0},"#'T2-B(PP1)'!$F$137"]
["pp1_bl4_8_8_total_out",{"$f":"'T2-B(PP1)'!$I$137","v":0},"#'T2-B(PP1)'!$I$137"]
["pp1_bl4_8_8_unit",{"$f":"'T2-B(PP1)'!$C$137","v":0},"#'T2-B(PP1)'!$C$137"]
["pp1_bl4_8_8_unit_in",{"$f":"'T2-B(PP1)'!$D$137","v":0},"#'T2-B(PP1)'!$D$137"]
["pp1_bl4_8_8_units_out",{"$f":"'T2-B(PP1)'!$G$137","v":0},"#'T2-B(PP1)'!$G$137"]
["pp1_bl4_8_9_name",{"$f":"'T2-B(PP1)'!$B$138","v":0},"#'T2-B(PP1)'!$B$138"]
["pp1_bl4_8_9_rate_in",{"$f":"'T2-B(PP1)'!$E$138","v":0},"#'T2-B(PP1)'!$E$138"]
["pp1_bl4_8_9_rate_out",{"$f":"'T2-B(PP1)'!$H$138","v":0},"#'T2-B(PP1)'!$H$138"]
["pp1_bl4_8_9_total",{"$f":"'T2-B(PP1)'!$J$138","v":0},"#'T2-B(PP1)'!$J$138"]
["pp1_bl4_8_9_total_in",{"$f":"'T2-B(PP1)'!$F$138","v":0},"#'T2-B(PP1)'!$F$138"]
["pp1_bl4_8_9_total_out",{"$f":"'T2-B(PP1)'!$I$138","v":0},"#'T2-B(PP1)'!$I$138"]
["pp1_bl4_8_9_unit",{"$f":"'T2-B(PP1)'!$C$138","v":0},"#'T2-B(PP1)'!$C$138"]
["pp1_bl4_8_9_unit_in",{"$f":"'T2-B(PP1)'!$D$138","v":0},"#'T2-B(PP1)'!$D$138"]
["pp1_bl4_8_9_units_out",{"$f":"'T2-B(PP1)'!$G$138","v":0},"#'T2-B(PP1)'!$G$138"]
["pp1_bl4_8_total",{"$f":"'T2-B(PP1)'!$J$129","v":0},"#'T2-B(PP1)'!$J$129"]
["pp1_bl4_8_total_in",{"$f":"'T2-B(PP1)'!$F$129","v":0},"#'T2-B(PP1)'!$F$129"]
["pp1_bl4_8_total_out",{"$f":"'T2-B(PP1)'!$I$129","v":0},"#'T2-B(PP1)'!$I$129"]
["pp1_bl4_9_1_name",{"$f":"'T2-B(PP1)'!$B$141","v":0},"#'T2-B(PP1)'!$B$141"]
["pp1_bl4_9_1_rate_in",{"$f":"'T2-B(PP1)'!$E$141","v":0},"#'T2-B(PP1)'!$E$141"]
["pp1_bl4_9_1_rate_out",{"$f":"'T2-B(PP1)'!$H$141","v":0},"#'T2-B(PP1)'!$H$141"]
["pp1_bl4_9_1_total",{"$f":"'T2-B(PP1)'!$J$141","v":0},"#'T2-B(PP1)'!$J$141"]
["pp1_bl4_9_1_total_in",{"$f":"'T2-B(PP1)'!$F$141","v":0},"#'T2-B(PP1)'!$F$141"]
["pp1_bl4_9_1_total_out",{"$f":"'T2-B(PP1)'!$I$141","v":0},"#'T2-B(PP1)'!$I$141"]
["pp1_bl4_9_1_unit",{"$f":"'T2-B(PP1)'!$C$141","v":0},"#'T2-B(PP1)'!$C$141"]
["pp1_bl4_9_1_unit_in",{"$f":"'T2-B(PP1)'!$D$141","v":0},"#'T2-B(PP1)'!$D$141"]
["pp1_bl4_9_1_units_out",{"$f":"'T2-B(PP1)'!$G$141","v":0},"#'T2-B(PP1)'!$G$141"]
["pp1_bl4_9_10_name",{"$f":"'T2-B(PP1)'!$B$150","v":0},"#'T2-B(PP1)'!$B$150"]
["pp1_bl4_9_10_rate_in",{"$f":"'T2-B(PP1)'!$E$150","v":0},"#'T2-B(PP1)'!$E$150"]
["pp1_bl4_9_10_rate_out",{"$f":"'T2-B(PP1)'!$H$150","v":0},"#'T2-B(PP1)'!$H$150"]
["pp1_bl4_9_10_total",{"$f":"'T2-B(PP1)'!$J$150","v":0},"#'T2-B(PP1)'!$J$150"]
["pp1_bl4_9_10_total_in",{"$f":"'T2-B(PP1)'!$F$150","v":0},"#'T2-B(PP1)'!$F$150"]
["pp1_bl4_9_10_total_out",{"$f":"'T2-B(PP1)'!$I$150","v":0},"#'T2-B(PP1)'!$I$150"]
["pp1_bl4_9_10_unit",{"$f":"'T2-B(PP1)'!$C$150","v":0},"#'T2-B(PP1)'!$C$150"]
["pp1_bl4_9_10_unit_in",{"$f":"'T2-B(PP1)'!$D$150","v":0},"#'T2-B(PP1)'!$D$150"]
["pp1_bl4_9_10_units_out",{"$f":"'T2-B(PP1)'!$G$150","v":0},"#'T2-B(PP1)'!$G$150"]
["pp1_bl4_9_2_name",{"$f":"'T2-B(PP1)'!$B$142","v":0},"#'T2-B(PP1)'!$B$142"]
["pp1_bl4_9_2_rate_in",{"$f":"'T2-B(PP1)'!$E$142","v":0},"#'T2-B(PP1)'!$E$142"]
["pp1_bl4_9_2_rate_out",{"$f":"'T2-B(PP1)'!$H$142","v":0},"#'T2-B(PP1)'!$H$142"]
["pp1_bl4_9_2_total",{"$f":"'T2-B(PP1)'!$J$142","v":0},"#'T2-B(PP1)'!$J$142"]
["pp1_bl4_9_2_total_in",{"$f":"'T2-B(PP1)'!$F$142","v":0},"#'T2-B(PP1)'!$F$142"]
["pp1_bl4_9_2_total_out",{"$f":"'T2-B(PP1)'!$I$142","v":0},"#'T2-B(PP1)'!$I$142"]
["pp1_bl4_9_2_unit",{"$f":"'T2-B(PP1)'!$C$142","v":0},"#'T2-B(PP1)'!$C$142"]
["pp1_bl4_9_2_unit_in",{"$f":"'T2-B(PP1)'!$D$142","v":0},"#'T2-B(PP1)'!$D$142"]
["pp1_bl4_9_2_units_out",{"$f":"'T2-B(PP1)'!$G$142","v":0},"#'T2-B(PP1)'!$G$142"]
["pp1_bl4_9_3_name",{"$f":"'T2-B(PP1)'!$B$143","v":0},"#'T2-B(PP1)'!$B$143"]
["pp1_bl4_9_3_rate_in",{"$f":"'T2-B(PP1)'!$E$143","v":0},"#'T2-B(PP1)'!$E$143"]
["pp1_bl4_9_3_rate_out",{"$f":"'T2-B(PP1)'!$H$143","v":0},"#'T2-B(PP1)'!$H$143"]
["pp1_bl4_9_3_total",{"$f":"'T2-B(PP1)'!$J$143","v":0},"#'T2-B(PP1)'!$J$143"]
["pp1_bl4_9_3_total_in",{"$f":"'T2-B(PP1)'!$F$143","v":0},"#'T2-B(PP1)'!$F$143"]
["pp1_bl4_9_3_total_out",{"$f":"'T2-B(PP1)'!$I$143","v":0},"#'T2-B(PP1)'!$I$143"]
["pp1_bl4_9_3_unit",{"$f":"'T2-B(PP1)'!$C$143","v":0},"#'T2-B(PP1)'!$C$143"]
["pp1_bl4_9_3_unit_in",{"$f":"'T2-B(PP1)'!$D$143","v":0},"#'T2-B(PP1)'!$D$143"]
["pp1_bl4_9_3_units_out",{"$f":"'T2-B(PP1)'!$G$143","v":0},"#'T2-B(PP1)'!$G$143"]
["pp1_bl4_9_4_name",{"$f":"'T2-B(PP1)'!$B$144","v":0},"#'T2-B(PP1)'!$B$144"]
["pp1_bl4_9_4_rate_in",{"$f":"'T2-B(PP1)'!$E$144","v":0},"#'T2-B(PP1)'!$E$144"]
["pp1_bl4_9_4_rate_out",{"$f":"'T2-B(PP1)'!$H$144","v":0},"#'T2-B(PP1)'!$H$144"]
["pp1_bl4_9_4_total",{"$f":"'T2-B(PP1)'!$J$144","v":0},"#'T2-B(PP1)'!$J$144"]
["pp1_bl4_9_4_total_in",{"$f":"'T2-B(PP1)'!$F$144","v":0},"#'T2-B(PP1)'!$F$144"]
["pp1_bl4_9_4_total_out",{"$f":"'T2-B(PP1)'!$I$144","v":0},"#'T2-B(PP1)'!$I$144"]
["pp1_bl4_9_4_unit",{"$f":"'T2-B(PP1)'!$C$144","v":0},"#'T2-B(PP1)'!$C$144"]
["pp1_bl4_9_4_unit_in",{"$f":"'T2-B(PP1)'!$D$144","v":0},"#'T2-B(PP1)'!$D$144"]
["pp1_bl4_9_4_units_out",{"$f":"'T2-B(PP1)'!$G$144","v":0},"#'T2-B(PP1)'!$G$144"]
["pp1_bl4_9_5_name",{"$f":"'T2-B(PP1)'!$B$145","v":0},"#'T2-B(PP1)'!$B$145"]
["pp1_bl4_9_5_rate_in",{"$f":"'T2-B(PP1)'!$E$145","v":0},"#'T2-B(PP1)'!$E$145"]
["pp1_bl4_9_5_rate_out",{"$f":"'T2-B(PP1)'!$H$145","v":0},"#'T2-B(PP1)'!$H$145"]
["pp1_bl4_9_5_total",{"$f":"'T2-B(PP1)'!$J$145","v":0},"#'T2-B(PP1)'!$J$145"]
["pp1_bl4_9_5_total_in",{"$f":"'T2-B(PP1)'!$F$145","v":0},"#'T2-B(PP1)'!$F$145"]
["pp1_bl4_9_5_total_out",{"$f":"'T2-B(PP1)'!$I$145","v":0},"#'T2-B(PP1)'!$I$145"]
["pp1_bl4_9_5_unit",{"$f":"'T2-B(PP1)'!$C$145","v":0},"#'T2-B(PP1)'!$C$145"]
["pp1_bl4_9_5_unit_in",{"$f":"'T2-B(PP1)'!$D$145","v":0},"#'T2-B(PP1)'!$D$145"]
["pp1_bl4_9_5_units_out",{"$f":"'T2-B(PP1)'!$G$145","v":0},"#'T2-B(PP1)'!$G$145"]
["pp1_bl4_9_6_name",{"$f":"'T2-B(PP1)'!$B$146","v":0},"#'T2-B(PP1)'!$B$146"]
["pp1_bl4_9_6_rate_in",{"$f":"'T2-B(PP1)'!$E$146","v":0},"#'T2-B(PP1)'!$E$146"]
["pp1_bl4_9_6_rate_out",{"$f":"'T2-B(PP1)'!$H$146","v":0},"#'T2-B(PP1)'!$H$146"]
["pp1_bl4_9_6_total",{"$f":"'T2-B(PP1)'!$J$146","v":0},"#'T2-B(PP1)'!$J$146"]
["pp1_bl4_9_6_total_in",{"$f":"'T2-B(PP1)'!$F$146","v":0},"#'T2-B(PP1)'!$F$146"]
["pp1_bl4_9_6_total_out",{"$f":"'T2-B(PP1)'!$I$146","v":0},"#'T2-B(PP1)'!$I$146"]
["pp1_bl4_9_6_unit",{"$f":"'T2-B(PP1)'!$C$146","v":0},"#'T2-B(PP1)'!$C$146"]
["pp1_bl4_9_6_unit_in",{"$f":"'T2-B(PP1)'!$D$146","v":0},"#'T2-B(PP1)'!$D$146"]
["pp1_bl4_9_6_units_out",{"$f":"'T2-B(PP1)'!$G$146","v":0},"#'T2-B(PP1)'!$G$146"]
["pp1_bl4_9_7_name",{"$f":"'T2-B(PP1)'!$B$147","v":0},"#'T2-B(PP1)'!$B$147"]
["pp1_bl4_9_7_rate_in",{"$f":"'T2-B(PP1)'!$E$147","v":0},"#'T2-B(PP1)'!$E$147"]
["pp1_bl4_9_7_rate_out",{"$f":"'T2-B(PP1)'!$H$147","v":0},"#'T2-B(PP1)'!$H$147"]
["pp1_bl4_9_7_total",{"$f":"'T2-B(PP1)'!$J$147","v":0},"#'T2-B(PP1)'!$J$147"]
["pp1_bl4_9_7_total_in",{"$f":"'T2-B(PP1)'!$F$147","v":0},"#'T2-B(PP1)'!$F$147"]
["pp1_bl4_9_7_total_out",{"$f":"'T2-B(PP1)'!$I$147","v":0},"#'T2-B(PP1)'!$I$147"]
["pp1_bl4_9_7_unit",{"$f":"'T2-B(PP1)'!$C$147","v":0},"#'T2-B(PP1)'!$C$147"]
["pp1_bl4_9_7_unit_in",{"$f":"'T2-B(PP1)'!$D$147","v":0},"#'T2-B(PP1)'!$D$147"]
["pp1_bl4_9_7_units_out",{"$f":"'T2-B(PP1)'!$G$147","v":0},"#'T2-B(PP1)'!$G$147"]
["pp1_bl4_9_8_name",{"$f":"'T2-B(PP1)'!$B$148","v":0},"#'T2-B(PP1)'!$B$148"]
["pp1_bl4_9_8_rate_in",{"$f":"'T2-B(PP1)'!$E$148","v":0},"#'T2-B(PP1)'!$E$148"]
["pp1_bl4_9_8_rate_out",{"$f":"'T2-B(PP1)'!$H$148","v":0},"#'T2-B(PP1)'!$H$148"]
["pp1_bl4_9_8_total",{"$f":"'T2-B(PP1)'!$J$148","v":0},"#'T2-B(PP1)'!$J$148"]
["pp1_bl4_9_8_total_in",{"$f":"'T2-B(PP1)'!$F$148","v":0},"#'T2-B(PP1)'!$F$148"]
["pp1_bl4_9_8_total_out",{"$f":"'T2-B(PP1)'!$I$148","v":0},"#'T2-B(PP1)'!$I$148"]
["pp1_bl4_9_8_unit",{"$f":"'T2-B(PP1)'!$C$148","v":0},"#'T2-B(PP1)'!$C$148"]
["pp1_bl4_9_8_unit_in",{"$f":"'T2-B(PP1)'!$D$148","v":0},"#'T2-B(PP1)'!$D$148"]
["pp1_bl4_9_8_units_out",{"$f":"'T2-B(PP1)'!$G$148","v":0},"#'T2-B(PP1)'!$G$148"]
["pp1_bl4_9_9_name",{"$f":"'T2-B(PP1)'!$B$149","v":0},"#'T2-B(PP1)'!$B$149"]
["pp1_bl4_9_9_rate_in",{"$f":"'T2-B(PP1)'!$E$149","v":0},"#'T2-B(PP1)'!$E$149"]
["pp1_bl4_9_9_rate_out",{"$f":"'T2-B(PP1)'!$H$149","v":0},"#'T2-B(PP1)'!$H$149"]
["pp1_bl4_9_9_total",{"$f":"'T2-B(PP1)'!$J$149","v":0},"#'T2-B(PP1)'!$J$149"]
["pp1_bl4_9_9_total_in",{"$f":"'T2-B(PP1)'!$F$149","v":0},"#'T2-B(PP1)'!$F$149"]
["pp1_bl4_9_9_total_out",{"$f":"'T2-B(PP1)'!$I$149","v":0},"#'T2-B(PP1)'!$I$149"]
["pp1_bl4_9_9_unit",{"$f":"'T2-B(PP1)'!$C$149","v":0},"#'T2-B(PP1)'!$C$149"]
["pp1_bl4_9_9_unit_in",{"$f":"'T2-B(PP1)'!$D$149","v":0},"#'T2-B(PP1)'!$D$149"]
["pp1_bl4_9_9_units_out",{"$f":"'T2-B(PP1)'!$G$149","v":0},"#'T2-B(PP1)'!$G$149"]
["pp1_bl4_9_total",{"$f":"'T2-B(PP1)'!$J$140","v":0},"#'T2-B(PP1)'!$J$140"]
["pp1_bl4_9_total_in",{"$f":"'T2-B(PP1)'!$F$140","v":0},"#'T2-B(PP1)'!$F$140"]
["pp1_bl4_9_total_out",{"$f":"'T2-B(PP1)'!$I$140","v":0},"#'T2-B(PP1)'!$I$140"]
["pp1_bl4_total",{"$f":"'T2-B(PP1)'!$J$173","v":0},"#'T2-B(PP1)'!$J$173"]
["pp1_bl4_total_in",{"$f":"'T2-B(PP1)'!$F$173","v":0},"#'T2-B(PP1)'!$F$173"]
["pp1_bl4_total_out",{"$f":"'T2-B(PP1)'!$I$173","v":0},"#'T2-B(PP1)'!$I$173"]
["pp1_bl5_1_1_name",{"$f":"'T2-B(PP1)'!$B$178","v":0},"#'T2-B(PP1)'!$B$178"]
["pp1_bl5_1_1_rate_in",{"$f":"'T2-B(PP1)'!$E$178","v":0},"#'T2-B(PP1)'!$E$178"]
["pp1_bl5_1_1_rate_out",{"$f":"'T2-B(PP1)'!$H$178","v":0},"#'T2-B(PP1)'!$H$178"]
["pp1_bl5_1_1_total",{"$f":"'T2-B(PP1)'!$J$178","v":0},"#'T2-B(PP1)'!$J$178"]
["pp1_bl5_1_1_total_in",{"$f":"'T2-B(PP1)'!$F$178","v":0},"#'T2-B(PP1)'!$F$178"]
["pp1_bl5_1_1_total_out",{"$f":"'T2-B(PP1)'!$I$178","v":0},"#'T2-B(PP1)'!$I$178"]
["pp1_bl5_1_1_unit",{"$f":"'T2-B(PP1)'!$C$178","v":0},"#'T2-B(PP1)'!$C$178"]
["pp1_bl5_1_1_unit_in",{"$f":"'T2-B(PP1)'!$D$178","v":0},"#'T2-B(PP1)'!$D$178"]
["pp1_bl5_1_1_units_out",{"$f":"'T2-B(PP1)'!$G$178","v":0},"#'T2-B(PP1)'!$G$178"]
["pp1_bl5_1_10_name",{"$f":"'T2-B(PP1)'!$B$187","v":0},"#'T2-B(PP1)'!$B$187"]
["pp1_bl5_1_10_rate_in",{"$f":"'T2-B(PP1)'!$E$187","v":0},"#'T2-B(PP1)'!$E$187"]
["pp1_bl5_1_10_rate_out",{"$f":"'T2-B(PP1)'!$H$187","v":0},"#'T2-B(PP1)'!$H$187"]
["pp1_bl5_1_10_total",{"$f":"'T2-B(PP1)'!$J$187","v":0},"#'T2-B(PP1)'!$J$187"]
["pp1_bl5_1_10_total_in",{"$f":"'T2-B(PP1)'!$F$187","v":0},"#'T2-B(PP1)'!$F$187"]
["pp1_bl5_1_10_total_out",{"$f":"'T2-B(PP1)'!$I$187","v":0},"#'T2-B(PP1)'!$I$187"]
["pp1_bl5_1_10_unit",{"$f":"'T2-B(PP1)'!$C$187","v":0},"#'T2-B(PP1)'!$C$187"]
["pp1_bl5_1_10_unit_in",{"$f":"'T2-B(PP1)'!$D$187","v":0},"#'T2-B(PP1)'!$D$187"]
["pp1_bl5_1_10_units_out",{"$f":"'T2-B(PP1)'!$G$187","v":0},"#'T2-B(PP1)'!$G$187"]
["pp1_bl5_1_2_name",{"$f":"'T2-B(PP1)'!$B$179","v":0},"#'T2-B(PP1)'!$B$179"]
["pp1_bl5_1_2_rate_in",{"$f":"'T2-B(PP1)'!$E$179","v":0},"#'T2-B(PP1)'!$E$179"]
["pp1_bl5_1_2_rate_out",{"$f":"'T2-B(PP1)'!$H$179","v":0},"#'T2-B(PP1)'!$H$179"]
["pp1_bl5_1_2_total",{"$f":"'T2-B(PP1)'!$J$179","v":0},"#'T2-B(PP1)'!$J$179"]
["pp1_bl5_1_2_total_in",{"$f":"'T2-B(PP1)'!$F$179","v":0},"#'T2-B(PP1)'!$F$179"]
["pp1_bl5_1_2_total_out",{"$f":"'T2-B(PP1)'!$I$179","v":0},"#'T2-B(PP1)'!$I$179"]
["pp1_bl5_1_2_unit",{"$f":"'T2-B(PP1)'!$C$179","v":0},"#'T2-B(PP1)'!$C$179"]
["pp1_bl5_1_2_unit_in",{"$f":"'T2-B(PP1)'!$D$179","v":0},"#'T2-B(PP1)'!$D$179"]
["pp1_bl5_1_2_units_out",{"$f":"'T2-B(PP1)'!$G$179","v":0},"#'T2-B(PP1)'!$G$179"]
["pp1_bl5_1_3_name",{"$f":"'T2-B(PP1)'!$B$180","v":0},"#'T2-B(PP1)'!$B$180"]
["pp1_bl5_1_3_rate_in",{"$f":"'T2-B(PP1)'!$E$180","v":0},"#'T2-B(PP1)'!$E$180"]
["pp1_bl5_1_3_rate_out",{"$f":"'T2-B(PP1)'!$H$180","v":0},"#'T2-B(PP1)'!$H$180"]
["pp1_bl5_1_3_total",{"$f":"'T2-B(PP1)'!$J$180","v":0},"#'T2-B(PP1)'!$J$180"]
["pp1_bl5_1_3_total_in",{"$f":"'T2-B(PP1)'!$F$180","v":0},"#'T2-B(PP1)'!$F$180"]
["pp1_bl5_1_3_total_out",{"$f":"'T2-B(PP1)'!$I$180","v":0},"#'T2-B(PP1)'!$I$180"]
["pp1_bl5_1_3_unit",{"$f":"'T2-B(PP1)'!$C$180","v":0},"#'T2-B(PP1)'!$C$180"]
["pp1_bl5_1_3_unit_in",{"$f":"'T2-B(PP1)'!$D$180","v":0},"#'T2-B(PP1)'!$D$180"]
["pp1_bl5_1_3_units_out",{"$f":"'T2-B(PP1)'!$G$180","v":0},"#'T2-B(PP1)'!$G$180"]
["pp1_bl5_1_4_name",{"$f":"'T2-B(PP1)'!$B$181","v":0},"#'T2-B(PP1)'!$B$181"]
["pp1_bl5_1_4_rate_in",{"$f":"'T2-B(PP1)'!$E$181","v":0},"#'T2-B(PP1)'!$E$181"]
["pp1_bl5_1_4_rate_out",{"$f":"'T2-B(PP1)'!$H$181","v":0},"#'T2-B(PP1)'!$H$181"]
["pp1_bl5_1_4_total",{"$f":"'T2-B(PP1)'!$J$181","v":0},"#'T2-B(PP1)'!$J$181"]
["pp1_bl5_1_4_total_in",{"$f":"'T2-B(PP1)'!$F$181","v":0},"#'T2-B(PP1)'!$F$181"]
["pp1_bl5_1_4_total_out",{"$f":"'T2-B(PP1)'!$I$181","v":0},"#'T2-B(PP1)'!$I$181"]
["pp1_bl5_1_4_unit",{"$f":"'T2-B(PP1)'!$C$181","v":0},"#'T2-B(PP1)'!$C$181"]
["pp1_bl5_1_4_unit_in",{"$f":"'T2-B(PP1)'!$D$181","v":0},"#'T2-B(PP1)'!$D$181"]
["pp1_bl5_1_4_units_out",{"$f":"'T2-B(PP1)'!$G$181","v":0},"#'T2-B(PP1)'!$G$181"]
["pp1_bl5_1_5_name",{"$f":"'T2-B(PP1)'!$B$182","v":0},"#'T2-B(PP1)'!$B$182"]
["pp1_bl5_1_5_rate_in",{"$f":"'T2-B(PP1)'!$E$182","v":0},"#'T2-B(PP1)'!$E$182"]
["pp1_bl5_1_5_rate_out",{"$f":"'T2-B(PP1)'!$H$182","v":0},"#'T2-B(PP1)'!$H$182"]
["pp1_bl5_1_5_total",{"$f":"'T2-B(PP1)'!$J$182","v":0},"#'T2-B(PP1)'!$J$182"]
["pp1_bl5_1_5_total_in",{"$f":"'T2-B(PP1)'!$F$182","v":0},"#'T2-B(PP1)'!$F$182"]
["pp1_bl5_1_5_total_out",{"$f":"'T2-B(PP1)'!$I$182","v":0},"#'T2-B(PP1)'!$I$182"]
["pp1_bl5_1_5_unit",{"$f":"'T2-B(PP1)'!$C$182","v":0},"#'T2-B(PP1)'!$C$182"]
["pp1_bl5_1_5_unit_in",{"$f":"'T2-B(PP1)'!$D$182","v":0},"#'T2-B(PP1)'!$D$182"]
["pp1_bl5_1_5_units_out",{"$f":"'T2-B(PP1)'!$G$182","v":0},"#'T2-B(PP1)'!$G$182"]
["pp1_bl5_1_6_name",{"$f":"'T2-B(PP1)'!$B$183","v":0},"#'T2-B(PP1)'!$B$183"]
["pp1_bl5_1_6_rate_in",{"$f":"'T2-B(PP1)'!$E$183","v":0},"#'T2-B(PP1)'!$E$183"]
["pp1_bl5_1_6_rate_out",{"$f":"'T2-B(PP1)'!$H$183","v":0},"#'T2-B(PP1)'!$H$183"]
["pp1_bl5_1_6_total",{"$f":"'T2-B(PP1)'!$J$183","v":0},"#'T2-B(PP1)'!$J$183"]
["pp1_bl5_1_6_total_in",{"$f":"'T2-B(PP1)'!$F$183","v":0},"#'T2-B(PP1)'!$F$183"]
["pp1_bl5_1_6_total_out",{"$f":"'T2-B(PP1)'!$I$183","v":0},"#'T2-B(PP1)'!$I$183"]
["pp1_bl5_1_6_unit",{"$f":"'T2-B(PP1)'!$C$183","v":0},"#'T2-B(PP1)'!$C$183"]
["pp1_bl5_1_6_unit_in",{"$f":"'T2-B(PP1)'!$D$183","v":0},"#'T2-B(PP1)'!$D$183"]
["pp1_bl5_1_6_units_out",{"$f":"'T2-B(PP1)'!$G$183","v":0},"#'T2-B(PP1)'!$G$183"]
["pp1_bl5_1_7_name",{"$f":"'T2-B(PP1)'!$B$184","v":0},"#'T2-B(PP1)'!$B$184"]
["pp1_bl5_1_7_rate_in",{"$f":"'T2-B(PP1)'!$E$184","v":0},"#'T2-B(PP1)'!$E$184"]
["pp1_bl5_1_7_rate_out",{"$f":"'T2-B(PP1)'!$H$184","v":0},"#'T2-B(PP1)'!$H$184"]
["pp1_bl5_1_7_total",{"$f":"'T2-B(PP1)'!$J$184","v":0},"#'T2-B(PP1)'!$J$184"]
["pp1_bl5_1_7_total_in",{"$f":"'T2-B(PP1)'!$F$184","v":0},"#'T2-B(PP1)'!$F$184"]
["pp1_bl5_1_7_total_out",{"$f":"'T2-B(PP1)'!$I$184","v":0},"#'T2-B(PP1)'!$I$184"]
["pp1_bl5_1_7_unit",{"$f":"'T2-B(PP1)'!$C$184","v":0},"#'T2-B(PP1)'!$C$184"]
["pp1_bl5_1_7_unit_in",{"$f":"'T2-B(PP1)'!$D$184","v":0},"#'T2-B(PP1)'!$D$184"]
["pp1_bl5_1_7_units_out",{"$f":"'T2-B(PP1)'!$G$184","v":0},"#'T2-B(PP1)'!$G$184"]
["pp1_bl5_1_8_name",{"$f":"'T2-B(PP1)'!$B$185","v":0},"#'T2-B(PP1)'!$B$185"]
["pp1_bl5_1_8_rate_in",{"$f":"'T2-B(PP1)'!$E$185","v":0},"#'T2-B(PP1)'!$E$185"]
["pp1_bl5_1_8_rate_out",{"$f":"'T2-B(PP1)'!$H$185","v":0},"#'T2-B(PP1)'!$H$185"]
["pp1_bl5_1_8_total",{"$f":"'T2-B(PP1)'!$J$185","v":0},"#'T2-B(PP1)'!$J$185"]
["pp1_bl5_1_8_total_in",{"$f":"'T2-B(PP1)'!$F$185","v":0},"#'T2-B(PP1)'!$F$185"]
["pp1_bl5_1_8_total_out",{"$f":"'T2-B(PP1)'!$I$185","v":0},"#'T2-B(PP1)'!$I$185"]
["pp1_bl5_1_8_unit",{"$f":"'T2-B(PP1)'!$C$185","v":0},"#'T2-B(PP1)'!$C$185"]
["pp1_bl5_1_8_unit_in",{"$f":"'T2-B(PP1)'!$D$185","v":0},"#'T2-B(PP1)'!$D$185"]
["pp1_bl5_1_8_units_out",{"$f":"'T2-B(PP1)'!$G$185","v":0},"#'T2-B(PP1)'!$G$185"]
["pp1_bl5_1_9_name",{"$f":"'T2-B(PP1)'!$B$186","v":0},"#'T2-B(PP1)'!$B$186"]
["pp1_bl5_1_9_rate_in",{"$f":"'T2-B(PP1)'!$E$186","v":0},"#'T2-B(PP1)'!$E$186"]
["pp1_bl5_1_9_rate_out",{"$f":"'T2-B(PP1)'!$H$186","v":0},"#'T2-B(PP1)'!$H$186"]
["pp1_bl5_1_9_total",{"$f":"'T2-B(PP1)'!$J$186","v":0},"#'T2-B(PP1)'!$J$186"]
["pp1_bl5_1_9_total_in",{"$f":"'T2-B(PP1)'!$F$186","v":0},"#'T2-B(PP1)'!$F$186"]
["pp1_bl5_1_9_total_out",{"$f":"'T2-B(PP1)'!$I$186","v":0},"#'T2-B(PP1)'!$I$186"]
["pp1_bl5_1_9_unit",{"$f":"'T2-B(PP1)'!$C$186","v":0},"#'T2-B(PP1)'!$C$186"]
["pp1_bl5_1_9_unit_in",{"$f":"'T2-B(PP1)'!$D$186","v":0},"#'T2-B(PP1)'!$D$186"]
["pp1_bl5_1_9_units_out",{"$f":"'T2-B(PP1)'!$G$186","v":0},"#'T2-B(PP1)'!$G$186"]
["pp1_bl5_1_total",{"$f":"'T2-B(PP1)'!$J$177","v":0},"#'T2-B(PP1)'!$J$177"]
["pp1_bl5_1_total_in",{"$f":"'T2-B(PP1)'!$F$177","v":0},"#'T2-B(PP1)'!$F$177"]
["pp1_bl5_1_total_out",{"$f":"'T2-B(PP1)'!$I$177","v":0},"#'T2-B(PP1)'!$I$177"]
["pp1_bl5_2_1_name",{"$f":"'T2-B(PP1)'!$B$189","v":0},"#'T2-B(PP1)'!$B$189"]
["pp1_bl5_2_1_rate_in",{"$f":"'T2-B(PP1)'!$E$189","v":0},"#'T2-B(PP1)'!$E$189"]
["pp1_bl5_2_1_rate_out",{"$f":"'T2-B(PP1)'!$H$189","v":0},"#'T2-B(PP1)'!$H$189"]
["pp1_bl5_2_1_total",{"$f":"'T2-B(PP1)'!$J$189","v":0},"#'T2-B(PP1)'!$J$189"]
["pp1_bl5_2_1_total_in",{"$f":"'T2-B(PP1)'!$F$189","v":0},"#'T2-B(PP1)'!$F$189"]
["pp1_bl5_2_1_total_out",{"$f":"'T2-B(PP1)'!$I$189","v":0},"#'T2-B(PP1)'!$I$189"]
["pp1_bl5_2_1_unit",{"$f":"'T2-B(PP1)'!$C$189","v":0},"#'T2-B(PP1)'!$C$189"]
["pp1_bl5_2_1_unit_in",{"$f":"'T2-B(PP1)'!$D$189","v":0},"#'T2-B(PP1)'!$D$189"]
["pp1_bl5_2_1_units_out",{"$f":"'T2-B(PP1)'!$G$189","v":0},"#'T2-B(PP1)'!$G$189"]
["pp1_bl5_2_10_name",{"$f":"'T2-B(PP1)'!$B$198","v":0},"#'T2-B(PP1)'!$B$198"]
["pp1_bl5_2_10_rate_in",{"$f":"'T2-B(PP1)'!$E$198","v":0},"#'T2-B(PP1)'!$E$198"]
["pp1_bl5_2_10_rate_out",{"$f":"'T2-B(PP1)'!$H$198","v":0},"#'T2-B(PP1)'!$H$198"]
["pp1_bl5_2_10_total",{"$f":"'T2-B(PP1)'!$J$198","v":0},"#'T2-B(PP1)'!$J$198"]
["pp1_bl5_2_10_total_in",{"$f":"'T2-B(PP1)'!$F$198","v":0},"#'T2-B(PP1)'!$F$198"]
["pp1_bl5_2_10_total_out",{"$f":"'T2-B(PP1)'!$I$198","v":0},"#'T2-B(PP1)'!$I$198"]
["pp1_bl5_2_10_unit",{"$f":"'T2-B(PP1)'!$C$198","v":0},"#'T2-B(PP1)'!$C$198"]
["pp1_bl5_2_10_unit_in",{"$f":"'T2-B(PP1)'!$D$198","v":0},"#'T2-B(PP1)'!$D$198"]
["pp1_bl5_2_10_units_out",{"$f":"'T2-B(PP1)'!$G$198","v":0},"#'T2-B(PP1)'!$G$198"]
["pp1_bl5_2_2_name",{"$f":"'T2-B(PP1)'!$B$190","v":0},"#'T2-B(PP1)'!$B$190"]
["pp1_bl5_2_2_rate_in",{"$f":"'T2-B(PP1)'!$E$190","v":0},"#'T2-B(PP1)'!$E$190"]
["pp1_bl5_2_2_rate_out",{"$f":"'T2-B(PP1)'!$H$190","v":0},"#'T2-B(PP1)'!$H$190"]
["pp1_bl5_2_2_total",{"$f":"'T2-B(PP1)'!$J$190","v":0},"#'T2-B(PP1)'!$J$190"]
["pp1_bl5_2_2_total_in",{"$f":"'T2-B(PP1)'!$F$190","v":0},"#'T2-B(PP1)'!$F$190"]
["pp1_bl5_2_2_total_out",{"$f":"'T2-B(PP1)'!$I$190","v":0},"#'T2-B(PP1)'!$I$190"]
["pp1_bl5_2_2_unit",{"$f":"'T2-B(PP1)'!$C$190","v":0},"#'T2-B(PP1)'!$C$190"]
["pp1_bl5_2_2_unit_in",{"$f":"'T2-B(PP1)'!$D$190","v":0},"#'T2-B(PP1)'!$D$190"]
["pp1_bl5_2_2_units_out",{"$f":"'T2-B(PP1)'!$G$190","v":0},"#'T2-B(PP1)'!$G$190"]
["pp1_bl5_2_3_name",{"$f":"'T2-B(PP1)'!$B$191","v":0},"#'T2-B(PP1)'!$B$191"]
["pp1_bl5_2_3_rate_in",{"$f":"'T2-B(PP1)'!$E$191","v":0},"#'T2-B(PP1)'!$E$191"]
["pp1_bl5_2_3_rate_out",{"$f":"'T2-B(PP1)'!$H$191","v":0},"#'T2-B(PP1)'!$H$191"]
["pp1_bl5_2_3_total",{"$f":"'T2-B(PP1)'!$J$191","v":0},"#'T2-B(PP1)'!$J$191"]
["pp1_bl5_2_3_total_in",{"$f":"'T2-B(PP1)'!$F$191","v":0},"#'T2-B(PP1)'!$F$191"]
["pp1_bl5_2_3_total_out",{"$f":"'T2-B(PP1)'!$I$191","v":0},"#'T2-B(PP1)'!$I$191"]
["pp1_bl5_2_3_unit",{"$f":"'T2-B(PP1)'!$C$191","v":0},"#'T2-B(PP1)'!$C$191"]
["pp1_bl5_2_3_unit_in",{"$f":"'T2-B(PP1)'!$D$191","v":0},"#'T2-B(PP1)'!$D$191"]
["pp1_bl5_2_3_units_out",{"$f":"'T2-B(PP1)'!$G$191","v":0},"#'T2-B(PP1)'!$G$191"]
["pp1_bl5_2_4_name",{"$f":"'T2-B(PP1)'!$B$192","v":0},"#'T2-B(PP1)'!$B$192"]
["pp1_bl5_2_4_rate_in",{"$f":"'T2-B(PP1)'!$E$192","v":0},"#'T2-B(PP1)'!$E$192"]
["pp1_bl5_2_4_rate_out",{"$f":"'T2-B(PP1)'!$H$192","v":0},"#'T2-B(PP1)'!$H$192"]
["pp1_bl5_2_4_total",{"$f":"'T2-B(PP1)'!$J$192","v":0},"#'T2-B(PP1)'!$J$192"]
["pp1_bl5_2_4_total_in",{"$f":"'T2-B(PP1)'!$F$192","v":0},"#'T2-B(PP1)'!$F$192"]
["pp1_bl5_2_4_total_out",{"$f":"'T2-B(PP1)'!$I$192","v":0},"#'T2-B(PP1)'!$I$192"]
["pp1_bl5_2_4_unit",{"$f":"'T2-B(PP1)'!$C$192","v":0},"#'T2-B(PP1)'!$C$192"]
["pp1_bl5_2_4_unit_in",{"$f":"'T2-B(PP1)'!$D$192","v":0},"#'T2-B(PP1)'!$D$192"]
["pp1_bl5_2_4_units_out",{"$f":"'T2-B(PP1)'!$G$192","v":0},"#'T2-B(PP1)'!$G$192"]
["pp1_bl5_2_5_name",{"$f":"'T2-B(PP1)'!$B$193","v":0},"#'T2-B(PP1)'!$B$193"]
["pp1_bl5_2_5_rate_in",{"$f":"'T2-B(PP1)'!$E$193","v":0},"#'T2-B(PP1)'!$E$193"]
["pp1_bl5_2_5_rate_out",{"$f":"'T2-B(PP1)'!$H$193","v":0},"#'T2-B(PP1)'!$H$193"]
["pp1_bl5_2_5_total",{"$f":"'T2-B(PP1)'!$J$193","v":0},"#'T2-B(PP1)'!$J$193"]
["pp1_bl5_2_5_total_in",{"$f":"'T2-B(PP1)'!$F$193","v":0},"#'T2-B(PP1)'!$F$193"]
["pp1_bl5_2_5_total_out",{"$f":"'T2-B(PP1)'!$I$193","v":0},"#'T2-B(PP1)'!$I$193"]
["pp1_bl5_2_5_unit",{"$f":"'T2-B(PP1)'!$C$193","v":0},"#'T2-B(PP1)'!$C$193"]
["pp1_bl5_2_5_unit_in",{"$f":"'T2-B(PP1)'!$D$193","v":0},"#'T2-B(PP1)'!$D$193"]
["pp1_bl5_2_5_units_out",{"$f":"'T2-B(PP1)'!$G$193","v":0},"#'T2-B(PP1)'!$G$193"]
["pp1_bl5_2_6_name",{"$f":"'T2-B(PP1)'!$B$194","v":0},"#'T2-B(PP1)'!$B$194"]
["pp1_bl5_2_6_rate_in",{"$f":"'T2-B(PP1)'!$E$194","v":0},"#'T2-B(PP1)'!$E$194"]
["pp1_bl5_2_6_rate_out",{"$f":"'T2-B(PP1)'!$H$194","v":0},"#'T2-B(PP1)'!$H$194"]
["pp1_bl5_2_6_total",{"$f":"'T2-B(PP1)'!$J$194","v":0},"#'T2-B(PP1)'!$J$194"]
["pp1_bl5_2_6_total_in",{"$f":"'T2-B(PP1)'!$F$194","v":0},"#'T2-B(PP1)'!$F$194"]
["pp1_bl5_2_6_total_out",{"$f":"'T2-B(PP1)'!$I$194","v":0},"#'T2-B(PP1)'!$I$194"]
["pp1_bl5_2_6_unit",{"$f":"'T2-B(PP1)'!$C$194","v":0},"#'T2-B(PP1)'!$C$194"]
["pp1_bl5_2_6_unit_in",{"$f":"'T2-B(PP1)'!$D$194","v":0},"#'T2-B(PP1)'!$D$194"]
["pp1_bl5_2_6_units_out",{"$f":"'T2-B(PP1)'!$G$194","v":0},"#'T2-B(PP1)'!$G$194"]
["pp1_bl5_2_7_name",{"$f":"'T2-B(PP1)'!$B$195","v":0},"#'T2-B(PP1)'!$B$195"]
["pp1_bl5_2_7_rate_in",{"$f":"'T2-B(PP1)'!$E$195","v":0},"#'T2-B(PP1)'!$E$195"]
["pp1_bl5_2_7_rate_out",{"$f":"'T2-B(PP1)'!$H$195","v":0},"#'T2-B(PP1)'!$H$195"]
["pp1_bl5_2_7_total",{"$f":"'T2-B(PP1)'!$J$195","v":0},"#'T2-B(PP1)'!$J$195"]
["pp1_bl5_2_7_total_in",{"$f":"'T2-B(PP1)'!$F$195","v":0},"#'T2-B(PP1)'!$F$195"]
["pp1_bl5_2_7_total_out",{"$f":"'T2-B(PP1)'!$I$195","v":0},"#'T2-B(PP1)'!$I$195"]
["pp1_bl5_2_7_unit",{"$f":"'T2-B(PP1)'!$C$195","v":0},"#'T2-B(PP1)'!$C$195"]
["pp1_bl5_2_7_unit_in",{"$f":"'T2-B(PP1)'!$D$195","v":0},"#'T2-B(PP1)'!$D$195"]
["pp1_bl5_2_7_units_out",{"$f":"'T2-B(PP1)'!$G$195","v":0},"#'T2-B(PP1)'!$G$195"]
["pp1_bl5_2_8_name",{"$f":"'T2-B(PP1)'!$B$196","v":0},"#'T2-B(PP1)'!$B$196"]
["pp1_bl5_2_8_rate_in",{"$f":"'T2-B(PP1)'!$E$196","v":0},"#'T2-B(PP1)'!$E$196"]
["pp1_bl5_2_8_rate_out",{"$f":"'T2-B(PP1)'!$H$196","v":0},"#'T2-B(PP1)'!$H$196"]
["pp1_bl5_2_8_total",{"$f":"'T2-B(PP1)'!$J$196","v":0},"#'T2-B(PP1)'!$J$196"]
["pp1_bl5_2_8_total_in",{"$f":"'T2-B(PP1)'!$F$196","v":0},"#'T2-B(PP1)'!$F$196"]
["pp1_bl5_2_8_total_out",{"$f":"'T2-B(PP1)'!$I$196","v":0},"#'T2-B(PP1)'!$I$196"]
["pp1_bl5_2_8_unit",{"$f":"'T2-B(PP1)'!$C$196","v":0},"#'T2-B(PP1)'!$C$196"]
["pp1_bl5_2_8_unit_in",{"$f":"'T2-B(PP1)'!$D$196","v":0},"#'T2-B(PP1)'!$D$196"]
["pp1_bl5_2_8_units_out",{"$f":"'T2-B(PP1)'!$G$196","v":0},"#'T2-B(PP1)'!$G$196"]
["pp1_bl5_2_9_name",{"$f":"'T2-B(PP1)'!$B$197","v":0},"#'T2-B(PP1)'!$B$197"]
["pp1_bl5_2_9_rate_in",{"$f":"'T2-B(PP1)'!$E$197","v":0},"#'T2-B(PP1)'!$E$197"]
["pp1_bl5_2_9_rate_out",{"$f":"'T2-B(PP1)'!$H$197","v":0},"#'T2-B(PP1)'!$H$197"]
["pp1_bl5_2_9_total",{"$f":"'T2-B(PP1)'!$J$197","v":0},"#'T2-B(PP1)'!$J$197"]
["pp1_bl5_2_9_total_in",{"$f":"'T2-B(PP1)'!$F$197","v":0},"#'T2-B(PP1)'!$F$197"]
["pp1_bl5_2_9_total_out",{"$f":"'T2-B(PP1)'!$I$197","v":0},"#'T2-B(PP1)'!$I$197"]
["pp1_bl5_2_9_unit",{"$f":"'T2-B(PP1)'!$C$197","v":0},"#'T2-B(PP1)'!$C$197"]
["pp1_bl5_2_9_unit_in",{"$f":"'T2-B(PP1)'!$D$197","v":0},"#'T2-B(PP1)'!$D$197"]
["pp1_bl5_2_9_units_out",{"$f":"'T2-B(PP1)'!$G$197","v":0},"#'T2-B(PP1)'!$G$197"]
["pp1_bl5_2_total",{"$f":"'T2-B(PP1)'!$J$188","v":0},"#'T2-B(PP1)'!$J$188"]
["pp1_bl5_2_total_in",{"$f":"'T2-B(PP1)'!$F$188","v":0},"#'T2-B(PP1)'!$F$188"]
["pp1_bl5_2_total_out",{"$f":"'T2-B(PP1)'!$I$188","v":0},"#'T2-B(PP1)'!$I$188"]
["pp1_bl5_total",{"$f":"'T2-B(PP1)'!$J$199","v":0},"#'T2-B(PP1)'!$J$199"]
["pp1_bl5_total_in",{"$f":"'T2-B(PP1)'!$F$199","v":0},"#'T2-B(PP1)'!$F$199"]
["pp1_bl5_total_out",{"$f":"'T2-B(PP1)'!$I$199","v":0},"#'T2-B(PP1)'!$I$199"]
["pp1_bl6_1_1_name",{"$f":"'T2-B(PP1)'!$B$203","v":"6.1. Preparation of Application package "},"#'T2-B(PP1)'!$B$203"]
["pp1_bl6_1_1_rate_in",{"$f":"'T2-B(PP1)'!$E$203","v":0},"#'T2-B(PP1)'!$E$203"]
["pp1_bl6_1_1_rate_out",{"$f":"'T2-B(PP1)'!$H$203","v":0},"#'T2-B(PP1)'!$H$203"]
["pp1_bl6_1_1_total",{"$f":"'T2-B(PP1)'!$J$203","v":0},"#'T2-B(PP1)'!$J$203"]
["pp1_bl6_1_1_total_in",{"$f":"'T2-B(PP1)'!$F$203","v":0},"#'T2-B(PP1)'!$F$203"]
["pp1_bl6_1_1_total_out",{"$f":"'T2-B(PP1)'!$I$203","v":0},"#'T2-B(PP1)'!$I$203"]
["pp1_bl6_1_1_unit",{"$f":"'T2-B(PP1)'!$C$203","v":0},"#'T2-B(PP1)'!$C$203"]
["pp1_bl6_1_1_unit_in",{"$f":"'T2-B(PP1)'!$D$203","v":0},"#'T2-B(PP1)'!$D$203"]
["pp1_bl6_1_1_units_out",{"$f":"'T2-B(PP1)'!$G$203","v":0},"#'T2-B(PP1)'!$G$203"]
["pp1_bl6_1_10_name",{"$f":"'T2-B(PP1)'!$B$212","v":0},"#'T2-B(PP1)'!$B$212"]
["pp1_bl6_1_10_rate_in",{"$f":"'T2-B(PP1)'!$E$212","v":0},"#'T2-B(PP1)'!$E$212"]
["pp1_bl6_1_10_rate_out",{"$f":"'T2-B(PP1)'!$H$212","v":0},"#'T2-B(PP1)'!$H$212"]
["pp1_bl6_1_10_total",{"$f":"'T2-B(PP1)'!$J$212","v":0},"#'T2-B(PP1)'!$J$212"]
["pp1_bl6_1_10_total_in",{"$f":"'T2-B(PP1)'!$F$212","v":0},"#'T2-B(PP1)'!$F$212"]
["pp1_bl6_1_10_total_out",{"$f":"'T2-B(PP1)'!$I$212","v":0},"#'T2-B(PP1)'!$I$212"]
["pp1_bl6_1_10_unit",{"$f":"'T2-B(PP1)'!$C$212","v":0},"#'T2-B(PP1)'!$C$212"]
["pp1_bl6_1_10_unit_in",{"$f":"'T2-B(PP1)'!$D$212","v":0},"#'T2-B(PP1)'!$D$212"]
["pp1_bl6_1_10_units_out",{"$f":"'T2-B(PP1)'!$G$212","v":0},"#'T2-B(PP1)'!$G$212"]
["pp1_bl6_1_2_name",{"$f":"'T2-B(PP1)'!$B$204","v":0},"#'T2-B(PP1)'!$B$204"]
["pp1_bl6_1_2_rate_in",{"$f":"'T2-B(PP1)'!$E$204","v":0},"#'T2-B(PP1)'!$E$204"]
["pp1_bl6_1_2_rate_out",{"$f":"'T2-B(PP1)'!$H$204","v":0},"#'T2-B(PP1)'!$H$204"]
["pp1_bl6_1_2_total",{"$f":"'T2-B(PP1)'!$J$204","v":0},"#'T2-B(PP1)'!$J$204"]
["pp1_bl6_1_2_total_in",{"$f":"'T2-B(PP1)'!$F$204","v":0},"#'T2-B(PP1)'!$F$204"]
["pp1_bl6_1_2_total_out",{"$f":"'T2-B(PP1)'!$I$204","v":0},"#'T2-B(PP1)'!$I$204"]
["pp1_bl6_1_2_unit",{"$f":"'T2-B(PP1)'!$C$204","v":0},"#'T2-B(PP1)'!$C$204"]
["pp1_bl6_1_2_unit_in",{"$f":"'T2-B(PP1)'!$D$204","v":0},"#'T2-B(PP1)'!$D$204"]
["pp1_bl6_1_2_units_out",{"$f":"'T2-B(PP1)'!$G$204","v":0},"#'T2-B(PP1)'!$G$204"]
["pp1_bl6_1_3_name",{"$f":"'T2-B(PP1)'!$B$205","v":0},"#'T2-B(PP1)'!$B$205"]
["pp1_bl6_1_3_rate_in",{"$f":"'T2-B(PP1)'!$E$205","v":0},"#'T2-B(PP1)'!$E$205"]
["pp1_bl6_1_3_rate_out",{"$f":"'T2-B(PP1)'!$H$205","v":0},"#'T2-B(PP1)'!$H$205"]
["pp1_bl6_1_3_total",{"$f":"'T2-B(PP1)'!$J$205","v":0},"#'T2-B(PP1)'!$J$205"]
["pp1_bl6_1_3_total_in",{"$f":"'T2-B(PP1)'!$F$205","v":0},"#'T2-B(PP1)'!$F$205"]
["pp1_bl6_1_3_total_out",{"$f":"'T2-B(PP1)'!$I$205","v":0},"#'T2-B(PP1)'!$I$205"]
["pp1_bl6_1_3_unit",{"$f":"'T2-B(PP1)'!$C$205","v":0},"#'T2-B(PP1)'!$C$205"]
["pp1_bl6_1_3_unit_in",{"$f":"'T2-B(PP1)'!$D$205","v":0},"#'T2-B(PP1)'!$D$205"]
["pp1_bl6_1_3_units_out",{"$f":"'T2-B(PP1)'!$G$205","v":0},"#'T2-B(PP1)'!$G$205"]
["pp1_bl6_1_4_name",{"$f":"'T2-B(PP1)'!$B$206","v":0},"#'T2-B(PP1)'!$B$206"]
["pp1_bl6_1_4_rate_in",{"$f":"'T2-B(PP1)'!$E$206","v":0},"#'T2-B(PP1)'!$E$206"]
["pp1_bl6_1_4_rate_out",{"$f":"'T2-B(PP1)'!$H$206","v":0},"#'T2-B(PP1)'!$H$206"]
["pp1_bl6_1_4_total",{"$f":"'T2-B(PP1)'!$J$206","v":0},"#'T2-B(PP1)'!$J$206"]
["pp1_bl6_1_4_total_in",{"$f":"'T2-B(PP1)'!$F$206","v":0},"#'T2-B(PP1)'!$F$206"]
["pp1_bl6_1_4_total_out",{"$f":"'T2-B(PP1)'!$I$206","v":0},"#'T2-B(PP1)'!$I$206"]
["pp1_bl6_1_4_unit",{"$f":"'T2-B(PP1)'!$C$206","v":0},"#'T2-B(PP1)'!$C$206"]
["pp1_bl6_1_4_unit_in",{"$f":"'T2-B(PP1)'!$D$206","v":0},"#'T2-B(PP1)'!$D$206"]
["pp1_bl6_1_4_units_out",{"$f":"'T2-B(PP1)'!$G$206","v":0},"#'T2-B(PP1)'!$G$206"]
["pp1_bl6_1_5_name",{"$f":"'T2-B(PP1)'!$B$207","v":0},"#'T2-B(PP1)'!$B$207"]
["pp1_bl6_1_5_rate_in",{"$f":"'T2-B(PP1)'!$E$207","v":0},"#'T2-B(PP1)'!$E$207"]
["pp1_bl6_1_5_rate_out",{"$f":"'T2-B(PP1)'!$H$207","v":0},"#'T2-B(PP1)'!$H$207"]
["pp1_bl6_1_5_total",{"$f":"'T2-B(PP1)'!$J$207","v":0},"#'T2-B(PP1)'!$J$207"]
["pp1_bl6_1_5_total_in",{"$f":"'T2-B(PP1)'!$F$207","v":0},"#'T2-B(PP1)'!$F$207"]
["pp1_bl6_1_5_total_out",{"$f":"'T2-B(PP1)'!$I$207","v":0},"#'T2-B(PP1)'!$I$207"]
["pp1_bl6_1_5_unit",{"$f":"'T2-B(PP1)'!$C$207","v":0},"#'T2-B(PP1)'!$C$207"]
["pp1_bl6_1_5_unit_in",{"$f":"'T2-B(PP1)'!$D$207","v":0},"#'T2-B(PP1)'!$D$207"]
["pp1_bl6_1_5_units_out",{"$f":"'T2-B(PP1)'!$G$207","v":0},"#'T2-B(PP1)'!$G$207"]
["pp1_bl6_1_6_name",{"$f":"'T2-B(PP1)'!$B$208","v":0},"#'T2-B(PP1)'!$B$208"]
["pp1_bl6_1_6_rate_in",{"$f":"'T2-B(PP1)'!$E$208","v":0},"#'T2-B(PP1)'!$E$208"]
["pp1_bl6_1_6_rate_out",{"$f":"'T2-B(PP1)'!$H$208","v":0},"#'T2-B(PP1)'!$H$208"]
["pp1_bl6_1_6_total",{"$f":"'T2-B(PP1)'!$J$208","v":0},"#'T2-B(PP1)'!$J$208"]
["pp1_bl6_1_6_total_in",{"$f":"'T2-B(PP1)'!$F$208","v":0},"#'T2-B(PP1)'!$F$208"]
["pp1_bl6_1_6_total_out",{"$f":"'T2-B(PP1)'!$I$208","v":0},"#'T2-B(PP1)'!$I$208"]
["pp1_bl6_1_6_unit",{"$f":"'T2-B(PP1)'!$C$208","v":0},"#'T2-B(PP1)'!$C$208"]
["pp1_bl6_1_6_unit_in",{"$f":"'T2-B(PP1)'!$D$208","v":0},"#'T2-B(PP1)'!$D$208"]
["pp1_bl6_1_6_units_out",{"$f":"'T2-B(PP1)'!$G$208","v":0},"#'T2-B(PP1)'!$G$208"]
["pp1_bl6_1_7_name",{"$f":"'T2-B(PP1)'!$B$209","v":0},"#'T2-B(PP1)'!$B$209"]
["pp1_bl6_1_7_rate_in",{"$f":"'T2-B(PP1)'!$E$209","v":0},"#'T2-B(PP1)'!$E$209"]
["pp1_bl6_1_7_rate_out",{"$f":"'T2-B(PP1)'!$H$209","v":0},"#'T2-B(PP1)'!$H$209"]
["pp1_bl6_1_7_total",{"$f":"'T2-B(PP1)'!$J$209","v":0},"#'T2-B(PP1)'!$J$209"]
["pp1_bl6_1_7_total_in",{"$f":"'T2-B(PP1)'!$F$209","v":0},"#'T2-B(PP1)'!$F$209"]
["pp1_bl6_1_7_total_out",{"$f":"'T2-B(PP1)'!$I$209","v":0},"#'T2-B(PP1)'!$I$209"]
["pp1_bl6_1_7_unit",{"$f":"'T2-B(PP1)'!$C$209","v":0},"#'T2-B(PP1)'!$C$209"]
["pp1_bl6_1_7_unit_in",{"$f":"'T2-B(PP1)'!$D$209","v":0},"#'T2-B(PP1)'!$D$209"]
["pp1_bl6_1_7_units_out",{"$f":"'T2-B(PP1)'!$G$209","v":0},"#'T2-B(PP1)'!$G$209"]
["pp1_bl6_1_8_name",{"$f":"'T2-B(PP1)'!$B$210","v":0},"#'T2-B(PP1)'!$B$210"]
["pp1_bl6_1_8_rate_in",{"$f":"'T2-B(PP1)'!$E$210","v":0},"#'T2-B(PP1)'!$E$210"]
["pp1_bl6_1_8_rate_out",{"$f":"'T2-B(PP1)'!$H$210","v":0},"#'T2-B(PP1)'!$H$210"]
["pp1_bl6_1_8_total",{"$f":"'T2-B(PP1)'!$J$210","v":0},"#'T2-B(PP1)'!$J$210"]
["pp1_bl6_1_8_total_in",{"$f":"'T2-B(PP1)'!$F$210","v":0},"#'T2-B(PP1)'!$F$210"]
["pp1_bl6_1_8_total_out",{"$f":"'T2-B(PP1)'!$I$210","v":0},"#'T2-B(PP1)'!$I$210"]
["pp1_bl6_1_8_unit",{"$f":"'T2-B(PP1)'!$C$210","v":0},"#'T2-B(PP1)'!$C$210"]
["pp1_bl6_1_8_unit_in",{"$f":"'T2-B(PP1)'!$D$210","v":0},"#'T2-B(PP1)'!$D$210"]
["pp1_bl6_1_8_units_out",{"$f":"'T2-B(PP1)'!$G$210","v":0},"#'T2-B(PP1)'!$G$210"]
["pp1_bl6_1_9_name",{"$f":"'T2-B(PP1)'!$B$211","v":0},"#'T2-B(PP1)'!$B$211"]
["pp1_bl6_1_9_rate_in",{"$f":"'T2-B(PP1)'!$E$211","v":0},"#'T2-B(PP1)'!$E$211"]
["pp1_bl6_1_9_rate_out",{"$f":"'T2-B(PP1)'!$H$211","v":0},"#'T2-B(PP1)'!$H$211"]
["pp1_bl6_1_9_total",{"$f":"'T2-B(PP1)'!$J$211","v":0},"#'T2-B(PP1)'!$J$211"]
["pp1_bl6_1_9_total_in",{"$f":"'T2-B(PP1)'!$F$211","v":0},"#'T2-B(PP1)'!$F$211"]
["pp1_bl6_1_9_total_out",{"$f":"'T2-B(PP1)'!$I$211","v":0},"#'T2-B(PP1)'!$I$211"]
["pp1_bl6_1_9_unit",{"$f":"'T2-B(PP1)'!$C$211","v":0},"#'T2-B(PP1)'!$C$211"]
["pp1_bl6_1_9_unit_in",{"$f":"'T2-B(PP1)'!$D$211","v":0},"#'T2-B(PP1)'!$D$211"]
["pp1_bl6_1_9_units_out",{"$f":"'T2-B(PP1)'!$G$211","v":0},"#'T2-B(PP1)'!$G$211"]
["pp1_bl6_1_total",{"$f":"'T2-B(PP1)'!$J$202","v":0},"#'T2-B(PP1)'!$J$202"]
["pp1_bl6_1_total_in",{"$f":"'T2-B(PP1)'!$F$202","v":"Total"},"#'T2-B(PP1)'!$F$202"]
["pp1_bl6_1_total_out",{"$f":"'T2-B(PP1)'!$I$202","v":"Total"},"#'T2-B(PP1)'!$I$202"]
["pp1_bl6_total",{"$f":"'T2-B(PP1)'!$J$213","v":0},"#'T2-B(PP1)'!$J$213"]
["pp1_bl6_total_in",{"$f":"'T2-B(PP1)'!$F$213","v":0},"#'T2-B(PP1)'!$F$213"]
["pp1_bl6_total_out",{"$f":"'T2-B(PP1)'!$I$213","v":0},"#'T2-B(PP1)'!$I$213"]
["pp1_country",{"$f":"'PP1(LP)'!$K$14","v":1},"#'PP1(LP)'!$K$14"]
["pp1_fax",{"$f":"'PP1(LP)'!$C$29","v":0},"#'PP1(LP)'!$C$29"]
["pp1_is_bg",{"$f":"'PP1(LP)'!$D$13","v":0},"#'PP1(LP)'!$D$13"]
["pp1_is_pc",{"$f":"'PP1(LP)'!$F$13","v":0},"#'PP1(LP)'!$F$13"]
["pp1_legal_representative",{"$f":"Cover!$C$37","v":0},"#Cover!$C$37"]
["pp1_legal_representative_position",{"$f":"'PP1(LP)'!$C$25","v":0},"#'PP1(LP)'!$C$25"]
["pp1_mail",{"$f":"'PP1(LP)'!$C$31","v":0},"#'PP1(LP)'!$C$31"]
["pp1_nat_code",{"$f":"'PP1(LP)'!$C$75","v":0},"#'PP1(LP)'!$C$75"]
["pp1_nuts3",{"$f":"'PP1(LP)'!$C$15","v":0},"#'PP1(LP)'!$C$15"]
["pp1_organisation_en",{"$f":"Cover!$C$35","v":0},"#Cover!$C$35"]
["pp1_organisation_native",{"$f":"'PP1(LP)'!$C$9","v":0},"#'PP1(LP)'!$C$9"]
["pp1_pe_date1",{"$f":"'PP1(LP)'!$G$51","v":0},"#'PP1(LP)'!$G$51"]
["pp1_pe_date2",{"$f":"'PP1(LP)'!$G$59","v":0},"#'PP1(LP)'!$G$59"]
["pp1_pe_date3",{"$f":"'PP1(LP)'!$G$67","v":0},"#'PP1(LP)'!$G$67"]
["pp1_pe_ga1",{"$f":"'PP1(LP)'!$G$50","v":0},"#'PP1(LP)'!$G$50"]
["pp1_pe_ga2",{"$f":"'PP1(LP)'!$G$58","v":0},"#'PP1(LP)'!$G$58"]
["pp1_pe_ga3",{"$f":"'PP1(LP)'!$G$66","v":0},"#'PP1(LP)'!$G$66"]
["pp1_pe_ip1",{"$f":"'PP1(LP)'!$C$47","v":0},"#'PP1(LP)'!$C$47"]
["pp1_pe_ip2",{"$f":"'PP1(LP)'!$C$55","v":0},"#'PP1(LP)'!$C$55"]
["pp1_pe_ip3",{"$f":"'PP1(LP)'!$C$63","v":0},"#'PP1(LP)'!$C$63"]
["pp1_pe_or1",{"$f":"'PP1(LP)'!$C$51","v":0},"#'PP1(LP)'!$C$51"]
["pp1_pe_or2",{"$f":"'PP1(LP)'!$C$59","v":0},"#'PP1(LP)'!$C$59"]
["pp1_pe_or3",{"$f":"'PP1(LP)'!$C$67","v":0},"#'PP1(LP)'!$C$67"]
["pp1_pe_pt1",{"$f":"'PP1(LP)'!$C$48","v":0},"#'PP1(LP)'!$C$48"]
["pp1_pe_pt2",{"$f":"'PP1(LP)'!$C$56","v":0},"#'PP1(LP)'!$C$56"]
["pp1_pe_pt3",{"$f":"'PP1(LP)'!$C$64","v":0},"#'PP1(LP)'!$C$64"]
["pp1_pe_sd1",{"$f":"'PP1(LP)'!$C$49","v":0},"#'PP1(LP)'!$C$49"]
["pp1_pe_sd2",{"$f":"'PP1(LP)'!$C$57","v":0},"#'PP1(LP)'!$C$57"]
["pp1_pe_sd3",{"$f":"'PP1(LP)'!$C$65","v":0},"#'PP1(LP)'!$C$65"]
["pp1_pe_tev1",{"$f":"'PP1(LP)'!$C$50","v":0},"#'PP1(LP)'!$C$50"]
["pp1_pe_tev2",{"$f":"'PP1(LP)'!$C$58","v":0},"#'PP1(LP)'!$C$58"]
["pp1_pe_tev3",{"$f":"'PP1(LP)'!$C$66","v":0},"#'PP1(LP)'!$C$66"]
["pp1_phone",{"$f":"'PP1(LP)'!$C$27","v":0},"#'PP1(LP)'!$C$27"]
["pp1_post_code",{"$f":"'PP1(LP)'!$C$21","v":0},"#'PP1(LP)'!$C$21"]
["pp1_profile",{"$f":"'PP1(LP)'!$B$41","v":0},"#'PP1(LP)'!$B$41"]
["pp1_profile2",{"$f":"'PP1(LP)'!$B$41","v":0},"#'PP1(LP)'!$B$41"]
["pp1_town",{"$f":"'PP1(LP)'!$C$17","v":0},"#'PP1(LP)'!$C$17"]
["pp1_type_org",{"$f":"'PP1(LP)'!$C$11","v":0},"#'PP1(LP)'!$C$11"]
["pp1_vat_code",{"$f":"'PP1(LP)'!$C$77","v":0},"#'PP1(LP)'!$C$77"]
["pp1_website",{"$f":"'PP1(LP)'!$C$33","v":0},"#'PP1(LP)'!$C$33"]
["pp2_2012_fulltime_staff",{"$f":"'PP2'!$D$84","v":0},"#'PP2'!$D$84"]
["pp2_2012_offices",{"$f":"'PP2'!$F$84","v":0},"#'PP2'!$F$84"]
["pp2_2012_parttime_staff",{"$f":"'PP2'!$E$84","v":0},"#'PP2'!$E$84"]
["pp2_2012_turnover",{"$f":"'PP2'!$C$84","v":0},"#'PP2'!$C$84"]
["pp2_2013_fulltime_staff",{"$f":"'PP2'!$D$83","v":0},"#'PP2'!$D$83"]
["pp2_2013_offices",{"$f":"'PP2'!$F$83","v":0},"#'PP2'!$F$83"]
["pp2_2013_parttime_staff",{"$f":"'PP2'!$E$83","v":0},"#'PP2'!$E$83"]
["pp2_2013_turnover",{"$f":"'PP2'!$C$83","v":0},"#'PP2'!$C$83"]
["pp2_2014_fulltime_staff",{"$f":"'PP2'!$D$82","v":0},"#'PP2'!$D$82"]
["pp2_2014_offices",{"$f":"'PP2'!$F$82","v":0},"#'PP2'!$F$82"]
["pp2_2014_parttime_staff",{"$f":"'PP2'!$E$82","v":0},"#'PP2'!$E$82"]
["pp2_2014_turnover",{"$f":"'PP2'!$C$82","v":0},"#'PP2'!$C$82"]
["pp2_address",{"$f":"'PP2'!$C$19","v":0},"#'PP2'!$C$19"]
["pp2_bl3_1_1_name",{"$f":"'T2-B(PP2)'!$B$16","v":0},"#'T2-B(PP2)'!$B$16"]
["pp2_bl3_1_1_rate_in",{"$f":"'T2-B(PP2)'!$E$16","v":0},"#'T2-B(PP2)'!$E$16"]
["pp2_bl3_1_1_rate_out",{"$f":"'T2-B(PP2)'!$H$16","v":0},"#'T2-B(PP2)'!$H$16"]
["pp2_bl3_1_1_total",{"$f":"'T2-B(PP2)'!$J$16","v":0},"#'T2-B(PP2)'!$J$16"]
["pp2_bl3_1_1_total_in",{"$f":"'T2-B(PP2)'!$F$16","v":0},"#'T2-B(PP2)'!$F$16"]
["pp2_bl3_1_1_total_out",{"$f":"'T2-B(PP2)'!$I$16","v":0},"#'T2-B(PP2)'!$I$16"]
["pp2_bl3_1_1_unit",{"$f":"'T2-B(PP2)'!$C$16","v":0},"#'T2-B(PP2)'!$C$16"]
["pp2_bl3_1_1_unit_in",{"$f":"'T2-B(PP2)'!$D$16","v":0},"#'T2-B(PP2)'!$D$16"]
["pp2_bl3_1_1_units_out",{"$f":"'T2-B(PP2)'!$G$16","v":0},"#'T2-B(PP2)'!$G$16"]
["pp2_bl3_1_10_name",{"$f":"'T2-B(PP2)'!$B$25","v":0},"#'T2-B(PP2)'!$B$25"]
["pp2_bl3_1_10_rate_in",{"$f":"'T2-B(PP2)'!$E$25","v":0},"#'T2-B(PP2)'!$E$25"]
["pp2_bl3_1_10_rate_out",{"$f":"'T2-B(PP2)'!$H$25","v":0},"#'T2-B(PP2)'!$H$25"]
["pp2_bl3_1_10_total",{"$f":"'T2-B(PP2)'!$J$25","v":0},"#'T2-B(PP2)'!$J$25"]
["pp2_bl3_1_10_total_in",{"$f":"'T2-B(PP2)'!$F$25","v":0},"#'T2-B(PP2)'!$F$25"]
["pp2_bl3_1_10_total_out",{"$f":"'T2-B(PP2)'!$I$25","v":0},"#'T2-B(PP2)'!$I$25"]
["pp2_bl3_1_10_unit",{"$f":"'T2-B(PP2)'!$C$25","v":0},"#'T2-B(PP2)'!$C$25"]
["pp2_bl3_1_10_unit_in",{"$f":"'T2-B(PP2)'!$D$25","v":0},"#'T2-B(PP2)'!$D$25"]
["pp2_bl3_1_10_units_out",{"$f":"'T2-B(PP2)'!$G$25","v":0},"#'T2-B(PP2)'!$G$25"]
["pp2_bl3_1_2_name",{"$f":"'T2-B(PP2)'!$B$17","v":0},"#'T2-B(PP2)'!$B$17"]
["pp2_bl3_1_2_rate_in",{"$f":"'T2-B(PP2)'!$E$17","v":0},"#'T2-B(PP2)'!$E$17"]
["pp2_bl3_1_2_rate_out",{"$f":"'T2-B(PP2)'!$H$17","v":0},"#'T2-B(PP2)'!$H$17"]
["pp2_bl3_1_2_total",{"$f":"'T2-B(PP2)'!$J$17","v":0},"#'T2-B(PP2)'!$J$17"]
["pp2_bl3_1_2_total_in",{"$f":"'T2-B(PP2)'!$F$17","v":0},"#'T2-B(PP2)'!$F$17"]
["pp2_bl3_1_2_total_out",{"$f":"'T2-B(PP2)'!$I$17","v":0},"#'T2-B(PP2)'!$I$17"]
["pp2_bl3_1_2_unit",{"$f":"'T2-B(PP2)'!$C$17","v":0},"#'T2-B(PP2)'!$C$17"]
["pp2_bl3_1_2_unit_in",{"$f":"'T2-B(PP2)'!$D$17","v":0},"#'T2-B(PP2)'!$D$17"]
["pp2_bl3_1_2_units_out",{"$f":"'T2-B(PP2)'!$G$17","v":0},"#'T2-B(PP2)'!$G$17"]
["pp2_bl3_1_3_name",{"$f":"'T2-B(PP2)'!$B$18","v":0},"#'T2-B(PP2)'!$B$18"]
["pp2_bl3_1_3_rate_in",{"$f":"'T2-B(PP2)'!$E$18","v":0},"#'T2-B(PP2)'!$E$18"]
["pp2_bl3_1_3_rate_out",{"$f":"'T2-B(PP2)'!$H$18","v":0},"#'T2-B(PP2)'!$H$18"]
["pp2_bl3_1_3_total",{"$f":"'T2-B(PP2)'!$J$18","v":0},"#'T2-B(PP2)'!$J$18"]
["pp2_bl3_1_3_total_in",{"$f":"'T2-B(PP2)'!$F$18","v":0},"#'T2-B(PP2)'!$F$18"]
["pp2_bl3_1_3_total_out",{"$f":"'T2-B(PP2)'!$I$18","v":0},"#'T2-B(PP2)'!$I$18"]
["pp2_bl3_1_3_unit",{"$f":"'T2-B(PP2)'!$C$18","v":0},"#'T2-B(PP2)'!$C$18"]
["pp2_bl3_1_3_unit_in",{"$f":"'T2-B(PP2)'!$D$18","v":0},"#'T2-B(PP2)'!$D$18"]
["pp2_bl3_1_3_units_out",{"$f":"'T2-B(PP2)'!$G$18","v":0},"#'T2-B(PP2)'!$G$18"]
["pp2_bl3_1_4_name",{"$f":"'T2-B(PP2)'!$B$19","v":0},"#'T2-B(PP2)'!$B$19"]
["pp2_bl3_1_4_rate_in",{"$f":"'T2-B(PP2)'!$E$19","v":0},"#'T2-B(PP2)'!$E$19"]
["pp2_bl3_1_4_rate_out",{"$f":"'T2-B(PP2)'!$H$19","v":0},"#'T2-B(PP2)'!$H$19"]
["pp2_bl3_1_4_total",{"$f":"'T2-B(PP2)'!$J$19","v":0},"#'T2-B(PP2)'!$J$19"]
["pp2_bl3_1_4_total_in",{"$f":"'T2-B(PP2)'!$F$19","v":0},"#'T2-B(PP2)'!$F$19"]
["pp2_bl3_1_4_total_out",{"$f":"'T2-B(PP2)'!$I$19","v":0},"#'T2-B(PP2)'!$I$19"]
["pp2_bl3_1_4_unit",{"$f":"'T2-B(PP2)'!$C$19","v":0},"#'T2-B(PP2)'!$C$19"]
["pp2_bl3_1_4_unit_in",{"$f":"'T2-B(PP2)'!$D$19","v":0},"#'T2-B(PP2)'!$D$19"]
["pp2_bl3_1_4_units_out",{"$f":"'T2-B(PP2)'!$G$19","v":0},"#'T2-B(PP2)'!$G$19"]
["pp2_bl3_1_5_name",{"$f":"'T2-B(PP2)'!$B$20","v":0},"#'T2-B(PP2)'!$B$20"]
["pp2_bl3_1_5_rate_in",{"$f":"'T2-B(PP2)'!$E$20","v":0},"#'T2-B(PP2)'!$E$20"]
["pp2_bl3_1_5_rate_out",{"$f":"'T2-B(PP2)'!$H$20","v":0},"#'T2-B(PP2)'!$H$20"]
["pp2_bl3_1_5_total",{"$f":"'T2-B(PP2)'!$J$20","v":0},"#'T2-B(PP2)'!$J$20"]
["pp2_bl3_1_5_total_in",{"$f":"'T2-B(PP2)'!$F$20","v":0},"#'T2-B(PP2)'!$F$20"]
["pp2_bl3_1_5_total_out",{"$f":"'T2-B(PP2)'!$I$20","v":0},"#'T2-B(PP2)'!$I$20"]
["pp2_bl3_1_5_unit",{"$f":"'T2-B(PP2)'!$C$20","v":0},"#'T2-B(PP2)'!$C$20"]
["pp2_bl3_1_5_unit_in",{"$f":"'T2-B(PP2)'!$D$20","v":0},"#'T2-B(PP2)'!$D$20"]
["pp2_bl3_1_5_units_out",{"$f":"'T2-B(PP2)'!$G$20","v":0},"#'T2-B(PP2)'!$G$20"]
["pp2_bl3_1_6_name",{"$f":"'T2-B(PP2)'!$B$21","v":0},"#'T2-B(PP2)'!$B$21"]
["pp2_bl3_1_6_rate_in",{"$f":"'T2-B(PP2)'!$E$21","v":0},"#'T2-B(PP2)'!$E$21"]
["pp2_bl3_1_6_rate_out",{"$f":"'T2-B(PP2)'!$H$21","v":0},"#'T2-B(PP2)'!$H$21"]
["pp2_bl3_1_6_total",{"$f":"'T2-B(PP2)'!$J$21","v":0},"#'T2-B(PP2)'!$J$21"]
["pp2_bl3_1_6_total_in",{"$f":"'T2-B(PP2)'!$F$21","v":0},"#'T2-B(PP2)'!$F$21"]
["pp2_bl3_1_6_total_out",{"$f":"'T2-B(PP2)'!$I$21","v":0},"#'T2-B(PP2)'!$I$21"]
["pp2_bl3_1_6_unit",{"$f":"'T2-B(PP2)'!$C$21","v":0},"#'T2-B(PP2)'!$C$21"]
["pp2_bl3_1_6_unit_in",{"$f":"'T2-B(PP2)'!$D$21","v":0},"#'T2-B(PP2)'!$D$21"]
["pp2_bl3_1_6_units_out",{"$f":"'T2-B(PP2)'!$G$21","v":0},"#'T2-B(PP2)'!$G$21"]
["pp2_bl3_1_7_name",{"$f":"'T2-B(PP2)'!$B$22","v":0},"#'T2-B(PP2)'!$B$22"]
["pp2_bl3_1_7_rate_in",{"$f":"'T2-B(PP2)'!$E$22","v":0},"#'T2-B(PP2)'!$E$22"]
["pp2_bl3_1_7_rate_out",{"$f":"'T2-B(PP2)'!$H$22","v":0},"#'T2-B(PP2)'!$H$22"]
["pp2_bl3_1_7_total",{"$f":"'T2-B(PP2)'!$J$22","v":0},"#'T2-B(PP2)'!$J$22"]
["pp2_bl3_1_7_total_in",{"$f":"'T2-B(PP2)'!$F$22","v":0},"#'T2-B(PP2)'!$F$22"]
["pp2_bl3_1_7_total_out",{"$f":"'T2-B(PP2)'!$I$22","v":0},"#'T2-B(PP2)'!$I$22"]
["pp2_bl3_1_7_unit",{"$f":"'T2-B(PP2)'!$C$22","v":0},"#'T2-B(PP2)'!$C$22"]
["pp2_bl3_1_7_unit_in",{"$f":"'T2-B(PP2)'!$D$22","v":0},"#'T2-B(PP2)'!$D$22"]
["pp2_bl3_1_7_units_out",{"$f":"'T2-B(PP2)'!$G$22","v":0},"#'T2-B(PP2)'!$G$22"]
["pp2_bl3_1_8_name",{"$f":"'T2-B(PP2)'!$B$23","v":0},"#'T2-B(PP2)'!$B$23"]
["pp2_bl3_1_8_rate_in",{"$f":"'T2-B(PP2)'!$E$23","v":0},"#'T2-B(PP2)'!$E$23"]
["pp2_bl3_1_8_rate_out",{"$f":"'T2-B(PP2)'!$H$23","v":0},"#'T2-B(PP2)'!$H$23"]
["pp2_bl3_1_8_total",{"$f":"'T2-B(PP2)'!$J$23","v":0},"#'T2-B(PP2)'!$J$23"]
["pp2_bl3_1_8_total_in",{"$f":"'T2-B(PP2)'!$F$23","v":0},"#'T2-B(PP2)'!$F$23"]
["pp2_bl3_1_8_total_out",{"$f":"'T2-B(PP2)'!$I$23","v":0},"#'T2-B(PP2)'!$I$23"]
["pp2_bl3_1_8_unit",{"$f":"'T2-B(PP2)'!$C$23","v":0},"#'T2-B(PP2)'!$C$23"]
["pp2_bl3_1_8_unit_in",{"$f":"'T2-B(PP2)'!$D$23","v":0},"#'T2-B(PP2)'!$D$23"]
["pp2_bl3_1_8_units_out",{"$f":"'T2-B(PP2)'!$G$23","v":0},"#'T2-B(PP2)'!$G$23"]
["pp2_bl3_1_9_name",{"$f":"'T2-B(PP2)'!$B$24","v":0},"#'T2-B(PP2)'!$B$24"]
["pp2_bl3_1_9_rate_in",{"$f":"'T2-B(PP2)'!$E$24","v":0},"#'T2-B(PP2)'!$E$24"]
["pp2_bl3_1_9_rate_out",{"$f":"'T2-B(PP2)'!$H$24","v":0},"#'T2-B(PP2)'!$H$24"]
["pp2_bl3_1_9_total",{"$f":"'T2-B(PP2)'!$J$24","v":0},"#'T2-B(PP2)'!$J$24"]
["pp2_bl3_1_9_total_in",{"$f":"'T2-B(PP2)'!$F$24","v":0},"#'T2-B(PP2)'!$F$24"]
["pp2_bl3_1_9_total_out",{"$f":"'T2-B(PP2)'!$I$24","v":0},"#'T2-B(PP2)'!$I$24"]
["pp2_bl3_1_9_unit",{"$f":"'T2-B(PP2)'!$C$24","v":0},"#'T2-B(PP2)'!$C$24"]
["pp2_bl3_1_9_unit_in",{"$f":"'T2-B(PP2)'!$D$24","v":0},"#'T2-B(PP2)'!$D$24"]
["pp2_bl3_1_9_units_out",{"$f":"'T2-B(PP2)'!$G$24","v":0},"#'T2-B(PP2)'!$G$24"]
["pp2_bl3_1_total",{"$f":"'T2-B(PP2)'!$J$15","v":0},"#'T2-B(PP2)'!$J$15"]
["pp2_bl3_1_total_in",{"$f":"'T2-B(PP2)'!$F$15","v":0},"#'T2-B(PP2)'!$F$15"]
["pp2_bl3_1_total_out",{"$f":"'T2-B(PP2)'!$I$15","v":0},"#'T2-B(PP2)'!$I$15"]
["pp2_bl3_2_1_name",{"$f":"'T2-B(PP2)'!$B$27","v":0},"#'T2-B(PP2)'!$B$27"]
["pp2_bl3_2_1_rate_in",{"$f":"'T2-B(PP2)'!$E$27","v":0},"#'T2-B(PP2)'!$E$27"]
["pp2_bl3_2_1_rate_out",{"$f":"'T2-B(PP2)'!$H$27","v":0},"#'T2-B(PP2)'!$H$27"]
["pp2_bl3_2_1_total",{"$f":"'T2-B(PP2)'!$J$27","v":0},"#'T2-B(PP2)'!$J$27"]
["pp2_bl3_2_1_total_in",{"$f":"'T2-B(PP2)'!$F$27","v":0},"#'T2-B(PP2)'!$F$27"]
["pp2_bl3_2_1_total_out",{"$f":"'T2-B(PP2)'!$I$27","v":0},"#'T2-B(PP2)'!$I$27"]
["pp2_bl3_2_1_unit",{"$f":"'T2-B(PP2)'!$C$27","v":0},"#'T2-B(PP2)'!$C$27"]
["pp2_bl3_2_1_unit_in",{"$f":"'T2-B(PP2)'!$D$27","v":0},"#'T2-B(PP2)'!$D$27"]
["pp2_bl3_2_1_units_out",{"$f":"'T2-B(PP2)'!$G$27","v":0},"#'T2-B(PP2)'!$G$27"]
["pp2_bl3_2_10_name",{"$f":"'T2-B(PP2)'!$B$36","v":0},"#'T2-B(PP2)'!$B$36"]
["pp2_bl3_2_10_rate_in",{"$f":"'T2-B(PP2)'!$E$36","v":0},"#'T2-B(PP2)'!$E$36"]
["pp2_bl3_2_10_rate_out",{"$f":"'T2-B(PP2)'!$H$36","v":0},"#'T2-B(PP2)'!$H$36"]
["pp2_bl3_2_10_total",{"$f":"'T2-B(PP2)'!$J$36","v":0},"#'T2-B(PP2)'!$J$36"]
["pp2_bl3_2_10_total_in",{"$f":"'T2-B(PP2)'!$F$36","v":0},"#'T2-B(PP2)'!$F$36"]
["pp2_bl3_2_10_total_out",{"$f":"'T2-B(PP2)'!$I$36","v":0},"#'T2-B(PP2)'!$I$36"]
["pp2_bl3_2_10_unit",{"$f":"'T2-B(PP2)'!$C$36","v":0},"#'T2-B(PP2)'!$C$36"]
["pp2_bl3_2_10_unit_in",{"$f":"'T2-B(PP2)'!$D$36","v":0},"#'T2-B(PP2)'!$D$36"]
["pp2_bl3_2_10_units_out",{"$f":"'T2-B(PP2)'!$G$36","v":0},"#'T2-B(PP2)'!$G$36"]
["pp2_bl3_2_2_name",{"$f":"'T2-B(PP2)'!$B$28","v":0},"#'T2-B(PP2)'!$B$28"]
["pp2_bl3_2_2_rate_in",{"$f":"'T2-B(PP2)'!$E$28","v":0},"#'T2-B(PP2)'!$E$28"]
["pp2_bl3_2_2_rate_out",{"$f":"'T2-B(PP2)'!$H$28","v":0},"#'T2-B(PP2)'!$H$28"]
["pp2_bl3_2_2_total",{"$f":"'T2-B(PP2)'!$J$28","v":0},"#'T2-B(PP2)'!$J$28"]
["pp2_bl3_2_2_total_in",{"$f":"'T2-B(PP2)'!$F$28","v":0},"#'T2-B(PP2)'!$F$28"]
["pp2_bl3_2_2_total_out",{"$f":"'T2-B(PP2)'!$I$28","v":0},"#'T2-B(PP2)'!$I$28"]
["pp2_bl3_2_2_unit",{"$f":"'T2-B(PP2)'!$C$28","v":0},"#'T2-B(PP2)'!$C$28"]
["pp2_bl3_2_2_unit_in",{"$f":"'T2-B(PP2)'!$D$28","v":0},"#'T2-B(PP2)'!$D$28"]
["pp2_bl3_2_2_units_out",{"$f":"'T2-B(PP2)'!$G$28","v":0},"#'T2-B(PP2)'!$G$28"]
["pp2_bl3_2_3_name",{"$f":"'T2-B(PP2)'!$B$29","v":0},"#'T2-B(PP2)'!$B$29"]
["pp2_bl3_2_3_rate_in",{"$f":"'T2-B(PP2)'!$E$29","v":0},"#'T2-B(PP2)'!$E$29"]
["pp2_bl3_2_3_rate_out",{"$f":"'T2-B(PP2)'!$H$29","v":0},"#'T2-B(PP2)'!$H$29"]
["pp2_bl3_2_3_total",{"$f":"'T2-B(PP2)'!$J$29","v":0},"#'T2-B(PP2)'!$J$29"]
["pp2_bl3_2_3_total_in",{"$f":"'T2-B(PP2)'!$F$29","v":0},"#'T2-B(PP2)'!$F$29"]
["pp2_bl3_2_3_total_out",{"$f":"'T2-B(PP2)'!$I$29","v":0},"#'T2-B(PP2)'!$I$29"]
["pp2_bl3_2_3_unit",{"$f":"'T2-B(PP2)'!$C$29","v":0},"#'T2-B(PP2)'!$C$29"]
["pp2_bl3_2_3_unit_in",{"$f":"'T2-B(PP2)'!$D$29","v":0},"#'T2-B(PP2)'!$D$29"]
["pp2_bl3_2_3_units_out",{"$f":"'T2-B(PP2)'!$G$29","v":0},"#'T2-B(PP2)'!$G$29"]
["pp2_bl3_2_4_name",{"$f":"'T2-B(PP2)'!$B$30","v":0},"#'T2-B(PP2)'!$B$30"]
["pp2_bl3_2_4_rate_in",{"$f":"'T2-B(PP2)'!$E$30","v":0},"#'T2-B(PP2)'!$E$30"]
["pp2_bl3_2_4_rate_out",{"$f":"'T2-B(PP2)'!$H$30","v":0},"#'T2-B(PP2)'!$H$30"]
["pp2_bl3_2_4_total",{"$f":"'T2-B(PP2)'!$J$30","v":0},"#'T2-B(PP2)'!$J$30"]
["pp2_bl3_2_4_total_in",{"$f":"'T2-B(PP2)'!$F$30","v":0},"#'T2-B(PP2)'!$F$30"]
["pp2_bl3_2_4_total_out",{"$f":"'T2-B(PP2)'!$I$30","v":0},"#'T2-B(PP2)'!$I$30"]
["pp2_bl3_2_4_unit",{"$f":"'T2-B(PP2)'!$C$30","v":0},"#'T2-B(PP2)'!$C$30"]
["pp2_bl3_2_4_unit_in",{"$f":"'T2-B(PP2)'!$D$30","v":0},"#'T2-B(PP2)'!$D$30"]
["pp2_bl3_2_4_units_out",{"$f":"'T2-B(PP2)'!$G$30","v":0},"#'T2-B(PP2)'!$G$30"]
["pp2_bl3_2_5_name",{"$f":"'T2-B(PP2)'!$B$31","v":0},"#'T2-B(PP2)'!$B$31"]
["pp2_bl3_2_5_rate_in",{"$f":"'T2-B(PP2)'!$E$31","v":0},"#'T2-B(PP2)'!$E$31"]
["pp2_bl3_2_5_rate_out",{"$f":"'T2-B(PP2)'!$H$31","v":0},"#'T2-B(PP2)'!$H$31"]
["pp2_bl3_2_5_total",{"$f":"'T2-B(PP2)'!$J$31","v":0},"#'T2-B(PP2)'!$J$31"]
["pp2_bl3_2_5_total_in",{"$f":"'T2-B(PP2)'!$F$31","v":0},"#'T2-B(PP2)'!$F$31"]
["pp2_bl3_2_5_total_out",{"$f":"'T2-B(PP2)'!$I$31","v":0},"#'T2-B(PP2)'!$I$31"]
["pp2_bl3_2_5_unit",{"$f":"'T2-B(PP2)'!$C$31","v":0},"#'T2-B(PP2)'!$C$31"]
["pp2_bl3_2_5_unit_in",{"$f":"'T2-B(PP2)'!$D$31","v":0},"#'T2-B(PP2)'!$D$31"]
["pp2_bl3_2_5_units_out",{"$f":"'T2-B(PP2)'!$G$31","v":0},"#'T2-B(PP2)'!$G$31"]
["pp2_bl3_2_6_name",{"$f":"'T2-B(PP2)'!$B$32","v":0},"#'T2-B(PP2)'!$B$32"]
["pp2_bl3_2_6_rate_in",{"$f":"'T2-B(PP2)'!$E$32","v":0},"#'T2-B(PP2)'!$E$32"]
["pp2_bl3_2_6_rate_out",{"$f":"'T2-B(PP2)'!$H$32","v":0},"#'T2-B(PP2)'!$H$32"]
["pp2_bl3_2_6_total",{"$f":"'T2-B(PP2)'!$J$32","v":0},"#'T2-B(PP2)'!$J$32"]
["pp2_bl3_2_6_total_in",{"$f":"'T2-B(PP2)'!$F$32","v":0},"#'T2-B(PP2)'!$F$32"]
["pp2_bl3_2_6_total_out",{"$f":"'T2-B(PP2)'!$I$32","v":0},"#'T2-B(PP2)'!$I$32"]
["pp2_bl3_2_6_unit",{"$f":"'T2-B(PP2)'!$C$32","v":0},"#'T2-B(PP2)'!$C$32"]
["pp2_bl3_2_6_unit_in",{"$f":"'T2-B(PP2)'!$D$32","v":0},"#'T2-B(PP2)'!$D$32"]
["pp2_bl3_2_6_units_out",{"$f":"'T2-B(PP2)'!$G$32","v":0},"#'T2-B(PP2)'!$G$32"]
["pp2_bl3_2_7_name",{"$f":"'T2-B(PP2)'!$B$33","v":0},"#'T2-B(PP2)'!$B$33"]
["pp2_bl3_2_7_rate_in",{"$f":"'T2-B(PP2)'!$E$33","v":0},"#'T2-B(PP2)'!$E$33"]
["pp2_bl3_2_7_rate_out",{"$f":"'T2-B(PP2)'!$H$33","v":0},"#'T2-B(PP2)'!$H$33"]
["pp2_bl3_2_7_total",{"$f":"'T2-B(PP2)'!$J$33","v":0},"#'T2-B(PP2)'!$J$33"]
["pp2_bl3_2_7_total_in",{"$f":"'T2-B(PP2)'!$F$33","v":0},"#'T2-B(PP2)'!$F$33"]
["pp2_bl3_2_7_total_out",{"$f":"'T2-B(PP2)'!$I$33","v":0},"#'T2-B(PP2)'!$I$33"]
["pp2_bl3_2_7_unit",{"$f":"'T2-B(PP2)'!$C$33","v":0},"#'T2-B(PP2)'!$C$33"]
["pp2_bl3_2_7_unit_in",{"$f":"'T2-B(PP2)'!$D$33","v":0},"#'T2-B(PP2)'!$D$33"]
["pp2_bl3_2_7_units_out",{"$f":"'T2-B(PP2)'!$G$33","v":0},"#'T2-B(PP2)'!$G$33"]
["pp2_bl3_2_8_name",{"$f":"'T2-B(PP2)'!$B$34","v":0},"#'T2-B(PP2)'!$B$34"]
["pp2_bl3_2_8_rate_in",{"$f":"'T2-B(PP2)'!$E$34","v":0},"#'T2-B(PP2)'!$E$34"]
["pp2_bl3_2_8_rate_out",{"$f":"'T2-B(PP2)'!$H$34","v":0},"#'T2-B(PP2)'!$H$34"]
["pp2_bl3_2_8_total",{"$f":"'T2-B(PP2)'!$J$34","v":0},"#'T2-B(PP2)'!$J$34"]
["pp2_bl3_2_8_total_in",{"$f":"'T2-B(PP2)'!$F$34","v":0},"#'T2-B(PP2)'!$F$34"]
["pp2_bl3_2_8_total_out",{"$f":"'T2-B(PP2)'!$I$34","v":0},"#'T2-B(PP2)'!$I$34"]
["pp2_bl3_2_8_unit",{"$f":"'T2-B(PP2)'!$C$34","v":0},"#'T2-B(PP2)'!$C$34"]
["pp2_bl3_2_8_unit_in",{"$f":"'T2-B(PP2)'!$D$34","v":0},"#'T2-B(PP2)'!$D$34"]
["pp2_bl3_2_8_units_out",{"$f":"'T2-B(PP2)'!$G$34","v":0},"#'T2-B(PP2)'!$G$34"]
["pp2_bl3_2_9_name",{"$f":"'T2-B(PP2)'!$B$35","v":0},"#'T2-B(PP2)'!$B$35"]
["pp2_bl3_2_9_rate_in",{"$f":"'T2-B(PP2)'!$E$35","v":0},"#'T2-B(PP2)'!$E$35"]
["pp2_bl3_2_9_rate_out",{"$f":"'T2-B(PP2)'!$H$35","v":0},"#'T2-B(PP2)'!$H$35"]
["pp2_bl3_2_9_total",{"$f":"'T2-B(PP2)'!$J$35","v":0},"#'T2-B(PP2)'!$J$35"]
["pp2_bl3_2_9_total_in",{"$f":"'T2-B(PP2)'!$F$35","v":0},"#'T2-B(PP2)'!$F$35"]
["pp2_bl3_2_9_total_out",{"$f":"'T2-B(PP2)'!$I$35","v":0},"#'T2-B(PP2)'!$I$35"]
["pp2_bl3_2_9_unit",{"$f":"'T2-B(PP2)'!$C$35","v":0},"#'T2-B(PP2)'!$C$35"]
["pp2_bl3_2_9_unit_in",{"$f":"'T2-B(PP2)'!$D$35","v":0},"#'T2-B(PP2)'!$D$35"]
["pp2_bl3_2_9_units_out",{"$f":"'T2-B(PP2)'!$G$35","v":0},"#'T2-B(PP2)'!$G$35"]
["pp2_bl3_2_total",{"$f":"'T2-B(PP2)'!$J$26","v":0},"#'T2-B(PP2)'!$J$26"]
["pp2_bl3_2_total_in",{"$f":"'T2-B(PP2)'!$F$26","v":0},"#'T2-B(PP2)'!$F$26"]
["pp2_bl3_2_total_out",{"$f":"'T2-B(PP2)'!$I$26","v":0},"#'T2-B(PP2)'!$I$26"]
["pp2_bl3_3_1_name",{"$f":"'T2-B(PP2)'!$B$38","v":0},"#'T2-B(PP2)'!$B$38"]
["pp2_bl3_3_1_rate_in",{"$f":"'T2-B(PP2)'!$E$38","v":0},"#'T2-B(PP2)'!$E$38"]
["pp2_bl3_3_1_rate_out",{"$f":"'T2-B(PP2)'!$H$38","v":0},"#'T2-B(PP2)'!$H$38"]
["pp2_bl3_3_1_total",{"$f":"'T2-B(PP2)'!$J$38","v":0},"#'T2-B(PP2)'!$J$38"]
["pp2_bl3_3_1_total_in",{"$f":"'T2-B(PP2)'!$F$38","v":0},"#'T2-B(PP2)'!$F$38"]
["pp2_bl3_3_1_total_out",{"$f":"'T2-B(PP2)'!$I$38","v":0},"#'T2-B(PP2)'!$I$38"]
["pp2_bl3_3_1_unit",{"$f":"'T2-B(PP2)'!$C$38","v":0},"#'T2-B(PP2)'!$C$38"]
["pp2_bl3_3_1_unit_in",{"$f":"'T2-B(PP2)'!$D$38","v":0},"#'T2-B(PP2)'!$D$38"]
["pp2_bl3_3_1_units_out",{"$f":"'T2-B(PP2)'!$G$38","v":0},"#'T2-B(PP2)'!$G$38"]
["pp2_bl3_3_10_name",{"$f":"'T2-B(PP2)'!$B$47","v":0},"#'T2-B(PP2)'!$B$47"]
["pp2_bl3_3_10_rate_in",{"$f":"'T2-B(PP2)'!$E$47","v":0},"#'T2-B(PP2)'!$E$47"]
["pp2_bl3_3_10_rate_out",{"$f":"'T2-B(PP2)'!$H$47","v":0},"#'T2-B(PP2)'!$H$47"]
["pp2_bl3_3_10_total",{"$f":"'T2-B(PP2)'!$J$47","v":0},"#'T2-B(PP2)'!$J$47"]
["pp2_bl3_3_10_total_in",{"$f":"'T2-B(PP2)'!$F$47","v":0},"#'T2-B(PP2)'!$F$47"]
["pp2_bl3_3_10_total_out",{"$f":"'T2-B(PP2)'!$I$47","v":0},"#'T2-B(PP2)'!$I$47"]
["pp2_bl3_3_10_unit",{"$f":"'T2-B(PP2)'!$C$47","v":0},"#'T2-B(PP2)'!$C$47"]
["pp2_bl3_3_10_unit_in",{"$f":"'T2-B(PP2)'!$D$47","v":0},"#'T2-B(PP2)'!$D$47"]
["pp2_bl3_3_10_units_out",{"$f":"'T2-B(PP2)'!$G$47","v":0},"#'T2-B(PP2)'!$G$47"]
["pp2_bl3_3_2_name",{"$f":"'T2-B(PP2)'!$B$39","v":0},"#'T2-B(PP2)'!$B$39"]
["pp2_bl3_3_2_rate_in",{"$f":"'T2-B(PP2)'!$E$39","v":0},"#'T2-B(PP2)'!$E$39"]
["pp2_bl3_3_2_rate_out",{"$f":"'T2-B(PP2)'!$H$39","v":0},"#'T2-B(PP2)'!$H$39"]
["pp2_bl3_3_2_total",{"$f":"'T2-B(PP2)'!$J$39","v":0},"#'T2-B(PP2)'!$J$39"]
["pp2_bl3_3_2_total_in",{"$f":"'T2-B(PP2)'!$F$39","v":0},"#'T2-B(PP2)'!$F$39"]
["pp2_bl3_3_2_total_out",{"$f":"'T2-B(PP2)'!$I$39","v":0},"#'T2-B(PP2)'!$I$39"]
["pp2_bl3_3_2_unit",{"$f":"'T2-B(PP2)'!$C$39","v":0},"#'T2-B(PP2)'!$C$39"]
["pp2_bl3_3_2_unit_in",{"$f":"'T2-B(PP2)'!$D$39","v":0},"#'T2-B(PP2)'!$D$39"]
["pp2_bl3_3_2_units_out",{"$f":"'T2-B(PP2)'!$G$39","v":0},"#'T2-B(PP2)'!$G$39"]
["pp2_bl3_3_3_name",{"$f":"'T2-B(PP2)'!$B$40","v":0},"#'T2-B(PP2)'!$B$40"]
["pp2_bl3_3_3_rate_in",{"$f":"'T2-B(PP2)'!$E$40","v":0},"#'T2-B(PP2)'!$E$40"]
["pp2_bl3_3_3_rate_out",{"$f":"'T2-B(PP2)'!$H$40","v":0},"#'T2-B(PP2)'!$H$40"]
["pp2_bl3_3_3_total",{"$f":"'T2-B(PP2)'!$J$40","v":0},"#'T2-B(PP2)'!$J$40"]
["pp2_bl3_3_3_total_in",{"$f":"'T2-B(PP2)'!$F$40","v":0},"#'T2-B(PP2)'!$F$40"]
["pp2_bl3_3_3_total_out",{"$f":"'T2-B(PP2)'!$I$40","v":0},"#'T2-B(PP2)'!$I$40"]
["pp2_bl3_3_3_unit",{"$f":"'T2-B(PP2)'!$C$40","v":0},"#'T2-B(PP2)'!$C$40"]
["pp2_bl3_3_3_unit_in",{"$f":"'T2-B(PP2)'!$D$40","v":0},"#'T2-B(PP2)'!$D$40"]
["pp2_bl3_3_3_units_out",{"$f":"'T2-B(PP2)'!$G$40","v":0},"#'T2-B(PP2)'!$G$40"]
["pp2_bl3_3_4_name",{"$f":"'T2-B(PP2)'!$B$41","v":0},"#'T2-B(PP2)'!$B$41"]
["pp2_bl3_3_4_rate_in",{"$f":"'T2-B(PP2)'!$E$41","v":0},"#'T2-B(PP2)'!$E$41"]
["pp2_bl3_3_4_rate_out",{"$f":"'T2-B(PP2)'!$H$41","v":0},"#'T2-B(PP2)'!$H$41"]
["pp2_bl3_3_4_total",{"$f":"'T2-B(PP2)'!$J$41","v":0},"#'T2-B(PP2)'!$J$41"]
["pp2_bl3_3_4_total_in",{"$f":"'T2-B(PP2)'!$F$41","v":0},"#'T2-B(PP2)'!$F$41"]
["pp2_bl3_3_4_total_out",{"$f":"'T2-B(PP2)'!$I$41","v":0},"#'T2-B(PP2)'!$I$41"]
["pp2_bl3_3_4_unit",{"$f":"'T2-B(PP2)'!$C$41","v":0},"#'T2-B(PP2)'!$C$41"]
["pp2_bl3_3_4_unit_in",{"$f":"'T2-B(PP2)'!$D$41","v":0},"#'T2-B(PP2)'!$D$41"]
["pp2_bl3_3_4_units_out",{"$f":"'T2-B(PP2)'!$G$41","v":0},"#'T2-B(PP2)'!$G$41"]
["pp2_bl3_3_5_name",{"$f":"'T2-B(PP2)'!$B$42","v":0},"#'T2-B(PP2)'!$B$42"]
["pp2_bl3_3_5_rate_in",{"$f":"'T2-B(PP2)'!$E$42","v":0},"#'T2-B(PP2)'!$E$42"]
["pp2_bl3_3_5_rate_out",{"$f":"'T2-B(PP2)'!$H$42","v":0},"#'T2-B(PP2)'!$H$42"]
["pp2_bl3_3_5_total",{"$f":"'T2-B(PP2)'!$J$42","v":0},"#'T2-B(PP2)'!$J$42"]
["pp2_bl3_3_5_total_in",{"$f":"'T2-B(PP2)'!$F$42","v":0},"#'T2-B(PP2)'!$F$42"]
["pp2_bl3_3_5_total_out",{"$f":"'T2-B(PP2)'!$I$42","v":0},"#'T2-B(PP2)'!$I$42"]
["pp2_bl3_3_5_unit",{"$f":"'T2-B(PP2)'!$C$42","v":0},"#'T2-B(PP2)'!$C$42"]
["pp2_bl3_3_5_unit_in",{"$f":"'T2-B(PP2)'!$D$42","v":0},"#'T2-B(PP2)'!$D$42"]
["pp2_bl3_3_5_units_out",{"$f":"'T2-B(PP2)'!$G$42","v":0},"#'T2-B(PP2)'!$G$42"]
["pp2_bl3_3_6_name",{"$f":"'T2-B(PP2)'!$B$43","v":0},"#'T2-B(PP2)'!$B$43"]
["pp2_bl3_3_6_rate_in",{"$f":"'T2-B(PP2)'!$E$43","v":0},"#'T2-B(PP2)'!$E$43"]
["pp2_bl3_3_6_rate_out",{"$f":"'T2-B(PP2)'!$H$43","v":0},"#'T2-B(PP2)'!$H$43"]
["pp2_bl3_3_6_total",{"$f":"'T2-B(PP2)'!$J$43","v":0},"#'T2-B(PP2)'!$J$43"]
["pp2_bl3_3_6_total_in",{"$f":"'T2-B(PP2)'!$F$43","v":0},"#'T2-B(PP2)'!$F$43"]
["pp2_bl3_3_6_total_out",{"$f":"'T2-B(PP2)'!$I$43","v":0},"#'T2-B(PP2)'!$I$43"]
["pp2_bl3_3_6_unit",{"$f":"'T2-B(PP2)'!$C$43","v":0},"#'T2-B(PP2)'!$C$43"]
["pp2_bl3_3_6_unit_in",{"$f":"'T2-B(PP2)'!$D$43","v":0},"#'T2-B(PP2)'!$D$43"]
["pp2_bl3_3_6_units_out",{"$f":"'T2-B(PP2)'!$G$43","v":0},"#'T2-B(PP2)'!$G$43"]
["pp2_bl3_3_7_name",{"$f":"'T2-B(PP2)'!$B$44","v":0},"#'T2-B(PP2)'!$B$44"]
["pp2_bl3_3_7_rate_in",{"$f":"'T2-B(PP2)'!$E$44","v":0},"#'T2-B(PP2)'!$E$44"]
["pp2_bl3_3_7_rate_out",{"$f":"'T2-B(PP2)'!$H$44","v":0},"#'T2-B(PP2)'!$H$44"]
["pp2_bl3_3_7_total",{"$f":"'T2-B(PP2)'!$J$44","v":0},"#'T2-B(PP2)'!$J$44"]
["pp2_bl3_3_7_total_in",{"$f":"'T2-B(PP2)'!$F$44","v":0},"#'T2-B(PP2)'!$F$44"]
["pp2_bl3_3_7_total_out",{"$f":"'T2-B(PP2)'!$I$44","v":0},"#'T2-B(PP2)'!$I$44"]
["pp2_bl3_3_7_unit",{"$f":"'T2-B(PP2)'!$C$44","v":0},"#'T2-B(PP2)'!$C$44"]
["pp2_bl3_3_7_unit_in",{"$f":"'T2-B(PP2)'!$D$44","v":0},"#'T2-B(PP2)'!$D$44"]
["pp2_bl3_3_7_units_out",{"$f":"'T2-B(PP2)'!$G$44","v":0},"#'T2-B(PP2)'!$G$44"]
["pp2_bl3_3_8_name",{"$f":"'T2-B(PP2)'!$B$45","v":0},"#'T2-B(PP2)'!$B$45"]
["pp2_bl3_3_8_rate_in",{"$f":"'T2-B(PP2)'!$E$45","v":0},"#'T2-B(PP2)'!$E$45"]
["pp2_bl3_3_8_rate_out",{"$f":"'T2-B(PP2)'!$H$45","v":0},"#'T2-B(PP2)'!$H$45"]
["pp2_bl3_3_8_total",{"$f":"'T2-B(PP2)'!$J$45","v":0},"#'T2-B(PP2)'!$J$45"]
["pp2_bl3_3_8_total_in",{"$f":"'T2-B(PP2)'!$F$45","v":0},"#'T2-B(PP2)'!$F$45"]
["pp2_bl3_3_8_total_out",{"$f":"'T2-B(PP2)'!$I$45","v":0},"#'T2-B(PP2)'!$I$45"]
["pp2_bl3_3_8_unit",{"$f":"'T2-B(PP2)'!$C$45","v":0},"#'T2-B(PP2)'!$C$45"]
["pp2_bl3_3_8_unit_in",{"$f":"'T2-B(PP2)'!$D$45","v":0},"#'T2-B(PP2)'!$D$45"]
["pp2_bl3_3_8_units_out",{"$f":"'T2-B(PP2)'!$G$45","v":0},"#'T2-B(PP2)'!$G$45"]
["pp2_bl3_3_9_name",{"$f":"'T2-B(PP2)'!$B$46","v":0},"#'T2-B(PP2)'!$B$46"]
["pp2_bl3_3_9_rate_in",{"$f":"'T2-B(PP2)'!$E$46","v":0},"#'T2-B(PP2)'!$E$46"]
["pp2_bl3_3_9_rate_out",{"$f":"'T2-B(PP2)'!$H$46","v":0},"#'T2-B(PP2)'!$H$46"]
["pp2_bl3_3_9_total",{"$f":"'T2-B(PP2)'!$J$46","v":0},"#'T2-B(PP2)'!$J$46"]
["pp2_bl3_3_9_total_in",{"$f":"'T2-B(PP2)'!$F$46","v":0},"#'T2-B(PP2)'!$F$46"]
["pp2_bl3_3_9_total_out",{"$f":"'T2-B(PP2)'!$I$46","v":0},"#'T2-B(PP2)'!$I$46"]
["pp2_bl3_3_9_unit",{"$f":"'T2-B(PP2)'!$C$46","v":0},"#'T2-B(PP2)'!$C$46"]
["pp2_bl3_3_9_unit_in",{"$f":"'T2-B(PP2)'!$D$46","v":0},"#'T2-B(PP2)'!$D$46"]
["pp2_bl3_3_9_units_out",{"$f":"'T2-B(PP2)'!$G$46","v":0},"#'T2-B(PP2)'!$G$46"]
["pp2_bl3_3_total",{"$f":"'T2-B(PP2)'!$J$37","v":0},"#'T2-B(PP2)'!$J$37"]
["pp2_bl3_3_total_in",{"$f":"'T2-B(PP2)'!$F$37","v":0},"#'T2-B(PP2)'!$F$37"]
["pp2_bl3_3_total_out",{"$f":"'T2-B(PP2)'!$I$37","v":0},"#'T2-B(PP2)'!$I$37"]
["pp2_bl3_total",{"$f":"'T2-B(PP2)'!$J$48","v":0},"#'T2-B(PP2)'!$J$48"]
["pp2_bl3_total_in",{"$f":"'T2-B(PP2)'!$F$48","v":0},"#'T2-B(PP2)'!$F$48"]
["pp2_bl3_total_out",{"$f":"'T2-B(PP2)'!$I$48","v":0},"#'T2-B(PP2)'!$I$48"]
["pp2_bl4_1_1_name",{"$f":"'T2-B(PP2)'!$B$53","v":0},"#'T2-B(PP2)'!$B$53"]
["pp2_bl4_1_1_rate_in",{"$f":"'T2-B(PP2)'!$E$53","v":0},"#'T2-B(PP2)'!$E$53"]
["pp2_bl4_1_1_rate_out",{"$f":"'T2-B(PP2)'!$H$53","v":0},"#'T2-B(PP2)'!$H$53"]
["pp2_bl4_1_1_total",{"$f":"'T2-B(PP2)'!$J$53","v":0},"#'T2-B(PP2)'!$J$53"]
["pp2_bl4_1_1_total_in",{"$f":"'T2-B(PP2)'!$F$53","v":0},"#'T2-B(PP2)'!$F$53"]
["pp2_bl4_1_1_total_out",{"$f":"'T2-B(PP2)'!$I$53","v":0},"#'T2-B(PP2)'!$I$53"]
["pp2_bl4_1_1_unit",{"$f":"'T2-B(PP2)'!$C$53","v":0},"#'T2-B(PP2)'!$C$53"]
["pp2_bl4_1_1_unit_in",{"$f":"'T2-B(PP2)'!$D$53","v":0},"#'T2-B(PP2)'!$D$53"]
["pp2_bl4_1_1_units_out",{"$f":"'T2-B(PP2)'!$G$53","v":0},"#'T2-B(PP2)'!$G$53"]
["pp2_bl4_1_10_name",{"$f":"'T2-B(PP2)'!$B$62","v":0},"#'T2-B(PP2)'!$B$62"]
["pp2_bl4_1_10_rate_in",{"$f":"'T2-B(PP2)'!$E$62","v":0},"#'T2-B(PP2)'!$E$62"]
["pp2_bl4_1_10_rate_out",{"$f":"'T2-B(PP2)'!$H$62","v":0},"#'T2-B(PP2)'!$H$62"]
["pp2_bl4_1_10_total",{"$f":"'T2-B(PP2)'!$J$62","v":0},"#'T2-B(PP2)'!$J$62"]
["pp2_bl4_1_10_total_in",{"$f":"'T2-B(PP2)'!$F$62","v":0},"#'T2-B(PP2)'!$F$62"]
["pp2_bl4_1_10_total_out",{"$f":"'T2-B(PP2)'!$I$62","v":0},"#'T2-B(PP2)'!$I$62"]
["pp2_bl4_1_10_unit",{"$f":"'T2-B(PP2)'!$C$62","v":0},"#'T2-B(PP2)'!$C$62"]
["pp2_bl4_1_10_unit_in",{"$f":"'T2-B(PP2)'!$D$62","v":0},"#'T2-B(PP2)'!$D$62"]
["pp2_bl4_1_10_units_out",{"$f":"'T2-B(PP2)'!$G$62","v":0},"#'T2-B(PP2)'!$G$62"]
["pp2_bl4_1_2_name",{"$f":"'T2-B(PP2)'!$B$54","v":0},"#'T2-B(PP2)'!$B$54"]
["pp2_bl4_1_2_rate_in",{"$f":"'T2-B(PP2)'!$E$54","v":0},"#'T2-B(PP2)'!$E$54"]
["pp2_bl4_1_2_rate_out",{"$f":"'T2-B(PP2)'!$H$54","v":0},"#'T2-B(PP2)'!$H$54"]
["pp2_bl4_1_2_total",{"$f":"'T2-B(PP2)'!$J$54","v":0},"#'T2-B(PP2)'!$J$54"]
["pp2_bl4_1_2_total_in",{"$f":"'T2-B(PP2)'!$F$54","v":0},"#'T2-B(PP2)'!$F$54"]
["pp2_bl4_1_2_total_out",{"$f":"'T2-B(PP2)'!$I$54","v":0},"#'T2-B(PP2)'!$I$54"]
["pp2_bl4_1_2_unit",{"$f":"'T2-B(PP2)'!$C$54","v":0},"#'T2-B(PP2)'!$C$54"]
["pp2_bl4_1_2_unit_in",{"$f":"'T2-B(PP2)'!$D$54","v":0},"#'T2-B(PP2)'!$D$54"]
["pp2_bl4_1_2_units_out",{"$f":"'T2-B(PP2)'!$G$54","v":0},"#'T2-B(PP2)'!$G$54"]
["pp2_bl4_1_3_name",{"$f":"'T2-B(PP2)'!$B$55","v":0},"#'T2-B(PP2)'!$B$55"]
["pp2_bl4_1_3_rate_in",{"$f":"'T2-B(PP2)'!$E$55","v":0},"#'T2-B(PP2)'!$E$55"]
["pp2_bl4_1_3_rate_out",{"$f":"'T2-B(PP2)'!$H$55","v":0},"#'T2-B(PP2)'!$H$55"]
["pp2_bl4_1_3_total",{"$f":"'T2-B(PP2)'!$J$55","v":0},"#'T2-B(PP2)'!$J$55"]
["pp2_bl4_1_3_total_in",{"$f":"'T2-B(PP2)'!$F$55","v":0},"#'T2-B(PP2)'!$F$55"]
["pp2_bl4_1_3_total_out",{"$f":"'T2-B(PP2)'!$I$55","v":0},"#'T2-B(PP2)'!$I$55"]
["pp2_bl4_1_3_unit",{"$f":"'T2-B(PP2)'!$C$55","v":0},"#'T2-B(PP2)'!$C$55"]
["pp2_bl4_1_3_unit_in",{"$f":"'T2-B(PP2)'!$D$55","v":0},"#'T2-B(PP2)'!$D$55"]
["pp2_bl4_1_3_units_out",{"$f":"'T2-B(PP2)'!$G$55","v":0},"#'T2-B(PP2)'!$G$55"]
["pp2_bl4_1_4_name",{"$f":"'T2-B(PP2)'!$B$56","v":0},"#'T2-B(PP2)'!$B$56"]
["pp2_bl4_1_4_rate_in",{"$f":"'T2-B(PP2)'!$E$56","v":0},"#'T2-B(PP2)'!$E$56"]
["pp2_bl4_1_4_rate_out",{"$f":"'T2-B(PP2)'!$H$56","v":0},"#'T2-B(PP2)'!$H$56"]
["pp2_bl4_1_4_total",{"$f":"'T2-B(PP2)'!$J$56","v":0},"#'T2-B(PP2)'!$J$56"]
["pp2_bl4_1_4_total_in",{"$f":"'T2-B(PP2)'!$F$56","v":0},"#'T2-B(PP2)'!$F$56"]
["pp2_bl4_1_4_total_out",{"$f":"'T2-B(PP2)'!$I$56","v":0},"#'T2-B(PP2)'!$I$56"]
["pp2_bl4_1_4_unit",{"$f":"'T2-B(PP2)'!$C$56","v":0},"#'T2-B(PP2)'!$C$56"]
["pp2_bl4_1_4_unit_in",{"$f":"'T2-B(PP2)'!$D$56","v":0},"#'T2-B(PP2)'!$D$56"]
["pp2_bl4_1_4_units_out",{"$f":"'T2-B(PP2)'!$G$56","v":0},"#'T2-B(PP2)'!$G$56"]
["pp2_bl4_1_5_name",{"$f":"'T2-B(PP2)'!$B$57","v":0},"#'T2-B(PP2)'!$B$57"]
["pp2_bl4_1_5_rate_in",{"$f":"'T2-B(PP2)'!$E$57","v":0},"#'T2-B(PP2)'!$E$57"]
["pp2_bl4_1_5_rate_out",{"$f":"'T2-B(PP2)'!$H$57","v":0},"#'T2-B(PP2)'!$H$57"]
["pp2_bl4_1_5_total",{"$f":"'T2-B(PP2)'!$J$57","v":0},"#'T2-B(PP2)'!$J$57"]
["pp2_bl4_1_5_total_in",{"$f":"'T2-B(PP2)'!$F$57","v":0},"#'T2-B(PP2)'!$F$57"]
["pp2_bl4_1_5_total_out",{"$f":"'T2-B(PP2)'!$I$57","v":0},"#'T2-B(PP2)'!$I$57"]
["pp2_bl4_1_5_unit",{"$f":"'T2-B(PP2)'!$C$57","v":0},"#'T2-B(PP2)'!$C$57"]
["pp2_bl4_1_5_unit_in",{"$f":"'T2-B(PP2)'!$D$57","v":0},"#'T2-B(PP2)'!$D$57"]
["pp2_bl4_1_5_units_out",{"$f":"'T2-B(PP2)'!$G$57","v":0},"#'T2-B(PP2)'!$G$57"]
["pp2_bl4_1_6_name",{"$f":"'T2-B(PP2)'!$B$58","v":0},"#'T2-B(PP2)'!$B$58"]
["pp2_bl4_1_6_rate_in",{"$f":"'T2-B(PP2)'!$E$58","v":0},"#'T2-B(PP2)'!$E$58"]
["pp2_bl4_1_6_rate_out",{"$f":"'T2-B(PP2)'!$H$58","v":0},"#'T2-B(PP2)'!$H$58"]
["pp2_bl4_1_6_total",{"$f":"'T2-B(PP2)'!$J$58","v":0},"#'T2-B(PP2)'!$J$58"]
["pp2_bl4_1_6_total_in",{"$f":"'T2-B(PP2)'!$F$58","v":0},"#'T2-B(PP2)'!$F$58"]
["pp2_bl4_1_6_total_out",{"$f":"'T2-B(PP2)'!$I$58","v":0},"#'T2-B(PP2)'!$I$58"]
["pp2_bl4_1_6_unit",{"$f":"'T2-B(PP2)'!$C$58","v":0},"#'T2-B(PP2)'!$C$58"]
["pp2_bl4_1_6_unit_in",{"$f":"'T2-B(PP2)'!$D$58","v":0},"#'T2-B(PP2)'!$D$58"]
["pp2_bl4_1_6_units_out",{"$f":"'T2-B(PP2)'!$G$58","v":0},"#'T2-B(PP2)'!$G$58"]
["pp2_bl4_1_7_name",{"$f":"'T2-B(PP2)'!$B$59","v":0},"#'T2-B(PP2)'!$B$59"]
["pp2_bl4_1_7_rate_in",{"$f":"'T2-B(PP2)'!$E$59","v":0},"#'T2-B(PP2)'!$E$59"]
["pp2_bl4_1_7_rate_out",{"$f":"'T2-B(PP2)'!$H$59","v":0},"#'T2-B(PP2)'!$H$59"]
["pp2_bl4_1_7_total",{"$f":"'T2-B(PP2)'!$J$59","v":0},"#'T2-B(PP2)'!$J$59"]
["pp2_bl4_1_7_total_in",{"$f":"'T2-B(PP2)'!$F$59","v":0},"#'T2-B(PP2)'!$F$59"]
["pp2_bl4_1_7_total_out",{"$f":"'T2-B(PP2)'!$I$59","v":0},"#'T2-B(PP2)'!$I$59"]
["pp2_bl4_1_7_unit",{"$f":"'T2-B(PP2)'!$C$59","v":0},"#'T2-B(PP2)'!$C$59"]
["pp2_bl4_1_7_unit_in",{"$f":"'T2-B(PP2)'!$D$59","v":0},"#'T2-B(PP2)'!$D$59"]
["pp2_bl4_1_7_units_out",{"$f":"'T2-B(PP2)'!$G$59","v":0},"#'T2-B(PP2)'!$G$59"]
["pp2_bl4_1_8_name",{"$f":"'T2-B(PP2)'!$B$60","v":0},"#'T2-B(PP2)'!$B$60"]
["pp2_bl4_1_8_rate_in",{"$f":"'T2-B(PP2)'!$E$60","v":0},"#'T2-B(PP2)'!$E$60"]
["pp2_bl4_1_8_rate_out",{"$f":"'T2-B(PP2)'!$H$60","v":0},"#'T2-B(PP2)'!$H$60"]
["pp2_bl4_1_8_total",{"$f":"'T2-B(PP2)'!$J$60","v":0},"#'T2-B(PP2)'!$J$60"]
["pp2_bl4_1_8_total_in",{"$f":"'T2-B(PP2)'!$F$60","v":0},"#'T2-B(PP2)'!$F$60"]
["pp2_bl4_1_8_total_out",{"$f":"'T2-B(PP2)'!$I$60","v":0},"#'T2-B(PP2)'!$I$60"]
["pp2_bl4_1_8_unit",{"$f":"'T2-B(PP2)'!$C$60","v":0},"#'T2-B(PP2)'!$C$60"]
["pp2_bl4_1_8_unit_in",{"$f":"'T2-B(PP2)'!$D$60","v":0},"#'T2-B(PP2)'!$D$60"]
["pp2_bl4_1_8_units_out",{"$f":"'T2-B(PP2)'!$G$60","v":0},"#'T2-B(PP2)'!$G$60"]
["pp2_bl4_1_9_name",{"$f":"'T2-B(PP2)'!$B$61","v":0},"#'T2-B(PP2)'!$B$61"]
["pp2_bl4_1_9_rate_in",{"$f":"'T2-B(PP2)'!$E$61","v":0},"#'T2-B(PP2)'!$E$61"]
["pp2_bl4_1_9_rate_out",{"$f":"'T2-B(PP2)'!$H$61","v":0},"#'T2-B(PP2)'!$H$61"]
["pp2_bl4_1_9_total",{"$f":"'T2-B(PP2)'!$J$61","v":0},"#'T2-B(PP2)'!$J$61"]
["pp2_bl4_1_9_total_in",{"$f":"'T2-B(PP2)'!$F$61","v":0},"#'T2-B(PP2)'!$F$61"]
["pp2_bl4_1_9_total_out",{"$f":"'T2-B(PP2)'!$I$61","v":0},"#'T2-B(PP2)'!$I$61"]
["pp2_bl4_1_9_unit",{"$f":"'T2-B(PP2)'!$C$61","v":0},"#'T2-B(PP2)'!$C$61"]
["pp2_bl4_1_9_unit_in",{"$f":"'T2-B(PP2)'!$D$61","v":0},"#'T2-B(PP2)'!$D$61"]
["pp2_bl4_1_9_units_out",{"$f":"'T2-B(PP2)'!$G$61","v":0},"#'T2-B(PP2)'!$G$61"]
["pp2_bl4_1_total",{"$f":"'T2-B(PP2)'!$J$52","v":0},"#'T2-B(PP2)'!$J$52"]
["pp2_bl4_1_total_in",{"$f":"'T2-B(PP2)'!$F$52","v":0},"#'T2-B(PP2)'!$F$52"]
["pp2_bl4_1_total_out",{"$f":"'T2-B(PP2)'!$I$52","v":0},"#'T2-B(PP2)'!$I$52"]
["pp2_bl4_10_1_name",{"$f":"'T2-B(PP2)'!$B$152","v":0},"#'T2-B(PP2)'!$B$152"]
["pp2_bl4_10_1_rate_in",{"$f":"'T2-B(PP2)'!$E$152","v":0},"#'T2-B(PP2)'!$E$152"]
["pp2_bl4_10_1_rate_out",{"$f":"'T2-B(PP2)'!$H$152","v":0},"#'T2-B(PP2)'!$H$152"]
["pp2_bl4_10_1_total",{"$f":"'T2-B(PP2)'!$J$152","v":0},"#'T2-B(PP2)'!$J$152"]
["pp2_bl4_10_1_total_in",{"$f":"'T2-B(PP2)'!$F$152","v":0},"#'T2-B(PP2)'!$F$152"]
["pp2_bl4_10_1_total_out",{"$f":"'T2-B(PP2)'!$I$152","v":0},"#'T2-B(PP2)'!$I$152"]
["pp2_bl4_10_1_unit",{"$f":"'T2-B(PP2)'!$C$152","v":0},"#'T2-B(PP2)'!$C$152"]
["pp2_bl4_10_1_unit_in",{"$f":"'T2-B(PP2)'!$D$152","v":0},"#'T2-B(PP2)'!$D$152"]
["pp2_bl4_10_1_units_out",{"$f":"'T2-B(PP2)'!$G$152","v":0},"#'T2-B(PP2)'!$G$152"]
["pp2_bl4_10_10_name",{"$f":"'T2-B(PP2)'!$B$161","v":0},"#'T2-B(PP2)'!$B$161"]
["pp2_bl4_10_10_rate_in",{"$f":"'T2-B(PP2)'!$E$161","v":0},"#'T2-B(PP2)'!$E$161"]
["pp2_bl4_10_10_rate_out",{"$f":"'T2-B(PP2)'!$H$161","v":0},"#'T2-B(PP2)'!$H$161"]
["pp2_bl4_10_10_total",{"$f":"'T2-B(PP2)'!$J$161","v":0},"#'T2-B(PP2)'!$J$161"]
["pp2_bl4_10_10_total_in",{"$f":"'T2-B(PP2)'!$F$161","v":0},"#'T2-B(PP2)'!$F$161"]
["pp2_bl4_10_10_total_out",{"$f":"'T2-B(PP2)'!$I$161","v":0},"#'T2-B(PP2)'!$I$161"]
["pp2_bl4_10_10_unit",{"$f":"'T2-B(PP2)'!$C$161","v":0},"#'T2-B(PP2)'!$C$161"]
["pp2_bl4_10_10_unit_in",{"$f":"'T2-B(PP2)'!$D$161","v":0},"#'T2-B(PP2)'!$D$161"]
["pp2_bl4_10_10_units_out",{"$f":"'T2-B(PP2)'!$G$161","v":0},"#'T2-B(PP2)'!$G$161"]
["pp2_bl4_10_2_name",{"$f":"'T2-B(PP2)'!$B$153","v":0},"#'T2-B(PP2)'!$B$153"]
["pp2_bl4_10_2_rate_in",{"$f":"'T2-B(PP2)'!$E$153","v":0},"#'T2-B(PP2)'!$E$153"]
["pp2_bl4_10_2_rate_out",{"$f":"'T2-B(PP2)'!$H$153","v":0},"#'T2-B(PP2)'!$H$153"]
["pp2_bl4_10_2_total",{"$f":"'T2-B(PP2)'!$J$153","v":0},"#'T2-B(PP2)'!$J$153"]
["pp2_bl4_10_2_total_in",{"$f":"'T2-B(PP2)'!$F$153","v":0},"#'T2-B(PP2)'!$F$153"]
["pp2_bl4_10_2_total_out",{"$f":"'T2-B(PP2)'!$I$153","v":0},"#'T2-B(PP2)'!$I$153"]
["pp2_bl4_10_2_unit",{"$f":"'T2-B(PP2)'!$C$153","v":0},"#'T2-B(PP2)'!$C$153"]
["pp2_bl4_10_2_unit_in",{"$f":"'T2-B(PP2)'!$D$153","v":0},"#'T2-B(PP2)'!$D$153"]
["pp2_bl4_10_2_units_out",{"$f":"'T2-B(PP2)'!$G$153","v":0},"#'T2-B(PP2)'!$G$153"]
["pp2_bl4_10_3_name",{"$f":"'T2-B(PP2)'!$B$154","v":0},"#'T2-B(PP2)'!$B$154"]
["pp2_bl4_10_3_rate_in",{"$f":"'T2-B(PP2)'!$E$154","v":0},"#'T2-B(PP2)'!$E$154"]
["pp2_bl4_10_3_rate_out",{"$f":"'T2-B(PP2)'!$H$154","v":0},"#'T2-B(PP2)'!$H$154"]
["pp2_bl4_10_3_total",{"$f":"'T2-B(PP2)'!$J$154","v":0},"#'T2-B(PP2)'!$J$154"]
["pp2_bl4_10_3_total_in",{"$f":"'T2-B(PP2)'!$F$154","v":0},"#'T2-B(PP2)'!$F$154"]
["pp2_bl4_10_3_total_out",{"$f":"'T2-B(PP2)'!$I$154","v":0},"#'T2-B(PP2)'!$I$154"]
["pp2_bl4_10_3_unit",{"$f":"'T2-B(PP2)'!$C$154","v":0},"#'T2-B(PP2)'!$C$154"]
["pp2_bl4_10_3_unit_in",{"$f":"'T2-B(PP2)'!$D$154","v":0},"#'T2-B(PP2)'!$D$154"]
["pp2_bl4_10_3_units_out",{"$f":"'T2-B(PP2)'!$G$154","v":0},"#'T2-B(PP2)'!$G$154"]
["pp2_bl4_10_4_name",{"$f":"'T2-B(PP2)'!$B$155","v":0},"#'T2-B(PP2)'!$B$155"]
["pp2_bl4_10_4_rate_in",{"$f":"'T2-B(PP2)'!$E$155","v":0},"#'T2-B(PP2)'!$E$155"]
["pp2_bl4_10_4_rate_out",{"$f":"'T2-B(PP2)'!$H$155","v":0},"#'T2-B(PP2)'!$H$155"]
["pp2_bl4_10_4_total",{"$f":"'T2-B(PP2)'!$J$155","v":0},"#'T2-B(PP2)'!$J$155"]
["pp2_bl4_10_4_total_in",{"$f":"'T2-B(PP2)'!$F$155","v":0},"#'T2-B(PP2)'!$F$155"]
["pp2_bl4_10_4_total_out",{"$f":"'T2-B(PP2)'!$I$155","v":0},"#'T2-B(PP2)'!$I$155"]
["pp2_bl4_10_4_unit",{"$f":"'T2-B(PP2)'!$C$155","v":0},"#'T2-B(PP2)'!$C$155"]
["pp2_bl4_10_4_unit_in",{"$f":"'T2-B(PP2)'!$D$155","v":0},"#'T2-B(PP2)'!$D$155"]
["pp2_bl4_10_4_units_out",{"$f":"'T2-B(PP2)'!$G$155","v":0},"#'T2-B(PP2)'!$G$155"]
["pp2_bl4_10_5_name",{"$f":"'T2-B(PP2)'!$B$156","v":0},"#'T2-B(PP2)'!$B$156"]
["pp2_bl4_10_5_rate_in",{"$f":"'T2-B(PP2)'!$E$156","v":0},"#'T2-B(PP2)'!$E$156"]
["pp2_bl4_10_5_rate_out",{"$f":"'T2-B(PP2)'!$H$156","v":0},"#'T2-B(PP2)'!$H$156"]
["pp2_bl4_10_5_total",{"$f":"'T2-B(PP2)'!$J$156","v":0},"#'T2-B(PP2)'!$J$156"]
["pp2_bl4_10_5_total_in",{"$f":"'T2-B(PP2)'!$F$156","v":0},"#'T2-B(PP2)'!$F$156"]
["pp2_bl4_10_5_total_out",{"$f":"'T2-B(PP2)'!$I$156","v":0},"#'T2-B(PP2)'!$I$156"]
["pp2_bl4_10_5_unit",{"$f":"'T2-B(PP2)'!$C$156","v":0},"#'T2-B(PP2)'!$C$156"]
["pp2_bl4_10_5_unit_in",{"$f":"'T2-B(PP2)'!$D$156","v":0},"#'T2-B(PP2)'!$D$156"]
["pp2_bl4_10_5_units_out",{"$f":"'T2-B(PP2)'!$G$156","v":0},"#'T2-B(PP2)'!$G$156"]
["pp2_bl4_10_6_name",{"$f":"'T2-B(PP2)'!$B$157","v":0},"#'T2-B(PP2)'!$B$157"]
["pp2_bl4_10_6_rate_in",{"$f":"'T2-B(PP2)'!$E$157","v":0},"#'T2-B(PP2)'!$E$157"]
["pp2_bl4_10_6_rate_out",{"$f":"'T2-B(PP2)'!$H$157","v":0},"#'T2-B(PP2)'!$H$157"]
["pp2_bl4_10_6_total",{"$f":"'T2-B(PP2)'!$J$157","v":0},"#'T2-B(PP2)'!$J$157"]
["pp2_bl4_10_6_total_in",{"$f":"'T2-B(PP2)'!$F$157","v":0},"#'T2-B(PP2)'!$F$157"]
["pp2_bl4_10_6_total_out",{"$f":"'T2-B(PP2)'!$I$157","v":0},"#'T2-B(PP2)'!$I$157"]
["pp2_bl4_10_6_unit",{"$f":"'T2-B(PP2)'!$C$157","v":0},"#'T2-B(PP2)'!$C$157"]
["pp2_bl4_10_6_unit_in",{"$f":"'T2-B(PP2)'!$D$157","v":0},"#'T2-B(PP2)'!$D$157"]
["pp2_bl4_10_6_units_out",{"$f":"'T2-B(PP2)'!$G$157","v":0},"#'T2-B(PP2)'!$G$157"]
["pp2_bl4_10_7_name",{"$f":"'T2-B(PP2)'!$B$158","v":0},"#'T2-B(PP2)'!$B$158"]
["pp2_bl4_10_7_rate_in",{"$f":"'T2-B(PP2)'!$E$158","v":0},"#'T2-B(PP2)'!$E$158"]
["pp2_bl4_10_7_rate_out",{"$f":"'T2-B(PP2)'!$H$158","v":0},"#'T2-B(PP2)'!$H$158"]
["pp2_bl4_10_7_total",{"$f":"'T2-B(PP2)'!$J$158","v":0},"#'T2-B(PP2)'!$J$158"]
["pp2_bl4_10_7_total_in",{"$f":"'T2-B(PP2)'!$F$158","v":0},"#'T2-B(PP2)'!$F$158"]
["pp2_bl4_10_7_total_out",{"$f":"'T2-B(PP2)'!$I$158","v":0},"#'T2-B(PP2)'!$I$158"]
["pp2_bl4_10_7_unit",{"$f":"'T2-B(PP2)'!$C$158","v":0},"#'T2-B(PP2)'!$C$158"]
["pp2_bl4_10_7_unit_in",{"$f":"'T2-B(PP2)'!$D$158","v":0},"#'T2-B(PP2)'!$D$158"]
["pp2_bl4_10_7_units_out",{"$f":"'T2-B(PP2)'!$G$158","v":0},"#'T2-B(PP2)'!$G$158"]
["pp2_bl4_10_8_name",{"$f":"'T2-B(PP2)'!$B$159","v":0},"#'T2-B(PP2)'!$B$159"]
["pp2_bl4_10_8_rate_in",{"$f":"'T2-B(PP2)'!$E$159","v":0},"#'T2-B(PP2)'!$E$159"]
["pp2_bl4_10_8_rate_out",{"$f":"'T2-B(PP2)'!$H$159","v":0},"#'T2-B(PP2)'!$H$159"]
["pp2_bl4_10_8_total",{"$f":"'T2-B(PP2)'!$J$159","v":0},"#'T2-B(PP2)'!$J$159"]
["pp2_bl4_10_8_total_in",{"$f":"'T2-B(PP2)'!$F$159","v":0},"#'T2-B(PP2)'!$F$159"]
["pp2_bl4_10_8_total_out",{"$f":"'T2-B(PP2)'!$I$159","v":0},"#'T2-B(PP2)'!$I$159"]
["pp2_bl4_10_8_unit",{"$f":"'T2-B(PP2)'!$C$159","v":0},"#'T2-B(PP2)'!$C$159"]
["pp2_bl4_10_8_unit_in",{"$f":"'T2-B(PP2)'!$D$159","v":0},"#'T2-B(PP2)'!$D$159"]
["pp2_bl4_10_8_units_out",{"$f":"'T2-B(PP2)'!$G$159","v":0},"#'T2-B(PP2)'!$G$159"]
["pp2_bl4_10_9_name",{"$f":"'T2-B(PP2)'!$B$160","v":0},"#'T2-B(PP2)'!$B$160"]
["pp2_bl4_10_9_rate_in",{"$f":"'T2-B(PP2)'!$E$160","v":0},"#'T2-B(PP2)'!$E$160"]
["pp2_bl4_10_9_rate_out",{"$f":"'T2-B(PP2)'!$H$160","v":0},"#'T2-B(PP2)'!$H$160"]
["pp2_bl4_10_9_total",{"$f":"'T2-B(PP2)'!$J$160","v":0},"#'T2-B(PP2)'!$J$160"]
["pp2_bl4_10_9_total_in",{"$f":"'T2-B(PP2)'!$F$160","v":0},"#'T2-B(PP2)'!$F$160"]
["pp2_bl4_10_9_total_out",{"$f":"'T2-B(PP2)'!$I$160","v":0},"#'T2-B(PP2)'!$I$160"]
["pp2_bl4_10_9_unit",{"$f":"'T2-B(PP2)'!$C$160","v":0},"#'T2-B(PP2)'!$C$160"]
["pp2_bl4_10_9_unit_in",{"$f":"'T2-B(PP2)'!$D$160","v":0},"#'T2-B(PP2)'!$D$160"]
["pp2_bl4_10_9_units_out",{"$f":"'T2-B(PP2)'!$G$160","v":0},"#'T2-B(PP2)'!$G$160"]
["pp2_bl4_10_total",{"$f":"'T2-B(PP2)'!$J$151","v":0},"#'T2-B(PP2)'!$J$151"]
["pp2_bl4_10_total_in",{"$f":"'T2-B(PP2)'!$F$151","v":0},"#'T2-B(PP2)'!$F$151"]
["pp2_bl4_10_total_out",{"$f":"'T2-B(PP2)'!$I$151","v":0},"#'T2-B(PP2)'!$I$151"]
["pp2_bl4_11_1_name",{"$f":"'T2-B(PP2)'!$B$163","v":0},"#'T2-B(PP2)'!$B$163"]
["pp2_bl4_11_1_rate_in",{"$f":"'T2-B(PP2)'!$E$163","v":0},"#'T2-B(PP2)'!$E$163"]
["pp2_bl4_11_1_rate_out",{"$f":"'T2-B(PP2)'!$H$163","v":0},"#'T2-B(PP2)'!$H$163"]
["pp2_bl4_11_1_total",{"$f":"'T2-B(PP2)'!$J$163","v":0},"#'T2-B(PP2)'!$J$163"]
["pp2_bl4_11_1_total_in",{"$f":"'T2-B(PP2)'!$F$163","v":0},"#'T2-B(PP2)'!$F$163"]
["pp2_bl4_11_1_total_out",{"$f":"'T2-B(PP2)'!$I$163","v":0},"#'T2-B(PP2)'!$I$163"]
["pp2_bl4_11_1_unit",{"$f":"'T2-B(PP2)'!$C$163","v":0},"#'T2-B(PP2)'!$C$163"]
["pp2_bl4_11_1_unit_in",{"$f":"'T2-B(PP2)'!$D$163","v":0},"#'T2-B(PP2)'!$D$163"]
["pp2_bl4_11_1_units_out",{"$f":"'T2-B(PP2)'!$G$163","v":0},"#'T2-B(PP2)'!$G$163"]
["pp2_bl4_11_10_name",{"$f":"'T2-B(PP2)'!$B$172","v":0},"#'T2-B(PP2)'!$B$172"]
["pp2_bl4_11_10_rate_in",{"$f":"'T2-B(PP2)'!$E$172","v":0},"#'T2-B(PP2)'!$E$172"]
["pp2_bl4_11_10_rate_out",{"$f":"'T2-B(PP2)'!$H$172","v":0},"#'T2-B(PP2)'!$H$172"]
["pp2_bl4_11_10_total",{"$f":"'T2-B(PP2)'!$J$172","v":0},"#'T2-B(PP2)'!$J$172"]
["pp2_bl4_11_10_total_in",{"$f":"'T2-B(PP2)'!$F$172","v":0},"#'T2-B(PP2)'!$F$172"]
["pp2_bl4_11_10_total_out",{"$f":"'T2-B(PP2)'!$I$172","v":0},"#'T2-B(PP2)'!$I$172"]
["pp2_bl4_11_10_unit",{"$f":"'T2-B(PP2)'!$C$172","v":0},"#'T2-B(PP2)'!$C$172"]
["pp2_bl4_11_10_unit_in",{"$f":"'T2-B(PP2)'!$D$172","v":0},"#'T2-B(PP2)'!$D$172"]
["pp2_bl4_11_10_units_out",{"$f":"'T2-B(PP2)'!$G$172","v":0},"#'T2-B(PP2)'!$G$172"]
["pp2_bl4_11_2_name",{"$f":"'T2-B(PP2)'!$B$164","v":0},"#'T2-B(PP2)'!$B$164"]
["pp2_bl4_11_2_rate_in",{"$f":"'T2-B(PP2)'!$E$164","v":0},"#'T2-B(PP2)'!$E$164"]
["pp2_bl4_11_2_rate_out",{"$f":"'T2-B(PP2)'!$H$164","v":0},"#'T2-B(PP2)'!$H$164"]
["pp2_bl4_11_2_total",{"$f":"'T2-B(PP2)'!$J$164","v":0},"#'T2-B(PP2)'!$J$164"]
["pp2_bl4_11_2_total_in",{"$f":"'T2-B(PP2)'!$F$164","v":0},"#'T2-B(PP2)'!$F$164"]
["pp2_bl4_11_2_total_out",{"$f":"'T2-B(PP2)'!$I$164","v":0},"#'T2-B(PP2)'!$I$164"]
["pp2_bl4_11_2_unit",{"$f":"'T2-B(PP2)'!$C$164","v":0},"#'T2-B(PP2)'!$C$164"]
["pp2_bl4_11_2_unit_in",{"$f":"'T2-B(PP2)'!$D$164","v":0},"#'T2-B(PP2)'!$D$164"]
["pp2_bl4_11_2_units_out",{"$f":"'T2-B(PP2)'!$G$164","v":0},"#'T2-B(PP2)'!$G$164"]
["pp2_bl4_11_3_name",{"$f":"'T2-B(PP2)'!$B$165","v":0},"#'T2-B(PP2)'!$B$165"]
["pp2_bl4_11_3_rate_in",{"$f":"'T2-B(PP2)'!$E$165","v":0},"#'T2-B(PP2)'!$E$165"]
["pp2_bl4_11_3_rate_out",{"$f":"'T2-B(PP2)'!$H$165","v":0},"#'T2-B(PP2)'!$H$165"]
["pp2_bl4_11_3_total",{"$f":"'T2-B(PP2)'!$J$165","v":0},"#'T2-B(PP2)'!$J$165"]
["pp2_bl4_11_3_total_in",{"$f":"'T2-B(PP2)'!$F$165","v":0},"#'T2-B(PP2)'!$F$165"]
["pp2_bl4_11_3_total_out",{"$f":"'T2-B(PP2)'!$I$165","v":0},"#'T2-B(PP2)'!$I$165"]
["pp2_bl4_11_3_unit",{"$f":"'T2-B(PP2)'!$C$165","v":0},"#'T2-B(PP2)'!$C$165"]
["pp2_bl4_11_3_unit_in",{"$f":"'T2-B(PP2)'!$D$165","v":0},"#'T2-B(PP2)'!$D$165"]
["pp2_bl4_11_3_units_out",{"$f":"'T2-B(PP2)'!$G$165","v":0},"#'T2-B(PP2)'!$G$165"]
["pp2_bl4_11_4_name",{"$f":"'T2-B(PP2)'!$B$166","v":0},"#'T2-B(PP2)'!$B$166"]
["pp2_bl4_11_4_rate_in",{"$f":"'T2-B(PP2)'!$E$166","v":0},"#'T2-B(PP2)'!$E$166"]
["pp2_bl4_11_4_rate_out",{"$f":"'T2-B(PP2)'!$H$166","v":0},"#'T2-B(PP2)'!$H$166"]
["pp2_bl4_11_4_total",{"$f":"'T2-B(PP2)'!$J$166","v":0},"#'T2-B(PP2)'!$J$166"]
["pp2_bl4_11_4_total_in",{"$f":"'T2-B(PP2)'!$F$166","v":0},"#'T2-B(PP2)'!$F$166"]
["pp2_bl4_11_4_total_out",{"$f":"'T2-B(PP2)'!$I$166","v":0},"#'T2-B(PP2)'!$I$166"]
["pp2_bl4_11_4_unit",{"$f":"'T2-B(PP2)'!$C$166","v":0},"#'T2-B(PP2)'!$C$166"]
["pp2_bl4_11_4_unit_in",{"$f":"'T2-B(PP2)'!$D$166","v":0},"#'T2-B(PP2)'!$D$166"]
["pp2_bl4_11_4_units_out",{"$f":"'T2-B(PP2)'!$G$166","v":0},"#'T2-B(PP2)'!$G$166"]
["pp2_bl4_11_5_name",{"$f":"'T2-B(PP2)'!$B$167","v":0},"#'T2-B(PP2)'!$B$167"]
["pp2_bl4_11_5_rate_in",{"$f":"'T2-B(PP2)'!$E$167","v":0},"#'T2-B(PP2)'!$E$167"]
["pp2_bl4_11_5_rate_out",{"$f":"'T2-B(PP2)'!$H$167","v":0},"#'T2-B(PP2)'!$H$167"]
["pp2_bl4_11_5_total",{"$f":"'T2-B(PP2)'!$J$167","v":0},"#'T2-B(PP2)'!$J$167"]
["pp2_bl4_11_5_total_in",{"$f":"'T2-B(PP2)'!$F$167","v":0},"#'T2-B(PP2)'!$F$167"]
["pp2_bl4_11_5_total_out",{"$f":"'T2-B(PP2)'!$I$167","v":0},"#'T2-B(PP2)'!$I$167"]
["pp2_bl4_11_5_unit",{"$f":"'T2-B(PP2)'!$C$167","v":0},"#'T2-B(PP2)'!$C$167"]
["pp2_bl4_11_5_unit_in",{"$f":"'T2-B(PP2)'!$D$167","v":0},"#'T2-B(PP2)'!$D$167"]
["pp2_bl4_11_5_units_out",{"$f":"'T2-B(PP2)'!$G$167","v":0},"#'T2-B(PP2)'!$G$167"]
["pp2_bl4_11_6_name",{"$f":"'T2-B(PP2)'!$B$168","v":0},"#'T2-B(PP2)'!$B$168"]
["pp2_bl4_11_6_rate_in",{"$f":"'T2-B(PP2)'!$E$168","v":0},"#'T2-B(PP2)'!$E$168"]
["pp2_bl4_11_6_rate_out",{"$f":"'T2-B(PP2)'!$H$168","v":0},"#'T2-B(PP2)'!$H$168"]
["pp2_bl4_11_6_total",{"$f":"'T2-B(PP2)'!$J$168","v":0},"#'T2-B(PP2)'!$J$168"]
["pp2_bl4_11_6_total_in",{"$f":"'T2-B(PP2)'!$F$168","v":0},"#'T2-B(PP2)'!$F$168"]
["pp2_bl4_11_6_total_out",{"$f":"'T2-B(PP2)'!$I$168","v":0},"#'T2-B(PP2)'!$I$168"]
["pp2_bl4_11_6_unit",{"$f":"'T2-B(PP2)'!$C$168","v":0},"#'T2-B(PP2)'!$C$168"]
["pp2_bl4_11_6_unit_in",{"$f":"'T2-B(PP2)'!$D$168","v":0},"#'T2-B(PP2)'!$D$168"]
["pp2_bl4_11_6_units_out",{"$f":"'T2-B(PP2)'!$G$168","v":0},"#'T2-B(PP2)'!$G$168"]
["pp2_bl4_11_7_name",{"$f":"'T2-B(PP2)'!$B$169","v":0},"#'T2-B(PP2)'!$B$169"]
["pp2_bl4_11_7_rate_in",{"$f":"'T2-B(PP2)'!$E$169","v":0},"#'T2-B(PP2)'!$E$169"]
["pp2_bl4_11_7_rate_out",{"$f":"'T2-B(PP2)'!$H$169","v":0},"#'T2-B(PP2)'!$H$169"]
["pp2_bl4_11_7_total",{"$f":"'T2-B(PP2)'!$J$169","v":0},"#'T2-B(PP2)'!$J$169"]
["pp2_bl4_11_7_total_in",{"$f":"'T2-B(PP2)'!$F$169","v":0},"#'T2-B(PP2)'!$F$169"]
["pp2_bl4_11_7_total_out",{"$f":"'T2-B(PP2)'!$I$169","v":0},"#'T2-B(PP2)'!$I$169"]
["pp2_bl4_11_7_unit",{"$f":"'T2-B(PP2)'!$C$169","v":0},"#'T2-B(PP2)'!$C$169"]
["pp2_bl4_11_7_unit_in",{"$f":"'T2-B(PP2)'!$D$169","v":0},"#'T2-B(PP2)'!$D$169"]
["pp2_bl4_11_7_units_out",{"$f":"'T2-B(PP2)'!$G$169","v":0},"#'T2-B(PP2)'!$G$169"]
["pp2_bl4_11_8_name",{"$f":"'T2-B(PP2)'!$B$170","v":0},"#'T2-B(PP2)'!$B$170"]
["pp2_bl4_11_8_rate_in",{"$f":"'T2-B(PP2)'!$E$170","v":0},"#'T2-B(PP2)'!$E$170"]
["pp2_bl4_11_8_rate_out",{"$f":"'T2-B(PP2)'!$H$170","v":0},"#'T2-B(PP2)'!$H$170"]
["pp2_bl4_11_8_total",{"$f":"'T2-B(PP2)'!$J$170","v":0},"#'T2-B(PP2)'!$J$170"]
["pp2_bl4_11_8_total_in",{"$f":"'T2-B(PP2)'!$F$170","v":0},"#'T2-B(PP2)'!$F$170"]
["pp2_bl4_11_8_total_out",{"$f":"'T2-B(PP2)'!$I$170","v":0},"#'T2-B(PP2)'!$I$170"]
["pp2_bl4_11_8_unit",{"$f":"'T2-B(PP2)'!$C$170","v":0},"#'T2-B(PP2)'!$C$170"]
["pp2_bl4_11_8_unit_in",{"$f":"'T2-B(PP2)'!$D$170","v":0},"#'T2-B(PP2)'!$D$170"]
["pp2_bl4_11_8_units_out",{"$f":"'T2-B(PP2)'!$G$170","v":0},"#'T2-B(PP2)'!$G$170"]
["pp2_bl4_11_9_name",{"$f":"'T2-B(PP2)'!$B$171","v":0},"#'T2-B(PP2)'!$B$171"]
["pp2_bl4_11_9_rate_in",{"$f":"'T2-B(PP2)'!$E$171","v":0},"#'T2-B(PP2)'!$E$171"]
["pp2_bl4_11_9_rate_out",{"$f":"'T2-B(PP2)'!$H$171","v":0},"#'T2-B(PP2)'!$H$171"]
["pp2_bl4_11_9_total",{"$f":"'T2-B(PP2)'!$J$171","v":0},"#'T2-B(PP2)'!$J$171"]
["pp2_bl4_11_9_total_in",{"$f":"'T2-B(PP2)'!$F$171","v":0},"#'T2-B(PP2)'!$F$171"]
["pp2_bl4_11_9_total_out",{"$f":"'T2-B(PP2)'!$I$171","v":0},"#'T2-B(PP2)'!$I$171"]
["pp2_bl4_11_9_unit",{"$f":"'T2-B(PP2)'!$C$171","v":0},"#'T2-B(PP2)'!$C$171"]
["pp2_bl4_11_9_unit_in",{"$f":"'T2-B(PP2)'!$D$171","v":0},"#'T2-B(PP2)'!$D$171"]
["pp2_bl4_11_9_units_out",{"$f":"'T2-B(PP2)'!$G$171","v":0},"#'T2-B(PP2)'!$G$171"]
["pp2_bl4_11_total",{"$f":"'T2-B(PP2)'!$J$162","v":0},"#'T2-B(PP2)'!$J$162"]
["pp2_bl4_11_total_in",{"$f":"'T2-B(PP2)'!$F$162","v":0},"#'T2-B(PP2)'!$F$162"]
["pp2_bl4_11_total_out",{"$f":"'T2-B(PP2)'!$I$162","v":0},"#'T2-B(PP2)'!$I$162"]
["pp2_bl4_12_1_name",{"$f":"'T2-B(PP2)'!$B$174","v":0},"#'T2-B(PP2)'!$B$174"]
["pp2_bl4_12_1_rate_in",{"$f":"'T2-B(PP2)'!$E$174","v":0},"#'T2-B(PP2)'!$E$174"]
["pp2_bl4_12_1_rate_out",{"$f":"'T2-B(PP2)'!$H$174","v":0},"#'T2-B(PP2)'!$H$174"]
["pp2_bl4_12_1_total",{"$f":"'T2-B(PP2)'!$J$174","v":0},"#'T2-B(PP2)'!$J$174"]
["pp2_bl4_12_1_total_in",{"$f":"'T2-B(PP2)'!$F$174","v":0},"#'T2-B(PP2)'!$F$174"]
["pp2_bl4_12_1_total_out",{"$f":"'T2-B(PP2)'!$I$174","v":0},"#'T2-B(PP2)'!$I$174"]
["pp2_bl4_12_1_unit",{"$f":"'T2-B(PP2)'!$C$174","v":0},"#'T2-B(PP2)'!$C$174"]
["pp2_bl4_12_1_unit_in",{"$f":"'T2-B(PP2)'!$D$174","v":0},"#'T2-B(PP2)'!$D$174"]
["pp2_bl4_12_1_units_out",{"$f":"'T2-B(PP2)'!$G$174","v":0},"#'T2-B(PP2)'!$G$174"]
["pp2_bl4_12_10_name",{"$f":"'T2-B(PP2)'!$B$183","v":0},"#'T2-B(PP2)'!$B$183"]
["pp2_bl4_12_10_rate_in",{"$f":"'T2-B(PP2)'!$E$183","v":0},"#'T2-B(PP2)'!$E$183"]
["pp2_bl4_12_10_rate_out",{"$f":"'T2-B(PP2)'!$H$183","v":0},"#'T2-B(PP2)'!$H$183"]
["pp2_bl4_12_10_total",{"$f":"'T2-B(PP2)'!$J$183","v":0},"#'T2-B(PP2)'!$J$183"]
["pp2_bl4_12_10_total_in",{"$f":"'T2-B(PP2)'!$F$183","v":0},"#'T2-B(PP2)'!$F$183"]
["pp2_bl4_12_10_total_out",{"$f":"'T2-B(PP2)'!$I$183","v":0},"#'T2-B(PP2)'!$I$183"]
["pp2_bl4_12_10_unit",{"$f":"'T2-B(PP2)'!$C$183","v":0},"#'T2-B(PP2)'!$C$183"]
["pp2_bl4_12_10_unit_in",{"$f":"'T2-B(PP2)'!$D$183","v":0},"#'T2-B(PP2)'!$D$183"]
["pp2_bl4_12_10_units_out",{"$f":"'T2-B(PP2)'!$G$183","v":0},"#'T2-B(PP2)'!$G$183"]
["pp2_bl4_12_2_name",{"$f":"'T2-B(PP2)'!$B$175","v":"BL5 - EQUIPMENT AND WORKS"},"#'T2-B(PP2)'!$B$175"]
["pp2_bl4_12_2_rate_in",{"$f":"'T2-B(PP2)'!$E$175","v":0},"#'T2-B(PP2)'!$E$175"]
["pp2_bl4_12_2_rate_out",{"$f":"'T2-B(PP2)'!$H$175","v":0},"#'T2-B(PP2)'!$H$175"]
["pp2_bl4_12_2_total",{"$f":"'T2-B(PP2)'!$J$175","v":"TOTAL"},"#'T2-B(PP2)'!$J$175"]
["pp2_bl4_12_2_total_in",{"$f":"'T2-B(PP2)'!$F$175","v":0},"#'T2-B(PP2)'!$F$175"]
["pp2_bl4_12_2_total_out",{"$f":"'T2-B(PP2)'!$I$175","v":0},"#'T2-B(PP2)'!$I$175"]
["pp2_bl4_12_2_unit",{"$f":"'T2-B(PP2)'!$C$175","v":"Unit"},"#'T2-B(PP2)'!$C$175"]
["pp2_bl4_12_2_unit_in",{"$f":"'T2-B(PP2)'!$D$175","v":"Expenditures in the eligible area"},"#'T2-B(PP2)'!$D$175"]
["pp2_bl4_12_2_units_out",{"$f":"'T2-B(PP2)'!$G$175","v":"Expenditures outside the eligible area"},"#'T2-B(PP2)'!$G$175"]
["pp2_bl4_12_3_name",{"$f":"'T2-B(PP2)'!$B$176","v":0},"#'T2-B(PP2)'!$B$176"]
["pp2_bl4_12_3_rate_in",{"$f":"'T2-B(PP2)'!$E$176","v":"Unit rate"},"#'T2-B(PP2)'!$E$176"]
["pp2_bl4_12_3_rate_out",{"$f":"'T2-B(PP2)'!$H$176","v":"Unit rate"},"#'T2-B(PP2)'!$H$176"]
["pp2_bl4_12_3_total",{"$f":"'T2-B(PP2)'!$J$176","v":0},"#'T2-B(PP2)'!$J$176"]
["pp2_bl4_12_3_total_in",{"$f":"'T2-B(PP2)'!$F$176","v":"Total"},"#'T2-B(PP2)'!$F$176"]
["pp2_bl4_12_3_total_out",{"$f":"'T2-B(PP2)'!$I$176","v":"Total"},"#'T2-B(PP2)'!$I$176"]
["pp2_bl4_12_3_unit",{"$f":"'T2-B(PP2)'!$C$176","v":0},"#'T2-B(PP2)'!$C$176"]
["pp2_bl4_12_3_unit_in",{"$f":"'T2-B(PP2)'!$D$176","v":"Units"},"#'T2-B(PP2)'!$D$176"]
["pp2_bl4_12_3_units_out",{"$f":"'T2-B(PP2)'!$G$176","v":"Units"},"#'T2-B(PP2)'!$G$176"]
["pp2_bl4_12_4_name",{"$f":"'T2-B(PP2)'!$B$177","v":"Small scale construction"},"#'T2-B(PP2)'!$B$177"]
["pp2_bl4_12_4_rate_in",{"$f":"'T2-B(PP2)'!$E$177","v":0},"#'T2-B(PP2)'!$E$177"]
["pp2_bl4_12_4_rate_out",{"$f":"'T2-B(PP2)'!$H$177","v":0},"#'T2-B(PP2)'!$H$177"]
["pp2_bl4_12_4_total",{"$f":"'T2-B(PP2)'!$J$177","v":0},"#'T2-B(PP2)'!$J$177"]
["pp2_bl4_12_4_total_in",{"$f":"'T2-B(PP2)'!$F$177","v":0},"#'T2-B(PP2)'!$F$177"]
["pp2_bl4_12_4_total_out",{"$f":"'T2-B(PP2)'!$I$177","v":0},"#'T2-B(PP2)'!$I$177"]
["pp2_bl4_12_4_unit",{"$f":"'T2-B(PP2)'!$C$177","v":0},"#'T2-B(PP2)'!$C$177"]
["pp2_bl4_12_4_unit_in",{"$f":"'T2-B(PP2)'!$D$177","v":0},"#'T2-B(PP2)'!$D$177"]
["pp2_bl4_12_4_units_out",{"$f":"'T2-B(PP2)'!$G$177","v":0},"#'T2-B(PP2)'!$G$177"]
["pp2_bl4_12_5_name",{"$f":"'T2-B(PP2)'!$B$178","v":0},"#'T2-B(PP2)'!$B$178"]
["pp2_bl4_12_5_rate_in",{"$f":"'T2-B(PP2)'!$E$178","v":0},"#'T2-B(PP2)'!$E$178"]
["pp2_bl4_12_5_rate_out",{"$f":"'T2-B(PP2)'!$H$178","v":0},"#'T2-B(PP2)'!$H$178"]
["pp2_bl4_12_5_total",{"$f":"'T2-B(PP2)'!$J$178","v":0},"#'T2-B(PP2)'!$J$178"]
["pp2_bl4_12_5_total_in",{"$f":"'T2-B(PP2)'!$F$178","v":0},"#'T2-B(PP2)'!$F$178"]
["pp2_bl4_12_5_total_out",{"$f":"'T2-B(PP2)'!$I$178","v":0},"#'T2-B(PP2)'!$I$178"]
["pp2_bl4_12_5_unit",{"$f":"'T2-B(PP2)'!$C$178","v":0},"#'T2-B(PP2)'!$C$178"]
["pp2_bl4_12_5_unit_in",{"$f":"'T2-B(PP2)'!$D$178","v":0},"#'T2-B(PP2)'!$D$178"]
["pp2_bl4_12_5_units_out",{"$f":"'T2-B(PP2)'!$G$178","v":0},"#'T2-B(PP2)'!$G$178"]
["pp2_bl4_12_6_name",{"$f":"'T2-B(PP2)'!$B$179","v":0},"#'T2-B(PP2)'!$B$179"]
["pp2_bl4_12_6_rate_in",{"$f":"'T2-B(PP2)'!$E$179","v":0},"#'T2-B(PP2)'!$E$179"]
["pp2_bl4_12_6_rate_out",{"$f":"'T2-B(PP2)'!$H$179","v":0},"#'T2-B(PP2)'!$H$179"]
["pp2_bl4_12_6_total",{"$f":"'T2-B(PP2)'!$J$179","v":0},"#'T2-B(PP2)'!$J$179"]
["pp2_bl4_12_6_total_in",{"$f":"'T2-B(PP2)'!$F$179","v":0},"#'T2-B(PP2)'!$F$179"]
["pp2_bl4_12_6_total_out",{"$f":"'T2-B(PP2)'!$I$179","v":0},"#'T2-B(PP2)'!$I$179"]
["pp2_bl4_12_6_unit",{"$f":"'T2-B(PP2)'!$C$179","v":0},"#'T2-B(PP2)'!$C$179"]
["pp2_bl4_12_6_unit_in",{"$f":"'T2-B(PP2)'!$D$179","v":0},"#'T2-B(PP2)'!$D$179"]
["pp2_bl4_12_6_units_out",{"$f":"'T2-B(PP2)'!$G$179","v":0},"#'T2-B(PP2)'!$G$179"]
["pp2_bl4_12_7_name",{"$f":"'T2-B(PP2)'!$B$180","v":0},"#'T2-B(PP2)'!$B$180"]
["pp2_bl4_12_7_rate_in",{"$f":"'T2-B(PP2)'!$E$180","v":0},"#'T2-B(PP2)'!$E$180"]
["pp2_bl4_12_7_rate_out",{"$f":"'T2-B(PP2)'!$H$180","v":0},"#'T2-B(PP2)'!$H$180"]
["pp2_bl4_12_7_total",{"$f":"'T2-B(PP2)'!$J$180","v":0},"#'T2-B(PP2)'!$J$180"]
["pp2_bl4_12_7_total_in",{"$f":"'T2-B(PP2)'!$F$180","v":0},"#'T2-B(PP2)'!$F$180"]
["pp2_bl4_12_7_total_out",{"$f":"'T2-B(PP2)'!$I$180","v":0},"#'T2-B(PP2)'!$I$180"]
["pp2_bl4_12_7_unit",{"$f":"'T2-B(PP2)'!$C$180","v":0},"#'T2-B(PP2)'!$C$180"]
["pp2_bl4_12_7_unit_in",{"$f":"'T2-B(PP2)'!$D$180","v":0},"#'T2-B(PP2)'!$D$180"]
["pp2_bl4_12_7_units_out",{"$f":"'T2-B(PP2)'!$G$180","v":0},"#'T2-B(PP2)'!$G$180"]
["pp2_bl4_12_8_name",{"$f":"'T2-B(PP2)'!$B$181","v":0},"#'T2-B(PP2)'!$B$181"]
["pp2_bl4_12_8_rate_in",{"$f":"'T2-B(PP2)'!$E$181","v":0},"#'T2-B(PP2)'!$E$181"]
["pp2_bl4_12_8_rate_out",{"$f":"'T2-B(PP2)'!$H$181","v":0},"#'T2-B(PP2)'!$H$181"]
["pp2_bl4_12_8_total",{"$f":"'T2-B(PP2)'!$J$181","v":0},"#'T2-B(PP2)'!$J$181"]
["pp2_bl4_12_8_total_in",{"$f":"'T2-B(PP2)'!$F$181","v":0},"#'T2-B(PP2)'!$F$181"]
["pp2_bl4_12_8_total_out",{"$f":"'T2-B(PP2)'!$I$181","v":0},"#'T2-B(PP2)'!$I$181"]
["pp2_bl4_12_8_unit",{"$f":"'T2-B(PP2)'!$C$181","v":0},"#'T2-B(PP2)'!$C$181"]
["pp2_bl4_12_8_unit_in",{"$f":"'T2-B(PP2)'!$D$181","v":0},"#'T2-B(PP2)'!$D$181"]
["pp2_bl4_12_8_units_out",{"$f":"'T2-B(PP2)'!$G$181","v":0},"#'T2-B(PP2)'!$G$181"]
["pp2_bl4_12_9_name",{"$f":"'T2-B(PP2)'!$B$182","v":0},"#'T2-B(PP2)'!$B$182"]
["pp2_bl4_12_9_rate_in",{"$f":"'T2-B(PP2)'!$E$182","v":0},"#'T2-B(PP2)'!$E$182"]
["pp2_bl4_12_9_rate_out",{"$f":"'T2-B(PP2)'!$H$182","v":0},"#'T2-B(PP2)'!$H$182"]
["pp2_bl4_12_9_total",{"$f":"'T2-B(PP2)'!$J$182","v":0},"#'T2-B(PP2)'!$J$182"]
["pp2_bl4_12_9_total_in",{"$f":"'T2-B(PP2)'!$F$182","v":0},"#'T2-B(PP2)'!$F$182"]
["pp2_bl4_12_9_total_out",{"$f":"'T2-B(PP2)'!$I$182","v":0},"#'T2-B(PP2)'!$I$182"]
["pp2_bl4_12_9_unit",{"$f":"'T2-B(PP2)'!$C$182","v":0},"#'T2-B(PP2)'!$C$182"]
["pp2_bl4_12_9_unit_in",{"$f":"'T2-B(PP2)'!$D$182","v":0},"#'T2-B(PP2)'!$D$182"]
["pp2_bl4_12_9_units_out",{"$f":"'T2-B(PP2)'!$G$182","v":0},"#'T2-B(PP2)'!$G$182"]
["pp2_bl4_12_total",{"$f":"'T2-B(PP2)'!$J$173","v":0},"#'T2-B(PP2)'!$J$173"]
["pp2_bl4_12_total_in",{"$f":"'T2-B(PP2)'!$F$173","v":0},"#'T2-B(PP2)'!$F$173"]
["pp2_bl4_12_total_out",{"$f":"'T2-B(PP2)'!$I$173","v":0},"#'T2-B(PP2)'!$I$173"]
["pp2_bl4_13_1_name",{"$f":"'T2-B(PP2)'!$B$185","v":0},"#'T2-B(PP2)'!$B$185"]
["pp2_bl4_13_1_rate_in",{"$f":"'T2-B(PP2)'!$E$185","v":0},"#'T2-B(PP2)'!$E$185"]
["pp2_bl4_13_1_rate_out",{"$f":"'T2-B(PP2)'!$H$185","v":0},"#'T2-B(PP2)'!$H$185"]
["pp2_bl4_13_1_total",{"$f":"'T2-B(PP2)'!$J$185","v":0},"#'T2-B(PP2)'!$J$185"]
["pp2_bl4_13_1_total_in",{"$f":"'T2-B(PP2)'!$F$185","v":0},"#'T2-B(PP2)'!$F$185"]
["pp2_bl4_13_1_total_out",{"$f":"'T2-B(PP2)'!$I$185","v":0},"#'T2-B(PP2)'!$I$185"]
["pp2_bl4_13_1_unit",{"$f":"'T2-B(PP2)'!$C$185","v":0},"#'T2-B(PP2)'!$C$185"]
["pp2_bl4_13_1_unit_in",{"$f":"'T2-B(PP2)'!$D$185","v":0},"#'T2-B(PP2)'!$D$185"]
["pp2_bl4_13_1_units_out",{"$f":"'T2-B(PP2)'!$G$185","v":0},"#'T2-B(PP2)'!$G$185"]
["pp2_bl4_13_10_name",{"$f":"'T2-B(PP2)'!$B$194","v":0},"#'T2-B(PP2)'!$B$194"]
["pp2_bl4_13_10_rate_in",{"$f":"'T2-B(PP2)'!$E$194","v":0},"#'T2-B(PP2)'!$E$194"]
["pp2_bl4_13_10_rate_out",{"$f":"'T2-B(PP2)'!$H$194","v":0},"#'T2-B(PP2)'!$H$194"]
["pp2_bl4_13_10_total",{"$f":"'T2-B(PP2)'!$J$194","v":0},"#'T2-B(PP2)'!$J$194"]
["pp2_bl4_13_10_total_in",{"$f":"'T2-B(PP2)'!$F$194","v":0},"#'T2-B(PP2)'!$F$194"]
["pp2_bl4_13_10_total_out",{"$f":"'T2-B(PP2)'!$I$194","v":0},"#'T2-B(PP2)'!$I$194"]
["pp2_bl4_13_10_unit",{"$f":"'T2-B(PP2)'!$C$194","v":0},"#'T2-B(PP2)'!$C$194"]
["pp2_bl4_13_10_unit_in",{"$f":"'T2-B(PP2)'!$D$194","v":0},"#'T2-B(PP2)'!$D$194"]
["pp2_bl4_13_10_units_out",{"$f":"'T2-B(PP2)'!$G$194","v":0},"#'T2-B(PP2)'!$G$194"]
["pp2_bl4_13_2_name",{"$f":"'T2-B(PP2)'!$B$186","v":0},"#'T2-B(PP2)'!$B$186"]
["pp2_bl4_13_2_rate_in",{"$f":"'T2-B(PP2)'!$E$186","v":0},"#'T2-B(PP2)'!$E$186"]
["pp2_bl4_13_2_rate_out",{"$f":"'T2-B(PP2)'!$H$186","v":0},"#'T2-B(PP2)'!$H$186"]
["pp2_bl4_13_2_total",{"$f":"'T2-B(PP2)'!$J$186","v":0},"#'T2-B(PP2)'!$J$186"]
["pp2_bl4_13_2_total_in",{"$f":"'T2-B(PP2)'!$F$186","v":0},"#'T2-B(PP2)'!$F$186"]
["pp2_bl4_13_2_total_out",{"$f":"'T2-B(PP2)'!$I$186","v":0},"#'T2-B(PP2)'!$I$186"]
["pp2_bl4_13_2_unit",{"$f":"'T2-B(PP2)'!$C$186","v":0},"#'T2-B(PP2)'!$C$186"]
["pp2_bl4_13_2_unit_in",{"$f":"'T2-B(PP2)'!$D$186","v":0},"#'T2-B(PP2)'!$D$186"]
["pp2_bl4_13_2_units_out",{"$f":"'T2-B(PP2)'!$G$186","v":0},"#'T2-B(PP2)'!$G$186"]
["pp2_bl4_13_3_name",{"$f":"'T2-B(PP2)'!$B$187","v":0},"#'T2-B(PP2)'!$B$187"]
["pp2_bl4_13_3_rate_in",{"$f":"'T2-B(PP2)'!$E$187","v":0},"#'T2-B(PP2)'!$E$187"]
["pp2_bl4_13_3_rate_out",{"$f":"'T2-B(PP2)'!$H$187","v":0},"#'T2-B(PP2)'!$H$187"]
["pp2_bl4_13_3_total",{"$f":"'T2-B(PP2)'!$J$187","v":0},"#'T2-B(PP2)'!$J$187"]
["pp2_bl4_13_3_total_in",{"$f":"'T2-B(PP2)'!$F$187","v":0},"#'T2-B(PP2)'!$F$187"]
["pp2_bl4_13_3_total_out",{"$f":"'T2-B(PP2)'!$I$187","v":0},"#'T2-B(PP2)'!$I$187"]
["pp2_bl4_13_3_unit",{"$f":"'T2-B(PP2)'!$C$187","v":0},"#'T2-B(PP2)'!$C$187"]
["pp2_bl4_13_3_unit_in",{"$f":"'T2-B(PP2)'!$D$187","v":0},"#'T2-B(PP2)'!$D$187"]
["pp2_bl4_13_3_units_out",{"$f":"'T2-B(PP2)'!$G$187","v":0},"#'T2-B(PP2)'!$G$187"]
["pp2_bl4_13_4_name",{"$f":"'T2-B(PP2)'!$B$188","v":"Supply"},"#'T2-B(PP2)'!$B$188"]
["pp2_bl4_13_4_rate_in",{"$f":"'T2-B(PP2)'!$E$188","v":0},"#'T2-B(PP2)'!$E$188"]
["pp2_bl4_13_4_rate_out",{"$f":"'T2-B(PP2)'!$H$188","v":0},"#'T2-B(PP2)'!$H$188"]
["pp2_bl4_13_4_total",{"$f":"'T2-B(PP2)'!$J$188","v":0},"#'T2-B(PP2)'!$J$188"]
["pp2_bl4_13_4_total_in",{"$f":"'T2-B(PP2)'!$F$188","v":0},"#'T2-B(PP2)'!$F$188"]
["pp2_bl4_13_4_total_out",{"$f":"'T2-B(PP2)'!$I$188","v":0},"#'T2-B(PP2)'!$I$188"]
["pp2_bl4_13_4_unit",{"$f":"'T2-B(PP2)'!$C$188","v":0},"#'T2-B(PP2)'!$C$188"]
["pp2_bl4_13_4_unit_in",{"$f":"'T2-B(PP2)'!$D$188","v":0},"#'T2-B(PP2)'!$D$188"]
["pp2_bl4_13_4_units_out",{"$f":"'T2-B(PP2)'!$G$188","v":0},"#'T2-B(PP2)'!$G$188"]
["pp2_bl4_13_5_name",{"$f":"'T2-B(PP2)'!$B$189","v":0},"#'T2-B(PP2)'!$B$189"]
["pp2_bl4_13_5_rate_in",{"$f":"'T2-B(PP2)'!$E$189","v":0},"#'T2-B(PP2)'!$E$189"]
["pp2_bl4_13_5_rate_out",{"$f":"'T2-B(PP2)'!$H$189","v":0},"#'T2-B(PP2)'!$H$189"]
["pp2_bl4_13_5_total",{"$f":"'T2-B(PP2)'!$J$189","v":0},"#'T2-B(PP2)'!$J$189"]
["pp2_bl4_13_5_total_in",{"$f":"'T2-B(PP2)'!$F$189","v":0},"#'T2-B(PP2)'!$F$189"]
["pp2_bl4_13_5_total_out",{"$f":"'T2-B(PP2)'!$I$189","v":0},"#'T2-B(PP2)'!$I$189"]
["pp2_bl4_13_5_unit",{"$f":"'T2-B(PP2)'!$C$189","v":0},"#'T2-B(PP2)'!$C$189"]
["pp2_bl4_13_5_unit_in",{"$f":"'T2-B(PP2)'!$D$189","v":0},"#'T2-B(PP2)'!$D$189"]
["pp2_bl4_13_5_units_out",{"$f":"'T2-B(PP2)'!$G$189","v":0},"#'T2-B(PP2)'!$G$189"]
["pp2_bl4_13_6_name",{"$f":"'T2-B(PP2)'!$B$190","v":0},"#'T2-B(PP2)'!$B$190"]
["pp2_bl4_13_6_rate_in",{"$f":"'T2-B(PP2)'!$E$190","v":0},"#'T2-B(PP2)'!$E$190"]
["pp2_bl4_13_6_rate_out",{"$f":"'T2-B(PP2)'!$H$190","v":0},"#'T2-B(PP2)'!$H$190"]
["pp2_bl4_13_6_total",{"$f":"'T2-B(PP2)'!$J$190","v":0},"#'T2-B(PP2)'!$J$190"]
["pp2_bl4_13_6_total_in",{"$f":"'T2-B(PP2)'!$F$190","v":0},"#'T2-B(PP2)'!$F$190"]
["pp2_bl4_13_6_total_out",{"$f":"'T2-B(PP2)'!$I$190","v":0},"#'T2-B(PP2)'!$I$190"]
["pp2_bl4_13_6_unit",{"$f":"'T2-B(PP2)'!$C$190","v":0},"#'T2-B(PP2)'!$C$190"]
["pp2_bl4_13_6_unit_in",{"$f":"'T2-B(PP2)'!$D$190","v":0},"#'T2-B(PP2)'!$D$190"]
["pp2_bl4_13_6_units_out",{"$f":"'T2-B(PP2)'!$G$190","v":0},"#'T2-B(PP2)'!$G$190"]
["pp2_bl4_13_7_name",{"$f":"'T2-B(PP2)'!$B$191","v":0},"#'T2-B(PP2)'!$B$191"]
["pp2_bl4_13_7_rate_in",{"$f":"'T2-B(PP2)'!$E$191","v":0},"#'T2-B(PP2)'!$E$191"]
["pp2_bl4_13_7_rate_out",{"$f":"'T2-B(PP2)'!$H$191","v":0},"#'T2-B(PP2)'!$H$191"]
["pp2_bl4_13_7_total",{"$f":"'T2-B(PP2)'!$J$191","v":0},"#'T2-B(PP2)'!$J$191"]
["pp2_bl4_13_7_total_in",{"$f":"'T2-B(PP2)'!$F$191","v":0},"#'T2-B(PP2)'!$F$191"]
["pp2_bl4_13_7_total_out",{"$f":"'T2-B(PP2)'!$I$191","v":0},"#'T2-B(PP2)'!$I$191"]
["pp2_bl4_13_7_unit",{"$f":"'T2-B(PP2)'!$C$191","v":0},"#'T2-B(PP2)'!$C$191"]
["pp2_bl4_13_7_unit_in",{"$f":"'T2-B(PP2)'!$D$191","v":0},"#'T2-B(PP2)'!$D$191"]
["pp2_bl4_13_7_units_out",{"$f":"'T2-B(PP2)'!$G$191","v":0},"#'T2-B(PP2)'!$G$191"]
["pp2_bl4_13_8_name",{"$f":"'T2-B(PP2)'!$B$192","v":0},"#'T2-B(PP2)'!$B$192"]
["pp2_bl4_13_8_rate_in",{"$f":"'T2-B(PP2)'!$E$192","v":0},"#'T2-B(PP2)'!$E$192"]
["pp2_bl4_13_8_rate_out",{"$f":"'T2-B(PP2)'!$H$192","v":0},"#'T2-B(PP2)'!$H$192"]
["pp2_bl4_13_8_total",{"$f":"'T2-B(PP2)'!$J$192","v":0},"#'T2-B(PP2)'!$J$192"]
["pp2_bl4_13_8_total_in",{"$f":"'T2-B(PP2)'!$F$192","v":0},"#'T2-B(PP2)'!$F$192"]
["pp2_bl4_13_8_total_out",{"$f":"'T2-B(PP2)'!$I$192","v":0},"#'T2-B(PP2)'!$I$192"]
["pp2_bl4_13_8_unit",{"$f":"'T2-B(PP2)'!$C$192","v":0},"#'T2-B(PP2)'!$C$192"]
["pp2_bl4_13_8_unit_in",{"$f":"'T2-B(PP2)'!$D$192","v":0},"#'T2-B(PP2)'!$D$192"]
["pp2_bl4_13_8_units_out",{"$f":"'T2-B(PP2)'!$G$192","v":0},"#'T2-B(PP2)'!$G$192"]
["pp2_bl4_13_9_name",{"$f":"'T2-B(PP2)'!$B$193","v":0},"#'T2-B(PP2)'!$B$193"]
["pp2_bl4_13_9_rate_in",{"$f":"'T2-B(PP2)'!$E$193","v":0},"#'T2-B(PP2)'!$E$193"]
["pp2_bl4_13_9_rate_out",{"$f":"'T2-B(PP2)'!$H$193","v":0},"#'T2-B(PP2)'!$H$193"]
["pp2_bl4_13_9_total",{"$f":"'T2-B(PP2)'!$J$193","v":0},"#'T2-B(PP2)'!$J$193"]
["pp2_bl4_13_9_total_in",{"$f":"'T2-B(PP2)'!$F$193","v":0},"#'T2-B(PP2)'!$F$193"]
["pp2_bl4_13_9_total_out",{"$f":"'T2-B(PP2)'!$I$193","v":0},"#'T2-B(PP2)'!$I$193"]
["pp2_bl4_13_9_unit",{"$f":"'T2-B(PP2)'!$C$193","v":0},"#'T2-B(PP2)'!$C$193"]
["pp2_bl4_13_9_unit_in",{"$f":"'T2-B(PP2)'!$D$193","v":0},"#'T2-B(PP2)'!$D$193"]
["pp2_bl4_13_9_units_out",{"$f":"'T2-B(PP2)'!$G$193","v":0},"#'T2-B(PP2)'!$G$193"]
["pp2_bl4_13_total",{"$f":"'T2-B(PP2)'!$J$184","v":0},"#'T2-B(PP2)'!$J$184"]
["pp2_bl4_13_total_in",{"$f":"'T2-B(PP2)'!$F$184","v":0},"#'T2-B(PP2)'!$F$184"]
["pp2_bl4_13_total_out",{"$f":"'T2-B(PP2)'!$I$184","v":0},"#'T2-B(PP2)'!$I$184"]
["pp2_bl4_2_1_name",{"$f":"'T2-B(PP2)'!$B$64","v":0},"#'T2-B(PP2)'!$B$64"]
["pp2_bl4_2_1_rate_in",{"$f":"'T2-B(PP2)'!$E$64","v":0},"#'T2-B(PP2)'!$E$64"]
["pp2_bl4_2_1_rate_out",{"$f":"'T2-B(PP2)'!$H$64","v":0},"#'T2-B(PP2)'!$H$64"]
["pp2_bl4_2_1_total",{"$f":"'T2-B(PP2)'!$J$64","v":0},"#'T2-B(PP2)'!$J$64"]
["pp2_bl4_2_1_total_in",{"$f":"'T2-B(PP2)'!$F$64","v":0},"#'T2-B(PP2)'!$F$64"]
["pp2_bl4_2_1_total_out",{"$f":"'T2-B(PP2)'!$I$64","v":0},"#'T2-B(PP2)'!$I$64"]
["pp2_bl4_2_1_unit",{"$f":"'T2-B(PP2)'!$C$64","v":0},"#'T2-B(PP2)'!$C$64"]
["pp2_bl4_2_1_unit_in",{"$f":"'T2-B(PP2)'!$D$64","v":0},"#'T2-B(PP2)'!$D$64"]
["pp2_bl4_2_1_units_out",{"$f":"'T2-B(PP2)'!$G$64","v":0},"#'T2-B(PP2)'!$G$64"]
["pp2_bl4_2_10_name",{"$f":"'T2-B(PP2)'!$B$73","v":0},"#'T2-B(PP2)'!$B$73"]
["pp2_bl4_2_10_rate_in",{"$f":"'T2-B(PP2)'!$E$73","v":0},"#'T2-B(PP2)'!$E$73"]
["pp2_bl4_2_10_rate_out",{"$f":"'T2-B(PP2)'!$H$73","v":0},"#'T2-B(PP2)'!$H$73"]
["pp2_bl4_2_10_total",{"$f":"'T2-B(PP2)'!$J$73","v":0},"#'T2-B(PP2)'!$J$73"]
["pp2_bl4_2_10_total_in",{"$f":"'T2-B(PP2)'!$F$73","v":0},"#'T2-B(PP2)'!$F$73"]
["pp2_bl4_2_10_total_out",{"$f":"'T2-B(PP2)'!$I$73","v":0},"#'T2-B(PP2)'!$I$73"]
["pp2_bl4_2_10_unit",{"$f":"'T2-B(PP2)'!$C$73","v":0},"#'T2-B(PP2)'!$C$73"]
["pp2_bl4_2_10_unit_in",{"$f":"'T2-B(PP2)'!$D$73","v":0},"#'T2-B(PP2)'!$D$73"]
["pp2_bl4_2_10_units_out",{"$f":"'T2-B(PP2)'!$G$73","v":0},"#'T2-B(PP2)'!$G$73"]
["pp2_bl4_2_2_name",{"$f":"'T2-B(PP2)'!$B$65","v":0},"#'T2-B(PP2)'!$B$65"]
["pp2_bl4_2_2_rate_in",{"$f":"'T2-B(PP2)'!$E$65","v":0},"#'T2-B(PP2)'!$E$65"]
["pp2_bl4_2_2_rate_out",{"$f":"'T2-B(PP2)'!$H$65","v":0},"#'T2-B(PP2)'!$H$65"]
["pp2_bl4_2_2_total",{"$f":"'T2-B(PP2)'!$J$65","v":0},"#'T2-B(PP2)'!$J$65"]
["pp2_bl4_2_2_total_in",{"$f":"'T2-B(PP2)'!$F$65","v":0},"#'T2-B(PP2)'!$F$65"]
["pp2_bl4_2_2_total_out",{"$f":"'T2-B(PP2)'!$I$65","v":0},"#'T2-B(PP2)'!$I$65"]
["pp2_bl4_2_2_unit",{"$f":"'T2-B(PP2)'!$C$65","v":0},"#'T2-B(PP2)'!$C$65"]
["pp2_bl4_2_2_unit_in",{"$f":"'T2-B(PP2)'!$D$65","v":0},"#'T2-B(PP2)'!$D$65"]
["pp2_bl4_2_2_units_out",{"$f":"'T2-B(PP2)'!$G$65","v":0},"#'T2-B(PP2)'!$G$65"]
["pp2_bl4_2_3_name",{"$f":"'T2-B(PP2)'!$B$66","v":0},"#'T2-B(PP2)'!$B$66"]
["pp2_bl4_2_3_rate_in",{"$f":"'T2-B(PP2)'!$E$66","v":0},"#'T2-B(PP2)'!$E$66"]
["pp2_bl4_2_3_rate_out",{"$f":"'T2-B(PP2)'!$H$66","v":0},"#'T2-B(PP2)'!$H$66"]
["pp2_bl4_2_3_total",{"$f":"'T2-B(PP2)'!$J$66","v":0},"#'T2-B(PP2)'!$J$66"]
["pp2_bl4_2_3_total_in",{"$f":"'T2-B(PP2)'!$F$66","v":0},"#'T2-B(PP2)'!$F$66"]
["pp2_bl4_2_3_total_out",{"$f":"'T2-B(PP2)'!$I$66","v":0},"#'T2-B(PP2)'!$I$66"]
["pp2_bl4_2_3_unit",{"$f":"'T2-B(PP2)'!$C$66","v":0},"#'T2-B(PP2)'!$C$66"]
["pp2_bl4_2_3_unit_in",{"$f":"'T2-B(PP2)'!$D$66","v":0},"#'T2-B(PP2)'!$D$66"]
["pp2_bl4_2_3_units_out",{"$f":"'T2-B(PP2)'!$G$66","v":0},"#'T2-B(PP2)'!$G$66"]
["pp2_bl4_2_4_name",{"$f":"'T2-B(PP2)'!$B$67","v":0},"#'T2-B(PP2)'!$B$67"]
["pp2_bl4_2_4_rate_in",{"$f":"'T2-B(PP2)'!$E$67","v":0},"#'T2-B(PP2)'!$E$67"]
["pp2_bl4_2_4_rate_out",{"$f":"'T2-B(PP2)'!$H$67","v":0},"#'T2-B(PP2)'!$H$67"]
["pp2_bl4_2_4_total",{"$f":"'T2-B(PP2)'!$J$67","v":0},"#'T2-B(PP2)'!$J$67"]
["pp2_bl4_2_4_total_in",{"$f":"'T2-B(PP2)'!$F$67","v":0},"#'T2-B(PP2)'!$F$67"]
["pp2_bl4_2_4_total_out",{"$f":"'T2-B(PP2)'!$I$67","v":0},"#'T2-B(PP2)'!$I$67"]
["pp2_bl4_2_4_unit",{"$f":"'T2-B(PP2)'!$C$67","v":0},"#'T2-B(PP2)'!$C$67"]
["pp2_bl4_2_4_unit_in",{"$f":"'T2-B(PP2)'!$D$67","v":0},"#'T2-B(PP2)'!$D$67"]
["pp2_bl4_2_4_units_out",{"$f":"'T2-B(PP2)'!$G$67","v":0},"#'T2-B(PP2)'!$G$67"]
["pp2_bl4_2_5_name",{"$f":"'T2-B(PP2)'!$B$68","v":0},"#'T2-B(PP2)'!$B$68"]
["pp2_bl4_2_5_rate_in",{"$f":"'T2-B(PP2)'!$E$68","v":0},"#'T2-B(PP2)'!$E$68"]
["pp2_bl4_2_5_rate_out",{"$f":"'T2-B(PP2)'!$H$68","v":0},"#'T2-B(PP2)'!$H$68"]
["pp2_bl4_2_5_total",{"$f":"'T2-B(PP2)'!$J$68","v":0},"#'T2-B(PP2)'!$J$68"]
["pp2_bl4_2_5_total_in",{"$f":"'T2-B(PP2)'!$F$68","v":0},"#'T2-B(PP2)'!$F$68"]
["pp2_bl4_2_5_total_out",{"$f":"'T2-B(PP2)'!$I$68","v":0},"#'T2-B(PP2)'!$I$68"]
["pp2_bl4_2_5_unit",{"$f":"'T2-B(PP2)'!$C$68","v":0},"#'T2-B(PP2)'!$C$68"]
["pp2_bl4_2_5_unit_in",{"$f":"'T2-B(PP2)'!$D$68","v":0},"#'T2-B(PP2)'!$D$68"]
["pp2_bl4_2_5_units_out",{"$f":"'T2-B(PP2)'!$G$68","v":0},"#'T2-B(PP2)'!$G$68"]
["pp2_bl4_2_6_name",{"$f":"'T2-B(PP2)'!$B$69","v":0},"#'T2-B(PP2)'!$B$69"]
["pp2_bl4_2_6_rate_in",{"$f":"'T2-B(PP2)'!$E$69","v":0},"#'T2-B(PP2)'!$E$69"]
["pp2_bl4_2_6_rate_out",{"$f":"'T2-B(PP2)'!$H$69","v":0},"#'T2-B(PP2)'!$H$69"]
["pp2_bl4_2_6_total",{"$f":"'T2-B(PP2)'!$J$69","v":0},"#'T2-B(PP2)'!$J$69"]
["pp2_bl4_2_6_total_in",{"$f":"'T2-B(PP2)'!$F$69","v":0},"#'T2-B(PP2)'!$F$69"]
["pp2_bl4_2_6_total_out",{"$f":"'T2-B(PP2)'!$I$69","v":0},"#'T2-B(PP2)'!$I$69"]
["pp2_bl4_2_6_unit",{"$f":"'T2-B(PP2)'!$C$69","v":0},"#'T2-B(PP2)'!$C$69"]
["pp2_bl4_2_6_unit_in",{"$f":"'T2-B(PP2)'!$D$69","v":0},"#'T2-B(PP2)'!$D$69"]
["pp2_bl4_2_6_units_out",{"$f":"'T2-B(PP2)'!$G$69","v":0},"#'T2-B(PP2)'!$G$69"]
["pp2_bl4_2_7_name",{"$f":"'T2-B(PP2)'!$B$70","v":0},"#'T2-B(PP2)'!$B$70"]
["pp2_bl4_2_7_rate_in",{"$f":"'T2-B(PP2)'!$E$70","v":0},"#'T2-B(PP2)'!$E$70"]
["pp2_bl4_2_7_rate_out",{"$f":"'T2-B(PP2)'!$H$70","v":0},"#'T2-B(PP2)'!$H$70"]
["pp2_bl4_2_7_total",{"$f":"'T2-B(PP2)'!$J$70","v":0},"#'T2-B(PP2)'!$J$70"]
["pp2_bl4_2_7_total_in",{"$f":"'T2-B(PP2)'!$F$70","v":0},"#'T2-B(PP2)'!$F$70"]
["pp2_bl4_2_7_total_out",{"$f":"'T2-B(PP2)'!$I$70","v":0},"#'T2-B(PP2)'!$I$70"]
["pp2_bl4_2_7_unit",{"$f":"'T2-B(PP2)'!$C$70","v":0},"#'T2-B(PP2)'!$C$70"]
["pp2_bl4_2_7_unit_in",{"$f":"'T2-B(PP2)'!$D$70","v":0},"#'T2-B(PP2)'!$D$70"]
["pp2_bl4_2_7_units_out",{"$f":"'T2-B(PP2)'!$G$70","v":0},"#'T2-B(PP2)'!$G$70"]
["pp2_bl4_2_8_name",{"$f":"'T2-B(PP2)'!$B$71","v":0},"#'T2-B(PP2)'!$B$71"]
["pp2_bl4_2_8_rate_in",{"$f":"'T2-B(PP2)'!$E$71","v":0},"#'T2-B(PP2)'!$E$71"]
["pp2_bl4_2_8_rate_out",{"$f":"'T2-B(PP2)'!$H$71","v":0},"#'T2-B(PP2)'!$H$71"]
["pp2_bl4_2_8_total",{"$f":"'T2-B(PP2)'!$J$71","v":0},"#'T2-B(PP2)'!$J$71"]
["pp2_bl4_2_8_total_in",{"$f":"'T2-B(PP2)'!$F$71","v":0},"#'T2-B(PP2)'!$F$71"]
["pp2_bl4_2_8_total_out",{"$f":"'T2-B(PP2)'!$I$71","v":0},"#'T2-B(PP2)'!$I$71"]
["pp2_bl4_2_8_unit",{"$f":"'T2-B(PP2)'!$C$71","v":0},"#'T2-B(PP2)'!$C$71"]
["pp2_bl4_2_8_unit_in",{"$f":"'T2-B(PP2)'!$D$71","v":0},"#'T2-B(PP2)'!$D$71"]
["pp2_bl4_2_8_units_out",{"$f":"'T2-B(PP2)'!$G$71","v":0},"#'T2-B(PP2)'!$G$71"]
["pp2_bl4_2_9_name",{"$f":"'T2-B(PP2)'!$B$72","v":0},"#'T2-B(PP2)'!$B$72"]
["pp2_bl4_2_9_rate_in",{"$f":"'T2-B(PP2)'!$E$72","v":0},"#'T2-B(PP2)'!$E$72"]
["pp2_bl4_2_9_rate_out",{"$f":"'T2-B(PP2)'!$H$72","v":0},"#'T2-B(PP2)'!$H$72"]
["pp2_bl4_2_9_total",{"$f":"'T2-B(PP2)'!$J$72","v":0},"#'T2-B(PP2)'!$J$72"]
["pp2_bl4_2_9_total_in",{"$f":"'T2-B(PP2)'!$F$72","v":0},"#'T2-B(PP2)'!$F$72"]
["pp2_bl4_2_9_total_out",{"$f":"'T2-B(PP2)'!$I$72","v":0},"#'T2-B(PP2)'!$I$72"]
["pp2_bl4_2_9_unit",{"$f":"'T2-B(PP2)'!$C$72","v":0},"#'T2-B(PP2)'!$C$72"]
["pp2_bl4_2_9_unit_in",{"$f":"'T2-B(PP2)'!$D$72","v":0},"#'T2-B(PP2)'!$D$72"]
["pp2_bl4_2_9_units_out",{"$f":"'T2-B(PP2)'!$G$72","v":0},"#'T2-B(PP2)'!$G$72"]
["pp2_bl4_2_total",{"$f":"'T2-B(PP2)'!$J$63","v":0},"#'T2-B(PP2)'!$J$63"]
["pp2_bl4_2_total_in",{"$f":"'T2-B(PP2)'!$F$63","v":0},"#'T2-B(PP2)'!$F$63"]
["pp2_bl4_2_total_out",{"$f":"'T2-B(PP2)'!$I$63","v":0},"#'T2-B(PP2)'!$I$63"]
["pp2_bl4_3_1_name",{"$f":"'T2-B(PP2)'!$B$75","v":0},"#'T2-B(PP2)'!$B$75"]
["pp2_bl4_3_1_rate_in",{"$f":"'T2-B(PP2)'!$E$75","v":0},"#'T2-B(PP2)'!$E$75"]
["pp2_bl4_3_1_rate_out",{"$f":"'T2-B(PP2)'!$H$75","v":0},"#'T2-B(PP2)'!$H$75"]
["pp2_bl4_3_1_total",{"$f":"'T2-B(PP2)'!$J$75","v":0},"#'T2-B(PP2)'!$J$75"]
["pp2_bl4_3_1_total_in",{"$f":"'T2-B(PP2)'!$F$75","v":0},"#'T2-B(PP2)'!$F$75"]
["pp2_bl4_3_1_total_out",{"$f":"'T2-B(PP2)'!$I$75","v":0},"#'T2-B(PP2)'!$I$75"]
["pp2_bl4_3_1_unit",{"$f":"'T2-B(PP2)'!$C$75","v":0},"#'T2-B(PP2)'!$C$75"]
["pp2_bl4_3_1_unit_in",{"$f":"'T2-B(PP2)'!$D$75","v":0},"#'T2-B(PP2)'!$D$75"]
["pp2_bl4_3_1_units_out",{"$f":"'T2-B(PP2)'!$G$75","v":0},"#'T2-B(PP2)'!$G$75"]
["pp2_bl4_3_10_name",{"$f":"'T2-B(PP2)'!$B$84","v":0},"#'T2-B(PP2)'!$B$84"]
["pp2_bl4_3_10_rate_in",{"$f":"'T2-B(PP2)'!$E$84","v":0},"#'T2-B(PP2)'!$E$84"]
["pp2_bl4_3_10_rate_out",{"$f":"'T2-B(PP2)'!$H$84","v":0},"#'T2-B(PP2)'!$H$84"]
["pp2_bl4_3_10_total",{"$f":"'T2-B(PP2)'!$J$84","v":0},"#'T2-B(PP2)'!$J$84"]
["pp2_bl4_3_10_total_in",{"$f":"'T2-B(PP2)'!$F$84","v":0},"#'T2-B(PP2)'!$F$84"]
["pp2_bl4_3_10_total_out",{"$f":"'T2-B(PP2)'!$I$84","v":0},"#'T2-B(PP2)'!$I$84"]
["pp2_bl4_3_10_unit",{"$f":"'T2-B(PP2)'!$C$84","v":0},"#'T2-B(PP2)'!$C$84"]
["pp2_bl4_3_10_unit_in",{"$f":"'T2-B(PP2)'!$D$84","v":0},"#'T2-B(PP2)'!$D$84"]
["pp2_bl4_3_10_units_out",{"$f":"'T2-B(PP2)'!$G$84","v":0},"#'T2-B(PP2)'!$G$84"]
["pp2_bl4_3_2_name",{"$f":"'T2-B(PP2)'!$B$76","v":0},"#'T2-B(PP2)'!$B$76"]
["pp2_bl4_3_2_rate_in",{"$f":"'T2-B(PP2)'!$E$76","v":0},"#'T2-B(PP2)'!$E$76"]
["pp2_bl4_3_2_rate_out",{"$f":"'T2-B(PP2)'!$H$76","v":0},"#'T2-B(PP2)'!$H$76"]
["pp2_bl4_3_2_total",{"$f":"'T2-B(PP2)'!$J$76","v":0},"#'T2-B(PP2)'!$J$76"]
["pp2_bl4_3_2_total_in",{"$f":"'T2-B(PP2)'!$F$76","v":0},"#'T2-B(PP2)'!$F$76"]
["pp2_bl4_3_2_total_out",{"$f":"'T2-B(PP2)'!$I$76","v":0},"#'T2-B(PP2)'!$I$76"]
["pp2_bl4_3_2_unit",{"$f":"'T2-B(PP2)'!$C$76","v":0},"#'T2-B(PP2)'!$C$76"]
["pp2_bl4_3_2_unit_in",{"$f":"'T2-B(PP2)'!$D$76","v":0},"#'T2-B(PP2)'!$D$76"]
["pp2_bl4_3_2_units_out",{"$f":"'T2-B(PP2)'!$G$76","v":0},"#'T2-B(PP2)'!$G$76"]
["pp2_bl4_3_3_name",{"$f":"'T2-B(PP2)'!$B$77","v":0},"#'T2-B(PP2)'!$B$77"]
["pp2_bl4_3_3_rate_in",{"$f":"'T2-B(PP2)'!$E$77","v":0},"#'T2-B(PP2)'!$E$77"]
["pp2_bl4_3_3_rate_out",{"$f":"'T2-B(PP2)'!$H$77","v":0},"#'T2-B(PP2)'!$H$77"]
["pp2_bl4_3_3_total",{"$f":"'T2-B(PP2)'!$J$77","v":0},"#'T2-B(PP2)'!$J$77"]
["pp2_bl4_3_3_total_in",{"$f":"'T2-B(PP2)'!$F$77","v":0},"#'T2-B(PP2)'!$F$77"]
["pp2_bl4_3_3_total_out",{"$f":"'T2-B(PP2)'!$I$77","v":0},"#'T2-B(PP2)'!$I$77"]
["pp2_bl4_3_3_unit",{"$f":"'T2-B(PP2)'!$C$77","v":0},"#'T2-B(PP2)'!$C$77"]
["pp2_bl4_3_3_unit_in",{"$f":"'T2-B(PP2)'!$D$77","v":0},"#'T2-B(PP2)'!$D$77"]
["pp2_bl4_3_3_units_out",{"$f":"'T2-B(PP2)'!$G$77","v":0},"#'T2-B(PP2)'!$G$77"]
["pp2_bl4_3_4_name",{"$f":"'T2-B(PP2)'!$B$78","v":0},"#'T2-B(PP2)'!$B$78"]
["pp2_bl4_3_4_rate_in",{"$f":"'T2-B(PP2)'!$E$78","v":0},"#'T2-B(PP2)'!$E$78"]
["pp2_bl4_3_4_rate_out",{"$f":"'T2-B(PP2)'!$H$78","v":0},"#'T2-B(PP2)'!$H$78"]
["pp2_bl4_3_4_total",{"$f":"'T2-B(PP2)'!$J$78","v":0},"#'T2-B(PP2)'!$J$78"]
["pp2_bl4_3_4_total_in",{"$f":"'T2-B(PP2)'!$F$78","v":0},"#'T2-B(PP2)'!$F$78"]
["pp2_bl4_3_4_total_out",{"$f":"'T2-B(PP2)'!$I$78","v":0},"#'T2-B(PP2)'!$I$78"]
["pp2_bl4_3_4_unit",{"$f":"'T2-B(PP2)'!$C$78","v":0},"#'T2-B(PP2)'!$C$78"]
["pp2_bl4_3_4_unit_in",{"$f":"'T2-B(PP2)'!$D$78","v":0},"#'T2-B(PP2)'!$D$78"]
["pp2_bl4_3_4_units_out",{"$f":"'T2-B(PP2)'!$G$78","v":0},"#'T2-B(PP2)'!$G$78"]
["pp2_bl4_3_5_name",{"$f":"'T2-B(PP2)'!$B$79","v":0},"#'T2-B(PP2)'!$B$79"]
["pp2_bl4_3_5_rate_in",{"$f":"'T2-B(PP2)'!$E$79","v":0},"#'T2-B(PP2)'!$E$79"]
["pp2_bl4_3_5_rate_out",{"$f":"'T2-B(PP2)'!$H$79","v":0},"#'T2-B(PP2)'!$H$79"]
["pp2_bl4_3_5_total",{"$f":"'T2-B(PP2)'!$J$79","v":0},"#'T2-B(PP2)'!$J$79"]
["pp2_bl4_3_5_total_in",{"$f":"'T2-B(PP2)'!$F$79","v":0},"#'T2-B(PP2)'!$F$79"]
["pp2_bl4_3_5_total_out",{"$f":"'T2-B(PP2)'!$I$79","v":0},"#'T2-B(PP2)'!$I$79"]
["pp2_bl4_3_5_unit",{"$f":"'T2-B(PP2)'!$C$79","v":0},"#'T2-B(PP2)'!$C$79"]
["pp2_bl4_3_5_unit_in",{"$f":"'T2-B(PP2)'!$D$79","v":0},"#'T2-B(PP2)'!$D$79"]
["pp2_bl4_3_5_units_out",{"$f":"'T2-B(PP2)'!$G$79","v":0},"#'T2-B(PP2)'!$G$79"]
["pp2_bl4_3_6_name",{"$f":"'T2-B(PP2)'!$B$80","v":0},"#'T2-B(PP2)'!$B$80"]
["pp2_bl4_3_6_rate_in",{"$f":"'T2-B(PP2)'!$E$80","v":0},"#'T2-B(PP2)'!$E$80"]
["pp2_bl4_3_6_rate_out",{"$f":"'T2-B(PP2)'!$H$80","v":0},"#'T2-B(PP2)'!$H$80"]
["pp2_bl4_3_6_total",{"$f":"'T2-B(PP2)'!$J$80","v":0},"#'T2-B(PP2)'!$J$80"]
["pp2_bl4_3_6_total_in",{"$f":"'T2-B(PP2)'!$F$80","v":0},"#'T2-B(PP2)'!$F$80"]
["pp2_bl4_3_6_total_out",{"$f":"'T2-B(PP2)'!$I$80","v":0},"#'T2-B(PP2)'!$I$80"]
["pp2_bl4_3_6_unit",{"$f":"'T2-B(PP2)'!$C$80","v":0},"#'T2-B(PP2)'!$C$80"]
["pp2_bl4_3_6_unit_in",{"$f":"'T2-B(PP2)'!$D$80","v":0},"#'T2-B(PP2)'!$D$80"]
["pp2_bl4_3_6_units_out",{"$f":"'T2-B(PP2)'!$G$80","v":0},"#'T2-B(PP2)'!$G$80"]
["pp2_bl4_3_7_name",{"$f":"'T2-B(PP2)'!$B$81","v":0},"#'T2-B(PP2)'!$B$81"]
["pp2_bl4_3_7_rate_in",{"$f":"'T2-B(PP2)'!$E$81","v":0},"#'T2-B(PP2)'!$E$81"]
["pp2_bl4_3_7_rate_out",{"$f":"'T2-B(PP2)'!$H$81","v":0},"#'T2-B(PP2)'!$H$81"]
["pp2_bl4_3_7_total",{"$f":"'T2-B(PP2)'!$J$81","v":0},"#'T2-B(PP2)'!$J$81"]
["pp2_bl4_3_7_total_in",{"$f":"'T2-B(PP2)'!$F$81","v":0},"#'T2-B(PP2)'!$F$81"]
["pp2_bl4_3_7_total_out",{"$f":"'T2-B(PP2)'!$I$81","v":0},"#'T2-B(PP2)'!$I$81"]
["pp2_bl4_3_7_unit",{"$f":"'T2-B(PP2)'!$C$81","v":0},"#'T2-B(PP2)'!$C$81"]
["pp2_bl4_3_7_unit_in",{"$f":"'T2-B(PP2)'!$D$81","v":0},"#'T2-B(PP2)'!$D$81"]
["pp2_bl4_3_7_units_out",{"$f":"'T2-B(PP2)'!$G$81","v":0},"#'T2-B(PP2)'!$G$81"]
["pp2_bl4_3_8_name",{"$f":"'T2-B(PP2)'!$B$82","v":0},"#'T2-B(PP2)'!$B$82"]
["pp2_bl4_3_8_rate_in",{"$f":"'T2-B(PP2)'!$E$82","v":0},"#'T2-B(PP2)'!$E$82"]
["pp2_bl4_3_8_rate_out",{"$f":"'T2-B(PP2)'!$H$82","v":0},"#'T2-B(PP2)'!$H$82"]
["pp2_bl4_3_8_total",{"$f":"'T2-B(PP2)'!$J$82","v":0},"#'T2-B(PP2)'!$J$82"]
["pp2_bl4_3_8_total_in",{"$f":"'T2-B(PP2)'!$F$82","v":0},"#'T2-B(PP2)'!$F$82"]
["pp2_bl4_3_8_total_out",{"$f":"'T2-B(PP2)'!$I$82","v":0},"#'T2-B(PP2)'!$I$82"]
["pp2_bl4_3_8_unit",{"$f":"'T2-B(PP2)'!$C$82","v":0},"#'T2-B(PP2)'!$C$82"]
["pp2_bl4_3_8_unit_in",{"$f":"'T2-B(PP2)'!$D$82","v":0},"#'T2-B(PP2)'!$D$82"]
["pp2_bl4_3_8_units_out",{"$f":"'T2-B(PP2)'!$G$82","v":0},"#'T2-B(PP2)'!$G$82"]
["pp2_bl4_3_9_name",{"$f":"'T2-B(PP2)'!$B$83","v":0},"#'T2-B(PP2)'!$B$83"]
["pp2_bl4_3_9_rate_in",{"$f":"'T2-B(PP2)'!$E$83","v":0},"#'T2-B(PP2)'!$E$83"]
["pp2_bl4_3_9_rate_out",{"$f":"'T2-B(PP2)'!$H$83","v":0},"#'T2-B(PP2)'!$H$83"]
["pp2_bl4_3_9_total",{"$f":"'T2-B(PP2)'!$J$83","v":0},"#'T2-B(PP2)'!$J$83"]
["pp2_bl4_3_9_total_in",{"$f":"'T2-B(PP2)'!$F$83","v":0},"#'T2-B(PP2)'!$F$83"]
["pp2_bl4_3_9_total_out",{"$f":"'T2-B(PP2)'!$I$83","v":0},"#'T2-B(PP2)'!$I$83"]
["pp2_bl4_3_9_unit",{"$f":"'T2-B(PP2)'!$C$83","v":0},"#'T2-B(PP2)'!$C$83"]
["pp2_bl4_3_9_unit_in",{"$f":"'T2-B(PP2)'!$D$83","v":0},"#'T2-B(PP2)'!$D$83"]
["pp2_bl4_3_9_units_out",{"$f":"'T2-B(PP2)'!$G$83","v":0},"#'T2-B(PP2)'!$G$83"]
["pp2_bl4_3_total",{"$f":"'T2-B(PP2)'!$J$74","v":0},"#'T2-B(PP2)'!$J$74"]
["pp2_bl4_3_total_in",{"$f":"'T2-B(PP2)'!$F$74","v":0},"#'T2-B(PP2)'!$F$74"]
["pp2_bl4_3_total_out",{"$f":"'T2-B(PP2)'!$I$74","v":0},"#'T2-B(PP2)'!$I$74"]
["pp2_bl4_4_1_name",{"$f":"'T2-B(PP2)'!$B$86","v":0},"#'T2-B(PP2)'!$B$86"]
["pp2_bl4_4_1_rate_in",{"$f":"'T2-B(PP2)'!$E$86","v":0},"#'T2-B(PP2)'!$E$86"]
["pp2_bl4_4_1_rate_out",{"$f":"'T2-B(PP2)'!$H$86","v":0},"#'T2-B(PP2)'!$H$86"]
["pp2_bl4_4_1_total",{"$f":"'T2-B(PP2)'!$J$86","v":0},"#'T2-B(PP2)'!$J$86"]
["pp2_bl4_4_1_total_in",{"$f":"'T2-B(PP2)'!$F$86","v":0},"#'T2-B(PP2)'!$F$86"]
["pp2_bl4_4_1_total_out",{"$f":"'T2-B(PP2)'!$I$86","v":0},"#'T2-B(PP2)'!$I$86"]
["pp2_bl4_4_1_unit",{"$f":"'T2-B(PP2)'!$C$86","v":0},"#'T2-B(PP2)'!$C$86"]
["pp2_bl4_4_1_unit_in",{"$f":"'T2-B(PP2)'!$D$86","v":0},"#'T2-B(PP2)'!$D$86"]
["pp2_bl4_4_1_units_out",{"$f":"'T2-B(PP2)'!$G$86","v":0},"#'T2-B(PP2)'!$G$86"]
["pp2_bl4_4_10_name",{"$f":"'T2-B(PP2)'!$B$95","v":0},"#'T2-B(PP2)'!$B$95"]
["pp2_bl4_4_10_rate_in",{"$f":"'T2-B(PP2)'!$E$95","v":0},"#'T2-B(PP2)'!$E$95"]
["pp2_bl4_4_10_rate_out",{"$f":"'T2-B(PP2)'!$H$95","v":0},"#'T2-B(PP2)'!$H$95"]
["pp2_bl4_4_10_total",{"$f":"'T2-B(PP2)'!$J$95","v":0},"#'T2-B(PP2)'!$J$95"]
["pp2_bl4_4_10_total_in",{"$f":"'T2-B(PP2)'!$F$95","v":0},"#'T2-B(PP2)'!$F$95"]
["pp2_bl4_4_10_total_out",{"$f":"'T2-B(PP2)'!$I$95","v":0},"#'T2-B(PP2)'!$I$95"]
["pp2_bl4_4_10_unit",{"$f":"'T2-B(PP2)'!$C$95","v":0},"#'T2-B(PP2)'!$C$95"]
["pp2_bl4_4_10_unit_in",{"$f":"'T2-B(PP2)'!$D$95","v":0},"#'T2-B(PP2)'!$D$95"]
["pp2_bl4_4_10_units_out",{"$f":"'T2-B(PP2)'!$G$95","v":0},"#'T2-B(PP2)'!$G$95"]
["pp2_bl4_4_2_name",{"$f":"'T2-B(PP2)'!$B$87","v":0},"#'T2-B(PP2)'!$B$87"]
["pp2_bl4_4_2_rate_in",{"$f":"'T2-B(PP2)'!$E$87","v":0},"#'T2-B(PP2)'!$E$87"]
["pp2_bl4_4_2_rate_out",{"$f":"'T2-B(PP2)'!$H$87","v":0},"#'T2-B(PP2)'!$H$87"]
["pp2_bl4_4_2_total",{"$f":"'T2-B(PP2)'!$J$87","v":0},"#'T2-B(PP2)'!$J$87"]
["pp2_bl4_4_2_total_in",{"$f":"'T2-B(PP2)'!$F$87","v":0},"#'T2-B(PP2)'!$F$87"]
["pp2_bl4_4_2_total_out",{"$f":"'T2-B(PP2)'!$I$87","v":0},"#'T2-B(PP2)'!$I$87"]
["pp2_bl4_4_2_unit",{"$f":"'T2-B(PP2)'!$C$87","v":0},"#'T2-B(PP2)'!$C$87"]
["pp2_bl4_4_2_unit_in",{"$f":"'T2-B(PP2)'!$D$87","v":0},"#'T2-B(PP2)'!$D$87"]
["pp2_bl4_4_2_units_out",{"$f":"'T2-B(PP2)'!$G$87","v":0},"#'T2-B(PP2)'!$G$87"]
["pp2_bl4_4_3_name",{"$f":"'T2-B(PP2)'!$B$88","v":0},"#'T2-B(PP2)'!$B$88"]
["pp2_bl4_4_3_rate_in",{"$f":"'T2-B(PP2)'!$E$88","v":0},"#'T2-B(PP2)'!$E$88"]
["pp2_bl4_4_3_rate_out",{"$f":"'T2-B(PP2)'!$H$88","v":0},"#'T2-B(PP2)'!$H$88"]
["pp2_bl4_4_3_total",{"$f":"'T2-B(PP2)'!$J$88","v":0},"#'T2-B(PP2)'!$J$88"]
["pp2_bl4_4_3_total_in",{"$f":"'T2-B(PP2)'!$F$88","v":0},"#'T2-B(PP2)'!$F$88"]
["pp2_bl4_4_3_total_out",{"$f":"'T2-B(PP2)'!$I$88","v":0},"#'T2-B(PP2)'!$I$88"]
["pp2_bl4_4_3_unit",{"$f":"'T2-B(PP2)'!$C$88","v":0},"#'T2-B(PP2)'!$C$88"]
["pp2_bl4_4_3_unit_in",{"$f":"'T2-B(PP2)'!$D$88","v":0},"#'T2-B(PP2)'!$D$88"]
["pp2_bl4_4_3_units_out",{"$f":"'T2-B(PP2)'!$G$88","v":0},"#'T2-B(PP2)'!$G$88"]
["pp2_bl4_4_4_name",{"$f":"'T2-B(PP2)'!$B$89","v":0},"#'T2-B(PP2)'!$B$89"]
["pp2_bl4_4_4_rate_in",{"$f":"'T2-B(PP2)'!$E$89","v":0},"#'T2-B(PP2)'!$E$89"]
["pp2_bl4_4_4_rate_out",{"$f":"'T2-B(PP2)'!$H$89","v":0},"#'T2-B(PP2)'!$H$89"]
["pp2_bl4_4_4_total",{"$f":"'T2-B(PP2)'!$J$89","v":0},"#'T2-B(PP2)'!$J$89"]
["pp2_bl4_4_4_total_in",{"$f":"'T2-B(PP2)'!$F$89","v":0},"#'T2-B(PP2)'!$F$89"]
["pp2_bl4_4_4_total_out",{"$f":"'T2-B(PP2)'!$I$89","v":0},"#'T2-B(PP2)'!$I$89"]
["pp2_bl4_4_4_unit",{"$f":"'T2-B(PP2)'!$C$89","v":0},"#'T2-B(PP2)'!$C$89"]
["pp2_bl4_4_4_unit_in",{"$f":"'T2-B(PP2)'!$D$89","v":0},"#'T2-B(PP2)'!$D$89"]
["pp2_bl4_4_4_units_out",{"$f":"'T2-B(PP2)'!$G$89","v":0},"#'T2-B(PP2)'!$G$89"]
["pp2_bl4_4_5_name",{"$f":"'T2-B(PP2)'!$B$90","v":0},"#'T2-B(PP2)'!$B$90"]
["pp2_bl4_4_5_rate_in",{"$f":"'T2-B(PP2)'!$E$90","v":0},"#'T2-B(PP2)'!$E$90"]
["pp2_bl4_4_5_rate_out",{"$f":"'T2-B(PP2)'!$H$90","v":0},"#'T2-B(PP2)'!$H$90"]
["pp2_bl4_4_5_total",{"$f":"'T2-B(PP2)'!$J$90","v":0},"#'T2-B(PP2)'!$J$90"]
["pp2_bl4_4_5_total_in",{"$f":"'T2-B(PP2)'!$F$90","v":0},"#'T2-B(PP2)'!$F$90"]
["pp2_bl4_4_5_total_out",{"$f":"'T2-B(PP2)'!$I$90","v":0},"#'T2-B(PP2)'!$I$90"]
["pp2_bl4_4_5_unit",{"$f":"'T2-B(PP2)'!$C$90","v":0},"#'T2-B(PP2)'!$C$90"]
["pp2_bl4_4_5_unit_in",{"$f":"'T2-B(PP2)'!$D$90","v":0},"#'T2-B(PP2)'!$D$90"]
["pp2_bl4_4_5_units_out",{"$f":"'T2-B(PP2)'!$G$90","v":0},"#'T2-B(PP2)'!$G$90"]
["pp2_bl4_4_6_name",{"$f":"'T2-B(PP2)'!$B$91","v":0},"#'T2-B(PP2)'!$B$91"]
["pp2_bl4_4_6_rate_in",{"$f":"'T2-B(PP2)'!$E$91","v":0},"#'T2-B(PP2)'!$E$91"]
["pp2_bl4_4_6_rate_out",{"$f":"'T2-B(PP2)'!$H$91","v":0},"#'T2-B(PP2)'!$H$91"]
["pp2_bl4_4_6_total",{"$f":"'T2-B(PP2)'!$J$91","v":0},"#'T2-B(PP2)'!$J$91"]
["pp2_bl4_4_6_total_in",{"$f":"'T2-B(PP2)'!$F$91","v":0},"#'T2-B(PP2)'!$F$91"]
["pp2_bl4_4_6_total_out",{"$f":"'T2-B(PP2)'!$I$91","v":0},"#'T2-B(PP2)'!$I$91"]
["pp2_bl4_4_6_unit",{"$f":"'T2-B(PP2)'!$C$91","v":0},"#'T2-B(PP2)'!$C$91"]
["pp2_bl4_4_6_unit_in",{"$f":"'T2-B(PP2)'!$D$91","v":0},"#'T2-B(PP2)'!$D$91"]
["pp2_bl4_4_6_units_out",{"$f":"'T2-B(PP2)'!$G$91","v":0},"#'T2-B(PP2)'!$G$91"]
["pp2_bl4_4_7_name",{"$f":"'T2-B(PP2)'!$B$92","v":0},"#'T2-B(PP2)'!$B$92"]
["pp2_bl4_4_7_rate_in",{"$f":"'T2-B(PP2)'!$E$92","v":0},"#'T2-B(PP2)'!$E$92"]
["pp2_bl4_4_7_rate_out",{"$f":"'T2-B(PP2)'!$H$92","v":0},"#'T2-B(PP2)'!$H$92"]
["pp2_bl4_4_7_total",{"$f":"'T2-B(PP2)'!$J$92","v":0},"#'T2-B(PP2)'!$J$92"]
["pp2_bl4_4_7_total_in",{"$f":"'T2-B(PP2)'!$F$92","v":0},"#'T2-B(PP2)'!$F$92"]
["pp2_bl4_4_7_total_out",{"$f":"'T2-B(PP2)'!$I$92","v":0},"#'T2-B(PP2)'!$I$92"]
["pp2_bl4_4_7_unit",{"$f":"'T2-B(PP2)'!$C$92","v":0},"#'T2-B(PP2)'!$C$92"]
["pp2_bl4_4_7_unit_in",{"$f":"'T2-B(PP2)'!$D$92","v":0},"#'T2-B(PP2)'!$D$92"]
["pp2_bl4_4_7_units_out",{"$f":"'T2-B(PP2)'!$G$92","v":0},"#'T2-B(PP2)'!$G$92"]
["pp2_bl4_4_8_name",{"$f":"'T2-B(PP2)'!$B$93","v":0},"#'T2-B(PP2)'!$B$93"]
["pp2_bl4_4_8_rate_in",{"$f":"'T2-B(PP2)'!$E$93","v":0},"#'T2-B(PP2)'!$E$93"]
["pp2_bl4_4_8_rate_out",{"$f":"'T2-B(PP2)'!$H$93","v":0},"#'T2-B(PP2)'!$H$93"]
["pp2_bl4_4_8_total",{"$f":"'T2-B(PP2)'!$J$93","v":0},"#'T2-B(PP2)'!$J$93"]
["pp2_bl4_4_8_total_in",{"$f":"'T2-B(PP2)'!$F$93","v":0},"#'T2-B(PP2)'!$F$93"]
["pp2_bl4_4_8_total_out",{"$f":"'T2-B(PP2)'!$I$93","v":0},"#'T2-B(PP2)'!$I$93"]
["pp2_bl4_4_8_unit",{"$f":"'T2-B(PP2)'!$C$93","v":0},"#'T2-B(PP2)'!$C$93"]
["pp2_bl4_4_8_unit_in",{"$f":"'T2-B(PP2)'!$D$93","v":0},"#'T2-B(PP2)'!$D$93"]
["pp2_bl4_4_8_units_out",{"$f":"'T2-B(PP2)'!$G$93","v":0},"#'T2-B(PP2)'!$G$93"]
["pp2_bl4_4_9_name",{"$f":"'T2-B(PP2)'!$B$94","v":0},"#'T2-B(PP2)'!$B$94"]
["pp2_bl4_4_9_rate_in",{"$f":"'T2-B(PP2)'!$E$94","v":0},"#'T2-B(PP2)'!$E$94"]
["pp2_bl4_4_9_rate_out",{"$f":"'T2-B(PP2)'!$H$94","v":0},"#'T2-B(PP2)'!$H$94"]
["pp2_bl4_4_9_total",{"$f":"'T2-B(PP2)'!$J$94","v":0},"#'T2-B(PP2)'!$J$94"]
["pp2_bl4_4_9_total_in",{"$f":"'T2-B(PP2)'!$F$94","v":0},"#'T2-B(PP2)'!$F$94"]
["pp2_bl4_4_9_total_out",{"$f":"'T2-B(PP2)'!$I$94","v":0},"#'T2-B(PP2)'!$I$94"]
["pp2_bl4_4_9_unit",{"$f":"'T2-B(PP2)'!$C$94","v":0},"#'T2-B(PP2)'!$C$94"]
["pp2_bl4_4_9_unit_in",{"$f":"'T2-B(PP2)'!$D$94","v":0},"#'T2-B(PP2)'!$D$94"]
["pp2_bl4_4_9_units_out",{"$f":"'T2-B(PP2)'!$G$94","v":0},"#'T2-B(PP2)'!$G$94"]
["pp2_bl4_4_total",{"$f":"'T2-B(PP2)'!$J$85","v":0},"#'T2-B(PP2)'!$J$85"]
["pp2_bl4_4_total_in",{"$f":"'T2-B(PP2)'!$F$85","v":0},"#'T2-B(PP2)'!$F$85"]
["pp2_bl4_4_total_out",{"$f":"'T2-B(PP2)'!$I$85","v":0},"#'T2-B(PP2)'!$I$85"]
["pp2_bl4_5_1_name",{"$f":"'T2-B(PP2)'!$B$97","v":0},"#'T2-B(PP2)'!$B$97"]
["pp2_bl4_5_1_rate_in",{"$f":"'T2-B(PP2)'!$E$97","v":0},"#'T2-B(PP2)'!$E$97"]
["pp2_bl4_5_1_rate_out",{"$f":"'T2-B(PP2)'!$H$97","v":0},"#'T2-B(PP2)'!$H$97"]
["pp2_bl4_5_1_total",{"$f":"'T2-B(PP2)'!$J$97","v":0},"#'T2-B(PP2)'!$J$97"]
["pp2_bl4_5_1_total_in",{"$f":"'T2-B(PP2)'!$F$97","v":0},"#'T2-B(PP2)'!$F$97"]
["pp2_bl4_5_1_total_out",{"$f":"'T2-B(PP2)'!$I$97","v":0},"#'T2-B(PP2)'!$I$97"]
["pp2_bl4_5_1_unit",{"$f":"'T2-B(PP2)'!$C$97","v":0},"#'T2-B(PP2)'!$C$97"]
["pp2_bl4_5_1_unit_in",{"$f":"'T2-B(PP2)'!$D$97","v":0},"#'T2-B(PP2)'!$D$97"]
["pp2_bl4_5_1_units_out",{"$f":"'T2-B(PP2)'!$G$97","v":0},"#'T2-B(PP2)'!$G$97"]
["pp2_bl4_5_10_name",{"$f":"'T2-B(PP2)'!$B$106","v":0},"#'T2-B(PP2)'!$B$106"]
["pp2_bl4_5_10_rate_in",{"$f":"'T2-B(PP2)'!$E$106","v":0},"#'T2-B(PP2)'!$E$106"]
["pp2_bl4_5_10_rate_out",{"$f":"'T2-B(PP2)'!$H$106","v":0},"#'T2-B(PP2)'!$H$106"]
["pp2_bl4_5_10_total",{"$f":"'T2-B(PP2)'!$J$106","v":0},"#'T2-B(PP2)'!$J$106"]
["pp2_bl4_5_10_total_in",{"$f":"'T2-B(PP2)'!$F$106","v":0},"#'T2-B(PP2)'!$F$106"]
["pp2_bl4_5_10_total_out",{"$f":"'T2-B(PP2)'!$I$106","v":0},"#'T2-B(PP2)'!$I$106"]
["pp2_bl4_5_10_unit",{"$f":"'T2-B(PP2)'!$C$106","v":0},"#'T2-B(PP2)'!$C$106"]
["pp2_bl4_5_10_unit_in",{"$f":"'T2-B(PP2)'!$D$106","v":0},"#'T2-B(PP2)'!$D$106"]
["pp2_bl4_5_10_units_out",{"$f":"'T2-B(PP2)'!$G$106","v":0},"#'T2-B(PP2)'!$G$106"]
["pp2_bl4_5_2_name",{"$f":"'T2-B(PP2)'!$B$98","v":0},"#'T2-B(PP2)'!$B$98"]
["pp2_bl4_5_2_rate_in",{"$f":"'T2-B(PP2)'!$E$98","v":0},"#'T2-B(PP2)'!$E$98"]
["pp2_bl4_5_2_rate_out",{"$f":"'T2-B(PP2)'!$H$98","v":0},"#'T2-B(PP2)'!$H$98"]
["pp2_bl4_5_2_total",{"$f":"'T2-B(PP2)'!$J$98","v":0},"#'T2-B(PP2)'!$J$98"]
["pp2_bl4_5_2_total_in",{"$f":"'T2-B(PP2)'!$F$98","v":0},"#'T2-B(PP2)'!$F$98"]
["pp2_bl4_5_2_total_out",{"$f":"'T2-B(PP2)'!$I$98","v":0},"#'T2-B(PP2)'!$I$98"]
["pp2_bl4_5_2_unit",{"$f":"'T2-B(PP2)'!$C$98","v":0},"#'T2-B(PP2)'!$C$98"]
["pp2_bl4_5_2_unit_in",{"$f":"'T2-B(PP2)'!$D$98","v":0},"#'T2-B(PP2)'!$D$98"]
["pp2_bl4_5_2_units_out",{"$f":"'T2-B(PP2)'!$G$98","v":0},"#'T2-B(PP2)'!$G$98"]
["pp2_bl4_5_3_name",{"$f":"'T2-B(PP2)'!$B$99","v":0},"#'T2-B(PP2)'!$B$99"]
["pp2_bl4_5_3_rate_in",{"$f":"'T2-B(PP2)'!$E$99","v":0},"#'T2-B(PP2)'!$E$99"]
["pp2_bl4_5_3_rate_out",{"$f":"'T2-B(PP2)'!$H$99","v":0},"#'T2-B(PP2)'!$H$99"]
["pp2_bl4_5_3_total",{"$f":"'T2-B(PP2)'!$J$99","v":0},"#'T2-B(PP2)'!$J$99"]
["pp2_bl4_5_3_total_in",{"$f":"'T2-B(PP2)'!$F$99","v":0},"#'T2-B(PP2)'!$F$99"]
["pp2_bl4_5_3_total_out",{"$f":"'T2-B(PP2)'!$I$99","v":0},"#'T2-B(PP2)'!$I$99"]
["pp2_bl4_5_3_unit",{"$f":"'T2-B(PP2)'!$C$99","v":0},"#'T2-B(PP2)'!$C$99"]
["pp2_bl4_5_3_unit_in",{"$f":"'T2-B(PP2)'!$D$99","v":0},"#'T2-B(PP2)'!$D$99"]
["pp2_bl4_5_3_units_out",{"$f":"'T2-B(PP2)'!$G$99","v":0},"#'T2-B(PP2)'!$G$99"]
["pp2_bl4_5_4_name",{"$f":"'T2-B(PP2)'!$B$100","v":0},"#'T2-B(PP2)'!$B$100"]
["pp2_bl4_5_4_rate_in",{"$f":"'T2-B(PP2)'!$E$100","v":0},"#'T2-B(PP2)'!$E$100"]
["pp2_bl4_5_4_rate_out",{"$f":"'T2-B(PP2)'!$H$100","v":0},"#'T2-B(PP2)'!$H$100"]
["pp2_bl4_5_4_total",{"$f":"'T2-B(PP2)'!$J$100","v":0},"#'T2-B(PP2)'!$J$100"]
["pp2_bl4_5_4_total_in",{"$f":"'T2-B(PP2)'!$F$100","v":0},"#'T2-B(PP2)'!$F$100"]
["pp2_bl4_5_4_total_out",{"$f":"'T2-B(PP2)'!$I$100","v":0},"#'T2-B(PP2)'!$I$100"]
["pp2_bl4_5_4_unit",{"$f":"'T2-B(PP2)'!$C$100","v":0},"#'T2-B(PP2)'!$C$100"]
["pp2_bl4_5_4_unit_in",{"$f":"'T2-B(PP2)'!$D$100","v":0},"#'T2-B(PP2)'!$D$100"]
["pp2_bl4_5_4_units_out",{"$f":"'T2-B(PP2)'!$G$100","v":0},"#'T2-B(PP2)'!$G$100"]
["pp2_bl4_5_5_name",{"$f":"'T2-B(PP2)'!$B$101","v":0},"#'T2-B(PP2)'!$B$101"]
["pp2_bl4_5_5_rate_in",{"$f":"'T2-B(PP2)'!$E$101","v":0},"#'T2-B(PP2)'!$E$101"]
["pp2_bl4_5_5_rate_out",{"$f":"'T2-B(PP2)'!$H$101","v":0},"#'T2-B(PP2)'!$H$101"]
["pp2_bl4_5_5_total",{"$f":"'T2-B(PP2)'!$J$101","v":0},"#'T2-B(PP2)'!$J$101"]
["pp2_bl4_5_5_total_in",{"$f":"'T2-B(PP2)'!$F$101","v":0},"#'T2-B(PP2)'!$F$101"]
["pp2_bl4_5_5_total_out",{"$f":"'T2-B(PP2)'!$I$101","v":0},"#'T2-B(PP2)'!$I$101"]
["pp2_bl4_5_5_unit",{"$f":"'T2-B(PP2)'!$C$101","v":0},"#'T2-B(PP2)'!$C$101"]
["pp2_bl4_5_5_unit_in",{"$f":"'T2-B(PP2)'!$D$101","v":0},"#'T2-B(PP2)'!$D$101"]
["pp2_bl4_5_5_units_out",{"$f":"'T2-B(PP2)'!$G$101","v":0},"#'T2-B(PP2)'!$G$101"]
["pp2_bl4_5_6_name",{"$f":"'T2-B(PP2)'!$B$102","v":0},"#'T2-B(PP2)'!$B$102"]
["pp2_bl4_5_6_rate_in",{"$f":"'T2-B(PP2)'!$E$102","v":0},"#'T2-B(PP2)'!$E$102"]
["pp2_bl4_5_6_rate_out",{"$f":"'T2-B(PP2)'!$H$102","v":0},"#'T2-B(PP2)'!$H$102"]
["pp2_bl4_5_6_total",{"$f":"'T2-B(PP2)'!$J$102","v":0},"#'T2-B(PP2)'!$J$102"]
["pp2_bl4_5_6_total_in",{"$f":"'T2-B(PP2)'!$F$102","v":0},"#'T2-B(PP2)'!$F$102"]
["pp2_bl4_5_6_total_out",{"$f":"'T2-B(PP2)'!$I$102","v":0},"#'T2-B(PP2)'!$I$102"]
["pp2_bl4_5_6_unit",{"$f":"'T2-B(PP2)'!$C$102","v":0},"#'T2-B(PP2)'!$C$102"]
["pp2_bl4_5_6_unit_in",{"$f":"'T2-B(PP2)'!$D$102","v":0},"#'T2-B(PP2)'!$D$102"]
["pp2_bl4_5_6_units_out",{"$f":"'T2-B(PP2)'!$G$102","v":0},"#'T2-B(PP2)'!$G$102"]
["pp2_bl4_5_7_name",{"$f":"'T2-B(PP2)'!$B$103","v":0},"#'T2-B(PP2)'!$B$103"]
["pp2_bl4_5_7_rate_in",{"$f":"'T2-B(PP2)'!$E$103","v":0},"#'T2-B(PP2)'!$E$103"]
["pp2_bl4_5_7_rate_out",{"$f":"'T2-B(PP2)'!$H$103","v":0},"#'T2-B(PP2)'!$H$103"]
["pp2_bl4_5_7_total",{"$f":"'T2-B(PP2)'!$J$103","v":0},"#'T2-B(PP2)'!$J$103"]
["pp2_bl4_5_7_total_in",{"$f":"'T2-B(PP2)'!$F$103","v":0},"#'T2-B(PP2)'!$F$103"]
["pp2_bl4_5_7_total_out",{"$f":"'T2-B(PP2)'!$I$103","v":0},"#'T2-B(PP2)'!$I$103"]
["pp2_bl4_5_7_unit",{"$f":"'T2-B(PP2)'!$C$103","v":0},"#'T2-B(PP2)'!$C$103"]
["pp2_bl4_5_7_unit_in",{"$f":"'T2-B(PP2)'!$D$103","v":0},"#'T2-B(PP2)'!$D$103"]
["pp2_bl4_5_7_units_out",{"$f":"'T2-B(PP2)'!$G$103","v":0},"#'T2-B(PP2)'!$G$103"]
["pp2_bl4_5_8_name",{"$f":"'T2-B(PP2)'!$B$104","v":0},"#'T2-B(PP2)'!$B$104"]
["pp2_bl4_5_8_rate_in",{"$f":"'T2-B(PP2)'!$E$104","v":0},"#'T2-B(PP2)'!$E$104"]
["pp2_bl4_5_8_rate_out",{"$f":"'T2-B(PP2)'!$H$104","v":0},"#'T2-B(PP2)'!$H$104"]
["pp2_bl4_5_8_total",{"$f":"'T2-B(PP2)'!$J$104","v":0},"#'T2-B(PP2)'!$J$104"]
["pp2_bl4_5_8_total_in",{"$f":"'T2-B(PP2)'!$F$104","v":0},"#'T2-B(PP2)'!$F$104"]
["pp2_bl4_5_8_total_out",{"$f":"'T2-B(PP2)'!$I$104","v":0},"#'T2-B(PP2)'!$I$104"]
["pp2_bl4_5_8_unit",{"$f":"'T2-B(PP2)'!$C$104","v":0},"#'T2-B(PP2)'!$C$104"]
["pp2_bl4_5_8_unit_in",{"$f":"'T2-B(PP2)'!$D$104","v":0},"#'T2-B(PP2)'!$D$104"]
["pp2_bl4_5_8_units_out",{"$f":"'T2-B(PP2)'!$G$104","v":0},"#'T2-B(PP2)'!$G$104"]
["pp2_bl4_5_9_name",{"$f":"'T2-B(PP2)'!$B$105","v":0},"#'T2-B(PP2)'!$B$105"]
["pp2_bl4_5_9_rate_in",{"$f":"'T2-B(PP2)'!$E$105","v":0},"#'T2-B(PP2)'!$E$105"]
["pp2_bl4_5_9_rate_out",{"$f":"'T2-B(PP2)'!$H$105","v":0},"#'T2-B(PP2)'!$H$105"]
["pp2_bl4_5_9_total",{"$f":"'T2-B(PP2)'!$J$105","v":0},"#'T2-B(PP2)'!$J$105"]
["pp2_bl4_5_9_total_in",{"$f":"'T2-B(PP2)'!$F$105","v":0},"#'T2-B(PP2)'!$F$105"]
["pp2_bl4_5_9_total_out",{"$f":"'T2-B(PP2)'!$I$105","v":0},"#'T2-B(PP2)'!$I$105"]
["pp2_bl4_5_9_unit",{"$f":"'T2-B(PP2)'!$C$105","v":0},"#'T2-B(PP2)'!$C$105"]
["pp2_bl4_5_9_unit_in",{"$f":"'T2-B(PP2)'!$D$105","v":0},"#'T2-B(PP2)'!$D$105"]
["pp2_bl4_5_9_units_out",{"$f":"'T2-B(PP2)'!$G$105","v":0},"#'T2-B(PP2)'!$G$105"]
["pp2_bl4_5_total",{"$f":"'T2-B(PP2)'!$J$96","v":0},"#'T2-B(PP2)'!$J$96"]
["pp2_bl4_5_total_in",{"$f":"'T2-B(PP2)'!$F$96","v":0},"#'T2-B(PP2)'!$F$96"]
["pp2_bl4_5_total_out",{"$f":"'T2-B(PP2)'!$I$96","v":0},"#'T2-B(PP2)'!$I$96"]
["pp2_bl4_6_1_name",{"$f":"'T2-B(PP2)'!$B$108","v":0},"#'T2-B(PP2)'!$B$108"]
["pp2_bl4_6_1_rate_in",{"$f":"'T2-B(PP2)'!$E$108","v":0},"#'T2-B(PP2)'!$E$108"]
["pp2_bl4_6_1_rate_out",{"$f":"'T2-B(PP2)'!$H$108","v":0},"#'T2-B(PP2)'!$H$108"]
["pp2_bl4_6_1_total",{"$f":"'T2-B(PP2)'!$J$108","v":0},"#'T2-B(PP2)'!$J$108"]
["pp2_bl4_6_1_total_in",{"$f":"'T2-B(PP2)'!$F$108","v":0},"#'T2-B(PP2)'!$F$108"]
["pp2_bl4_6_1_total_out",{"$f":"'T2-B(PP2)'!$I$108","v":0},"#'T2-B(PP2)'!$I$108"]
["pp2_bl4_6_1_unit",{"$f":"'T2-B(PP2)'!$C$108","v":0},"#'T2-B(PP2)'!$C$108"]
["pp2_bl4_6_1_unit_in",{"$f":"'T2-B(PP2)'!$D$108","v":0},"#'T2-B(PP2)'!$D$108"]
["pp2_bl4_6_1_units_out",{"$f":"'T2-B(PP2)'!$G$108","v":0},"#'T2-B(PP2)'!$G$108"]
["pp2_bl4_6_10_name",{"$f":"'T2-B(PP2)'!$B$117","v":0},"#'T2-B(PP2)'!$B$117"]
["pp2_bl4_6_10_rate_in",{"$f":"'T2-B(PP2)'!$E$117","v":0},"#'T2-B(PP2)'!$E$117"]
["pp2_bl4_6_10_rate_out",{"$f":"'T2-B(PP2)'!$H$117","v":0},"#'T2-B(PP2)'!$H$117"]
["pp2_bl4_6_10_total",{"$f":"'T2-B(PP2)'!$J$117","v":0},"#'T2-B(PP2)'!$J$117"]
["pp2_bl4_6_10_total_in",{"$f":"'T2-B(PP2)'!$F$117","v":0},"#'T2-B(PP2)'!$F$117"]
["pp2_bl4_6_10_total_out",{"$f":"'T2-B(PP2)'!$I$117","v":0},"#'T2-B(PP2)'!$I$117"]
["pp2_bl4_6_10_unit",{"$f":"'T2-B(PP2)'!$C$117","v":0},"#'T2-B(PP2)'!$C$117"]
["pp2_bl4_6_10_unit_in",{"$f":"'T2-B(PP2)'!$D$117","v":0},"#'T2-B(PP2)'!$D$117"]
["pp2_bl4_6_10_units_out",{"$f":"'T2-B(PP2)'!$G$117","v":0},"#'T2-B(PP2)'!$G$117"]
["pp2_bl4_6_2_name",{"$f":"'T2-B(PP2)'!$B$109","v":0},"#'T2-B(PP2)'!$B$109"]
["pp2_bl4_6_2_rate_in",{"$f":"'T2-B(PP2)'!$E$109","v":0},"#'T2-B(PP2)'!$E$109"]
["pp2_bl4_6_2_rate_out",{"$f":"'T2-B(PP2)'!$H$109","v":0},"#'T2-B(PP2)'!$H$109"]
["pp2_bl4_6_2_total",{"$f":"'T2-B(PP2)'!$J$109","v":0},"#'T2-B(PP2)'!$J$109"]
["pp2_bl4_6_2_total_in",{"$f":"'T2-B(PP2)'!$F$109","v":0},"#'T2-B(PP2)'!$F$109"]
["pp2_bl4_6_2_total_out",{"$f":"'T2-B(PP2)'!$I$109","v":0},"#'T2-B(PP2)'!$I$109"]
["pp2_bl4_6_2_unit",{"$f":"'T2-B(PP2)'!$C$109","v":0},"#'T2-B(PP2)'!$C$109"]
["pp2_bl4_6_2_unit_in",{"$f":"'T2-B(PP2)'!$D$109","v":0},"#'T2-B(PP2)'!$D$109"]
["pp2_bl4_6_2_units_out",{"$f":"'T2-B(PP2)'!$G$109","v":0},"#'T2-B(PP2)'!$G$109"]
["pp2_bl4_6_3_name",{"$f":"'T2-B(PP2)'!$B$110","v":0},"#'T2-B(PP2)'!$B$110"]
["pp2_bl4_6_3_rate_in",{"$f":"'T2-B(PP2)'!$E$110","v":0},"#'T2-B(PP2)'!$E$110"]
["pp2_bl4_6_3_rate_out",{"$f":"'T2-B(PP2)'!$H$110","v":0},"#'T2-B(PP2)'!$H$110"]
["pp2_bl4_6_3_total",{"$f":"'T2-B(PP2)'!$J$110","v":0},"#'T2-B(PP2)'!$J$110"]
["pp2_bl4_6_3_total_in",{"$f":"'T2-B(PP2)'!$F$110","v":0},"#'T2-B(PP2)'!$F$110"]
["pp2_bl4_6_3_total_out",{"$f":"'T2-B(PP2)'!$I$110","v":0},"#'T2-B(PP2)'!$I$110"]
["pp2_bl4_6_3_unit",{"$f":"'T2-B(PP2)'!$C$110","v":0},"#'T2-B(PP2)'!$C$110"]
["pp2_bl4_6_3_unit_in",{"$f":"'T2-B(PP2)'!$D$110","v":0},"#'T2-B(PP2)'!$D$110"]
["pp2_bl4_6_3_units_out",{"$f":"'T2-B(PP2)'!$G$110","v":0},"#'T2-B(PP2)'!$G$110"]
["pp2_bl4_6_4_name",{"$f":"'T2-B(PP2)'!$B$111","v":0},"#'T2-B(PP2)'!$B$111"]
["pp2_bl4_6_4_rate_in",{"$f":"'T2-B(PP2)'!$E$111","v":0},"#'T2-B(PP2)'!$E$111"]
["pp2_bl4_6_4_rate_out",{"$f":"'T2-B(PP2)'!$H$111","v":0},"#'T2-B(PP2)'!$H$111"]
["pp2_bl4_6_4_total",{"$f":"'T2-B(PP2)'!$J$111","v":0},"#'T2-B(PP2)'!$J$111"]
["pp2_bl4_6_4_total_in",{"$f":"'T2-B(PP2)'!$F$111","v":0},"#'T2-B(PP2)'!$F$111"]
["pp2_bl4_6_4_total_out",{"$f":"'T2-B(PP2)'!$I$111","v":0},"#'T2-B(PP2)'!$I$111"]
["pp2_bl4_6_4_unit",{"$f":"'T2-B(PP2)'!$C$111","v":0},"#'T2-B(PP2)'!$C$111"]
["pp2_bl4_6_4_unit_in",{"$f":"'T2-B(PP2)'!$D$111","v":0},"#'T2-B(PP2)'!$D$111"]
["pp2_bl4_6_4_units_out",{"$f":"'T2-B(PP2)'!$G$111","v":0},"#'T2-B(PP2)'!$G$111"]
["pp2_bl4_6_5_name",{"$f":"'T2-B(PP2)'!$B$112","v":0},"#'T2-B(PP2)'!$B$112"]
["pp2_bl4_6_5_rate_in",{"$f":"'T2-B(PP2)'!$E$112","v":0},"#'T2-B(PP2)'!$E$112"]
["pp2_bl4_6_5_rate_out",{"$f":"'T2-B(PP2)'!$H$112","v":0},"#'T2-B(PP2)'!$H$112"]
["pp2_bl4_6_5_total",{"$f":"'T2-B(PP2)'!$J$112","v":0},"#'T2-B(PP2)'!$J$112"]
["pp2_bl4_6_5_total_in",{"$f":"'T2-B(PP2)'!$F$112","v":0},"#'T2-B(PP2)'!$F$112"]
["pp2_bl4_6_5_total_out",{"$f":"'T2-B(PP2)'!$I$112","v":0},"#'T2-B(PP2)'!$I$112"]
["pp2_bl4_6_5_unit",{"$f":"'T2-B(PP2)'!$C$112","v":0},"#'T2-B(PP2)'!$C$112"]
["pp2_bl4_6_5_unit_in",{"$f":"'T2-B(PP2)'!$D$112","v":0},"#'T2-B(PP2)'!$D$112"]
["pp2_bl4_6_5_units_out",{"$f":"'T2-B(PP2)'!$G$112","v":0},"#'T2-B(PP2)'!$G$112"]
["pp2_bl4_6_6_name",{"$f":"'T2-B(PP2)'!$B$113","v":0},"#'T2-B(PP2)'!$B$113"]
["pp2_bl4_6_6_rate_in",{"$f":"'T2-B(PP2)'!$E$113","v":0},"#'T2-B(PP2)'!$E$113"]
["pp2_bl4_6_6_rate_out",{"$f":"'T2-B(PP2)'!$H$113","v":0},"#'T2-B(PP2)'!$H$113"]
["pp2_bl4_6_6_total",{"$f":"'T2-B(PP2)'!$J$113","v":0},"#'T2-B(PP2)'!$J$113"]
["pp2_bl4_6_6_total_in",{"$f":"'T2-B(PP2)'!$F$113","v":0},"#'T2-B(PP2)'!$F$113"]
["pp2_bl4_6_6_total_out",{"$f":"'T2-B(PP2)'!$I$113","v":0},"#'T2-B(PP2)'!$I$113"]
["pp2_bl4_6_6_unit",{"$f":"'T2-B(PP2)'!$C$113","v":0},"#'T2-B(PP2)'!$C$113"]
["pp2_bl4_6_6_unit_in",{"$f":"'T2-B(PP2)'!$D$113","v":0},"#'T2-B(PP2)'!$D$113"]
["pp2_bl4_6_6_units_out",{"$f":"'T2-B(PP2)'!$G$113","v":0},"#'T2-B(PP2)'!$G$113"]
["pp2_bl4_6_7_name",{"$f":"'T2-B(PP2)'!$B$114","v":0},"#'T2-B(PP2)'!$B$114"]
["pp2_bl4_6_7_rate_in",{"$f":"'T2-B(PP2)'!$E$114","v":0},"#'T2-B(PP2)'!$E$114"]
["pp2_bl4_6_7_rate_out",{"$f":"'T2-B(PP2)'!$H$114","v":0},"#'T2-B(PP2)'!$H$114"]
["pp2_bl4_6_7_total",{"$f":"'T2-B(PP2)'!$J$114","v":0},"#'T2-B(PP2)'!$J$114"]
["pp2_bl4_6_7_total_in",{"$f":"'T2-B(PP2)'!$F$114","v":0},"#'T2-B(PP2)'!$F$114"]
["pp2_bl4_6_7_total_out",{"$f":"'T2-B(PP2)'!$I$114","v":0},"#'T2-B(PP2)'!$I$114"]
["pp2_bl4_6_7_unit",{"$f":"'T2-B(PP2)'!$C$114","v":0},"#'T2-B(PP2)'!$C$114"]
["pp2_bl4_6_7_unit_in",{"$f":"'T2-B(PP2)'!$D$114","v":0},"#'T2-B(PP2)'!$D$114"]
["pp2_bl4_6_7_units_out",{"$f":"'T2-B(PP2)'!$G$114","v":0},"#'T2-B(PP2)'!$G$114"]
["pp2_bl4_6_8_name",{"$f":"'T2-B(PP2)'!$B$115","v":0},"#'T2-B(PP2)'!$B$115"]
["pp2_bl4_6_8_rate_in",{"$f":"'T2-B(PP2)'!$E$115","v":0},"#'T2-B(PP2)'!$E$115"]
["pp2_bl4_6_8_rate_out",{"$f":"'T2-B(PP2)'!$H$115","v":0},"#'T2-B(PP2)'!$H$115"]
["pp2_bl4_6_8_total",{"$f":"'T2-B(PP2)'!$J$115","v":0},"#'T2-B(PP2)'!$J$115"]
["pp2_bl4_6_8_total_in",{"$f":"'T2-B(PP2)'!$F$115","v":0},"#'T2-B(PP2)'!$F$115"]
["pp2_bl4_6_8_total_out",{"$f":"'T2-B(PP2)'!$I$115","v":0},"#'T2-B(PP2)'!$I$115"]
["pp2_bl4_6_8_unit",{"$f":"'T2-B(PP2)'!$C$115","v":0},"#'T2-B(PP2)'!$C$115"]
["pp2_bl4_6_8_unit_in",{"$f":"'T2-B(PP2)'!$D$115","v":0},"#'T2-B(PP2)'!$D$115"]
["pp2_bl4_6_8_units_out",{"$f":"'T2-B(PP2)'!$G$115","v":0},"#'T2-B(PP2)'!$G$115"]
["pp2_bl4_6_9_name",{"$f":"'T2-B(PP2)'!$B$116","v":0},"#'T2-B(PP2)'!$B$116"]
["pp2_bl4_6_9_rate_in",{"$f":"'T2-B(PP2)'!$E$116","v":0},"#'T2-B(PP2)'!$E$116"]
["pp2_bl4_6_9_rate_out",{"$f":"'T2-B(PP2)'!$H$116","v":0},"#'T2-B(PP2)'!$H$116"]
["pp2_bl4_6_9_total",{"$f":"'T2-B(PP2)'!$J$116","v":0},"#'T2-B(PP2)'!$J$116"]
["pp2_bl4_6_9_total_in",{"$f":"'T2-B(PP2)'!$F$116","v":0},"#'T2-B(PP2)'!$F$116"]
["pp2_bl4_6_9_total_out",{"$f":"'T2-B(PP2)'!$I$116","v":0},"#'T2-B(PP2)'!$I$116"]
["pp2_bl4_6_9_unit",{"$f":"'T2-B(PP2)'!$C$116","v":0},"#'T2-B(PP2)'!$C$116"]
["pp2_bl4_6_9_unit_in",{"$f":"'T2-B(PP2)'!$D$116","v":0},"#'T2-B(PP2)'!$D$116"]
["pp2_bl4_6_9_units_out",{"$f":"'T2-B(PP2)'!$G$116","v":0},"#'T2-B(PP2)'!$G$116"]
["pp2_bl4_6_total",{"$f":"'T2-B(PP2)'!$J$107","v":0},"#'T2-B(PP2)'!$J$107"]
["pp2_bl4_6_total_in",{"$f":"'T2-B(PP2)'!$F$107","v":0},"#'T2-B(PP2)'!$F$107"]
["pp2_bl4_6_total_out",{"$f":"'T2-B(PP2)'!$I$107","v":0},"#'T2-B(PP2)'!$I$107"]
["pp2_bl4_7_1_name",{"$f":"'T2-B(PP2)'!$B$119","v":0},"#'T2-B(PP2)'!$B$119"]
["pp2_bl4_7_1_rate_in",{"$f":"'T2-B(PP2)'!$E$119","v":0},"#'T2-B(PP2)'!$E$119"]
["pp2_bl4_7_1_rate_out",{"$f":"'T2-B(PP2)'!$H$119","v":0},"#'T2-B(PP2)'!$H$119"]
["pp2_bl4_7_1_total",{"$f":"'T2-B(PP2)'!$J$119","v":0},"#'T2-B(PP2)'!$J$119"]
["pp2_bl4_7_1_total_in",{"$f":"'T2-B(PP2)'!$F$119","v":0},"#'T2-B(PP2)'!$F$119"]
["pp2_bl4_7_1_total_out",{"$f":"'T2-B(PP2)'!$I$119","v":0},"#'T2-B(PP2)'!$I$119"]
["pp2_bl4_7_1_unit",{"$f":"'T2-B(PP2)'!$C$119","v":0},"#'T2-B(PP2)'!$C$119"]
["pp2_bl4_7_1_unit_in",{"$f":"'T2-B(PP2)'!$D$119","v":0},"#'T2-B(PP2)'!$D$119"]
["pp2_bl4_7_1_units_out",{"$f":"'T2-B(PP2)'!$G$119","v":0},"#'T2-B(PP2)'!$G$119"]
["pp2_bl4_7_10_name",{"$f":"'T2-B(PP2)'!$B$128","v":0},"#'T2-B(PP2)'!$B$128"]
["pp2_bl4_7_10_rate_in",{"$f":"'T2-B(PP2)'!$E$128","v":0},"#'T2-B(PP2)'!$E$128"]
["pp2_bl4_7_10_rate_out",{"$f":"'T2-B(PP2)'!$H$128","v":0},"#'T2-B(PP2)'!$H$128"]
["pp2_bl4_7_10_total",{"$f":"'T2-B(PP2)'!$J$128","v":0},"#'T2-B(PP2)'!$J$128"]
["pp2_bl4_7_10_total_in",{"$f":"'T2-B(PP2)'!$F$128","v":0},"#'T2-B(PP2)'!$F$128"]
["pp2_bl4_7_10_total_out",{"$f":"'T2-B(PP2)'!$I$128","v":0},"#'T2-B(PP2)'!$I$128"]
["pp2_bl4_7_10_unit",{"$f":"'T2-B(PP2)'!$C$128","v":0},"#'T2-B(PP2)'!$C$128"]
["pp2_bl4_7_10_unit_in",{"$f":"'T2-B(PP2)'!$D$128","v":0},"#'T2-B(PP2)'!$D$128"]
["pp2_bl4_7_10_units_out",{"$f":"'T2-B(PP2)'!$G$128","v":0},"#'T2-B(PP2)'!$G$128"]
["pp2_bl4_7_2_name",{"$f":"'T2-B(PP2)'!$B$120","v":0},"#'T2-B(PP2)'!$B$120"]
["pp2_bl4_7_2_rate_in",{"$f":"'T2-B(PP2)'!$E$120","v":0},"#'T2-B(PP2)'!$E$120"]
["pp2_bl4_7_2_rate_out",{"$f":"'T2-B(PP2)'!$H$120","v":0},"#'T2-B(PP2)'!$H$120"]
["pp2_bl4_7_2_total",{"$f":"'T2-B(PP2)'!$J$120","v":0},"#'T2-B(PP2)'!$J$120"]
["pp2_bl4_7_2_total_in",{"$f":"'T2-B(PP2)'!$F$120","v":0},"#'T2-B(PP2)'!$F$120"]
["pp2_bl4_7_2_total_out",{"$f":"'T2-B(PP2)'!$I$120","v":0},"#'T2-B(PP2)'!$I$120"]
["pp2_bl4_7_2_unit",{"$f":"'T2-B(PP2)'!$C$120","v":0},"#'T2-B(PP2)'!$C$120"]
["pp2_bl4_7_2_unit_in",{"$f":"'T2-B(PP2)'!$D$120","v":0},"#'T2-B(PP2)'!$D$120"]
["pp2_bl4_7_2_units_out",{"$f":"'T2-B(PP2)'!$G$120","v":0},"#'T2-B(PP2)'!$G$120"]
["pp2_bl4_7_3_name",{"$f":"'T2-B(PP2)'!$B$121","v":0},"#'T2-B(PP2)'!$B$121"]
["pp2_bl4_7_3_rate_in",{"$f":"'T2-B(PP2)'!$E$121","v":0},"#'T2-B(PP2)'!$E$121"]
["pp2_bl4_7_3_rate_out",{"$f":"'T2-B(PP2)'!$H$121","v":0},"#'T2-B(PP2)'!$H$121"]
["pp2_bl4_7_3_total",{"$f":"'T2-B(PP2)'!$J$121","v":0},"#'T2-B(PP2)'!$J$121"]
["pp2_bl4_7_3_total_in",{"$f":"'T2-B(PP2)'!$F$121","v":0},"#'T2-B(PP2)'!$F$121"]
["pp2_bl4_7_3_total_out",{"$f":"'T2-B(PP2)'!$I$121","v":0},"#'T2-B(PP2)'!$I$121"]
["pp2_bl4_7_3_unit",{"$f":"'T2-B(PP2)'!$C$121","v":0},"#'T2-B(PP2)'!$C$121"]
["pp2_bl4_7_3_unit_in",{"$f":"'T2-B(PP2)'!$D$121","v":0},"#'T2-B(PP2)'!$D$121"]
["pp2_bl4_7_3_units_out",{"$f":"'T2-B(PP2)'!$G$121","v":0},"#'T2-B(PP2)'!$G$121"]
["pp2_bl4_7_4_name",{"$f":"'T2-B(PP2)'!$B$122","v":0},"#'T2-B(PP2)'!$B$122"]
["pp2_bl4_7_4_rate_in",{"$f":"'T2-B(PP2)'!$E$122","v":0},"#'T2-B(PP2)'!$E$122"]
["pp2_bl4_7_4_rate_out",{"$f":"'T2-B(PP2)'!$H$122","v":0},"#'T2-B(PP2)'!$H$122"]
["pp2_bl4_7_4_total",{"$f":"'T2-B(PP2)'!$J$122","v":0},"#'T2-B(PP2)'!$J$122"]
["pp2_bl4_7_4_total_in",{"$f":"'T2-B(PP2)'!$F$122","v":0},"#'T2-B(PP2)'!$F$122"]
["pp2_bl4_7_4_total_out",{"$f":"'T2-B(PP2)'!$I$122","v":0},"#'T2-B(PP2)'!$I$122"]
["pp2_bl4_7_4_unit",{"$f":"'T2-B(PP2)'!$C$122","v":0},"#'T2-B(PP2)'!$C$122"]
["pp2_bl4_7_4_unit_in",{"$f":"'T2-B(PP2)'!$D$122","v":0},"#'T2-B(PP2)'!$D$122"]
["pp2_bl4_7_4_units_out",{"$f":"'T2-B(PP2)'!$G$122","v":0},"#'T2-B(PP2)'!$G$122"]
["pp2_bl4_7_5_name",{"$f":"'T2-B(PP2)'!$B$123","v":0},"#'T2-B(PP2)'!$B$123"]
["pp2_bl4_7_5_rate_in",{"$f":"'T2-B(PP2)'!$E$123","v":0},"#'T2-B(PP2)'!$E$123"]
["pp2_bl4_7_5_rate_out",{"$f":"'T2-B(PP2)'!$H$123","v":0},"#'T2-B(PP2)'!$H$123"]
["pp2_bl4_7_5_total",{"$f":"'T2-B(PP2)'!$J$123","v":0},"#'T2-B(PP2)'!$J$123"]
["pp2_bl4_7_5_total_in",{"$f":"'T2-B(PP2)'!$F$123","v":0},"#'T2-B(PP2)'!$F$123"]
["pp2_bl4_7_5_total_out",{"$f":"'T2-B(PP2)'!$I$123","v":0},"#'T2-B(PP2)'!$I$123"]
["pp2_bl4_7_5_unit",{"$f":"'T2-B(PP2)'!$C$123","v":0},"#'T2-B(PP2)'!$C$123"]
["pp2_bl4_7_5_unit_in",{"$f":"'T2-B(PP2)'!$D$123","v":0},"#'T2-B(PP2)'!$D$123"]
["pp2_bl4_7_5_units_out",{"$f":"'T2-B(PP2)'!$G$123","v":0},"#'T2-B(PP2)'!$G$123"]
["pp2_bl4_7_6_name",{"$f":"'T2-B(PP2)'!$B$124","v":0},"#'T2-B(PP2)'!$B$124"]
["pp2_bl4_7_6_rate_in",{"$f":"'T2-B(PP2)'!$E$124","v":0},"#'T2-B(PP2)'!$E$124"]
["pp2_bl4_7_6_rate_out",{"$f":"'T2-B(PP2)'!$H$124","v":0},"#'T2-B(PP2)'!$H$124"]
["pp2_bl4_7_6_total",{"$f":"'T2-B(PP2)'!$J$124","v":0},"#'T2-B(PP2)'!$J$124"]
["pp2_bl4_7_6_total_in",{"$f":"'T2-B(PP2)'!$F$124","v":0},"#'T2-B(PP2)'!$F$124"]
["pp2_bl4_7_6_total_out",{"$f":"'T2-B(PP2)'!$I$124","v":0},"#'T2-B(PP2)'!$I$124"]
["pp2_bl4_7_6_unit",{"$f":"'T2-B(PP2)'!$C$124","v":0},"#'T2-B(PP2)'!$C$124"]
["pp2_bl4_7_6_unit_in",{"$f":"'T2-B(PP2)'!$D$124","v":0},"#'T2-B(PP2)'!$D$124"]
["pp2_bl4_7_6_units_out",{"$f":"'T2-B(PP2)'!$G$124","v":0},"#'T2-B(PP2)'!$G$124"]
["pp2_bl4_7_7_name",{"$f":"'T2-B(PP2)'!$B$125","v":0},"#'T2-B(PP2)'!$B$125"]
["pp2_bl4_7_7_rate_in",{"$f":"'T2-B(PP2)'!$E$125","v":0},"#'T2-B(PP2)'!$E$125"]
["pp2_bl4_7_7_rate_out",{"$f":"'T2-B(PP2)'!$H$125","v":0},"#'T2-B(PP2)'!$H$125"]
["pp2_bl4_7_7_total",{"$f":"'T2-B(PP2)'!$J$125","v":0},"#'T2-B(PP2)'!$J$125"]
["pp2_bl4_7_7_total_in",{"$f":"'T2-B(PP2)'!$F$125","v":0},"#'T2-B(PP2)'!$F$125"]
["pp2_bl4_7_7_total_out",{"$f":"'T2-B(PP2)'!$I$125","v":0},"#'T2-B(PP2)'!$I$125"]
["pp2_bl4_7_7_unit",{"$f":"'T2-B(PP2)'!$C$125","v":0},"#'T2-B(PP2)'!$C$125"]
["pp2_bl4_7_7_unit_in",{"$f":"'T2-B(PP2)'!$D$125","v":0},"#'T2-B(PP2)'!$D$125"]
["pp2_bl4_7_7_units_out",{"$f":"'T2-B(PP2)'!$G$125","v":0},"#'T2-B(PP2)'!$G$125"]
["pp2_bl4_7_8_name",{"$f":"'T2-B(PP2)'!$B$126","v":0},"#'T2-B(PP2)'!$B$126"]
["pp2_bl4_7_8_rate_in",{"$f":"'T2-B(PP2)'!$E$126","v":0},"#'T2-B(PP2)'!$E$126"]
["pp2_bl4_7_8_rate_out",{"$f":"'T2-B(PP2)'!$H$126","v":0},"#'T2-B(PP2)'!$H$126"]
["pp2_bl4_7_8_total",{"$f":"'T2-B(PP2)'!$J$126","v":0},"#'T2-B(PP2)'!$J$126"]
["pp2_bl4_7_8_total_in",{"$f":"'T2-B(PP2)'!$F$126","v":0},"#'T2-B(PP2)'!$F$126"]
["pp2_bl4_7_8_total_out",{"$f":"'T2-B(PP2)'!$I$126","v":0},"#'T2-B(PP2)'!$I$126"]
["pp2_bl4_7_8_unit",{"$f":"'T2-B(PP2)'!$C$126","v":0},"#'T2-B(PP2)'!$C$126"]
["pp2_bl4_7_8_unit_in",{"$f":"'T2-B(PP2)'!$D$126","v":0},"#'T2-B(PP2)'!$D$126"]
["pp2_bl4_7_8_units_out",{"$f":"'T2-B(PP2)'!$G$126","v":0},"#'T2-B(PP2)'!$G$126"]
["pp2_bl4_7_9_name",{"$f":"'T2-B(PP2)'!$B$127","v":0},"#'T2-B(PP2)'!$B$127"]
["pp2_bl4_7_9_rate_in",{"$f":"'T2-B(PP2)'!$E$127","v":0},"#'T2-B(PP2)'!$E$127"]
["pp2_bl4_7_9_rate_out",{"$f":"'T2-B(PP2)'!$H$127","v":0},"#'T2-B(PP2)'!$H$127"]
["pp2_bl4_7_9_total",{"$f":"'T2-B(PP2)'!$J$127","v":0},"#'T2-B(PP2)'!$J$127"]
["pp2_bl4_7_9_total_in",{"$f":"'T2-B(PP2)'!$F$127","v":0},"#'T2-B(PP2)'!$F$127"]
["pp2_bl4_7_9_total_out",{"$f":"'T2-B(PP2)'!$I$127","v":0},"#'T2-B(PP2)'!$I$127"]
["pp2_bl4_7_9_unit",{"$f":"'T2-B(PP2)'!$C$127","v":0},"#'T2-B(PP2)'!$C$127"]
["pp2_bl4_7_9_unit_in",{"$f":"'T2-B(PP2)'!$D$127","v":0},"#'T2-B(PP2)'!$D$127"]
["pp2_bl4_7_9_units_out",{"$f":"'T2-B(PP2)'!$G$127","v":0},"#'T2-B(PP2)'!$G$127"]
["pp2_bl4_7_total",{"$f":"'T2-B(PP2)'!$J$118","v":0},"#'T2-B(PP2)'!$J$118"]
["pp2_bl4_7_total_in",{"$f":"'T2-B(PP2)'!$F$118","v":0},"#'T2-B(PP2)'!$F$118"]
["pp2_bl4_7_total_out",{"$f":"'T2-B(PP2)'!$I$118","v":0},"#'T2-B(PP2)'!$I$118"]
["pp2_bl4_8_1_name",{"$f":"'T2-B(PP2)'!$B$130","v":0},"#'T2-B(PP2)'!$B$130"]
["pp2_bl4_8_1_rate_in",{"$f":"'T2-B(PP2)'!$E$130","v":0},"#'T2-B(PP2)'!$E$130"]
["pp2_bl4_8_1_rate_out",{"$f":"'T2-B(PP2)'!$H$130","v":0},"#'T2-B(PP2)'!$H$130"]
["pp2_bl4_8_1_total",{"$f":"'T2-B(PP2)'!$J$130","v":0},"#'T2-B(PP2)'!$J$130"]
["pp2_bl4_8_1_total_in",{"$f":"'T2-B(PP2)'!$F$130","v":0},"#'T2-B(PP2)'!$F$130"]
["pp2_bl4_8_1_total_out",{"$f":"'T2-B(PP2)'!$I$130","v":0},"#'T2-B(PP2)'!$I$130"]
["pp2_bl4_8_1_unit",{"$f":"'T2-B(PP2)'!$C$130","v":0},"#'T2-B(PP2)'!$C$130"]
["pp2_bl4_8_1_unit_in",{"$f":"'T2-B(PP2)'!$D$130","v":0},"#'T2-B(PP2)'!$D$130"]
["pp2_bl4_8_1_units_out",{"$f":"'T2-B(PP2)'!$G$130","v":0},"#'T2-B(PP2)'!$G$130"]
["pp2_bl4_8_10_name",{"$f":"'T2-B(PP2)'!$B$139","v":0},"#'T2-B(PP2)'!$B$139"]
["pp2_bl4_8_10_rate_in",{"$f":"'T2-B(PP2)'!$E$139","v":0},"#'T2-B(PP2)'!$E$139"]
["pp2_bl4_8_10_rate_out",{"$f":"'T2-B(PP2)'!$H$139","v":0},"#'T2-B(PP2)'!$H$139"]
["pp2_bl4_8_10_total",{"$f":"'T2-B(PP2)'!$J$139","v":0},"#'T2-B(PP2)'!$J$139"]
["pp2_bl4_8_10_total_in",{"$f":"'T2-B(PP2)'!$F$139","v":0},"#'T2-B(PP2)'!$F$139"]
["pp2_bl4_8_10_total_out",{"$f":"'T2-B(PP2)'!$I$139","v":0},"#'T2-B(PP2)'!$I$139"]
["pp2_bl4_8_10_unit",{"$f":"'T2-B(PP2)'!$C$139","v":0},"#'T2-B(PP2)'!$C$139"]
["pp2_bl4_8_10_unit_in",{"$f":"'T2-B(PP2)'!$D$139","v":0},"#'T2-B(PP2)'!$D$139"]
["pp2_bl4_8_10_units_out",{"$f":"'T2-B(PP2)'!$G$139","v":0},"#'T2-B(PP2)'!$G$139"]
["pp2_bl4_8_2_name",{"$f":"'T2-B(PP2)'!$B$131","v":0},"#'T2-B(PP2)'!$B$131"]
["pp2_bl4_8_2_rate_in",{"$f":"'T2-B(PP2)'!$E$131","v":0},"#'T2-B(PP2)'!$E$131"]
["pp2_bl4_8_2_rate_out",{"$f":"'T2-B(PP2)'!$H$131","v":0},"#'T2-B(PP2)'!$H$131"]
["pp2_bl4_8_2_total",{"$f":"'T2-B(PP2)'!$J$131","v":0},"#'T2-B(PP2)'!$J$131"]
["pp2_bl4_8_2_total_in",{"$f":"'T2-B(PP2)'!$F$131","v":0},"#'T2-B(PP2)'!$F$131"]
["pp2_bl4_8_2_total_out",{"$f":"'T2-B(PP2)'!$I$131","v":0},"#'T2-B(PP2)'!$I$131"]
["pp2_bl4_8_2_unit",{"$f":"'T2-B(PP2)'!$C$131","v":0},"#'T2-B(PP2)'!$C$131"]
["pp2_bl4_8_2_unit_in",{"$f":"'T2-B(PP2)'!$D$131","v":0},"#'T2-B(PP2)'!$D$131"]
["pp2_bl4_8_2_units_out",{"$f":"'T2-B(PP2)'!$G$131","v":0},"#'T2-B(PP2)'!$G$131"]
["pp2_bl4_8_3_name",{"$f":"'T2-B(PP2)'!$B$132","v":0},"#'T2-B(PP2)'!$B$132"]
["pp2_bl4_8_3_rate_in",{"$f":"'T2-B(PP2)'!$E$132","v":0},"#'T2-B(PP2)'!$E$132"]
["pp2_bl4_8_3_rate_out",{"$f":"'T2-B(PP2)'!$H$132","v":0},"#'T2-B(PP2)'!$H$132"]
["pp2_bl4_8_3_total",{"$f":"'T2-B(PP2)'!$J$132","v":0},"#'T2-B(PP2)'!$J$132"]
["pp2_bl4_8_3_total_in",{"$f":"'T2-B(PP2)'!$F$132","v":0},"#'T2-B(PP2)'!$F$132"]
["pp2_bl4_8_3_total_out",{"$f":"'T2-B(PP2)'!$I$132","v":0},"#'T2-B(PP2)'!$I$132"]
["pp2_bl4_8_3_unit",{"$f":"'T2-B(PP2)'!$C$132","v":0},"#'T2-B(PP2)'!$C$132"]
["pp2_bl4_8_3_unit_in",{"$f":"'T2-B(PP2)'!$D$132","v":0},"#'T2-B(PP2)'!$D$132"]
["pp2_bl4_8_3_units_out",{"$f":"'T2-B(PP2)'!$G$132","v":0},"#'T2-B(PP2)'!$G$132"]
["pp2_bl4_8_4_name",{"$f":"'T2-B(PP2)'!$B$133","v":0},"#'T2-B(PP2)'!$B$133"]
["pp2_bl4_8_4_rate_in",{"$f":"'T2-B(PP2)'!$E$133","v":0},"#'T2-B(PP2)'!$E$133"]
["pp2_bl4_8_4_rate_out",{"$f":"'T2-B(PP2)'!$H$133","v":0},"#'T2-B(PP2)'!$H$133"]
["pp2_bl4_8_4_total",{"$f":"'T2-B(PP2)'!$J$133","v":0},"#'T2-B(PP2)'!$J$133"]
["pp2_bl4_8_4_total_in",{"$f":"'T2-B(PP2)'!$F$133","v":0},"#'T2-B(PP2)'!$F$133"]
["pp2_bl4_8_4_total_out",{"$f":"'T2-B(PP2)'!$I$133","v":0},"#'T2-B(PP2)'!$I$133"]
["pp2_bl4_8_4_unit",{"$f":"'T2-B(PP2)'!$C$133","v":0},"#'T2-B(PP2)'!$C$133"]
["pp2_bl4_8_4_unit_in",{"$f":"'T2-B(PP2)'!$D$133","v":0},"#'T2-B(PP2)'!$D$133"]
["pp2_bl4_8_4_units_out",{"$f":"'T2-B(PP2)'!$G$133","v":0},"#'T2-B(PP2)'!$G$133"]
["pp2_bl4_8_5_name",{"$f":"'T2-B(PP2)'!$B$134","v":0},"#'T2-B(PP2)'!$B$134"]
["pp2_bl4_8_5_rate_in",{"$f":"'T2-B(PP2)'!$E$134","v":0},"#'T2-B(PP2)'!$E$134"]
["pp2_bl4_8_5_rate_out",{"$f":"'T2-B(PP2)'!$H$134","v":0},"#'T2-B(PP2)'!$H$134"]
["pp2_bl4_8_5_total",{"$f":"'T2-B(PP2)'!$J$134","v":0},"#'T2-B(PP2)'!$J$134"]
["pp2_bl4_8_5_total_in",{"$f":"'T2-B(PP2)'!$F$134","v":0},"#'T2-B(PP2)'!$F$134"]
["pp2_bl4_8_5_total_out",{"$f":"'T2-B(PP2)'!$I$134","v":0},"#'T2-B(PP2)'!$I$134"]
["pp2_bl4_8_5_unit",{"$f":"'T2-B(PP2)'!$C$134","v":0},"#'T2-B(PP2)'!$C$134"]
["pp2_bl4_8_5_unit_in",{"$f":"'T2-B(PP2)'!$D$134","v":0},"#'T2-B(PP2)'!$D$134"]
["pp2_bl4_8_5_units_out",{"$f":"'T2-B(PP2)'!$G$134","v":0},"#'T2-B(PP2)'!$G$134"]
["pp2_bl4_8_6_name",{"$f":"'T2-B(PP2)'!$B$135","v":0},"#'T2-B(PP2)'!$B$135"]
["pp2_bl4_8_6_rate_in",{"$f":"'T2-B(PP2)'!$E$135","v":0},"#'T2-B(PP2)'!$E$135"]
["pp2_bl4_8_6_rate_out",{"$f":"'T2-B(PP2)'!$H$135","v":0},"#'T2-B(PP2)'!$H$135"]
["pp2_bl4_8_6_total",{"$f":"'T2-B(PP2)'!$J$135","v":0},"#'T2-B(PP2)'!$J$135"]
["pp2_bl4_8_6_total_in",{"$f":"'T2-B(PP2)'!$F$135","v":0},"#'T2-B(PP2)'!$F$135"]
["pp2_bl4_8_6_total_out",{"$f":"'T2-B(PP2)'!$I$135","v":0},"#'T2-B(PP2)'!$I$135"]
["pp2_bl4_8_6_unit",{"$f":"'T2-B(PP2)'!$C$135","v":0},"#'T2-B(PP2)'!$C$135"]
["pp2_bl4_8_6_unit_in",{"$f":"'T2-B(PP2)'!$D$135","v":0},"#'T2-B(PP2)'!$D$135"]
["pp2_bl4_8_6_units_out",{"$f":"'T2-B(PP2)'!$G$135","v":0},"#'T2-B(PP2)'!$G$135"]
["pp2_bl4_8_7_name",{"$f":"'T2-B(PP2)'!$B$136","v":0},"#'T2-B(PP2)'!$B$136"]
["pp2_bl4_8_7_rate_in",{"$f":"'T2-B(PP2)'!$E$136","v":0},"#'T2-B(PP2)'!$E$136"]
["pp2_bl4_8_7_rate_out",{"$f":"'T2-B(PP2)'!$H$136","v":0},"#'T2-B(PP2)'!$H$136"]
["pp2_bl4_8_7_total",{"$f":"'T2-B(PP2)'!$J$136","v":0},"#'T2-B(PP2)'!$J$136"]
["pp2_bl4_8_7_total_in",{"$f":"'T2-B(PP2)'!$F$136","v":0},"#'T2-B(PP2)'!$F$136"]
["pp2_bl4_8_7_total_out",{"$f":"'T2-B(PP2)'!$I$136","v":0},"#'T2-B(PP2)'!$I$136"]
["pp2_bl4_8_7_unit",{"$f":"'T2-B(PP2)'!$C$136","v":0},"#'T2-B(PP2)'!$C$136"]
["pp2_bl4_8_7_unit_in",{"$f":"'T2-B(PP2)'!$D$136","v":0},"#'T2-B(PP2)'!$D$136"]
["pp2_bl4_8_7_units_out",{"$f":"'T2-B(PP2)'!$G$136","v":0},"#'T2-B(PP2)'!$G$136"]
["pp2_bl4_8_8_name",{"$f":"'T2-B(PP2)'!$B$137","v":0},"#'T2-B(PP2)'!$B$137"]
["pp2_bl4_8_8_rate_in",{"$f":"'T2-B(PP2)'!$E$137","v":0},"#'T2-B(PP2)'!$E$137"]
["pp2_bl4_8_8_rate_out",{"$f":"'T2-B(PP2)'!$H$137","v":0},"#'T2-B(PP2)'!$H$137"]
["pp2_bl4_8_8_total",{"$f":"'T2-B(PP2)'!$J$137","v":0},"#'T2-B(PP2)'!$J$137"]
["pp2_bl4_8_8_total_in",{"$f":"'T2-B(PP2)'!$F$137","v":0},"#'T2-B(PP2)'!$F$137"]
["pp2_bl4_8_8_total_out",{"$f":"'T2-B(PP2)'!$I$137","v":0},"#'T2-B(PP2)'!$I$137"]
["pp2_bl4_8_8_unit",{"$f":"'T2-B(PP2)'!$C$137","v":0},"#'T2-B(PP2)'!$C$137"]
["pp2_bl4_8_8_unit_in",{"$f":"'T2-B(PP2)'!$D$137","v":0},"#'T2-B(PP2)'!$D$137"]
["pp2_bl4_8_8_units_out",{"$f":"'T2-B(PP2)'!$G$137","v":0},"#'T2-B(PP2)'!$G$137"]
["pp2_bl4_8_9_name",{"$f":"'T2-B(PP2)'!$B$138","v":0},"#'T2-B(PP2)'!$B$138"]
["pp2_bl4_8_9_rate_in",{"$f":"'T2-B(PP2)'!$E$138","v":0},"#'T2-B(PP2)'!$E$138"]
["pp2_bl4_8_9_rate_out",{"$f":"'T2-B(PP2)'!$H$138","v":0},"#'T2-B(PP2)'!$H$138"]
["pp2_bl4_8_9_total",{"$f":"'T2-B(PP2)'!$J$138","v":0},"#'T2-B(PP2)'!$J$138"]
["pp2_bl4_8_9_total_in",{"$f":"'T2-B(PP2)'!$F$138","v":0},"#'T2-B(PP2)'!$F$138"]
["pp2_bl4_8_9_total_out",{"$f":"'T2-B(PP2)'!$I$138","v":0},"#'T2-B(PP2)'!$I$138"]
["pp2_bl4_8_9_unit",{"$f":"'T2-B(PP2)'!$C$138","v":0},"#'T2-B(PP2)'!$C$138"]
["pp2_bl4_8_9_unit_in",{"$f":"'T2-B(PP2)'!$D$138","v":0},"#'T2-B(PP2)'!$D$138"]
["pp2_bl4_8_9_units_out",{"$f":"'T2-B(PP2)'!$G$138","v":0},"#'T2-B(PP2)'!$G$138"]
["pp2_bl4_8_total",{"$f":"'T2-B(PP2)'!$J$129","v":0},"#'T2-B(PP2)'!$J$129"]
["pp2_bl4_8_total_in",{"$f":"'T2-B(PP2)'!$F$129","v":0},"#'T2-B(PP2)'!$F$129"]
["pp2_bl4_8_total_out",{"$f":"'T2-B(PP2)'!$I$129","v":0},"#'T2-B(PP2)'!$I$129"]
["pp2_bl4_9_1_name",{"$f":"'T2-B(PP2)'!$B$141","v":0},"#'T2-B(PP2)'!$B$141"]
["pp2_bl4_9_1_rate_in",{"$f":"'T2-B(PP2)'!$E$141","v":0},"#'T2-B(PP2)'!$E$141"]
["pp2_bl4_9_1_rate_out",{"$f":"'T2-B(PP2)'!$H$141","v":0},"#'T2-B(PP2)'!$H$141"]
["pp2_bl4_9_1_total",{"$f":"'T2-B(PP2)'!$J$141","v":0},"#'T2-B(PP2)'!$J$141"]
["pp2_bl4_9_1_total_in",{"$f":"'T2-B(PP2)'!$F$141","v":0},"#'T2-B(PP2)'!$F$141"]
["pp2_bl4_9_1_total_out",{"$f":"'T2-B(PP2)'!$I$141","v":0},"#'T2-B(PP2)'!$I$141"]
["pp2_bl4_9_1_unit",{"$f":"'T2-B(PP2)'!$C$141","v":0},"#'T2-B(PP2)'!$C$141"]
["pp2_bl4_9_1_unit_in",{"$f":"'T2-B(PP2)'!$D$141","v":0},"#'T2-B(PP2)'!$D$141"]
["pp2_bl4_9_1_units_out",{"$f":"'T2-B(PP2)'!$G$141","v":0},"#'T2-B(PP2)'!$G$141"]
["pp2_bl4_9_10_name",{"$f":"'T2-B(PP2)'!$B$150","v":0},"#'T2-B(PP2)'!$B$150"]
["pp2_bl4_9_10_rate_in",{"$f":"'T2-B(PP2)'!$E$150","v":0},"#'T2-B(PP2)'!$E$150"]
["pp2_bl4_9_10_rate_out",{"$f":"'T2-B(PP2)'!$H$150","v":0},"#'T2-B(PP2)'!$H$150"]
["pp2_bl4_9_10_total",{"$f":"'T2-B(PP2)'!$J$150","v":0},"#'T2-B(PP2)'!$J$150"]
["pp2_bl4_9_10_total_in",{"$f":"'T2-B(PP2)'!$F$150","v":0},"#'T2-B(PP2)'!$F$150"]
["pp2_bl4_9_10_total_out",{"$f":"'T2-B(PP2)'!$I$150","v":0},"#'T2-B(PP2)'!$I$150"]
["pp2_bl4_9_10_unit",{"$f":"'T2-B(PP2)'!$C$150","v":0},"#'T2-B(PP2)'!$C$150"]
["pp2_bl4_9_10_unit_in",{"$f":"'T2-B(PP2)'!$D$150","v":0},"#'T2-B(PP2)'!$D$150"]
["pp2_bl4_9_10_units_out",{"$f":"'T2-B(PP2)'!$G$150","v":0},"#'T2-B(PP2)'!$G$150"]
["pp2_bl4_9_2_name",{"$f":"'T2-B(PP2)'!$B$142","v":0},"#'T2-B(PP2)'!$B$142"]
["pp2_bl4_9_2_rate_in",{"$f":"'T2-B(PP2)'!$E$142","v":0},"#'T2-B(PP2)'!$E$142"]
["pp2_bl4_9_2_rate_out",{"$f":"'T2-B(PP2)'!$H$142","v":0},"#'T2-B(PP2)'!$H$142"]
["pp2_bl4_9_2_total",{"$f":"'T2-B(PP2)'!$J$142","v":0},"#'T2-B(PP2)'!$J$142"]
["pp2_bl4_9_2_total_in",{"$f":"'T2-B(PP2)'!$F$142","v":0},"#'T2-B(PP2)'!$F$142"]
["pp2_bl4_9_2_total_out",{"$f":"'T2-B(PP2)'!$I$142","v":0},"#'T2-B(PP2)'!$I$142"]
["pp2_bl4_9_2_unit",{"$f":"'T2-B(PP2)'!$C$142","v":0},"#'T2-B(PP2)'!$C$142"]
["pp2_bl4_9_2_unit_in",{"$f":"'T2-B(PP2)'!$D$142","v":0},"#'T2-B(PP2)'!$D$142"]
["pp2_bl4_9_2_units_out",{"$f":"'T2-B(PP2)'!$G$142","v":0},"#'T2-B(PP2)'!$G$142"]
["pp2_bl4_9_3_name",{"$f":"'T2-B(PP2)'!$B$143","v":0},"#'T2-B(PP2)'!$B$143"]
["pp2_bl4_9_3_rate_in",{"$f":"'T2-B(PP2)'!$E$143","v":0},"#'T2-B(PP2)'!$E$143"]
["pp2_bl4_9_3_rate_out",{"$f":"'T2-B(PP2)'!$H$143","v":0},"#'T2-B(PP2)'!$H$143"]
["pp2_bl4_9_3_total",{"$f":"'T2-B(PP2)'!$J$143","v":0},"#'T2-B(PP2)'!$J$143"]
["pp2_bl4_9_3_total_in",{"$f":"'T2-B(PP2)'!$F$143","v":0},"#'T2-B(PP2)'!$F$143"]
["pp2_bl4_9_3_total_out",{"$f":"'T2-B(PP2)'!$I$143","v":0},"#'T2-B(PP2)'!$I$143"]
["pp2_bl4_9_3_unit",{"$f":"'T2-B(PP2)'!$C$143","v":0},"#'T2-B(PP2)'!$C$143"]
["pp2_bl4_9_3_unit_in",{"$f":"'T2-B(PP2)'!$D$143","v":0},"#'T2-B(PP2)'!$D$143"]
["pp2_bl4_9_3_units_out",{"$f":"'T2-B(PP2)'!$G$143","v":0},"#'T2-B(PP2)'!$G$143"]
["pp2_bl4_9_4_name",{"$f":"'T2-B(PP2)'!$B$144","v":0},"#'T2-B(PP2)'!$B$144"]
["pp2_bl4_9_4_rate_in",{"$f":"'T2-B(PP2)'!$E$144","v":0},"#'T2-B(PP2)'!$E$144"]
["pp2_bl4_9_4_rate_out",{"$f":"'T2-B(PP2)'!$H$144","v":0},"#'T2-B(PP2)'!$H$144"]
["pp2_bl4_9_4_total",{"$f":"'T2-B(PP2)'!$J$144","v":0},"#'T2-B(PP2)'!$J$144"]
["pp2_bl4_9_4_total_in",{"$f":"'T2-B(PP2)'!$F$144","v":0},"#'T2-B(PP2)'!$F$144"]
["pp2_bl4_9_4_total_out",{"$f":"'T2-B(PP2)'!$I$144","v":0},"#'T2-B(PP2)'!$I$144"]
["pp2_bl4_9_4_unit",{"$f":"'T2-B(PP2)'!$C$144","v":0},"#'T2-B(PP2)'!$C$144"]
["pp2_bl4_9_4_unit_in",{"$f":"'T2-B(PP2)'!$D$144","v":0},"#'T2-B(PP2)'!$D$144"]
["pp2_bl4_9_4_units_out",{"$f":"'T2-B(PP2)'!$G$144","v":0},"#'T2-B(PP2)'!$G$144"]
["pp2_bl4_9_5_name",{"$f":"'T2-B(PP2)'!$B$145","v":0},"#'T2-B(PP2)'!$B$145"]
["pp2_bl4_9_5_rate_in",{"$f":"'T2-B(PP2)'!$E$145","v":0},"#'T2-B(PP2)'!$E$145"]
["pp2_bl4_9_5_rate_out",{"$f":"'T2-B(PP2)'!$H$145","v":0},"#'T2-B(PP2)'!$H$145"]
["pp2_bl4_9_5_total",{"$f":"'T2-B(PP2)'!$J$145","v":0},"#'T2-B(PP2)'!$J$145"]
["pp2_bl4_9_5_total_in",{"$f":"'T2-B(PP2)'!$F$145","v":0},"#'T2-B(PP2)'!$F$145"]
["pp2_bl4_9_5_total_out",{"$f":"'T2-B(PP2)'!$I$145","v":0},"#'T2-B(PP2)'!$I$145"]
["pp2_bl4_9_5_unit",{"$f":"'T2-B(PP2)'!$C$145","v":0},"#'T2-B(PP2)'!$C$145"]
["pp2_bl4_9_5_unit_in",{"$f":"'T2-B(PP2)'!$D$145","v":0},"#'T2-B(PP2)'!$D$145"]
["pp2_bl4_9_5_units_out",{"$f":"'T2-B(PP2)'!$G$145","v":0},"#'T2-B(PP2)'!$G$145"]
["pp2_bl4_9_6_name",{"$f":"'T2-B(PP2)'!$B$146","v":0},"#'T2-B(PP2)'!$B$146"]
["pp2_bl4_9_6_rate_in",{"$f":"'T2-B(PP2)'!$E$146","v":0},"#'T2-B(PP2)'!$E$146"]
["pp2_bl4_9_6_rate_out",{"$f":"'T2-B(PP2)'!$H$146","v":0},"#'T2-B(PP2)'!$H$146"]
["pp2_bl4_9_6_total",{"$f":"'T2-B(PP2)'!$J$146","v":0},"#'T2-B(PP2)'!$J$146"]
["pp2_bl4_9_6_total_in",{"$f":"'T2-B(PP2)'!$F$146","v":0},"#'T2-B(PP2)'!$F$146"]
["pp2_bl4_9_6_total_out",{"$f":"'T2-B(PP2)'!$I$146","v":0},"#'T2-B(PP2)'!$I$146"]
["pp2_bl4_9_6_unit",{"$f":"'T2-B(PP2)'!$C$146","v":0},"#'T2-B(PP2)'!$C$146"]
["pp2_bl4_9_6_unit_in",{"$f":"'T2-B(PP2)'!$D$146","v":0},"#'T2-B(PP2)'!$D$146"]
["pp2_bl4_9_6_units_out",{"$f":"'T2-B(PP2)'!$G$146","v":0},"#'T2-B(PP2)'!$G$146"]
["pp2_bl4_9_7_name",{"$f":"'T2-B(PP2)'!$B$147","v":0},"#'T2-B(PP2)'!$B$147"]
["pp2_bl4_9_7_rate_in",{"$f":"'T2-B(PP2)'!$E$147","v":0},"#'T2-B(PP2)'!$E$147"]
["pp2_bl4_9_7_rate_out",{"$f":"'T2-B(PP2)'!$H$147","v":0},"#'T2-B(PP2)'!$H$147"]
["pp2_bl4_9_7_total",{"$f":"'T2-B(PP2)'!$J$147","v":0},"#'T2-B(PP2)'!$J$147"]
["pp2_bl4_9_7_total_in",{"$f":"'T2-B(PP2)'!$F$147","v":0},"#'T2-B(PP2)'!$F$147"]
["pp2_bl4_9_7_total_out",{"$f":"'T2-B(PP2)'!$I$147","v":0},"#'T2-B(PP2)'!$I$147"]
["pp2_bl4_9_7_unit",{"$f":"'T2-B(PP2)'!$C$147","v":0},"#'T2-B(PP2)'!$C$147"]
["pp2_bl4_9_7_unit_in",{"$f":"'T2-B(PP2)'!$D$147","v":0},"#'T2-B(PP2)'!$D$147"]
["pp2_bl4_9_7_units_out",{"$f":"'T2-B(PP2)'!$G$147","v":0},"#'T2-B(PP2)'!$G$147"]
["pp2_bl4_9_8_name",{"$f":"'T2-B(PP2)'!$B$148","v":0},"#'T2-B(PP2)'!$B$148"]
["pp2_bl4_9_8_rate_in",{"$f":"'T2-B(PP2)'!$E$148","v":0},"#'T2-B(PP2)'!$E$148"]
["pp2_bl4_9_8_rate_out",{"$f":"'T2-B(PP2)'!$H$148","v":0},"#'T2-B(PP2)'!$H$148"]
["pp2_bl4_9_8_total",{"$f":"'T2-B(PP2)'!$J$148","v":0},"#'T2-B(PP2)'!$J$148"]
["pp2_bl4_9_8_total_in",{"$f":"'T2-B(PP2)'!$F$148","v":0},"#'T2-B(PP2)'!$F$148"]
["pp2_bl4_9_8_total_out",{"$f":"'T2-B(PP2)'!$I$148","v":0},"#'T2-B(PP2)'!$I$148"]
["pp2_bl4_9_8_unit",{"$f":"'T2-B(PP2)'!$C$148","v":0},"#'T2-B(PP2)'!$C$148"]
["pp2_bl4_9_8_unit_in",{"$f":"'T2-B(PP2)'!$D$148","v":0},"#'T2-B(PP2)'!$D$148"]
["pp2_bl4_9_8_units_out",{"$f":"'T2-B(PP2)'!$G$148","v":0},"#'T2-B(PP2)'!$G$148"]
["pp2_bl4_9_9_name",{"$f":"'T2-B(PP2)'!$B$149","v":0},"#'T2-B(PP2)'!$B$149"]
["pp2_bl4_9_9_rate_in",{"$f":"'T2-B(PP2)'!$E$149","v":0},"#'T2-B(PP2)'!$E$149"]
["pp2_bl4_9_9_rate_out",{"$f":"'T2-B(PP2)'!$H$149","v":0},"#'T2-B(PP2)'!$H$149"]
["pp2_bl4_9_9_total",{"$f":"'T2-B(PP2)'!$J$149","v":0},"#'T2-B(PP2)'!$J$149"]
["pp2_bl4_9_9_total_in",{"$f":"'T2-B(PP2)'!$F$149","v":0},"#'T2-B(PP2)'!$F$149"]
["pp2_bl4_9_9_total_out",{"$f":"'T2-B(PP2)'!$I$149","v":0},"#'T2-B(PP2)'!$I$149"]
["pp2_bl4_9_9_unit",{"$f":"'T2-B(PP2)'!$C$149","v":0},"#'T2-B(PP2)'!$C$149"]
["pp2_bl4_9_9_unit_in",{"$f":"'T2-B(PP2)'!$D$149","v":0},"#'T2-B(PP2)'!$D$149"]
["pp2_bl4_9_9_units_out",{"$f":"'T2-B(PP2)'!$G$149","v":0},"#'T2-B(PP2)'!$G$149"]
["pp2_bl4_9_total",{"$f":"'T2-B(PP2)'!$J$140","v":0},"#'T2-B(PP2)'!$J$140"]
["pp2_bl4_9_total_in",{"$f":"'T2-B(PP2)'!$F$140","v":0},"#'T2-B(PP2)'!$F$140"]
["pp2_bl4_9_total_out",{"$f":"'T2-B(PP2)'!$I$140","v":0},"#'T2-B(PP2)'!$I$140"]
["pp2_bl4_total",{"$f":"'T2-B(PP2)'!$J$195","v":0},"#'T2-B(PP2)'!$J$195"]
["pp2_bl4_total_in",{"$f":"'T2-B(PP2)'!$F$195","v":0},"#'T2-B(PP2)'!$F$195"]
["pp2_bl4_total_out",{"$f":"'T2-B(PP2)'!$I$195","v":0},"#'T2-B(PP2)'!$I$195"]
["pp2_bl5_1_1_name",{"$f":"'T2-B(PP2)'!$B$200","v":0},"#'T2-B(PP2)'!$B$200"]
["pp2_bl5_1_1_rate_in",{"$f":"'T2-B(PP2)'!$E$200","v":0},"#'T2-B(PP2)'!$E$200"]
["pp2_bl5_1_1_rate_out",{"$f":"'T2-B(PP2)'!$H$200","v":0},"#'T2-B(PP2)'!$H$200"]
["pp2_bl5_1_1_total",{"$f":"'T2-B(PP2)'!$J$200","v":0},"#'T2-B(PP2)'!$J$200"]
["pp2_bl5_1_1_total_in",{"$f":"'T2-B(PP2)'!$F$200","v":0},"#'T2-B(PP2)'!$F$200"]
["pp2_bl5_1_1_total_out",{"$f":"'T2-B(PP2)'!$I$200","v":0},"#'T2-B(PP2)'!$I$200"]
["pp2_bl5_1_1_unit",{"$f":"'T2-B(PP2)'!$C$200","v":0},"#'T2-B(PP2)'!$C$200"]
["pp2_bl5_1_1_unit_in",{"$f":"'T2-B(PP2)'!$D$200","v":0},"#'T2-B(PP2)'!$D$200"]
["pp2_bl5_1_1_units_out",{"$f":"'T2-B(PP2)'!$G$200","v":0},"#'T2-B(PP2)'!$G$200"]
["pp2_bl5_1_10_name",{"$f":"'T2-B(PP2)'!$B$209","v":0},"#'T2-B(PP2)'!$B$209"]
["pp2_bl5_1_10_rate_in",{"$f":"'T2-B(PP2)'!$E$209","v":0},"#'T2-B(PP2)'!$E$209"]
["pp2_bl5_1_10_rate_out",{"$f":"'T2-B(PP2)'!$H$209","v":0},"#'T2-B(PP2)'!$H$209"]
["pp2_bl5_1_10_total",{"$f":"'T2-B(PP2)'!$J$209","v":0},"#'T2-B(PP2)'!$J$209"]
["pp2_bl5_1_10_total_in",{"$f":"'T2-B(PP2)'!$F$209","v":0},"#'T2-B(PP2)'!$F$209"]
["pp2_bl5_1_10_total_out",{"$f":"'T2-B(PP2)'!$I$209","v":0},"#'T2-B(PP2)'!$I$209"]
["pp2_bl5_1_10_unit",{"$f":"'T2-B(PP2)'!$C$209","v":0},"#'T2-B(PP2)'!$C$209"]
["pp2_bl5_1_10_unit_in",{"$f":"'T2-B(PP2)'!$D$209","v":0},"#'T2-B(PP2)'!$D$209"]
["pp2_bl5_1_10_units_out",{"$f":"'T2-B(PP2)'!$G$209","v":0},"#'T2-B(PP2)'!$G$209"]
["pp2_bl5_1_2_name",{"$f":"'T2-B(PP2)'!$B$201","v":"BL6 - PROJECT PREPARATION"},"#'T2-B(PP2)'!$B$201"]
["pp2_bl5_1_2_rate_in",{"$f":"'T2-B(PP2)'!$E$201","v":0},"#'T2-B(PP2)'!$E$201"]
["pp2_bl5_1_2_rate_out",{"$f":"'T2-B(PP2)'!$H$201","v":0},"#'T2-B(PP2)'!$H$201"]
["pp2_bl5_1_2_total",{"$f":"'T2-B(PP2)'!$J$201","v":"TOTAL"},"#'T2-B(PP2)'!$J$201"]
["pp2_bl5_1_2_total_in",{"$f":"'T2-B(PP2)'!$F$201","v":0},"#'T2-B(PP2)'!$F$201"]
["pp2_bl5_1_2_total_out",{"$f":"'T2-B(PP2)'!$I$201","v":0},"#'T2-B(PP2)'!$I$201"]
["pp2_bl5_1_2_unit",{"$f":"'T2-B(PP2)'!$C$201","v":"Unit"},"#'T2-B(PP2)'!$C$201"]
["pp2_bl5_1_2_unit_in",{"$f":"'T2-B(PP2)'!$D$201","v":"Expenditures in the eligible area"},"#'T2-B(PP2)'!$D$201"]
["pp2_bl5_1_2_units_out",{"$f":"'T2-B(PP2)'!$G$201","v":"Expenditures outside the eligible area"},"#'T2-B(PP2)'!$G$201"]
["pp2_bl5_1_3_name",{"$f":"'T2-B(PP2)'!$B$202","v":0},"#'T2-B(PP2)'!$B$202"]
["pp2_bl5_1_3_rate_in",{"$f":"'T2-B(PP2)'!$E$202","v":"Unit rate"},"#'T2-B(PP2)'!$E$202"]
["pp2_bl5_1_3_rate_out",{"$f":"'T2-B(PP2)'!$H$202","v":"Unit rate"},"#'T2-B(PP2)'!$H$202"]
["pp2_bl5_1_3_total",{"$f":"'T2-B(PP2)'!$J$202","v":0},"#'T2-B(PP2)'!$J$202"]
["pp2_bl5_1_3_total_in",{"$f":"'T2-B(PP2)'!$F$202","v":"Total"},"#'T2-B(PP2)'!$F$202"]
["pp2_bl5_1_3_total_out",{"$f":"'T2-B(PP2)'!$I$202","v":"Total"},"#'T2-B(PP2)'!$I$202"]
["pp2_bl5_1_3_unit",{"$f":"'T2-B(PP2)'!$C$202","v":0},"#'T2-B(PP2)'!$C$202"]
["pp2_bl5_1_3_unit_in",{"$f":"'T2-B(PP2)'!$D$202","v":"Units"},"#'T2-B(PP2)'!$D$202"]
["pp2_bl5_1_3_units_out",{"$f":"'T2-B(PP2)'!$G$202","v":"Units"},"#'T2-B(PP2)'!$G$202"]
["pp2_bl5_1_4_name",{"$f":"'T2-B(PP2)'!$B$203","v":"6.1. Preparation of Application package "},"#'T2-B(PP2)'!$B$203"]
["pp2_bl5_1_4_rate_in",{"$f":"'T2-B(PP2)'!$E$203","v":0},"#'T2-B(PP2)'!$E$203"]
["pp2_bl5_1_4_rate_out",{"$f":"'T2-B(PP2)'!$H$203","v":0},"#'T2-B(PP2)'!$H$203"]
["pp2_bl5_1_4_total",{"$f":"'T2-B(PP2)'!$J$203","v":0},"#'T2-B(PP2)'!$J$203"]
["pp2_bl5_1_4_total_in",{"$f":"'T2-B(PP2)'!$F$203","v":0},"#'T2-B(PP2)'!$F$203"]
["pp2_bl5_1_4_total_out",{"$f":"'T2-B(PP2)'!$I$203","v":0},"#'T2-B(PP2)'!$I$203"]
["pp2_bl5_1_4_unit",{"$f":"'T2-B(PP2)'!$C$203","v":0},"#'T2-B(PP2)'!$C$203"]
["pp2_bl5_1_4_unit_in",{"$f":"'T2-B(PP2)'!$D$203","v":0},"#'T2-B(PP2)'!$D$203"]
["pp2_bl5_1_4_units_out",{"$f":"'T2-B(PP2)'!$G$203","v":0},"#'T2-B(PP2)'!$G$203"]
["pp2_bl5_1_5_name",{"$f":"'T2-B(PP2)'!$B$204","v":0},"#'T2-B(PP2)'!$B$204"]
["pp2_bl5_1_5_rate_in",{"$f":"'T2-B(PP2)'!$E$204","v":0},"#'T2-B(PP2)'!$E$204"]
["pp2_bl5_1_5_rate_out",{"$f":"'T2-B(PP2)'!$H$204","v":0},"#'T2-B(PP2)'!$H$204"]
["pp2_bl5_1_5_total",{"$f":"'T2-B(PP2)'!$J$204","v":0},"#'T2-B(PP2)'!$J$204"]
["pp2_bl5_1_5_total_in",{"$f":"'T2-B(PP2)'!$F$204","v":0},"#'T2-B(PP2)'!$F$204"]
["pp2_bl5_1_5_total_out",{"$f":"'T2-B(PP2)'!$I$204","v":0},"#'T2-B(PP2)'!$I$204"]
["pp2_bl5_1_5_unit",{"$f":"'T2-B(PP2)'!$C$204","v":0},"#'T2-B(PP2)'!$C$204"]
["pp2_bl5_1_5_unit_in",{"$f":"'T2-B(PP2)'!$D$204","v":0},"#'T2-B(PP2)'!$D$204"]
["pp2_bl5_1_5_units_out",{"$f":"'T2-B(PP2)'!$G$204","v":0},"#'T2-B(PP2)'!$G$204"]
["pp2_bl5_1_6_name",{"$f":"'T2-B(PP2)'!$B$205","v":0},"#'T2-B(PP2)'!$B$205"]
["pp2_bl5_1_6_rate_in",{"$f":"'T2-B(PP2)'!$E$205","v":0},"#'T2-B(PP2)'!$E$205"]
["pp2_bl5_1_6_rate_out",{"$f":"'T2-B(PP2)'!$H$205","v":0},"#'T2-B(PP2)'!$H$205"]
["pp2_bl5_1_6_total",{"$f":"'T2-B(PP2)'!$J$205","v":0},"#'T2-B(PP2)'!$J$205"]
["pp2_bl5_1_6_total_in",{"$f":"'T2-B(PP2)'!$F$205","v":0},"#'T2-B(PP2)'!$F$205"]
["pp2_bl5_1_6_total_out",{"$f":"'T2-B(PP2)'!$I$205","v":0},"#'T2-B(PP2)'!$I$205"]
["pp2_bl5_1_6_unit",{"$f":"'T2-B(PP2)'!$C$205","v":0},"#'T2-B(PP2)'!$C$205"]
["pp2_bl5_1_6_unit_in",{"$f":"'T2-B(PP2)'!$D$205","v":0},"#'T2-B(PP2)'!$D$205"]
["pp2_bl5_1_6_units_out",{"$f":"'T2-B(PP2)'!$G$205","v":0},"#'T2-B(PP2)'!$G$205"]
["pp2_bl5_1_7_name",{"$f":"'T2-B(PP2)'!$B$206","v":0},"#'T2-B(PP2)'!$B$206"]
["pp2_bl5_1_7_rate_in",{"$f":"'T2-B(PP2)'!$E$206","v":0},"#'T2-B(PP2)'!$E$206"]
["pp2_bl5_1_7_rate_out",{"$f":"'T2-B(PP2)'!$H$206","v":0},"#'T2-B(PP2)'!$H$206"]
["pp2_bl5_1_7_total",{"$f":"'T2-B(PP2)'!$J$206","v":0},"#'T2-B(PP2)'!$J$206"]
["pp2_bl5_1_7_total_in",{"$f":"'T2-B(PP2)'!$F$206","v":0},"#'T2-B(PP2)'!$F$206"]
["pp2_bl5_1_7_total_out",{"$f":"'T2-B(PP2)'!$I$206","v":0},"#'T2-B(PP2)'!$I$206"]
["pp2_bl5_1_7_unit",{"$f":"'T2-B(PP2)'!$C$206","v":0},"#'T2-B(PP2)'!$C$206"]
["pp2_bl5_1_7_unit_in",{"$f":"'T2-B(PP2)'!$D$206","v":0},"#'T2-B(PP2)'!$D$206"]
["pp2_bl5_1_7_units_out",{"$f":"'T2-B(PP2)'!$G$206","v":0},"#'T2-B(PP2)'!$G$206"]
["pp2_bl5_1_8_name",{"$f":"'T2-B(PP2)'!$B$207","v":0},"#'T2-B(PP2)'!$B$207"]
["pp2_bl5_1_8_rate_in",{"$f":"'T2-B(PP2)'!$E$207","v":0},"#'T2-B(PP2)'!$E$207"]
["pp2_bl5_1_8_rate_out",{"$f":"'T2-B(PP2)'!$H$207","v":0},"#'T2-B(PP2)'!$H$207"]
["pp2_bl5_1_8_total",{"$f":"'T2-B(PP2)'!$J$207","v":0},"#'T2-B(PP2)'!$J$207"]
["pp2_bl5_1_8_total_in",{"$f":"'T2-B(PP2)'!$F$207","v":0},"#'T2-B(PP2)'!$F$207"]
["pp2_bl5_1_8_total_out",{"$f":"'T2-B(PP2)'!$I$207","v":0},"#'T2-B(PP2)'!$I$207"]
["pp2_bl5_1_8_unit",{"$f":"'T2-B(PP2)'!$C$207","v":0},"#'T2-B(PP2)'!$C$207"]
["pp2_bl5_1_8_unit_in",{"$f":"'T2-B(PP2)'!$D$207","v":0},"#'T2-B(PP2)'!$D$207"]
["pp2_bl5_1_8_units_out",{"$f":"'T2-B(PP2)'!$G$207","v":0},"#'T2-B(PP2)'!$G$207"]
["pp2_bl5_1_9_name",{"$f":"'T2-B(PP2)'!$B$208","v":0},"#'T2-B(PP2)'!$B$208"]
["pp2_bl5_1_9_rate_in",{"$f":"'T2-B(PP2)'!$E$208","v":0},"#'T2-B(PP2)'!$E$208"]
["pp2_bl5_1_9_rate_out",{"$f":"'T2-B(PP2)'!$H$208","v":0},"#'T2-B(PP2)'!$H$208"]
["pp2_bl5_1_9_total",{"$f":"'T2-B(PP2)'!$J$208","v":0},"#'T2-B(PP2)'!$J$208"]
["pp2_bl5_1_9_total_in",{"$f":"'T2-B(PP2)'!$F$208","v":0},"#'T2-B(PP2)'!$F$208"]
["pp2_bl5_1_9_total_out",{"$f":"'T2-B(PP2)'!$I$208","v":0},"#'T2-B(PP2)'!$I$208"]
["pp2_bl5_1_9_unit",{"$f":"'T2-B(PP2)'!$C$208","v":0},"#'T2-B(PP2)'!$C$208"]
["pp2_bl5_1_9_unit_in",{"$f":"'T2-B(PP2)'!$D$208","v":0},"#'T2-B(PP2)'!$D$208"]
["pp2_bl5_1_9_units_out",{"$f":"'T2-B(PP2)'!$G$208","v":0},"#'T2-B(PP2)'!$G$208"]
["pp2_bl5_1_total",{"$f":"'T2-B(PP2)'!$J$199","v":0},"#'T2-B(PP2)'!$J$199"]
["pp2_bl5_1_total_in",{"$f":"'T2-B(PP2)'!$F$199","v":0},"#'T2-B(PP2)'!$F$199"]
["pp2_bl5_1_total_out",{"$f":"'T2-B(PP2)'!$I$199","v":0},"#'T2-B(PP2)'!$I$199"]
["pp2_bl5_2_1_name",{"$f":"'T2-B(PP2)'!$B$211","v":0},"#'T2-B(PP2)'!$B$211"]
["pp2_bl5_2_1_rate_in",{"$f":"'T2-B(PP2)'!$E$211","v":0},"#'T2-B(PP2)'!$E$211"]
["pp2_bl5_2_1_rate_out",{"$f":"'T2-B(PP2)'!$H$211","v":0},"#'T2-B(PP2)'!$H$211"]
["pp2_bl5_2_1_total",{"$f":"'T2-B(PP2)'!$J$211","v":0},"#'T2-B(PP2)'!$J$211"]
["pp2_bl5_2_1_total_in",{"$f":"'T2-B(PP2)'!$F$211","v":0},"#'T2-B(PP2)'!$F$211"]
["pp2_bl5_2_1_total_out",{"$f":"'T2-B(PP2)'!$I$211","v":0},"#'T2-B(PP2)'!$I$211"]
["pp2_bl5_2_1_unit",{"$f":"'T2-B(PP2)'!$C$211","v":0},"#'T2-B(PP2)'!$C$211"]
["pp2_bl5_2_1_unit_in",{"$f":"'T2-B(PP2)'!$D$211","v":0},"#'T2-B(PP2)'!$D$211"]
["pp2_bl5_2_1_units_out",{"$f":"'T2-B(PP2)'!$G$211","v":0},"#'T2-B(PP2)'!$G$211"]
["pp2_bl5_2_10_name",{"$f":"'T2-B(PP2)'!$B$220","v":0},"#'T2-B(PP2)'!$B$220"]
["pp2_bl5_2_10_rate_in",{"$f":"'T2-B(PP2)'!$E$220","v":0},"#'T2-B(PP2)'!$E$220"]
["pp2_bl5_2_10_rate_out",{"$f":"'T2-B(PP2)'!$H$220","v":0},"#'T2-B(PP2)'!$H$220"]
["pp2_bl5_2_10_total",{"$f":"'T2-B(PP2)'!$J$220","v":0},"#'T2-B(PP2)'!$J$220"]
["pp2_bl5_2_10_total_in",{"$f":"'T2-B(PP2)'!$F$220","v":0},"#'T2-B(PP2)'!$F$220"]
["pp2_bl5_2_10_total_out",{"$f":"'T2-B(PP2)'!$I$220","v":0},"#'T2-B(PP2)'!$I$220"]
["pp2_bl5_2_10_unit",{"$f":"'T2-B(PP2)'!$C$220","v":0},"#'T2-B(PP2)'!$C$220"]
["pp2_bl5_2_10_unit_in",{"$f":"'T2-B(PP2)'!$D$220","v":0},"#'T2-B(PP2)'!$D$220"]
["pp2_bl5_2_10_units_out",{"$f":"'T2-B(PP2)'!$G$220","v":0},"#'T2-B(PP2)'!$G$220"]
["pp2_bl5_2_2_name",{"$f":"'T2-B(PP2)'!$B$212","v":0},"#'T2-B(PP2)'!$B$212"]
["pp2_bl5_2_2_rate_in",{"$f":"'T2-B(PP2)'!$E$212","v":0},"#'T2-B(PP2)'!$E$212"]
["pp2_bl5_2_2_rate_out",{"$f":"'T2-B(PP2)'!$H$212","v":0},"#'T2-B(PP2)'!$H$212"]
["pp2_bl5_2_2_total",{"$f":"'T2-B(PP2)'!$J$212","v":0},"#'T2-B(PP2)'!$J$212"]
["pp2_bl5_2_2_total_in",{"$f":"'T2-B(PP2)'!$F$212","v":0},"#'T2-B(PP2)'!$F$212"]
["pp2_bl5_2_2_total_out",{"$f":"'T2-B(PP2)'!$I$212","v":0},"#'T2-B(PP2)'!$I$212"]
["pp2_bl5_2_2_unit",{"$f":"'T2-B(PP2)'!$C$212","v":0},"#'T2-B(PP2)'!$C$212"]
["pp2_bl5_2_2_unit_in",{"$f":"'T2-B(PP2)'!$D$212","v":0},"#'T2-B(PP2)'!$D$212"]
["pp2_bl5_2_2_units_out",{"$f":"'T2-B(PP2)'!$G$212","v":0},"#'T2-B(PP2)'!$G$212"]
["pp2_bl5_2_3_name",{"$f":"'T2-B(PP2)'!$B$213","v":0},"#'T2-B(PP2)'!$B$213"]
["pp2_bl5_2_3_rate_in",{"$f":"'T2-B(PP2)'!$E$213","v":0},"#'T2-B(PP2)'!$E$213"]
["pp2_bl5_2_3_rate_out",{"$f":"'T2-B(PP2)'!$H$213","v":0},"#'T2-B(PP2)'!$H$213"]
["pp2_bl5_2_3_total",{"$f":"'T2-B(PP2)'!$J$213","v":0},"#'T2-B(PP2)'!$J$213"]
["pp2_bl5_2_3_total_in",{"$f":"'T2-B(PP2)'!$F$213","v":0},"#'T2-B(PP2)'!$F$213"]
["pp2_bl5_2_3_total_out",{"$f":"'T2-B(PP2)'!$I$213","v":0},"#'T2-B(PP2)'!$I$213"]
["pp2_bl5_2_3_unit",{"$f":"'T2-B(PP2)'!$C$213","v":0},"#'T2-B(PP2)'!$C$213"]
["pp2_bl5_2_3_unit_in",{"$f":"'T2-B(PP2)'!$D$213","v":0},"#'T2-B(PP2)'!$D$213"]
["pp2_bl5_2_3_units_out",{"$f":"'T2-B(PP2)'!$G$213","v":0},"#'T2-B(PP2)'!$G$213"]
["pp2_bl5_2_4_name",{"$f":"'T2-B(PP2)'!$B$214","v":"6.2. Preparation of technical documentation"},"#'T2-B(PP2)'!$B$214"]
["pp2_bl5_2_4_rate_in",{"$f":"'T2-B(PP2)'!$E$214","v":0},"#'T2-B(PP2)'!$E$214"]
["pp2_bl5_2_4_rate_out",{"$f":"'T2-B(PP2)'!$H$214","v":0},"#'T2-B(PP2)'!$H$214"]
["pp2_bl5_2_4_total",{"$f":"'T2-B(PP2)'!$J$214","v":0},"#'T2-B(PP2)'!$J$214"]
["pp2_bl5_2_4_total_in",{"$f":"'T2-B(PP2)'!$F$214","v":0},"#'T2-B(PP2)'!$F$214"]
["pp2_bl5_2_4_total_out",{"$f":"'T2-B(PP2)'!$I$214","v":0},"#'T2-B(PP2)'!$I$214"]
["pp2_bl5_2_4_unit",{"$f":"'T2-B(PP2)'!$C$214","v":0},"#'T2-B(PP2)'!$C$214"]
["pp2_bl5_2_4_unit_in",{"$f":"'T2-B(PP2)'!$D$214","v":0},"#'T2-B(PP2)'!$D$214"]
["pp2_bl5_2_4_units_out",{"$f":"'T2-B(PP2)'!$G$214","v":0},"#'T2-B(PP2)'!$G$214"]
["pp2_bl5_2_5_name",{"$f":"'T2-B(PP2)'!$B$215","v":0},"#'T2-B(PP2)'!$B$215"]
["pp2_bl5_2_5_rate_in",{"$f":"'T2-B(PP2)'!$E$215","v":0},"#'T2-B(PP2)'!$E$215"]
["pp2_bl5_2_5_rate_out",{"$f":"'T2-B(PP2)'!$H$215","v":0},"#'T2-B(PP2)'!$H$215"]
["pp2_bl5_2_5_total",{"$f":"'T2-B(PP2)'!$J$215","v":0},"#'T2-B(PP2)'!$J$215"]
["pp2_bl5_2_5_total_in",{"$f":"'T2-B(PP2)'!$F$215","v":0},"#'T2-B(PP2)'!$F$215"]
["pp2_bl5_2_5_total_out",{"$f":"'T2-B(PP2)'!$I$215","v":0},"#'T2-B(PP2)'!$I$215"]
["pp2_bl5_2_5_unit",{"$f":"'T2-B(PP2)'!$C$215","v":0},"#'T2-B(PP2)'!$C$215"]
["pp2_bl5_2_5_unit_in",{"$f":"'T2-B(PP2)'!$D$215","v":0},"#'T2-B(PP2)'!$D$215"]
["pp2_bl5_2_5_units_out",{"$f":"'T2-B(PP2)'!$G$215","v":0},"#'T2-B(PP2)'!$G$215"]
["pp2_bl5_2_6_name",{"$f":"'T2-B(PP2)'!$B$216","v":0},"#'T2-B(PP2)'!$B$216"]
["pp2_bl5_2_6_rate_in",{"$f":"'T2-B(PP2)'!$E$216","v":0},"#'T2-B(PP2)'!$E$216"]
["pp2_bl5_2_6_rate_out",{"$f":"'T2-B(PP2)'!$H$216","v":0},"#'T2-B(PP2)'!$H$216"]
["pp2_bl5_2_6_total",{"$f":"'T2-B(PP2)'!$J$216","v":0},"#'T2-B(PP2)'!$J$216"]
["pp2_bl5_2_6_total_in",{"$f":"'T2-B(PP2)'!$F$216","v":0},"#'T2-B(PP2)'!$F$216"]
["pp2_bl5_2_6_total_out",{"$f":"'T2-B(PP2)'!$I$216","v":0},"#'T2-B(PP2)'!$I$216"]
["pp2_bl5_2_6_unit",{"$f":"'T2-B(PP2)'!$C$216","v":0},"#'T2-B(PP2)'!$C$216"]
["pp2_bl5_2_6_unit_in",{"$f":"'T2-B(PP2)'!$D$216","v":0},"#'T2-B(PP2)'!$D$216"]
["pp2_bl5_2_6_units_out",{"$f":"'T2-B(PP2)'!$G$216","v":0},"#'T2-B(PP2)'!$G$216"]
["pp2_bl5_2_7_name",{"$f":"'T2-B(PP2)'!$B$217","v":0},"#'T2-B(PP2)'!$B$217"]
["pp2_bl5_2_7_rate_in",{"$f":"'T2-B(PP2)'!$E$217","v":0},"#'T2-B(PP2)'!$E$217"]
["pp2_bl5_2_7_rate_out",{"$f":"'T2-B(PP2)'!$H$217","v":0},"#'T2-B(PP2)'!$H$217"]
["pp2_bl5_2_7_total",{"$f":"'T2-B(PP2)'!$J$217","v":0},"#'T2-B(PP2)'!$J$217"]
["pp2_bl5_2_7_total_in",{"$f":"'T2-B(PP2)'!$F$217","v":0},"#'T2-B(PP2)'!$F$217"]
["pp2_bl5_2_7_total_out",{"$f":"'T2-B(PP2)'!$I$217","v":0},"#'T2-B(PP2)'!$I$217"]
["pp2_bl5_2_7_unit",{"$f":"'T2-B(PP2)'!$C$217","v":0},"#'T2-B(PP2)'!$C$217"]
["pp2_bl5_2_7_unit_in",{"$f":"'T2-B(PP2)'!$D$217","v":0},"#'T2-B(PP2)'!$D$217"]
["pp2_bl5_2_7_units_out",{"$f":"'T2-B(PP2)'!$G$217","v":0},"#'T2-B(PP2)'!$G$217"]
["pp2_bl5_2_8_name",{"$f":"'T2-B(PP2)'!$B$218","v":0},"#'T2-B(PP2)'!$B$218"]
["pp2_bl5_2_8_rate_in",{"$f":"'T2-B(PP2)'!$E$218","v":0},"#'T2-B(PP2)'!$E$218"]
["pp2_bl5_2_8_rate_out",{"$f":"'T2-B(PP2)'!$H$218","v":0},"#'T2-B(PP2)'!$H$218"]
["pp2_bl5_2_8_total",{"$f":"'T2-B(PP2)'!$J$218","v":0},"#'T2-B(PP2)'!$J$218"]
["pp2_bl5_2_8_total_in",{"$f":"'T2-B(PP2)'!$F$218","v":0},"#'T2-B(PP2)'!$F$218"]
["pp2_bl5_2_8_total_out",{"$f":"'T2-B(PP2)'!$I$218","v":0},"#'T2-B(PP2)'!$I$218"]
["pp2_bl5_2_8_unit",{"$f":"'T2-B(PP2)'!$C$218","v":0},"#'T2-B(PP2)'!$C$218"]
["pp2_bl5_2_8_unit_in",{"$f":"'T2-B(PP2)'!$D$218","v":0},"#'T2-B(PP2)'!$D$218"]
["pp2_bl5_2_8_units_out",{"$f":"'T2-B(PP2)'!$G$218","v":0},"#'T2-B(PP2)'!$G$218"]
["pp2_bl5_2_9_name",{"$f":"'T2-B(PP2)'!$B$219","v":0},"#'T2-B(PP2)'!$B$219"]
["pp2_bl5_2_9_rate_in",{"$f":"'T2-B(PP2)'!$E$219","v":0},"#'T2-B(PP2)'!$E$219"]
["pp2_bl5_2_9_rate_out",{"$f":"'T2-B(PP2)'!$H$219","v":0},"#'T2-B(PP2)'!$H$219"]
["pp2_bl5_2_9_total",{"$f":"'T2-B(PP2)'!$J$219","v":0},"#'T2-B(PP2)'!$J$219"]
["pp2_bl5_2_9_total_in",{"$f":"'T2-B(PP2)'!$F$219","v":0},"#'T2-B(PP2)'!$F$219"]
["pp2_bl5_2_9_total_out",{"$f":"'T2-B(PP2)'!$I$219","v":0},"#'T2-B(PP2)'!$I$219"]
["pp2_bl5_2_9_unit",{"$f":"'T2-B(PP2)'!$C$219","v":0},"#'T2-B(PP2)'!$C$219"]
["pp2_bl5_2_9_unit_in",{"$f":"'T2-B(PP2)'!$D$219","v":0},"#'T2-B(PP2)'!$D$219"]
["pp2_bl5_2_9_units_out",{"$f":"'T2-B(PP2)'!$G$219","v":0},"#'T2-B(PP2)'!$G$219"]
["pp2_bl5_2_total",{"$f":"'T2-B(PP2)'!$J$210","v":0},"#'T2-B(PP2)'!$J$210"]
["pp2_bl5_2_total_in",{"$f":"'T2-B(PP2)'!$F$210","v":0},"#'T2-B(PP2)'!$F$210"]
["pp2_bl5_2_total_out",{"$f":"'T2-B(PP2)'!$I$210","v":0},"#'T2-B(PP2)'!$I$210"]
["pp2_bl5_total",{"$f":"'T2-B(PP2)'!$J$221","v":0},"#'T2-B(PP2)'!$J$221"]
["pp2_bl5_total_in",{"$f":"'T2-B(PP2)'!$F$221","v":0},"#'T2-B(PP2)'!$F$221"]
["pp2_bl5_total_out",{"$f":"'T2-B(PP2)'!$I$221","v":0},"#'T2-B(PP2)'!$I$221"]
["pp2_bl6_1_1_name",{"$f":"'T2-B(PP2)'!$B$225","v":"TOTAL"},"#'T2-B(PP2)'!$B$225"]
["pp2_bl6_1_1_rate_in",{"$f":"'T2-B(PP2)'!$E$225","v":0},"#'T2-B(PP2)'!$E$225"]
["pp2_bl6_1_1_rate_out",{"$f":"'T2-B(PP2)'!$H$225","v":0},"#'T2-B(PP2)'!$H$225"]
["pp2_bl6_1_1_total",{"$f":"'T2-B(PP2)'!$J$225","v":0},"#'T2-B(PP2)'!$J$225"]
["pp2_bl6_1_1_total_in",{"$f":"'T2-B(PP2)'!$F$225","v":0},"#'T2-B(PP2)'!$F$225"]
["pp2_bl6_1_1_total_out",{"$f":"'T2-B(PP2)'!$I$225","v":0},"#'T2-B(PP2)'!$I$225"]
["pp2_bl6_1_1_unit",{"$f":"'T2-B(PP2)'!$C$225","v":0},"#'T2-B(PP2)'!$C$225"]
["pp2_bl6_1_1_unit_in",{"$f":"'T2-B(PP2)'!$D$225","v":0},"#'T2-B(PP2)'!$D$225"]
["pp2_bl6_1_1_units_out",{"$f":"'T2-B(PP2)'!$G$225","v":0},"#'T2-B(PP2)'!$G$225"]
["pp2_bl6_1_10_name",{"$f":"'T2-B(PP2)'!$B$234","v":0},"#'T2-B(PP2)'!$B$234"]
["pp2_bl6_1_10_rate_in",{"$f":"'T2-B(PP2)'!$E$234","v":0},"#'T2-B(PP2)'!$E$234"]
["pp2_bl6_1_10_rate_out",{"$f":"'T2-B(PP2)'!$H$234","v":0},"#'T2-B(PP2)'!$H$234"]
["pp2_bl6_1_10_total",{"$f":"'T2-B(PP2)'!$J$234","v":0},"#'T2-B(PP2)'!$J$234"]
["pp2_bl6_1_10_total_in",{"$f":"'T2-B(PP2)'!$F$234","v":0},"#'T2-B(PP2)'!$F$234"]
["pp2_bl6_1_10_total_out",{"$f":"'T2-B(PP2)'!$I$234","v":0},"#'T2-B(PP2)'!$I$234"]
["pp2_bl6_1_10_unit",{"$f":"'T2-B(PP2)'!$C$234","v":0},"#'T2-B(PP2)'!$C$234"]
["pp2_bl6_1_10_unit_in",{"$f":"'T2-B(PP2)'!$D$234","v":0},"#'T2-B(PP2)'!$D$234"]
["pp2_bl6_1_10_units_out",{"$f":"'T2-B(PP2)'!$G$234","v":0},"#'T2-B(PP2)'!$G$234"]
["pp2_bl6_1_2_name",{"$f":"'T2-B(PP2)'!$B$226","v":0},"#'T2-B(PP2)'!$B$226"]
["pp2_bl6_1_2_rate_in",{"$f":"'T2-B(PP2)'!$E$226","v":0},"#'T2-B(PP2)'!$E$226"]
["pp2_bl6_1_2_rate_out",{"$f":"'T2-B(PP2)'!$H$226","v":0},"#'T2-B(PP2)'!$H$226"]
["pp2_bl6_1_2_total",{"$f":"'T2-B(PP2)'!$J$226","v":0},"#'T2-B(PP2)'!$J$226"]
["pp2_bl6_1_2_total_in",{"$f":"'T2-B(PP2)'!$F$226","v":0},"#'T2-B(PP2)'!$F$226"]
["pp2_bl6_1_2_total_out",{"$f":"'T2-B(PP2)'!$I$226","v":0},"#'T2-B(PP2)'!$I$226"]
["pp2_bl6_1_2_unit",{"$f":"'T2-B(PP2)'!$C$226","v":0},"#'T2-B(PP2)'!$C$226"]
["pp2_bl6_1_2_unit_in",{"$f":"'T2-B(PP2)'!$D$226","v":0},"#'T2-B(PP2)'!$D$226"]
["pp2_bl6_1_2_units_out",{"$f":"'T2-B(PP2)'!$G$226","v":0},"#'T2-B(PP2)'!$G$226"]
["pp2_bl6_1_3_name",{"$f":"'T2-B(PP2)'!$B$227","v":"Own Contribution"},"#'T2-B(PP2)'!$B$227"]
["pp2_bl6_1_3_rate_in",{"$f":"'T2-B(PP2)'!$E$227","v":0},"#'T2-B(PP2)'!$E$227"]
["pp2_bl6_1_3_rate_out",{"$f":"'T2-B(PP2)'!$H$227","v":0},"#'T2-B(PP2)'!$H$227"]
["pp2_bl6_1_3_total",{"$f":"'T2-B(PP2)'!$J$227","v":"TOTAL"},"#'T2-B(PP2)'!$J$227"]
["pp2_bl6_1_3_total_in",{"$f":"'T2-B(PP2)'!$F$227","v":0},"#'T2-B(PP2)'!$F$227"]
["pp2_bl6_1_3_total_out",{"$f":"'T2-B(PP2)'!$I$227","v":0},"#'T2-B(PP2)'!$I$227"]
["pp2_bl6_1_3_unit",{"$f":"'T2-B(PP2)'!$C$227","v":"Unit"},"#'T2-B(PP2)'!$C$227"]
["pp2_bl6_1_3_unit_in",{"$f":"'T2-B(PP2)'!$D$227","v":"Expenditures in the eligible area"},"#'T2-B(PP2)'!$D$227"]
["pp2_bl6_1_3_units_out",{"$f":"'T2-B(PP2)'!$G$227","v":"Expenditures outside the eligible area"},"#'T2-B(PP2)'!$G$227"]
["pp2_bl6_1_4_name",{"$f":"'T2-B(PP2)'!$B$228","v":0},"#'T2-B(PP2)'!$B$228"]
["pp2_bl6_1_4_rate_in",{"$f":"'T2-B(PP2)'!$E$228","v":"Unit rate"},"#'T2-B(PP2)'!$E$228"]
["pp2_bl6_1_4_rate_out",{"$f":"'T2-B(PP2)'!$H$228","v":"Unit rate"},"#'T2-B(PP2)'!$H$228"]
["pp2_bl6_1_4_total",{"$f":"'T2-B(PP2)'!$J$228","v":0},"#'T2-B(PP2)'!$J$228"]
["pp2_bl6_1_4_total_in",{"$f":"'T2-B(PP2)'!$F$228","v":"Total"},"#'T2-B(PP2)'!$F$228"]
["pp2_bl6_1_4_total_out",{"$f":"'T2-B(PP2)'!$I$228","v":"Total"},"#'T2-B(PP2)'!$I$228"]
["pp2_bl6_1_4_unit",{"$f":"'T2-B(PP2)'!$C$228","v":0},"#'T2-B(PP2)'!$C$228"]
["pp2_bl6_1_4_unit_in",{"$f":"'T2-B(PP2)'!$D$228","v":"Units"},"#'T2-B(PP2)'!$D$228"]
["pp2_bl6_1_4_units_out",{"$f":"'T2-B(PP2)'!$G$228","v":"Units"},"#'T2-B(PP2)'!$G$228"]
["pp2_bl6_1_5_name",{"$f":"'T2-B(PP2)'!$B$229","v":0},"#'T2-B(PP2)'!$B$229"]
["pp2_bl6_1_5_rate_in",{"$f":"'T2-B(PP2)'!$E$229","v":0},"#'T2-B(PP2)'!$E$229"]
["pp2_bl6_1_5_rate_out",{"$f":"'T2-B(PP2)'!$H$229","v":0},"#'T2-B(PP2)'!$H$229"]
["pp2_bl6_1_5_total",{"$f":"'T2-B(PP2)'!$J$229","v":0},"#'T2-B(PP2)'!$J$229"]
["pp2_bl6_1_5_total_in",{"$f":"'T2-B(PP2)'!$F$229","v":0},"#'T2-B(PP2)'!$F$229"]
["pp2_bl6_1_5_total_out",{"$f":"'T2-B(PP2)'!$I$229","v":0},"#'T2-B(PP2)'!$I$229"]
["pp2_bl6_1_5_unit",{"$f":"'T2-B(PP2)'!$C$229","v":0},"#'T2-B(PP2)'!$C$229"]
["pp2_bl6_1_5_unit_in",{"$f":"'T2-B(PP2)'!$D$229","v":0},"#'T2-B(PP2)'!$D$229"]
["pp2_bl6_1_5_units_out",{"$f":"'T2-B(PP2)'!$G$229","v":0},"#'T2-B(PP2)'!$G$229"]
["pp2_bl6_1_6_name",{"$f":"'T2-B(PP2)'!$B$230","v":0},"#'T2-B(PP2)'!$B$230"]
["pp2_bl6_1_6_rate_in",{"$f":"'T2-B(PP2)'!$E$230","v":0},"#'T2-B(PP2)'!$E$230"]
["pp2_bl6_1_6_rate_out",{"$f":"'T2-B(PP2)'!$H$230","v":0},"#'T2-B(PP2)'!$H$230"]
["pp2_bl6_1_6_total",{"$f":"'T2-B(PP2)'!$J$230","v":0},"#'T2-B(PP2)'!$J$230"]
["pp2_bl6_1_6_total_in",{"$f":"'T2-B(PP2)'!$F$230","v":0},"#'T2-B(PP2)'!$F$230"]
["pp2_bl6_1_6_total_out",{"$f":"'T2-B(PP2)'!$I$230","v":0},"#'T2-B(PP2)'!$I$230"]
["pp2_bl6_1_6_unit",{"$f":"'T2-B(PP2)'!$C$230","v":0},"#'T2-B(PP2)'!$C$230"]
["pp2_bl6_1_6_unit_in",{"$f":"'T2-B(PP2)'!$D$230","v":0},"#'T2-B(PP2)'!$D$230"]
["pp2_bl6_1_6_units_out",{"$f":"'T2-B(PP2)'!$G$230","v":0},"#'T2-B(PP2)'!$G$230"]
["pp2_bl6_1_7_name",{"$f":"'T2-B(PP2)'!$B$231","v":"Total direct project costs (BL3+BL4+BL5)"},"#'T2-B(PP2)'!$B$231"]
["pp2_bl6_1_7_rate_in",{"$f":"'T2-B(PP2)'!$E$231","v":0},"#'T2-B(PP2)'!$E$231"]
["pp2_bl6_1_7_rate_out",{"$f":"'T2-B(PP2)'!$H$231","v":0},"#'T2-B(PP2)'!$H$231"]
["pp2_bl6_1_7_total",{"$f":"'T2-B(PP2)'!$J$231","v":0},"#'T2-B(PP2)'!$J$231"]
["pp2_bl6_1_7_total_in",{"$f":"'T2-B(PP2)'!$F$231","v":0},"#'T2-B(PP2)'!$F$231"]
["pp2_bl6_1_7_total_out",{"$f":"'T2-B(PP2)'!$I$231","v":0},"#'T2-B(PP2)'!$I$231"]
["pp2_bl6_1_7_unit",{"$f":"'T2-B(PP2)'!$C$231","v":0},"#'T2-B(PP2)'!$C$231"]
["pp2_bl6_1_7_unit_in",{"$f":"'T2-B(PP2)'!$D$231","v":0},"#'T2-B(PP2)'!$D$231"]
["pp2_bl6_1_7_units_out",{"$f":"'T2-B(PP2)'!$G$231","v":0},"#'T2-B(PP2)'!$G$231"]
["pp2_bl6_1_8_name",{"$f":"'T2-B(PP2)'!$B$232","v":"TOTAL PROJECT COSTS"},"#'T2-B(PP2)'!$B$232"]
["pp2_bl6_1_8_rate_in",{"$f":"'T2-B(PP2)'!$E$232","v":0},"#'T2-B(PP2)'!$E$232"]
["pp2_bl6_1_8_rate_out",{"$f":"'T2-B(PP2)'!$H$232","v":0},"#'T2-B(PP2)'!$H$232"]
["pp2_bl6_1_8_total",{"$f":"'T2-B(PP2)'!$J$232","v":0},"#'T2-B(PP2)'!$J$232"]
["pp2_bl6_1_8_total_in",{"$f":"'T2-B(PP2)'!$F$232","v":0},"#'T2-B(PP2)'!$F$232"]
["pp2_bl6_1_8_total_out",{"$f":"'T2-B(PP2)'!$I$232","v":0},"#'T2-B(PP2)'!$I$232"]
["pp2_bl6_1_8_unit",{"$f":"'T2-B(PP2)'!$C$232","v":0},"#'T2-B(PP2)'!$C$232"]
["pp2_bl6_1_8_unit_in",{"$f":"'T2-B(PP2)'!$D$232","v":0},"#'T2-B(PP2)'!$D$232"]
["pp2_bl6_1_8_units_out",{"$f":"'T2-B(PP2)'!$G$232","v":0},"#'T2-B(PP2)'!$G$232"]
["pp2_bl6_1_9_name",{"$f":"'T2-B(PP2)'!$B$233","v":0},"#'T2-B(PP2)'!$B$233"]
["pp2_bl6_1_9_rate_in",{"$f":"'T2-B(PP2)'!$E$233","v":0},"#'T2-B(PP2)'!$E$233"]
["pp2_bl6_1_9_rate_out",{"$f":"'T2-B(PP2)'!$H$233","v":0},"#'T2-B(PP2)'!$H$233"]
["pp2_bl6_1_9_total",{"$f":"'T2-B(PP2)'!$J$233","v":0},"#'T2-B(PP2)'!$J$233"]
["pp2_bl6_1_9_total_in",{"$f":"'T2-B(PP2)'!$F$233","v":0},"#'T2-B(PP2)'!$F$233"]
["pp2_bl6_1_9_total_out",{"$f":"'T2-B(PP2)'!$I$233","v":0},"#'T2-B(PP2)'!$I$233"]
["pp2_bl6_1_9_unit",{"$f":"'T2-B(PP2)'!$C$233","v":0},"#'T2-B(PP2)'!$C$233"]
["pp2_bl6_1_9_unit_in",{"$f":"'T2-B(PP2)'!$D$233","v":0},"#'T2-B(PP2)'!$D$233"]
["pp2_bl6_1_9_units_out",{"$f":"'T2-B(PP2)'!$G$233","v":0},"#'T2-B(PP2)'!$G$233"]
["pp2_bl6_1_total",{"$f":"'T2-B(PP2)'!$J$224","v":0},"#'T2-B(PP2)'!$J$224"]
["pp2_bl6_1_total_in",{"$f":"'T2-B(PP2)'!$F$224","v":0},"#'T2-B(PP2)'!$F$224"]
["pp2_bl6_1_total_out",{"$f":"'T2-B(PP2)'!$I$224","v":0},"#'T2-B(PP2)'!$I$224"]
["pp2_bl6_total",{"$f":"'T2-B(PP2)'!$J$235","v":0},"#'T2-B(PP2)'!$J$235"]
["pp2_bl6_total_in",{"$f":"'T2-B(PP2)'!$F$235","v":0},"#'T2-B(PP2)'!$F$235"]
["pp2_bl6_total_out",{"$f":"'T2-B(PP2)'!$I$235","v":0},"#'T2-B(PP2)'!$I$235"]
["pp2_country",{"$f":"'PP2'!$K$14","v":2},"#'PP2'!$K$14"]
["pp2_fax",{"$f":"'PP2'!$C$29","v":0},"#'PP2'!$C$29"]
["pp2_is_bg",{"$f":"'PP2'!$D$13","v":0},"#'PP2'!$D$13"]
["pp2_is_pc",{"$f":"'PP2'!$F$13","v":0},"#'PP2'!$F$13"]
["pp2_legal_representative",{"$f":"'PP2'!$C$23","v":0},"#'PP2'!$C$23"]
["pp2_legal_representative_position",{"$f":"'PP2'!$C$25","v":0},"#'PP2'!$C$25"]
["pp2_mail",{"$f":"'PP2'!$C$31","v":0},"#'PP2'!$C$31"]
["pp2_nat_code",{"$f":"'PP2'!$C$75","v":0},"#'PP2'!$C$75"]
["pp2_nuts3",{"$f":"'PP2'!$C$15","v":0},"#'PP2'!$C$15"]
["pp2_organisation_en",{"$f":"'PP2'!$C$7","v":0},"#'PP2'!$C$7"]
["pp2_organisation_native",{"$f":"'PP2'!$C$9","v":0},"#'PP2'!$C$9"]
["pp2_pe_date1",{"$f":"'PP2'!$G$51","v":0},"#'PP2'!$G$51"]
["pp2_pe_date2",{"$f":"'PP2'!$G$59","v":0},"#'PP2'!$G$59"]
["pp2_pe_date3",{"$f":"'PP2'!$G$67","v":0},"#'PP2'!$G$67"]
["pp2_pe_ga1",{"$f":"'PP2'!$G$50","v":0},"#'PP2'!$G$50"]
["pp2_pe_ga2",{"$f":"'PP2'!$G$58","v":0},"#'PP2'!$G$58"]
["pp2_pe_ga3",{"$f":"'PP2'!$G$66","v":0},"#'PP2'!$G$66"]
["pp2_pe_ip1",{"$f":"'PP2'!$C$47","v":0},"#'PP2'!$C$47"]
["pp2_pe_ip2",{"$f":"'PP2'!$C$55","v":0},"#'PP2'!$C$55"]
["pp2_pe_ip3",{"$f":"'PP2'!$C$63","v":0},"#'PP2'!$C$63"]
["pp2_pe_or1",{"$f":"'PP2'!$C$51","v":0},"#'PP2'!$C$51"]
["pp2_pe_or2",{"$f":"'PP2'!$C$59","v":0},"#'PP2'!$C$59"]
["pp2_pe_or3",{"$f":"'PP2'!$C$67","v":0},"#'PP2'!$C$67"]
["pp2_pe_pt1",{"$f":"'PP2'!$C$48","v":0},"#'PP2'!$C$48"]
["pp2_pe_pt2",{"$f":"'PP2'!$C$56","v":0},"#'PP2'!$C$56"]
["pp2_pe_pt3",{"$f":"'PP2'!$C$64","v":0},"#'PP2'!$C$64"]
["pp2_pe_sd1",{"$f":"'PP2'!$C$49","v":0},"#'PP2'!$C$49"]
["pp2_pe_sd2",{"$f":"'PP2'!$C$57","v":0},"#'PP2'!$C$57"]
["pp2_pe_sd3",{"$f":"'PP2'!$C$65","v":0},"#'PP2'!$C$65"]
["pp2_pe_tev1",{"$f":"'PP2'!$C$50","v":0},"#'PP2'!$C$50"]
["pp2_pe_tev2",{"$f":"'PP2'!$C$58","v":0},"#'PP2'!$C$58"]
["pp2_pe_tev3",{"$f":"'PP2'!$C$66","v":0},"#'PP2'!$C$66"]
["pp2_phone",{"$f":"'PP2'!$C$27","v":0},"#'PP2'!$C$27"]
["pp2_post_code",{"$f":"'PP2'!$C$21","v":0},"#'PP2'!$C$21"]
["pp2_profile",{"$f":"'PP2'!$B$41","v":0},"#'PP2'!$B$41"]
["pp2_town",{"$f":"'PP2'!$C$17","v":0},"#'PP2'!$C$17"]
["pp2_type_org",{"$f":"'PP2'!$C$11","v":0},"#'PP2'!$C$11"]
["pp2_vat_code",{"$f":"'PP2'!$C$77","v":0},"#'PP2'!$C$77"]
["pp2_website",{"$f":"'PP2'!$C$33","v":0},"#'PP2'!$C$33"]
["pp3_2012_fulltime_staff",{"$f":"'PP3'!$D$84","v":0},"#'PP3'!$D$84"]
["pp3_2012_offices",{"$f":"'PP3'!$F$84","v":0},"#'PP3'!$F$84"]
["pp3_2012_parttime_staff",{"$f":"'PP3'!$E$84","v":0},"#'PP3'!$E$84"]
["pp3_2012_turnover",{"$f":"'PP3'!$C$84","v":0},"#'PP3'!$C$84"]
["pp3_2013_fulltime_staff",{"$f":"'PP3'!$D$83","v":0},"#'PP3'!$D$83"]
["pp3_2013_offices",{"$f":"'PP3'!$F$83","v":0},"#'PP3'!$F$83"]
["pp3_2013_parttime_staff",{"$f":"'PP3'!$E$83","v":0},"#'PP3'!$E$83"]
["pp3_2013_turnover",{"$f":"'PP3'!$C$83","v":0},"#'PP3'!$C$83"]
["pp3_2014_fulltime_staff",{"$f":"'PP3'!$D$82","v":0},"#'PP3'!$D$82"]
["pp3_2014_offices",{"$f":"'PP3'!$F$82","v":0},"#'PP3'!$F$82"]
["pp3_2014_parttime_staff",{"$f":"'PP3'!$E$82","v":0},"#'PP3'!$E$82"]
["pp3_2014_turnover",{"$f":"'PP3'!$C$82","v":0},"#'PP3'!$C$82"]
["pp3_address",{"$f":"'PP3'!$C$19","v":0},"#'PP3'!$C$19"]
["pp3_bl3_1_1_name",{"$f":"'T2-B(PP3)'!$B$16","v":0},"#'T2-B(PP3)'!$B$16"]
["pp3_bl3_1_1_rate_in",{"$f":"'T2-B(PP3)'!$E$16","v":0},"#'T2-B(PP3)'!$E$16"]
["pp3_bl3_1_1_rate_out",{"$f":"'T2-B(PP3)'!$H$16","v":0},"#'T2-B(PP3)'!$H$16"]
["pp3_bl3_1_1_total",{"$f":"'T2-B(PP3)'!$J$16","v":0},"#'T2-B(PP3)'!$J$16"]
["pp3_bl3_1_1_total_in",{"$f":"'T2-B(PP3)'!$F$16","v":0},"#'T2-B(PP3)'!$F$16"]
["pp3_bl3_1_1_total_out",{"$f":"'T2-B(PP3)'!$I$16","v":0},"#'T2-B(PP3)'!$I$16"]
["pp3_bl3_1_1_unit",{"$f":"'T2-B(PP3)'!$C$16","v":0},"#'T2-B(PP3)'!$C$16"]
["pp3_bl3_1_1_unit_in",{"$f":"'T2-B(PP3)'!$D$16","v":0},"#'T2-B(PP3)'!$D$16"]
["pp3_bl3_1_1_units_out",{"$f":"'T2-B(PP3)'!$G$16","v":0},"#'T2-B(PP3)'!$G$16"]
["pp3_bl3_1_10_name",{"$f":"'T2-B(PP3)'!$B$25","v":0},"#'T2-B(PP3)'!$B$25"]
["pp3_bl3_1_10_rate_in",{"$f":"'T2-B(PP3)'!$E$25","v":0},"#'T2-B(PP3)'!$E$25"]
["pp3_bl3_1_10_rate_out",{"$f":"'T2-B(PP3)'!$H$25","v":0},"#'T2-B(PP3)'!$H$25"]
["pp3_bl3_1_10_total",{"$f":"'T2-B(PP3)'!$J$25","v":0},"#'T2-B(PP3)'!$J$25"]
["pp3_bl3_1_10_total_in",{"$f":"'T2-B(PP3)'!$F$25","v":0},"#'T2-B(PP3)'!$F$25"]
["pp3_bl3_1_10_total_out",{"$f":"'T2-B(PP3)'!$I$25","v":0},"#'T2-B(PP3)'!$I$25"]
["pp3_bl3_1_10_unit",{"$f":"'T2-B(PP3)'!$C$25","v":0},"#'T2-B(PP3)'!$C$25"]
["pp3_bl3_1_10_unit_in",{"$f":"'T2-B(PP3)'!$D$25","v":0},"#'T2-B(PP3)'!$D$25"]
["pp3_bl3_1_10_units_out",{"$f":"'T2-B(PP3)'!$G$25","v":0},"#'T2-B(PP3)'!$G$25"]
["pp3_bl3_1_2_name",{"$f":"'T2-B(PP3)'!$B$17","v":0},"#'T2-B(PP3)'!$B$17"]
["pp3_bl3_1_2_rate_in",{"$f":"'T2-B(PP3)'!$E$17","v":0},"#'T2-B(PP3)'!$E$17"]
["pp3_bl3_1_2_rate_out",{"$f":"'T2-B(PP3)'!$H$17","v":0},"#'T2-B(PP3)'!$H$17"]
["pp3_bl3_1_2_total",{"$f":"'T2-B(PP3)'!$J$17","v":0},"#'T2-B(PP3)'!$J$17"]
["pp3_bl3_1_2_total_in",{"$f":"'T2-B(PP3)'!$F$17","v":0},"#'T2-B(PP3)'!$F$17"]
["pp3_bl3_1_2_total_out",{"$f":"'T2-B(PP3)'!$I$17","v":0},"#'T2-B(PP3)'!$I$17"]
["pp3_bl3_1_2_unit",{"$f":"'T2-B(PP3)'!$C$17","v":0},"#'T2-B(PP3)'!$C$17"]
["pp3_bl3_1_2_unit_in",{"$f":"'T2-B(PP3)'!$D$17","v":0},"#'T2-B(PP3)'!$D$17"]
["pp3_bl3_1_2_units_out",{"$f":"'T2-B(PP3)'!$G$17","v":0},"#'T2-B(PP3)'!$G$17"]
["pp3_bl3_1_3_name",{"$f":"'T2-B(PP3)'!$B$18","v":0},"#'T2-B(PP3)'!$B$18"]
["pp3_bl3_1_3_rate_in",{"$f":"'T2-B(PP3)'!$E$18","v":0},"#'T2-B(PP3)'!$E$18"]
["pp3_bl3_1_3_rate_out",{"$f":"'T2-B(PP3)'!$H$18","v":0},"#'T2-B(PP3)'!$H$18"]
["pp3_bl3_1_3_total",{"$f":"'T2-B(PP3)'!$J$18","v":0},"#'T2-B(PP3)'!$J$18"]
["pp3_bl3_1_3_total_in",{"$f":"'T2-B(PP3)'!$F$18","v":0},"#'T2-B(PP3)'!$F$18"]
["pp3_bl3_1_3_total_out",{"$f":"'T2-B(PP3)'!$I$18","v":0},"#'T2-B(PP3)'!$I$18"]
["pp3_bl3_1_3_unit",{"$f":"'T2-B(PP3)'!$C$18","v":0},"#'T2-B(PP3)'!$C$18"]
["pp3_bl3_1_3_unit_in",{"$f":"'T2-B(PP3)'!$D$18","v":0},"#'T2-B(PP3)'!$D$18"]
["pp3_bl3_1_3_units_out",{"$f":"'T2-B(PP3)'!$G$18","v":0},"#'T2-B(PP3)'!$G$18"]
["pp3_bl3_1_4_name",{"$f":"'T2-B(PP3)'!$B$19","v":0},"#'T2-B(PP3)'!$B$19"]
["pp3_bl3_1_4_rate_in",{"$f":"'T2-B(PP3)'!$E$19","v":0},"#'T2-B(PP3)'!$E$19"]
["pp3_bl3_1_4_rate_out",{"$f":"'T2-B(PP3)'!$H$19","v":0},"#'T2-B(PP3)'!$H$19"]
["pp3_bl3_1_4_total",{"$f":"'T2-B(PP3)'!$J$19","v":0},"#'T2-B(PP3)'!$J$19"]
["pp3_bl3_1_4_total_in",{"$f":"'T2-B(PP3)'!$F$19","v":0},"#'T2-B(PP3)'!$F$19"]
["pp3_bl3_1_4_total_out",{"$f":"'T2-B(PP3)'!$I$19","v":0},"#'T2-B(PP3)'!$I$19"]
["pp3_bl3_1_4_unit",{"$f":"'T2-B(PP3)'!$C$19","v":0},"#'T2-B(PP3)'!$C$19"]
["pp3_bl3_1_4_unit_in",{"$f":"'T2-B(PP3)'!$D$19","v":0},"#'T2-B(PP3)'!$D$19"]
["pp3_bl3_1_4_units_out",{"$f":"'T2-B(PP3)'!$G$19","v":0},"#'T2-B(PP3)'!$G$19"]
["pp3_bl3_1_5_name",{"$f":"'T2-B(PP3)'!$B$20","v":0},"#'T2-B(PP3)'!$B$20"]
["pp3_bl3_1_5_rate_in",{"$f":"'T2-B(PP3)'!$E$20","v":0},"#'T2-B(PP3)'!$E$20"]
["pp3_bl3_1_5_rate_out",{"$f":"'T2-B(PP3)'!$H$20","v":0},"#'T2-B(PP3)'!$H$20"]
["pp3_bl3_1_5_total",{"$f":"'T2-B(PP3)'!$J$20","v":0},"#'T2-B(PP3)'!$J$20"]
["pp3_bl3_1_5_total_in",{"$f":"'T2-B(PP3)'!$F$20","v":0},"#'T2-B(PP3)'!$F$20"]
["pp3_bl3_1_5_total_out",{"$f":"'T2-B(PP3)'!$I$20","v":0},"#'T2-B(PP3)'!$I$20"]
["pp3_bl3_1_5_unit",{"$f":"'T2-B(PP3)'!$C$20","v":0},"#'T2-B(PP3)'!$C$20"]
["pp3_bl3_1_5_unit_in",{"$f":"'T2-B(PP3)'!$D$20","v":0},"#'T2-B(PP3)'!$D$20"]
["pp3_bl3_1_5_units_out",{"$f":"'T2-B(PP3)'!$G$20","v":0},"#'T2-B(PP3)'!$G$20"]
["pp3_bl3_1_6_name",{"$f":"'T2-B(PP3)'!$B$21","v":0},"#'T2-B(PP3)'!$B$21"]
["pp3_bl3_1_6_rate_in",{"$f":"'T2-B(PP3)'!$E$21","v":0},"#'T2-B(PP3)'!$E$21"]
["pp3_bl3_1_6_rate_out",{"$f":"'T2-B(PP3)'!$H$21","v":0},"#'T2-B(PP3)'!$H$21"]
["pp3_bl3_1_6_total",{"$f":"'T2-B(PP3)'!$J$21","v":0},"#'T2-B(PP3)'!$J$21"]
["pp3_bl3_1_6_total_in",{"$f":"'T2-B(PP3)'!$F$21","v":0},"#'T2-B(PP3)'!$F$21"]
["pp3_bl3_1_6_total_out",{"$f":"'T2-B(PP3)'!$I$21","v":0},"#'T2-B(PP3)'!$I$21"]
["pp3_bl3_1_6_unit",{"$f":"'T2-B(PP3)'!$C$21","v":0},"#'T2-B(PP3)'!$C$21"]
["pp3_bl3_1_6_unit_in",{"$f":"'T2-B(PP3)'!$D$21","v":0},"#'T2-B(PP3)'!$D$21"]
["pp3_bl3_1_6_units_out",{"$f":"'T2-B(PP3)'!$G$21","v":0},"#'T2-B(PP3)'!$G$21"]
["pp3_bl3_1_7_name",{"$f":"'T2-B(PP3)'!$B$22","v":0},"#'T2-B(PP3)'!$B$22"]
["pp3_bl3_1_7_rate_in",{"$f":"'T2-B(PP3)'!$E$22","v":0},"#'T2-B(PP3)'!$E$22"]
["pp3_bl3_1_7_rate_out",{"$f":"'T2-B(PP3)'!$H$22","v":0},"#'T2-B(PP3)'!$H$22"]
["pp3_bl3_1_7_total",{"$f":"'T2-B(PP3)'!$J$22","v":0},"#'T2-B(PP3)'!$J$22"]
["pp3_bl3_1_7_total_in",{"$f":"'T2-B(PP3)'!$F$22","v":0},"#'T2-B(PP3)'!$F$22"]
["pp3_bl3_1_7_total_out",{"$f":"'T2-B(PP3)'!$I$22","v":0},"#'T2-B(PP3)'!$I$22"]
["pp3_bl3_1_7_unit",{"$f":"'T2-B(PP3)'!$C$22","v":0},"#'T2-B(PP3)'!$C$22"]
["pp3_bl3_1_7_unit_in",{"$f":"'T2-B(PP3)'!$D$22","v":0},"#'T2-B(PP3)'!$D$22"]
["pp3_bl3_1_7_units_out",{"$f":"'T2-B(PP3)'!$G$22","v":0},"#'T2-B(PP3)'!$G$22"]
["pp3_bl3_1_8_name",{"$f":"'T2-B(PP3)'!$B$23","v":0},"#'T2-B(PP3)'!$B$23"]
["pp3_bl3_1_8_rate_in",{"$f":"'T2-B(PP3)'!$E$23","v":0},"#'T2-B(PP3)'!$E$23"]
["pp3_bl3_1_8_rate_out",{"$f":"'T2-B(PP3)'!$H$23","v":0},"#'T2-B(PP3)'!$H$23"]
["pp3_bl3_1_8_total",{"$f":"'T2-B(PP3)'!$J$23","v":0},"#'T2-B(PP3)'!$J$23"]
["pp3_bl3_1_8_total_in",{"$f":"'T2-B(PP3)'!$F$23","v":0},"#'T2-B(PP3)'!$F$23"]
["pp3_bl3_1_8_total_out",{"$f":"'T2-B(PP3)'!$I$23","v":0},"#'T2-B(PP3)'!$I$23"]
["pp3_bl3_1_8_unit",{"$f":"'T2-B(PP3)'!$C$23","v":0},"#'T2-B(PP3)'!$C$23"]
["pp3_bl3_1_8_unit_in",{"$f":"'T2-B(PP3)'!$D$23","v":0},"#'T2-B(PP3)'!$D$23"]
["pp3_bl3_1_8_units_out",{"$f":"'T2-B(PP3)'!$G$23","v":0},"#'T2-B(PP3)'!$G$23"]
["pp3_bl3_1_9_name",{"$f":"'T2-B(PP3)'!$B$24","v":0},"#'T2-B(PP3)'!$B$24"]
["pp3_bl3_1_9_rate_in",{"$f":"'T2-B(PP3)'!$E$24","v":0},"#'T2-B(PP3)'!$E$24"]
["pp3_bl3_1_9_rate_out",{"$f":"'T2-B(PP3)'!$H$24","v":0},"#'T2-B(PP3)'!$H$24"]
["pp3_bl3_1_9_total",{"$f":"'T2-B(PP3)'!$J$24","v":0},"#'T2-B(PP3)'!$J$24"]
["pp3_bl3_1_9_total_in",{"$f":"'T2-B(PP3)'!$F$24","v":0},"#'T2-B(PP3)'!$F$24"]
["pp3_bl3_1_9_total_out",{"$f":"'T2-B(PP3)'!$I$24","v":0},"#'T2-B(PP3)'!$I$24"]
["pp3_bl3_1_9_unit",{"$f":"'T2-B(PP3)'!$C$24","v":0},"#'T2-B(PP3)'!$C$24"]
["pp3_bl3_1_9_unit_in",{"$f":"'T2-B(PP3)'!$D$24","v":0},"#'T2-B(PP3)'!$D$24"]
["pp3_bl3_1_9_units_out",{"$f":"'T2-B(PP3)'!$G$24","v":0},"#'T2-B(PP3)'!$G$24"]
["pp3_bl3_1_total",{"$f":"'T2-B(PP3)'!$J$15","v":0},"#'T2-B(PP3)'!$J$15"]
["pp3_bl3_1_total_in",{"$f":"'T2-B(PP3)'!$F$15","v":0},"#'T2-B(PP3)'!$F$15"]
["pp3_bl3_1_total_out",{"$f":"'T2-B(PP3)'!$I$15","v":0},"#'T2-B(PP3)'!$I$15"]
["pp3_bl3_2_1_name",{"$f":"'T2-B(PP3)'!$B$27","v":0},"#'T2-B(PP3)'!$B$27"]
["pp3_bl3_2_1_rate_in",{"$f":"'T2-B(PP3)'!$E$27","v":0},"#'T2-B(PP3)'!$E$27"]
["pp3_bl3_2_1_rate_out",{"$f":"'T2-B(PP3)'!$H$27","v":0},"#'T2-B(PP3)'!$H$27"]
["pp3_bl3_2_1_total",{"$f":"'T2-B(PP3)'!$J$27","v":0},"#'T2-B(PP3)'!$J$27"]
["pp3_bl3_2_1_total_in",{"$f":"'T2-B(PP3)'!$F$27","v":0},"#'T2-B(PP3)'!$F$27"]
["pp3_bl3_2_1_total_out",{"$f":"'T2-B(PP3)'!$I$27","v":0},"#'T2-B(PP3)'!$I$27"]
["pp3_bl3_2_1_unit",{"$f":"'T2-B(PP3)'!$C$27","v":0},"#'T2-B(PP3)'!$C$27"]
["pp3_bl3_2_1_unit_in",{"$f":"'T2-B(PP3)'!$D$27","v":0},"#'T2-B(PP3)'!$D$27"]
["pp3_bl3_2_1_units_out",{"$f":"'T2-B(PP3)'!$G$27","v":0},"#'T2-B(PP3)'!$G$27"]
["pp3_bl3_2_10_name",{"$f":"'T2-B(PP3)'!$B$36","v":0},"#'T2-B(PP3)'!$B$36"]
["pp3_bl3_2_10_rate_in",{"$f":"'T2-B(PP3)'!$E$36","v":0},"#'T2-B(PP3)'!$E$36"]
["pp3_bl3_2_10_rate_out",{"$f":"'T2-B(PP3)'!$H$36","v":0},"#'T2-B(PP3)'!$H$36"]
["pp3_bl3_2_10_total",{"$f":"'T2-B(PP3)'!$J$36","v":0},"#'T2-B(PP3)'!$J$36"]
["pp3_bl3_2_10_total_in",{"$f":"'T2-B(PP3)'!$F$36","v":0},"#'T2-B(PP3)'!$F$36"]
["pp3_bl3_2_10_total_out",{"$f":"'T2-B(PP3)'!$I$36","v":0},"#'T2-B(PP3)'!$I$36"]
["pp3_bl3_2_10_unit",{"$f":"'T2-B(PP3)'!$C$36","v":0},"#'T2-B(PP3)'!$C$36"]
["pp3_bl3_2_10_unit_in",{"$f":"'T2-B(PP3)'!$D$36","v":0},"#'T2-B(PP3)'!$D$36"]
["pp3_bl3_2_10_units_out",{"$f":"'T2-B(PP3)'!$G$36","v":0},"#'T2-B(PP3)'!$G$36"]
["pp3_bl3_2_2_name",{"$f":"'T2-B(PP3)'!$B$28","v":0},"#'T2-B(PP3)'!$B$28"]
["pp3_bl3_2_2_rate_in",{"$f":"'T2-B(PP3)'!$E$28","v":0},"#'T2-B(PP3)'!$E$28"]
["pp3_bl3_2_2_rate_out",{"$f":"'T2-B(PP3)'!$H$28","v":0},"#'T2-B(PP3)'!$H$28"]
["pp3_bl3_2_2_total",{"$f":"'T2-B(PP3)'!$J$28","v":0},"#'T2-B(PP3)'!$J$28"]
["pp3_bl3_2_2_total_in",{"$f":"'T2-B(PP3)'!$F$28","v":0},"#'T2-B(PP3)'!$F$28"]
["pp3_bl3_2_2_total_out",{"$f":"'T2-B(PP3)'!$I$28","v":0},"#'T2-B(PP3)'!$I$28"]
["pp3_bl3_2_2_unit",{"$f":"'T2-B(PP3)'!$C$28","v":0},"#'T2-B(PP3)'!$C$28"]
["pp3_bl3_2_2_unit_in",{"$f":"'T2-B(PP3)'!$D$28","v":0},"#'T2-B(PP3)'!$D$28"]
["pp3_bl3_2_2_units_out",{"$f":"'T2-B(PP3)'!$G$28","v":0},"#'T2-B(PP3)'!$G$28"]
["pp3_bl3_2_3_name",{"$f":"'T2-B(PP3)'!$B$29","v":0},"#'T2-B(PP3)'!$B$29"]
["pp3_bl3_2_3_rate_in",{"$f":"'T2-B(PP3)'!$E$29","v":0},"#'T2-B(PP3)'!$E$29"]
["pp3_bl3_2_3_rate_out",{"$f":"'T2-B(PP3)'!$H$29","v":0},"#'T2-B(PP3)'!$H$29"]
["pp3_bl3_2_3_total",{"$f":"'T2-B(PP3)'!$J$29","v":0},"#'T2-B(PP3)'!$J$29"]
["pp3_bl3_2_3_total_in",{"$f":"'T2-B(PP3)'!$F$29","v":0},"#'T2-B(PP3)'!$F$29"]
["pp3_bl3_2_3_total_out",{"$f":"'T2-B(PP3)'!$I$29","v":0},"#'T2-B(PP3)'!$I$29"]
["pp3_bl3_2_3_unit",{"$f":"'T2-B(PP3)'!$C$29","v":0},"#'T2-B(PP3)'!$C$29"]
["pp3_bl3_2_3_unit_in",{"$f":"'T2-B(PP3)'!$D$29","v":0},"#'T2-B(PP3)'!$D$29"]
["pp3_bl3_2_3_units_out",{"$f":"'T2-B(PP3)'!$G$29","v":0},"#'T2-B(PP3)'!$G$29"]
["pp3_bl3_2_4_name",{"$f":"'T2-B(PP3)'!$B$30","v":0},"#'T2-B(PP3)'!$B$30"]
["pp3_bl3_2_4_rate_in",{"$f":"'T2-B(PP3)'!$E$30","v":0},"#'T2-B(PP3)'!$E$30"]
["pp3_bl3_2_4_rate_out",{"$f":"'T2-B(PP3)'!$H$30","v":0},"#'T2-B(PP3)'!$H$30"]
["pp3_bl3_2_4_total",{"$f":"'T2-B(PP3)'!$J$30","v":0},"#'T2-B(PP3)'!$J$30"]
["pp3_bl3_2_4_total_in",{"$f":"'T2-B(PP3)'!$F$30","v":0},"#'T2-B(PP3)'!$F$30"]
["pp3_bl3_2_4_total_out",{"$f":"'T2-B(PP3)'!$I$30","v":0},"#'T2-B(PP3)'!$I$30"]
["pp3_bl3_2_4_unit",{"$f":"'T2-B(PP3)'!$C$30","v":0},"#'T2-B(PP3)'!$C$30"]
["pp3_bl3_2_4_unit_in",{"$f":"'T2-B(PP3)'!$D$30","v":0},"#'T2-B(PP3)'!$D$30"]
["pp3_bl3_2_4_units_out",{"$f":"'T2-B(PP3)'!$G$30","v":0},"#'T2-B(PP3)'!$G$30"]
["pp3_bl3_2_5_name",{"$f":"'T2-B(PP3)'!$B$31","v":0},"#'T2-B(PP3)'!$B$31"]
["pp3_bl3_2_5_rate_in",{"$f":"'T2-B(PP3)'!$E$31","v":0},"#'T2-B(PP3)'!$E$31"]
["pp3_bl3_2_5_rate_out",{"$f":"'T2-B(PP3)'!$H$31","v":0},"#'T2-B(PP3)'!$H$31"]
["pp3_bl3_2_5_total",{"$f":"'T2-B(PP3)'!$J$31","v":0},"#'T2-B(PP3)'!$J$31"]
["pp3_bl3_2_5_total_in",{"$f":"'T2-B(PP3)'!$F$31","v":0},"#'T2-B(PP3)'!$F$31"]
["pp3_bl3_2_5_total_out",{"$f":"'T2-B(PP3)'!$I$31","v":0},"#'T2-B(PP3)'!$I$31"]
["pp3_bl3_2_5_unit",{"$f":"'T2-B(PP3)'!$C$31","v":0},"#'T2-B(PP3)'!$C$31"]
["pp3_bl3_2_5_unit_in",{"$f":"'T2-B(PP3)'!$D$31","v":0},"#'T2-B(PP3)'!$D$31"]
["pp3_bl3_2_5_units_out",{"$f":"'T2-B(PP3)'!$G$31","v":0},"#'T2-B(PP3)'!$G$31"]
["pp3_bl3_2_6_name",{"$f":"'T2-B(PP3)'!$B$32","v":0},"#'T2-B(PP3)'!$B$32"]
["pp3_bl3_2_6_rate_in",{"$f":"'T2-B(PP3)'!$E$32","v":0},"#'T2-B(PP3)'!$E$32"]
["pp3_bl3_2_6_rate_out",{"$f":"'T2-B(PP3)'!$H$32","v":0},"#'T2-B(PP3)'!$H$32"]
["pp3_bl3_2_6_total",{"$f":"'T2-B(PP3)'!$J$32","v":0},"#'T2-B(PP3)'!$J$32"]
["pp3_bl3_2_6_total_in",{"$f":"'T2-B(PP3)'!$F$32","v":0},"#'T2-B(PP3)'!$F$32"]
["pp3_bl3_2_6_total_out",{"$f":"'T2-B(PP3)'!$I$32","v":0},"#'T2-B(PP3)'!$I$32"]
["pp3_bl3_2_6_unit",{"$f":"'T2-B(PP3)'!$C$32","v":0},"#'T2-B(PP3)'!$C$32"]
["pp3_bl3_2_6_unit_in",{"$f":"'T2-B(PP3)'!$D$32","v":0},"#'T2-B(PP3)'!$D$32"]
["pp3_bl3_2_6_units_out",{"$f":"'T2-B(PP3)'!$G$32","v":0},"#'T2-B(PP3)'!$G$32"]
["pp3_bl3_2_7_name",{"$f":"'T2-B(PP3)'!$B$33","v":0},"#'T2-B(PP3)'!$B$33"]
["pp3_bl3_2_7_rate_in",{"$f":"'T2-B(PP3)'!$E$33","v":0},"#'T2-B(PP3)'!$E$33"]
["pp3_bl3_2_7_rate_out",{"$f":"'T2-B(PP3)'!$H$33","v":0},"#'T2-B(PP3)'!$H$33"]
["pp3_bl3_2_7_total",{"$f":"'T2-B(PP3)'!$J$33","v":0},"#'T2-B(PP3)'!$J$33"]
["pp3_bl3_2_7_total_in",{"$f":"'T2-B(PP3)'!$F$33","v":0},"#'T2-B(PP3)'!$F$33"]
["pp3_bl3_2_7_total_out",{"$f":"'T2-B(PP3)'!$I$33","v":0},"#'T2-B(PP3)'!$I$33"]
["pp3_bl3_2_7_unit",{"$f":"'T2-B(PP3)'!$C$33","v":0},"#'T2-B(PP3)'!$C$33"]
["pp3_bl3_2_7_unit_in",{"$f":"'T2-B(PP3)'!$D$33","v":0},"#'T2-B(PP3)'!$D$33"]
["pp3_bl3_2_7_units_out",{"$f":"'T2-B(PP3)'!$G$33","v":0},"#'T2-B(PP3)'!$G$33"]
["pp3_bl3_2_8_name",{"$f":"'T2-B(PP3)'!$B$34","v":0},"#'T2-B(PP3)'!$B$34"]
["pp3_bl3_2_8_rate_in",{"$f":"'T2-B(PP3)'!$E$34","v":0},"#'T2-B(PP3)'!$E$34"]
["pp3_bl3_2_8_rate_out",{"$f":"'T2-B(PP3)'!$H$34","v":0},"#'T2-B(PP3)'!$H$34"]
["pp3_bl3_2_8_total",{"$f":"'T2-B(PP3)'!$J$34","v":0},"#'T2-B(PP3)'!$J$34"]
["pp3_bl3_2_8_total_in",{"$f":"'T2-B(PP3)'!$F$34","v":0},"#'T2-B(PP3)'!$F$34"]
["pp3_bl3_2_8_total_out",{"$f":"'T2-B(PP3)'!$I$34","v":0},"#'T2-B(PP3)'!$I$34"]
["pp3_bl3_2_8_unit",{"$f":"'T2-B(PP3)'!$C$34","v":0},"#'T2-B(PP3)'!$C$34"]
["pp3_bl3_2_8_unit_in",{"$f":"'T2-B(PP3)'!$D$34","v":0},"#'T2-B(PP3)'!$D$34"]
["pp3_bl3_2_8_units_out",{"$f":"'T2-B(PP3)'!$G$34","v":0},"#'T2-B(PP3)'!$G$34"]
["pp3_bl3_2_9_name",{"$f":"'T2-B(PP3)'!$B$35","v":0},"#'T2-B(PP3)'!$B$35"]
["pp3_bl3_2_9_rate_in",{"$f":"'T2-B(PP3)'!$E$35","v":0},"#'T2-B(PP3)'!$E$35"]
["pp3_bl3_2_9_rate_out",{"$f":"'T2-B(PP3)'!$H$35","v":0},"#'T2-B(PP3)'!$H$35"]
["pp3_bl3_2_9_total",{"$f":"'T2-B(PP3)'!$J$35","v":0},"#'T2-B(PP3)'!$J$35"]
["pp3_bl3_2_9_total_in",{"$f":"'T2-B(PP3)'!$F$35","v":0},"#'T2-B(PP3)'!$F$35"]
["pp3_bl3_2_9_total_out",{"$f":"'T2-B(PP3)'!$I$35","v":0},"#'T2-B(PP3)'!$I$35"]
["pp3_bl3_2_9_unit",{"$f":"'T2-B(PP3)'!$C$35","v":0},"#'T2-B(PP3)'!$C$35"]
["pp3_bl3_2_9_unit_in",{"$f":"'T2-B(PP3)'!$D$35","v":0},"#'T2-B(PP3)'!$D$35"]
["pp3_bl3_2_9_units_out",{"$f":"'T2-B(PP3)'!$G$35","v":0},"#'T2-B(PP3)'!$G$35"]
["pp3_bl3_2_total",{"$f":"'T2-B(PP3)'!$J$26","v":0},"#'T2-B(PP3)'!$J$26"]
["pp3_bl3_2_total_in",{"$f":"'T2-B(PP3)'!$F$26","v":0},"#'T2-B(PP3)'!$F$26"]
["pp3_bl3_2_total_out",{"$f":"'T2-B(PP3)'!$I$26","v":0},"#'T2-B(PP3)'!$I$26"]
["pp3_bl3_3_1_name",{"$f":"'T2-B(PP3)'!$B$38","v":0},"#'T2-B(PP3)'!$B$38"]
["pp3_bl3_3_1_rate_in",{"$f":"'T2-B(PP3)'!$E$38","v":0},"#'T2-B(PP3)'!$E$38"]
["pp3_bl3_3_1_rate_out",{"$f":"'T2-B(PP3)'!$H$38","v":0},"#'T2-B(PP3)'!$H$38"]
["pp3_bl3_3_1_total",{"$f":"'T2-B(PP3)'!$J$38","v":0},"#'T2-B(PP3)'!$J$38"]
["pp3_bl3_3_1_total_in",{"$f":"'T2-B(PP3)'!$F$38","v":0},"#'T2-B(PP3)'!$F$38"]
["pp3_bl3_3_1_total_out",{"$f":"'T2-B(PP3)'!$I$38","v":0},"#'T2-B(PP3)'!$I$38"]
["pp3_bl3_3_1_unit",{"$f":"'T2-B(PP3)'!$C$38","v":0},"#'T2-B(PP3)'!$C$38"]
["pp3_bl3_3_1_unit_in",{"$f":"'T2-B(PP3)'!$D$38","v":0},"#'T2-B(PP3)'!$D$38"]
["pp3_bl3_3_1_units_out",{"$f":"'T2-B(PP3)'!$G$38","v":0},"#'T2-B(PP3)'!$G$38"]
["pp3_bl3_3_10_name",{"$f":"'T2-B(PP3)'!$B$47","v":0},"#'T2-B(PP3)'!$B$47"]
["pp3_bl3_3_10_rate_in",{"$f":"'T2-B(PP3)'!$E$47","v":0},"#'T2-B(PP3)'!$E$47"]
["pp3_bl3_3_10_rate_out",{"$f":"'T2-B(PP3)'!$H$47","v":0},"#'T2-B(PP3)'!$H$47"]
["pp3_bl3_3_10_total",{"$f":"'T2-B(PP3)'!$J$47","v":0},"#'T2-B(PP3)'!$J$47"]
["pp3_bl3_3_10_total_in",{"$f":"'T2-B(PP3)'!$F$47","v":0},"#'T2-B(PP3)'!$F$47"]
["pp3_bl3_3_10_total_out",{"$f":"'T2-B(PP3)'!$I$47","v":0},"#'T2-B(PP3)'!$I$47"]
["pp3_bl3_3_10_unit",{"$f":"'T2-B(PP3)'!$C$47","v":0},"#'T2-B(PP3)'!$C$47"]
["pp3_bl3_3_10_unit_in",{"$f":"'T2-B(PP3)'!$D$47","v":0},"#'T2-B(PP3)'!$D$47"]
["pp3_bl3_3_10_units_out",{"$f":"'T2-B(PP3)'!$G$47","v":0},"#'T2-B(PP3)'!$G$47"]
["pp3_bl3_3_2_name",{"$f":"'T2-B(PP3)'!$B$39","v":0},"#'T2-B(PP3)'!$B$39"]
["pp3_bl3_3_2_rate_in",{"$f":"'T2-B(PP3)'!$E$39","v":0},"#'T2-B(PP3)'!$E$39"]
["pp3_bl3_3_2_rate_out",{"$f":"'T2-B(PP3)'!$H$39","v":0},"#'T2-B(PP3)'!$H$39"]
["pp3_bl3_3_2_total",{"$f":"'T2-B(PP3)'!$J$39","v":0},"#'T2-B(PP3)'!$J$39"]
["pp3_bl3_3_2_total_in",{"$f":"'T2-B(PP3)'!$F$39","v":0},"#'T2-B(PP3)'!$F$39"]
["pp3_bl3_3_2_total_out",{"$f":"'T2-B(PP3)'!$I$39","v":0},"#'T2-B(PP3)'!$I$39"]
["pp3_bl3_3_2_unit",{"$f":"'T2-B(PP3)'!$C$39","v":0},"#'T2-B(PP3)'!$C$39"]
["pp3_bl3_3_2_unit_in",{"$f":"'T2-B(PP3)'!$D$39","v":0},"#'T2-B(PP3)'!$D$39"]
["pp3_bl3_3_2_units_out",{"$f":"'T2-B(PP3)'!$G$39","v":0},"#'T2-B(PP3)'!$G$39"]
["pp3_bl3_3_3_name",{"$f":"'T2-B(PP3)'!$B$40","v":0},"#'T2-B(PP3)'!$B$40"]
["pp3_bl3_3_3_rate_in",{"$f":"'T2-B(PP3)'!$E$40","v":0},"#'T2-B(PP3)'!$E$40"]
["pp3_bl3_3_3_rate_out",{"$f":"'T2-B(PP3)'!$H$40","v":0},"#'T2-B(PP3)'!$H$40"]
["pp3_bl3_3_3_total",{"$f":"'T2-B(PP3)'!$J$40","v":0},"#'T2-B(PP3)'!$J$40"]
["pp3_bl3_3_3_total_in",{"$f":"'T2-B(PP3)'!$F$40","v":0},"#'T2-B(PP3)'!$F$40"]
["pp3_bl3_3_3_total_out",{"$f":"'T2-B(PP3)'!$I$40","v":0},"#'T2-B(PP3)'!$I$40"]
["pp3_bl3_3_3_unit",{"$f":"'T2-B(PP3)'!$C$40","v":0},"#'T2-B(PP3)'!$C$40"]
["pp3_bl3_3_3_unit_in",{"$f":"'T2-B(PP3)'!$D$40","v":0},"#'T2-B(PP3)'!$D$40"]
["pp3_bl3_3_3_units_out",{"$f":"'T2-B(PP3)'!$G$40","v":0},"#'T2-B(PP3)'!$G$40"]
["pp3_bl3_3_4_name",{"$f":"'T2-B(PP3)'!$B$41","v":0},"#'T2-B(PP3)'!$B$41"]
["pp3_bl3_3_4_rate_in",{"$f":"'T2-B(PP3)'!$E$41","v":0},"#'T2-B(PP3)'!$E$41"]
["pp3_bl3_3_4_rate_out",{"$f":"'T2-B(PP3)'!$H$41","v":0},"#'T2-B(PP3)'!$H$41"]
["pp3_bl3_3_4_total",{"$f":"'T2-B(PP3)'!$J$41","v":0},"#'T2-B(PP3)'!$J$41"]
["pp3_bl3_3_4_total_in",{"$f":"'T2-B(PP3)'!$F$41","v":0},"#'T2-B(PP3)'!$F$41"]
["pp3_bl3_3_4_total_out",{"$f":"'T2-B(PP3)'!$I$41","v":0},"#'T2-B(PP3)'!$I$41"]
["pp3_bl3_3_4_unit",{"$f":"'T2-B(PP3)'!$C$41","v":0},"#'T2-B(PP3)'!$C$41"]
["pp3_bl3_3_4_unit_in",{"$f":"'T2-B(PP3)'!$D$41","v":0},"#'T2-B(PP3)'!$D$41"]
["pp3_bl3_3_4_units_out",{"$f":"'T2-B(PP3)'!$G$41","v":0},"#'T2-B(PP3)'!$G$41"]
["pp3_bl3_3_5_name",{"$f":"'T2-B(PP3)'!$B$42","v":0},"#'T2-B(PP3)'!$B$42"]
["pp3_bl3_3_5_rate_in",{"$f":"'T2-B(PP3)'!$E$42","v":0},"#'T2-B(PP3)'!$E$42"]
["pp3_bl3_3_5_rate_out",{"$f":"'T2-B(PP3)'!$H$42","v":0},"#'T2-B(PP3)'!$H$42"]
["pp3_bl3_3_5_total",{"$f":"'T2-B(PP3)'!$J$42","v":0},"#'T2-B(PP3)'!$J$42"]
["pp3_bl3_3_5_total_in",{"$f":"'T2-B(PP3)'!$F$42","v":0},"#'T2-B(PP3)'!$F$42"]
["pp3_bl3_3_5_total_out",{"$f":"'T2-B(PP3)'!$I$42","v":0},"#'T2-B(PP3)'!$I$42"]
["pp3_bl3_3_5_unit",{"$f":"'T2-B(PP3)'!$C$42","v":0},"#'T2-B(PP3)'!$C$42"]
["pp3_bl3_3_5_unit_in",{"$f":"'T2-B(PP3)'!$D$42","v":0},"#'T2-B(PP3)'!$D$42"]
["pp3_bl3_3_5_units_out",{"$f":"'T2-B(PP3)'!$G$42","v":0},"#'T2-B(PP3)'!$G$42"]
["pp3_bl3_3_6_name",{"$f":"'T2-B(PP3)'!$B$43","v":0},"#'T2-B(PP3)'!$B$43"]
["pp3_bl3_3_6_rate_in",{"$f":"'T2-B(PP3)'!$E$43","v":0},"#'T2-B(PP3)'!$E$43"]
["pp3_bl3_3_6_rate_out",{"$f":"'T2-B(PP3)'!$H$43","v":0},"#'T2-B(PP3)'!$H$43"]
["pp3_bl3_3_6_total",{"$f":"'T2-B(PP3)'!$J$43","v":0},"#'T2-B(PP3)'!$J$43"]
["pp3_bl3_3_6_total_in",{"$f":"'T2-B(PP3)'!$F$43","v":0},"#'T2-B(PP3)'!$F$43"]
["pp3_bl3_3_6_total_out",{"$f":"'T2-B(PP3)'!$I$43","v":0},"#'T2-B(PP3)'!$I$43"]
["pp3_bl3_3_6_unit",{"$f":"'T2-B(PP3)'!$C$43","v":0},"#'T2-B(PP3)'!$C$43"]
["pp3_bl3_3_6_unit_in",{"$f":"'T2-B(PP3)'!$D$43","v":0},"#'T2-B(PP3)'!$D$43"]
["pp3_bl3_3_6_units_out",{"$f":"'T2-B(PP3)'!$G$43","v":0},"#'T2-B(PP3)'!$G$43"]
["pp3_bl3_3_7_name",{"$f":"'T2-B(PP3)'!$B$44","v":0},"#'T2-B(PP3)'!$B$44"]
["pp3_bl3_3_7_rate_in",{"$f":"'T2-B(PP3)'!$E$44","v":0},"#'T2-B(PP3)'!$E$44"]
["pp3_bl3_3_7_rate_out",{"$f":"'T2-B(PP3)'!$H$44","v":0},"#'T2-B(PP3)'!$H$44"]
["pp3_bl3_3_7_total",{"$f":"'T2-B(PP3)'!$J$44","v":0},"#'T2-B(PP3)'!$J$44"]
["pp3_bl3_3_7_total_in",{"$f":"'T2-B(PP3)'!$F$44","v":0},"#'T2-B(PP3)'!$F$44"]
["pp3_bl3_3_7_total_out",{"$f":"'T2-B(PP3)'!$I$44","v":0},"#'T2-B(PP3)'!$I$44"]
["pp3_bl3_3_7_unit",{"$f":"'T2-B(PP3)'!$C$44","v":0},"#'T2-B(PP3)'!$C$44"]
["pp3_bl3_3_7_unit_in",{"$f":"'T2-B(PP3)'!$D$44","v":0},"#'T2-B(PP3)'!$D$44"]
["pp3_bl3_3_7_units_out",{"$f":"'T2-B(PP3)'!$G$44","v":0},"#'T2-B(PP3)'!$G$44"]
["pp3_bl3_3_8_name",{"$f":"'T2-B(PP3)'!$B$45","v":0},"#'T2-B(PP3)'!$B$45"]
["pp3_bl3_3_8_rate_in",{"$f":"'T2-B(PP3)'!$E$45","v":0},"#'T2-B(PP3)'!$E$45"]
["pp3_bl3_3_8_rate_out",{"$f":"'T2-B(PP3)'!$H$45","v":0},"#'T2-B(PP3)'!$H$45"]
["pp3_bl3_3_8_total",{"$f":"'T2-B(PP3)'!$J$45","v":0},"#'T2-B(PP3)'!$J$45"]
["pp3_bl3_3_8_total_in",{"$f":"'T2-B(PP3)'!$F$45","v":0},"#'T2-B(PP3)'!$F$45"]
["pp3_bl3_3_8_total_out",{"$f":"'T2-B(PP3)'!$I$45","v":0},"#'T2-B(PP3)'!$I$45"]
["pp3_bl3_3_8_unit",{"$f":"'T2-B(PP3)'!$C$45","v":0},"#'T2-B(PP3)'!$C$45"]
["pp3_bl3_3_8_unit_in",{"$f":"'T2-B(PP3)'!$D$45","v":0},"#'T2-B(PP3)'!$D$45"]
["pp3_bl3_3_8_units_out",{"$f":"'T2-B(PP3)'!$G$45","v":0},"#'T2-B(PP3)'!$G$45"]
["pp3_bl3_3_9_name",{"$f":"'T2-B(PP3)'!$B$46","v":0},"#'T2-B(PP3)'!$B$46"]
["pp3_bl3_3_9_rate_in",{"$f":"'T2-B(PP3)'!$E$46","v":0},"#'T2-B(PP3)'!$E$46"]
["pp3_bl3_3_9_rate_out",{"$f":"'T2-B(PP3)'!$H$46","v":0},"#'T2-B(PP3)'!$H$46"]
["pp3_bl3_3_9_total",{"$f":"'T2-B(PP3)'!$J$46","v":0},"#'T2-B(PP3)'!$J$46"]
["pp3_bl3_3_9_total_in",{"$f":"'T2-B(PP3)'!$F$46","v":0},"#'T2-B(PP3)'!$F$46"]
["pp3_bl3_3_9_total_out",{"$f":"'T2-B(PP3)'!$I$46","v":0},"#'T2-B(PP3)'!$I$46"]
["pp3_bl3_3_9_unit",{"$f":"'T2-B(PP3)'!$C$46","v":0},"#'T2-B(PP3)'!$C$46"]
["pp3_bl3_3_9_unit_in",{"$f":"'T2-B(PP3)'!$D$46","v":0},"#'T2-B(PP3)'!$D$46"]
["pp3_bl3_3_9_units_out",{"$f":"'T2-B(PP3)'!$G$46","v":0},"#'T2-B(PP3)'!$G$46"]
["pp3_bl3_3_total",{"$f":"'T2-B(PP3)'!$J$37","v":0},"#'T2-B(PP3)'!$J$37"]
["pp3_bl3_3_total_in",{"$f":"'T2-B(PP3)'!$F$37","v":0},"#'T2-B(PP3)'!$F$37"]
["pp3_bl3_3_total_out",{"$f":"'T2-B(PP3)'!$I$37","v":0},"#'T2-B(PP3)'!$I$37"]
["pp3_bl3_total",{"$f":"'T2-B(PP3)'!$J$48","v":0},"#'T2-B(PP3)'!$J$48"]
["pp3_bl3_total_in",{"$f":"'T2-B(PP3)'!$F$48","v":0},"#'T2-B(PP3)'!$F$48"]
["pp3_bl3_total_out",{"$f":"'T2-B(PP3)'!$I$48","v":0},"#'T2-B(PP3)'!$I$48"]
["pp3_bl4_1_1_name",{"$f":"'T2-B(PP3)'!$B$53","v":0},"#'T2-B(PP3)'!$B$53"]
["pp3_bl4_1_1_rate_in",{"$f":"'T2-B(PP3)'!$E$53","v":0},"#'T2-B(PP3)'!$E$53"]
["pp3_bl4_1_1_rate_out",{"$f":"'T2-B(PP3)'!$H$53","v":0},"#'T2-B(PP3)'!$H$53"]
["pp3_bl4_1_1_total",{"$f":"'T2-B(PP3)'!$J$53","v":0},"#'T2-B(PP3)'!$J$53"]
["pp3_bl4_1_1_total_in",{"$f":"'T2-B(PP3)'!$F$53","v":0},"#'T2-B(PP3)'!$F$53"]
["pp3_bl4_1_1_total_out",{"$f":"'T2-B(PP3)'!$I$53","v":0},"#'T2-B(PP3)'!$I$53"]
["pp3_bl4_1_1_unit",{"$f":"'T2-B(PP3)'!$C$53","v":0},"#'T2-B(PP3)'!$C$53"]
["pp3_bl4_1_1_unit_in",{"$f":"'T2-B(PP3)'!$D$53","v":0},"#'T2-B(PP3)'!$D$53"]
["pp3_bl4_1_1_units_out",{"$f":"'T2-B(PP3)'!$G$53","v":0},"#'T2-B(PP3)'!$G$53"]
["pp3_bl4_1_10_name",{"$f":"'T2-B(PP3)'!$B$62","v":0},"#'T2-B(PP3)'!$B$62"]
["pp3_bl4_1_10_rate_in",{"$f":"'T2-B(PP3)'!$E$62","v":0},"#'T2-B(PP3)'!$E$62"]
["pp3_bl4_1_10_rate_out",{"$f":"'T2-B(PP3)'!$H$62","v":0},"#'T2-B(PP3)'!$H$62"]
["pp3_bl4_1_10_total",{"$f":"'T2-B(PP3)'!$J$62","v":0},"#'T2-B(PP3)'!$J$62"]
["pp3_bl4_1_10_total_in",{"$f":"'T2-B(PP3)'!$F$62","v":0},"#'T2-B(PP3)'!$F$62"]
["pp3_bl4_1_10_total_out",{"$f":"'T2-B(PP3)'!$I$62","v":0},"#'T2-B(PP3)'!$I$62"]
["pp3_bl4_1_10_unit",{"$f":"'T2-B(PP3)'!$C$62","v":0},"#'T2-B(PP3)'!$C$62"]
["pp3_bl4_1_10_unit_in",{"$f":"'T2-B(PP3)'!$D$62","v":0},"#'T2-B(PP3)'!$D$62"]
["pp3_bl4_1_10_units_out",{"$f":"'T2-B(PP3)'!$G$62","v":0},"#'T2-B(PP3)'!$G$62"]
["pp3_bl4_1_2_name",{"$f":"'T2-B(PP3)'!$B$54","v":0},"#'T2-B(PP3)'!$B$54"]
["pp3_bl4_1_2_rate_in",{"$f":"'T2-B(PP3)'!$E$54","v":0},"#'T2-B(PP3)'!$E$54"]
["pp3_bl4_1_2_rate_out",{"$f":"'T2-B(PP3)'!$H$54","v":0},"#'T2-B(PP3)'!$H$54"]
["pp3_bl4_1_2_total",{"$f":"'T2-B(PP3)'!$J$54","v":0},"#'T2-B(PP3)'!$J$54"]
["pp3_bl4_1_2_total_in",{"$f":"'T2-B(PP3)'!$F$54","v":0},"#'T2-B(PP3)'!$F$54"]
["pp3_bl4_1_2_total_out",{"$f":"'T2-B(PP3)'!$I$54","v":0},"#'T2-B(PP3)'!$I$54"]
["pp3_bl4_1_2_unit",{"$f":"'T2-B(PP3)'!$C$54","v":0},"#'T2-B(PP3)'!$C$54"]
["pp3_bl4_1_2_unit_in",{"$f":"'T2-B(PP3)'!$D$54","v":0},"#'T2-B(PP3)'!$D$54"]
["pp3_bl4_1_2_units_out",{"$f":"'T2-B(PP3)'!$G$54","v":0},"#'T2-B(PP3)'!$G$54"]
["pp3_bl4_1_3_name",{"$f":"'T2-B(PP3)'!$B$55","v":0},"#'T2-B(PP3)'!$B$55"]
["pp3_bl4_1_3_rate_in",{"$f":"'T2-B(PP3)'!$E$55","v":0},"#'T2-B(PP3)'!$E$55"]
["pp3_bl4_1_3_rate_out",{"$f":"'T2-B(PP3)'!$H$55","v":0},"#'T2-B(PP3)'!$H$55"]
["pp3_bl4_1_3_total",{"$f":"'T2-B(PP3)'!$J$55","v":0},"#'T2-B(PP3)'!$J$55"]
["pp3_bl4_1_3_total_in",{"$f":"'T2-B(PP3)'!$F$55","v":0},"#'T2-B(PP3)'!$F$55"]
["pp3_bl4_1_3_total_out",{"$f":"'T2-B(PP3)'!$I$55","v":0},"#'T2-B(PP3)'!$I$55"]
["pp3_bl4_1_3_unit",{"$f":"'T2-B(PP3)'!$C$55","v":0},"#'T2-B(PP3)'!$C$55"]
["pp3_bl4_1_3_unit_in",{"$f":"'T2-B(PP3)'!$D$55","v":0},"#'T2-B(PP3)'!$D$55"]
["pp3_bl4_1_3_units_out",{"$f":"'T2-B(PP3)'!$G$55","v":0},"#'T2-B(PP3)'!$G$55"]
["pp3_bl4_1_4_name",{"$f":"'T2-B(PP3)'!$B$56","v":0},"#'T2-B(PP3)'!$B$56"]
["pp3_bl4_1_4_rate_in",{"$f":"'T2-B(PP3)'!$E$56","v":0},"#'T2-B(PP3)'!$E$56"]
["pp3_bl4_1_4_rate_out",{"$f":"'T2-B(PP3)'!$H$56","v":0},"#'T2-B(PP3)'!$H$56"]
["pp3_bl4_1_4_total",{"$f":"'T2-B(PP3)'!$J$56","v":0},"#'T2-B(PP3)'!$J$56"]
["pp3_bl4_1_4_total_in",{"$f":"'T2-B(PP3)'!$F$56","v":0},"#'T2-B(PP3)'!$F$56"]
["pp3_bl4_1_4_total_out",{"$f":"'T2-B(PP3)'!$I$56","v":0},"#'T2-B(PP3)'!$I$56"]
["pp3_bl4_1_4_unit",{"$f":"'T2-B(PP3)'!$C$56","v":0},"#'T2-B(PP3)'!$C$56"]
["pp3_bl4_1_4_unit_in",{"$f":"'T2-B(PP3)'!$D$56","v":0},"#'T2-B(PP3)'!$D$56"]
["pp3_bl4_1_4_units_out",{"$f":"'T2-B(PP3)'!$G$56","v":0},"#'T2-B(PP3)'!$G$56"]
["pp3_bl4_1_5_name",{"$f":"'T2-B(PP3)'!$B$57","v":0},"#'T2-B(PP3)'!$B$57"]
["pp3_bl4_1_5_rate_in",{"$f":"'T2-B(PP3)'!$E$57","v":0},"#'T2-B(PP3)'!$E$57"]
["pp3_bl4_1_5_rate_out",{"$f":"'T2-B(PP3)'!$H$57","v":0},"#'T2-B(PP3)'!$H$57"]
["pp3_bl4_1_5_total",{"$f":"'T2-B(PP3)'!$J$57","v":0},"#'T2-B(PP3)'!$J$57"]
["pp3_bl4_1_5_total_in",{"$f":"'T2-B(PP3)'!$F$57","v":0},"#'T2-B(PP3)'!$F$57"]
["pp3_bl4_1_5_total_out",{"$f":"'T2-B(PP3)'!$I$57","v":0},"#'T2-B(PP3)'!$I$57"]
["pp3_bl4_1_5_unit",{"$f":"'T2-B(PP3)'!$C$57","v":0},"#'T2-B(PP3)'!$C$57"]
["pp3_bl4_1_5_unit_in",{"$f":"'T2-B(PP3)'!$D$57","v":0},"#'T2-B(PP3)'!$D$57"]
["pp3_bl4_1_5_units_out",{"$f":"'T2-B(PP3)'!$G$57","v":0},"#'T2-B(PP3)'!$G$57"]
["pp3_bl4_1_6_name",{"$f":"'T2-B(PP3)'!$B$58","v":0},"#'T2-B(PP3)'!$B$58"]
["pp3_bl4_1_6_rate_in",{"$f":"'T2-B(PP3)'!$E$58","v":0},"#'T2-B(PP3)'!$E$58"]
["pp3_bl4_1_6_rate_out",{"$f":"'T2-B(PP3)'!$H$58","v":0},"#'T2-B(PP3)'!$H$58"]
["pp3_bl4_1_6_total",{"$f":"'T2-B(PP3)'!$J$58","v":0},"#'T2-B(PP3)'!$J$58"]
["pp3_bl4_1_6_total_in",{"$f":"'T2-B(PP3)'!$F$58","v":0},"#'T2-B(PP3)'!$F$58"]
["pp3_bl4_1_6_total_out",{"$f":"'T2-B(PP3)'!$I$58","v":0},"#'T2-B(PP3)'!$I$58"]
["pp3_bl4_1_6_unit",{"$f":"'T2-B(PP3)'!$C$58","v":0},"#'T2-B(PP3)'!$C$58"]
["pp3_bl4_1_6_unit_in",{"$f":"'T2-B(PP3)'!$D$58","v":0},"#'T2-B(PP3)'!$D$58"]
["pp3_bl4_1_6_units_out",{"$f":"'T2-B(PP3)'!$G$58","v":0},"#'T2-B(PP3)'!$G$58"]
["pp3_bl4_1_7_name",{"$f":"'T2-B(PP3)'!$B$59","v":0},"#'T2-B(PP3)'!$B$59"]
["pp3_bl4_1_7_rate_in",{"$f":"'T2-B(PP3)'!$E$59","v":0},"#'T2-B(PP3)'!$E$59"]
["pp3_bl4_1_7_rate_out",{"$f":"'T2-B(PP3)'!$H$59","v":0},"#'T2-B(PP3)'!$H$59"]
["pp3_bl4_1_7_total",{"$f":"'T2-B(PP3)'!$J$59","v":0},"#'T2-B(PP3)'!$J$59"]
["pp3_bl4_1_7_total_in",{"$f":"'T2-B(PP3)'!$F$59","v":0},"#'T2-B(PP3)'!$F$59"]
["pp3_bl4_1_7_total_out",{"$f":"'T2-B(PP3)'!$I$59","v":0},"#'T2-B(PP3)'!$I$59"]
["pp3_bl4_1_7_unit",{"$f":"'T2-B(PP3)'!$C$59","v":0},"#'T2-B(PP3)'!$C$59"]
["pp3_bl4_1_7_unit_in",{"$f":"'T2-B(PP3)'!$D$59","v":0},"#'T2-B(PP3)'!$D$59"]
["pp3_bl4_1_7_units_out",{"$f":"'T2-B(PP3)'!$G$59","v":0},"#'T2-B(PP3)'!$G$59"]
["pp3_bl4_1_8_name",{"$f":"'T2-B(PP3)'!$B$60","v":0},"#'T2-B(PP3)'!$B$60"]
["pp3_bl4_1_8_rate_in",{"$f":"'T2-B(PP3)'!$E$60","v":0},"#'T2-B(PP3)'!$E$60"]
["pp3_bl4_1_8_rate_out",{"$f":"'T2-B(PP3)'!$H$60","v":0},"#'T2-B(PP3)'!$H$60"]
["pp3_bl4_1_8_total",{"$f":"'T2-B(PP3)'!$J$60","v":0},"#'T2-B(PP3)'!$J$60"]
["pp3_bl4_1_8_total_in",{"$f":"'T2-B(PP3)'!$F$60","v":0},"#'T2-B(PP3)'!$F$60"]
["pp3_bl4_1_8_total_out",{"$f":"'T2-B(PP3)'!$I$60","v":0},"#'T2-B(PP3)'!$I$60"]
["pp3_bl4_1_8_unit",{"$f":"'T2-B(PP3)'!$C$60","v":0},"#'T2-B(PP3)'!$C$60"]
["pp3_bl4_1_8_unit_in",{"$f":"'T2-B(PP3)'!$D$60","v":0},"#'T2-B(PP3)'!$D$60"]
["pp3_bl4_1_8_units_out",{"$f":"'T2-B(PP3)'!$G$60","v":0},"#'T2-B(PP3)'!$G$60"]
["pp3_bl4_1_9_name",{"$f":"'T2-B(PP3)'!$B$61","v":0},"#'T2-B(PP3)'!$B$61"]
["pp3_bl4_1_9_rate_in",{"$f":"'T2-B(PP3)'!$E$61","v":0},"#'T2-B(PP3)'!$E$61"]
["pp3_bl4_1_9_rate_out",{"$f":"'T2-B(PP3)'!$H$61","v":0},"#'T2-B(PP3)'!$H$61"]
["pp3_bl4_1_9_total",{"$f":"'T2-B(PP3)'!$J$61","v":0},"#'T2-B(PP3)'!$J$61"]
["pp3_bl4_1_9_total_in",{"$f":"'T2-B(PP3)'!$F$61","v":0},"#'T2-B(PP3)'!$F$61"]
["pp3_bl4_1_9_total_out",{"$f":"'T2-B(PP3)'!$I$61","v":0},"#'T2-B(PP3)'!$I$61"]
["pp3_bl4_1_9_unit",{"$f":"'T2-B(PP3)'!$C$61","v":0},"#'T2-B(PP3)'!$C$61"]
["pp3_bl4_1_9_unit_in",{"$f":"'T2-B(PP3)'!$D$61","v":0},"#'T2-B(PP3)'!$D$61"]
["pp3_bl4_1_9_units_out",{"$f":"'T2-B(PP3)'!$G$61","v":0},"#'T2-B(PP3)'!$G$61"]
["pp3_bl4_1_total",{"$f":"'T2-B(PP3)'!$J$52","v":0},"#'T2-B(PP3)'!$J$52"]
["pp3_bl4_1_total_in",{"$f":"'T2-B(PP3)'!$F$52","v":0},"#'T2-B(PP3)'!$F$52"]
["pp3_bl4_1_total_out",{"$f":"'T2-B(PP3)'!$I$52","v":0},"#'T2-B(PP3)'!$I$52"]
["pp3_bl4_10_1_name",{"$f":"'T2-B(PP3)'!$B$152","v":0},"#'T2-B(PP3)'!$B$152"]
["pp3_bl4_10_1_rate_in",{"$f":"'T2-B(PP3)'!$E$152","v":0},"#'T2-B(PP3)'!$E$152"]
["pp3_bl4_10_1_rate_out",{"$f":"'T2-B(PP3)'!$H$152","v":0},"#'T2-B(PP3)'!$H$152"]
["pp3_bl4_10_1_total",{"$f":"'T2-B(PP3)'!$J$152","v":0},"#'T2-B(PP3)'!$J$152"]
["pp3_bl4_10_1_total_in",{"$f":"'T2-B(PP3)'!$F$152","v":0},"#'T2-B(PP3)'!$F$152"]
["pp3_bl4_10_1_total_out",{"$f":"'T2-B(PP3)'!$I$152","v":0},"#'T2-B(PP3)'!$I$152"]
["pp3_bl4_10_1_unit",{"$f":"'T2-B(PP3)'!$C$152","v":0},"#'T2-B(PP3)'!$C$152"]
["pp3_bl4_10_1_unit_in",{"$f":"'T2-B(PP3)'!$D$152","v":0},"#'T2-B(PP3)'!$D$152"]
["pp3_bl4_10_1_units_out",{"$f":"'T2-B(PP3)'!$G$152","v":0},"#'T2-B(PP3)'!$G$152"]
["pp3_bl4_10_10_name",{"$f":"'T2-B(PP3)'!$B$161","v":0},"#'T2-B(PP3)'!$B$161"]
["pp3_bl4_10_10_rate_in",{"$f":"'T2-B(PP3)'!$E$161","v":0},"#'T2-B(PP3)'!$E$161"]
["pp3_bl4_10_10_rate_out",{"$f":"'T2-B(PP3)'!$H$161","v":0},"#'T2-B(PP3)'!$H$161"]
["pp3_bl4_10_10_total",{"$f":"'T2-B(PP3)'!$J$161","v":0},"#'T2-B(PP3)'!$J$161"]
["pp3_bl4_10_10_total_in",{"$f":"'T2-B(PP3)'!$F$161","v":0},"#'T2-B(PP3)'!$F$161"]
["pp3_bl4_10_10_total_out",{"$f":"'T2-B(PP3)'!$I$161","v":0},"#'T2-B(PP3)'!$I$161"]
["pp3_bl4_10_10_unit",{"$f":"'T2-B(PP3)'!$C$161","v":0},"#'T2-B(PP3)'!$C$161"]
["pp3_bl4_10_10_unit_in",{"$f":"'T2-B(PP3)'!$D$161","v":0},"#'T2-B(PP3)'!$D$161"]
["pp3_bl4_10_10_units_out",{"$f":"'T2-B(PP3)'!$G$161","v":0},"#'T2-B(PP3)'!$G$161"]
["pp3_bl4_10_2_name",{"$f":"'T2-B(PP3)'!$B$153","v":0},"#'T2-B(PP3)'!$B$153"]
["pp3_bl4_10_2_rate_in",{"$f":"'T2-B(PP3)'!$E$153","v":0},"#'T2-B(PP3)'!$E$153"]
["pp3_bl4_10_2_rate_out",{"$f":"'T2-B(PP3)'!$H$153","v":0},"#'T2-B(PP3)'!$H$153"]
["pp3_bl4_10_2_total",{"$f":"'T2-B(PP3)'!$J$153","v":0},"#'T2-B(PP3)'!$J$153"]
["pp3_bl4_10_2_total_in",{"$f":"'T2-B(PP3)'!$F$153","v":0},"#'T2-B(PP3)'!$F$153"]
["pp3_bl4_10_2_total_out",{"$f":"'T2-B(PP3)'!$I$153","v":0},"#'T2-B(PP3)'!$I$153"]
["pp3_bl4_10_2_unit",{"$f":"'T2-B(PP3)'!$C$153","v":0},"#'T2-B(PP3)'!$C$153"]
["pp3_bl4_10_2_unit_in",{"$f":"'T2-B(PP3)'!$D$153","v":0},"#'T2-B(PP3)'!$D$153"]
["pp3_bl4_10_2_units_out",{"$f":"'T2-B(PP3)'!$G$153","v":0},"#'T2-B(PP3)'!$G$153"]
["pp3_bl4_10_3_name",{"$f":"'T2-B(PP3)'!$B$154","v":0},"#'T2-B(PP3)'!$B$154"]
["pp3_bl4_10_3_rate_in",{"$f":"'T2-B(PP3)'!$E$154","v":0},"#'T2-B(PP3)'!$E$154"]
["pp3_bl4_10_3_rate_out",{"$f":"'T2-B(PP3)'!$H$154","v":0},"#'T2-B(PP3)'!$H$154"]
["pp3_bl4_10_3_total",{"$f":"'T2-B(PP3)'!$J$154","v":0},"#'T2-B(PP3)'!$J$154"]
["pp3_bl4_10_3_total_in",{"$f":"'T2-B(PP3)'!$F$154","v":0},"#'T2-B(PP3)'!$F$154"]
["pp3_bl4_10_3_total_out",{"$f":"'T2-B(PP3)'!$I$154","v":0},"#'T2-B(PP3)'!$I$154"]
["pp3_bl4_10_3_unit",{"$f":"'T2-B(PP3)'!$C$154","v":0},"#'T2-B(PP3)'!$C$154"]
["pp3_bl4_10_3_unit_in",{"$f":"'T2-B(PP3)'!$D$154","v":0},"#'T2-B(PP3)'!$D$154"]
["pp3_bl4_10_3_units_out",{"$f":"'T2-B(PP3)'!$G$154","v":0},"#'T2-B(PP3)'!$G$154"]
["pp3_bl4_10_4_name",{"$f":"'T2-B(PP3)'!$B$155","v":0},"#'T2-B(PP3)'!$B$155"]
["pp3_bl4_10_4_rate_in",{"$f":"'T2-B(PP3)'!$E$155","v":0},"#'T2-B(PP3)'!$E$155"]
["pp3_bl4_10_4_rate_out",{"$f":"'T2-B(PP3)'!$H$155","v":0},"#'T2-B(PP3)'!$H$155"]
["pp3_bl4_10_4_total",{"$f":"'T2-B(PP3)'!$J$155","v":0},"#'T2-B(PP3)'!$J$155"]
["pp3_bl4_10_4_total_in",{"$f":"'T2-B(PP3)'!$F$155","v":0},"#'T2-B(PP3)'!$F$155"]
["pp3_bl4_10_4_total_out",{"$f":"'T2-B(PP3)'!$I$155","v":0},"#'T2-B(PP3)'!$I$155"]
["pp3_bl4_10_4_unit",{"$f":"'T2-B(PP3)'!$C$155","v":0},"#'T2-B(PP3)'!$C$155"]
["pp3_bl4_10_4_unit_in",{"$f":"'T2-B(PP3)'!$D$155","v":0},"#'T2-B(PP3)'!$D$155"]
["pp3_bl4_10_4_units_out",{"$f":"'T2-B(PP3)'!$G$155","v":0},"#'T2-B(PP3)'!$G$155"]
["pp3_bl4_10_5_name",{"$f":"'T2-B(PP3)'!$B$156","v":0},"#'T2-B(PP3)'!$B$156"]
["pp3_bl4_10_5_rate_in",{"$f":"'T2-B(PP3)'!$E$156","v":0},"#'T2-B(PP3)'!$E$156"]
["pp3_bl4_10_5_rate_out",{"$f":"'T2-B(PP3)'!$H$156","v":0},"#'T2-B(PP3)'!$H$156"]
["pp3_bl4_10_5_total",{"$f":"'T2-B(PP3)'!$J$156","v":0},"#'T2-B(PP3)'!$J$156"]
["pp3_bl4_10_5_total_in",{"$f":"'T2-B(PP3)'!$F$156","v":0},"#'T2-B(PP3)'!$F$156"]
["pp3_bl4_10_5_total_out",{"$f":"'T2-B(PP3)'!$I$156","v":0},"#'T2-B(PP3)'!$I$156"]
["pp3_bl4_10_5_unit",{"$f":"'T2-B(PP3)'!$C$156","v":0},"#'T2-B(PP3)'!$C$156"]
["pp3_bl4_10_5_unit_in",{"$f":"'T2-B(PP3)'!$D$156","v":0},"#'T2-B(PP3)'!$D$156"]
["pp3_bl4_10_5_units_out",{"$f":"'T2-B(PP3)'!$G$156","v":0},"#'T2-B(PP3)'!$G$156"]
["pp3_bl4_10_6_name",{"$f":"'T2-B(PP3)'!$B$157","v":0},"#'T2-B(PP3)'!$B$157"]
["pp3_bl4_10_6_rate_in",{"$f":"'T2-B(PP3)'!$E$157","v":0},"#'T2-B(PP3)'!$E$157"]
["pp3_bl4_10_6_rate_out",{"$f":"'T2-B(PP3)'!$H$157","v":0},"#'T2-B(PP3)'!$H$157"]
["pp3_bl4_10_6_total",{"$f":"'T2-B(PP3)'!$J$157","v":0},"#'T2-B(PP3)'!$J$157"]
["pp3_bl4_10_6_total_in",{"$f":"'T2-B(PP3)'!$F$157","v":0},"#'T2-B(PP3)'!$F$157"]
["pp3_bl4_10_6_total_out",{"$f":"'T2-B(PP3)'!$I$157","v":0},"#'T2-B(PP3)'!$I$157"]
["pp3_bl4_10_6_unit",{"$f":"'T2-B(PP3)'!$C$157","v":0},"#'T2-B(PP3)'!$C$157"]
["pp3_bl4_10_6_unit_in",{"$f":"'T2-B(PP3)'!$D$157","v":0},"#'T2-B(PP3)'!$D$157"]
["pp3_bl4_10_6_units_out",{"$f":"'T2-B(PP3)'!$G$157","v":0},"#'T2-B(PP3)'!$G$157"]
["pp3_bl4_10_7_name",{"$f":"'T2-B(PP3)'!$B$158","v":0},"#'T2-B(PP3)'!$B$158"]
["pp3_bl4_10_7_rate_in",{"$f":"'T2-B(PP3)'!$E$158","v":0},"#'T2-B(PP3)'!$E$158"]
["pp3_bl4_10_7_rate_out",{"$f":"'T2-B(PP3)'!$H$158","v":0},"#'T2-B(PP3)'!$H$158"]
["pp3_bl4_10_7_total",{"$f":"'T2-B(PP3)'!$J$158","v":0},"#'T2-B(PP3)'!$J$158"]
["pp3_bl4_10_7_total_in",{"$f":"'T2-B(PP3)'!$F$158","v":0},"#'T2-B(PP3)'!$F$158"]
["pp3_bl4_10_7_total_out",{"$f":"'T2-B(PP3)'!$I$158","v":0},"#'T2-B(PP3)'!$I$158"]
["pp3_bl4_10_7_unit",{"$f":"'T2-B(PP3)'!$C$158","v":0},"#'T2-B(PP3)'!$C$158"]
["pp3_bl4_10_7_unit_in",{"$f":"'T2-B(PP3)'!$D$158","v":0},"#'T2-B(PP3)'!$D$158"]
["pp3_bl4_10_7_units_out",{"$f":"'T2-B(PP3)'!$G$158","v":0},"#'T2-B(PP3)'!$G$158"]
["pp3_bl4_10_8_name",{"$f":"'T2-B(PP3)'!$B$159","v":0},"#'T2-B(PP3)'!$B$159"]
["pp3_bl4_10_8_rate_in",{"$f":"'T2-B(PP3)'!$E$159","v":0},"#'T2-B(PP3)'!$E$159"]
["pp3_bl4_10_8_rate_out",{"$f":"'T2-B(PP3)'!$H$159","v":0},"#'T2-B(PP3)'!$H$159"]
["pp3_bl4_10_8_total",{"$f":"'T2-B(PP3)'!$J$159","v":0},"#'T2-B(PP3)'!$J$159"]
["pp3_bl4_10_8_total_in",{"$f":"'T2-B(PP3)'!$F$159","v":0},"#'T2-B(PP3)'!$F$159"]
["pp3_bl4_10_8_total_out",{"$f":"'T2-B(PP3)'!$I$159","v":0},"#'T2-B(PP3)'!$I$159"]
["pp3_bl4_10_8_unit",{"$f":"'T2-B(PP3)'!$C$159","v":0},"#'T2-B(PP3)'!$C$159"]
["pp3_bl4_10_8_unit_in",{"$f":"'T2-B(PP3)'!$D$159","v":0},"#'T2-B(PP3)'!$D$159"]
["pp3_bl4_10_8_units_out",{"$f":"'T2-B(PP3)'!$G$159","v":0},"#'T2-B(PP3)'!$G$159"]
["pp3_bl4_10_9_name",{"$f":"'T2-B(PP3)'!$B$160","v":0},"#'T2-B(PP3)'!$B$160"]
["pp3_bl4_10_9_rate_in",{"$f":"'T2-B(PP3)'!$E$160","v":0},"#'T2-B(PP3)'!$E$160"]
["pp3_bl4_10_9_rate_out",{"$f":"'T2-B(PP3)'!$H$160","v":0},"#'T2-B(PP3)'!$H$160"]
["pp3_bl4_10_9_total",{"$f":"'T2-B(PP3)'!$J$160","v":0},"#'T2-B(PP3)'!$J$160"]
["pp3_bl4_10_9_total_in",{"$f":"'T2-B(PP3)'!$F$160","v":0},"#'T2-B(PP3)'!$F$160"]
["pp3_bl4_10_9_total_out",{"$f":"'T2-B(PP3)'!$I$160","v":0},"#'T2-B(PP3)'!$I$160"]
["pp3_bl4_10_9_unit",{"$f":"'T2-B(PP3)'!$C$160","v":0},"#'T2-B(PP3)'!$C$160"]
["pp3_bl4_10_9_unit_in",{"$f":"'T2-B(PP3)'!$D$160","v":0},"#'T2-B(PP3)'!$D$160"]
["pp3_bl4_10_9_units_out",{"$f":"'T2-B(PP3)'!$G$160","v":0},"#'T2-B(PP3)'!$G$160"]
["pp3_bl4_10_total",{"$f":"'T2-B(PP3)'!$J$151","v":0},"#'T2-B(PP3)'!$J$151"]
["pp3_bl4_10_total_in",{"$f":"'T2-B(PP3)'!$F$151","v":0},"#'T2-B(PP3)'!$F$151"]
["pp3_bl4_10_total_out",{"$f":"'T2-B(PP3)'!$I$151","v":0},"#'T2-B(PP3)'!$I$151"]
["pp3_bl4_11_1_name",{"$f":"'T2-B(PP3)'!$B$163","v":0},"#'T2-B(PP3)'!$B$163"]
["pp3_bl4_11_1_rate_in",{"$f":"'T2-B(PP3)'!$E$163","v":0},"#'T2-B(PP3)'!$E$163"]
["pp3_bl4_11_1_rate_out",{"$f":"'T2-B(PP3)'!$H$163","v":0},"#'T2-B(PP3)'!$H$163"]
["pp3_bl4_11_1_total",{"$f":"'T2-B(PP3)'!$J$163","v":0},"#'T2-B(PP3)'!$J$163"]
["pp3_bl4_11_1_total_in",{"$f":"'T2-B(PP3)'!$F$163","v":0},"#'T2-B(PP3)'!$F$163"]
["pp3_bl4_11_1_total_out",{"$f":"'T2-B(PP3)'!$I$163","v":0},"#'T2-B(PP3)'!$I$163"]
["pp3_bl4_11_1_unit",{"$f":"'T2-B(PP3)'!$C$163","v":0},"#'T2-B(PP3)'!$C$163"]
["pp3_bl4_11_1_unit_in",{"$f":"'T2-B(PP3)'!$D$163","v":0},"#'T2-B(PP3)'!$D$163"]
["pp3_bl4_11_1_units_out",{"$f":"'T2-B(PP3)'!$G$163","v":0},"#'T2-B(PP3)'!$G$163"]
["pp3_bl4_11_10_name",{"$f":"'T2-B(PP3)'!$B$172","v":0},"#'T2-B(PP3)'!$B$172"]
["pp3_bl4_11_10_rate_in",{"$f":"'T2-B(PP3)'!$E$172","v":0},"#'T2-B(PP3)'!$E$172"]
["pp3_bl4_11_10_rate_out",{"$f":"'T2-B(PP3)'!$H$172","v":0},"#'T2-B(PP3)'!$H$172"]
["pp3_bl4_11_10_total",{"$f":"'T2-B(PP3)'!$J$172","v":0},"#'T2-B(PP3)'!$J$172"]
["pp3_bl4_11_10_total_in",{"$f":"'T2-B(PP3)'!$F$172","v":0},"#'T2-B(PP3)'!$F$172"]
["pp3_bl4_11_10_total_out",{"$f":"'T2-B(PP3)'!$I$172","v":0},"#'T2-B(PP3)'!$I$172"]
["pp3_bl4_11_10_unit",{"$f":"'T2-B(PP3)'!$C$172","v":0},"#'T2-B(PP3)'!$C$172"]
["pp3_bl4_11_10_unit_in",{"$f":"'T2-B(PP3)'!$D$172","v":0},"#'T2-B(PP3)'!$D$172"]
["pp3_bl4_11_10_units_out",{"$f":"'T2-B(PP3)'!$G$172","v":0},"#'T2-B(PP3)'!$G$172"]
["pp3_bl4_11_2_name",{"$f":"'T2-B(PP3)'!$B$164","v":0},"#'T2-B(PP3)'!$B$164"]
["pp3_bl4_11_2_rate_in",{"$f":"'T2-B(PP3)'!$E$164","v":0},"#'T2-B(PP3)'!$E$164"]
["pp3_bl4_11_2_rate_out",{"$f":"'T2-B(PP3)'!$H$164","v":0},"#'T2-B(PP3)'!$H$164"]
["pp3_bl4_11_2_total",{"$f":"'T2-B(PP3)'!$J$164","v":0},"#'T2-B(PP3)'!$J$164"]
["pp3_bl4_11_2_total_in",{"$f":"'T2-B(PP3)'!$F$164","v":0},"#'T2-B(PP3)'!$F$164"]
["pp3_bl4_11_2_total_out",{"$f":"'T2-B(PP3)'!$I$164","v":0},"#'T2-B(PP3)'!$I$164"]
["pp3_bl4_11_2_unit",{"$f":"'T2-B(PP3)'!$C$164","v":0},"#'T2-B(PP3)'!$C$164"]
["pp3_bl4_11_2_unit_in",{"$f":"'T2-B(PP3)'!$D$164","v":0},"#'T2-B(PP3)'!$D$164"]
["pp3_bl4_11_2_units_out",{"$f":"'T2-B(PP3)'!$G$164","v":0},"#'T2-B(PP3)'!$G$164"]
["pp3_bl4_11_3_name",{"$f":"'T2-B(PP3)'!$B$165","v":0},"#'T2-B(PP3)'!$B$165"]
["pp3_bl4_11_3_rate_in",{"$f":"'T2-B(PP3)'!$E$165","v":0},"#'T2-B(PP3)'!$E$165"]
["pp3_bl4_11_3_rate_out",{"$f":"'T2-B(PP3)'!$H$165","v":0},"#'T2-B(PP3)'!$H$165"]
["pp3_bl4_11_3_total",{"$f":"'T2-B(PP3)'!$J$165","v":0},"#'T2-B(PP3)'!$J$165"]
["pp3_bl4_11_3_total_in",{"$f":"'T2-B(PP3)'!$F$165","v":0},"#'T2-B(PP3)'!$F$165"]
["pp3_bl4_11_3_total_out",{"$f":"'T2-B(PP3)'!$I$165","v":0},"#'T2-B(PP3)'!$I$165"]
["pp3_bl4_11_3_unit",{"$f":"'T2-B(PP3)'!$C$165","v":0},"#'T2-B(PP3)'!$C$165"]
["pp3_bl4_11_3_unit_in",{"$f":"'T2-B(PP3)'!$D$165","v":0},"#'T2-B(PP3)'!$D$165"]
["pp3_bl4_11_3_units_out",{"$f":"'T2-B(PP3)'!$G$165","v":0},"#'T2-B(PP3)'!$G$165"]
["pp3_bl4_11_4_name",{"$f":"'T2-B(PP3)'!$B$166","v":0},"#'T2-B(PP3)'!$B$166"]
["pp3_bl4_11_4_rate_in",{"$f":"'T2-B(PP3)'!$E$166","v":0},"#'T2-B(PP3)'!$E$166"]
["pp3_bl4_11_4_rate_out",{"$f":"'T2-B(PP3)'!$H$166","v":0},"#'T2-B(PP3)'!$H$166"]
["pp3_bl4_11_4_total",{"$f":"'T2-B(PP3)'!$J$166","v":0},"#'T2-B(PP3)'!$J$166"]
["pp3_bl4_11_4_total_in",{"$f":"'T2-B(PP3)'!$F$166","v":0},"#'T2-B(PP3)'!$F$166"]
["pp3_bl4_11_4_total_out",{"$f":"'T2-B(PP3)'!$I$166","v":0},"#'T2-B(PP3)'!$I$166"]
["pp3_bl4_11_4_unit",{"$f":"'T2-B(PP3)'!$C$166","v":0},"#'T2-B(PP3)'!$C$166"]
["pp3_bl4_11_4_unit_in",{"$f":"'T2-B(PP3)'!$D$166","v":0},"#'T2-B(PP3)'!$D$166"]
["pp3_bl4_11_4_units_out",{"$f":"'T2-B(PP3)'!$G$166","v":0},"#'T2-B(PP3)'!$G$166"]
["pp3_bl4_11_5_name",{"$f":"'T2-B(PP3)'!$B$167","v":0},"#'T2-B(PP3)'!$B$167"]
["pp3_bl4_11_5_rate_in",{"$f":"'T2-B(PP3)'!$E$167","v":0},"#'T2-B(PP3)'!$E$167"]
["pp3_bl4_11_5_rate_out",{"$f":"'T2-B(PP3)'!$H$167","v":0},"#'T2-B(PP3)'!$H$167"]
["pp3_bl4_11_5_total",{"$f":"'T2-B(PP3)'!$J$167","v":0},"#'T2-B(PP3)'!$J$167"]
["pp3_bl4_11_5_total_in",{"$f":"'T2-B(PP3)'!$F$167","v":0},"#'T2-B(PP3)'!$F$167"]
["pp3_bl4_11_5_total_out",{"$f":"'T2-B(PP3)'!$I$167","v":0},"#'T2-B(PP3)'!$I$167"]
["pp3_bl4_11_5_unit",{"$f":"'T2-B(PP3)'!$C$167","v":0},"#'T2-B(PP3)'!$C$167"]
["pp3_bl4_11_5_unit_in",{"$f":"'T2-B(PP3)'!$D$167","v":0},"#'T2-B(PP3)'!$D$167"]
["pp3_bl4_11_5_units_out",{"$f":"'T2-B(PP3)'!$G$167","v":0},"#'T2-B(PP3)'!$G$167"]
["pp3_bl4_11_6_name",{"$f":"'T2-B(PP3)'!$B$168","v":0},"#'T2-B(PP3)'!$B$168"]
["pp3_bl4_11_6_rate_in",{"$f":"'T2-B(PP3)'!$E$168","v":0},"#'T2-B(PP3)'!$E$168"]
["pp3_bl4_11_6_rate_out",{"$f":"'T2-B(PP3)'!$H$168","v":0},"#'T2-B(PP3)'!$H$168"]
["pp3_bl4_11_6_total",{"$f":"'T2-B(PP3)'!$J$168","v":0},"#'T2-B(PP3)'!$J$168"]
["pp3_bl4_11_6_total_in",{"$f":"'T2-B(PP3)'!$F$168","v":0},"#'T2-B(PP3)'!$F$168"]
["pp3_bl4_11_6_total_out",{"$f":"'T2-B(PP3)'!$I$168","v":0},"#'T2-B(PP3)'!$I$168"]
["pp3_bl4_11_6_unit",{"$f":"'T2-B(PP3)'!$C$168","v":0},"#'T2-B(PP3)'!$C$168"]
["pp3_bl4_11_6_unit_in",{"$f":"'T2-B(PP3)'!$D$168","v":0},"#'T2-B(PP3)'!$D$168"]
["pp3_bl4_11_6_units_out",{"$f":"'T2-B(PP3)'!$G$168","v":0},"#'T2-B(PP3)'!$G$168"]
["pp3_bl4_11_7_name",{"$f":"'T2-B(PP3)'!$B$169","v":0},"#'T2-B(PP3)'!$B$169"]
["pp3_bl4_11_7_rate_in",{"$f":"'T2-B(PP3)'!$E$169","v":0},"#'T2-B(PP3)'!$E$169"]
["pp3_bl4_11_7_rate_out",{"$f":"'T2-B(PP3)'!$H$169","v":0},"#'T2-B(PP3)'!$H$169"]
["pp3_bl4_11_7_total",{"$f":"'T2-B(PP3)'!$J$169","v":0},"#'T2-B(PP3)'!$J$169"]
["pp3_bl4_11_7_total_in",{"$f":"'T2-B(PP3)'!$F$169","v":0},"#'T2-B(PP3)'!$F$169"]
["pp3_bl4_11_7_total_out",{"$f":"'T2-B(PP3)'!$I$169","v":0},"#'T2-B(PP3)'!$I$169"]
["pp3_bl4_11_7_unit",{"$f":"'T2-B(PP3)'!$C$169","v":0},"#'T2-B(PP3)'!$C$169"]
["pp3_bl4_11_7_unit_in",{"$f":"'T2-B(PP3)'!$D$169","v":0},"#'T2-B(PP3)'!$D$169"]
["pp3_bl4_11_7_units_out",{"$f":"'T2-B(PP3)'!$G$169","v":0},"#'T2-B(PP3)'!$G$169"]
["pp3_bl4_11_8_name",{"$f":"'T2-B(PP3)'!$B$170","v":0},"#'T2-B(PP3)'!$B$170"]
["pp3_bl4_11_8_rate_in",{"$f":"'T2-B(PP3)'!$E$170","v":0},"#'T2-B(PP3)'!$E$170"]
["pp3_bl4_11_8_rate_out",{"$f":"'T2-B(PP3)'!$H$170","v":0},"#'T2-B(PP3)'!$H$170"]
["pp3_bl4_11_8_total",{"$f":"'T2-B(PP3)'!$J$170","v":0},"#'T2-B(PP3)'!$J$170"]
["pp3_bl4_11_8_total_in",{"$f":"'T2-B(PP3)'!$F$170","v":0},"#'T2-B(PP3)'!$F$170"]
["pp3_bl4_11_8_total_out",{"$f":"'T2-B(PP3)'!$I$170","v":0},"#'T2-B(PP3)'!$I$170"]
["pp3_bl4_11_8_unit",{"$f":"'T2-B(PP3)'!$C$170","v":0},"#'T2-B(PP3)'!$C$170"]
["pp3_bl4_11_8_unit_in",{"$f":"'T2-B(PP3)'!$D$170","v":0},"#'T2-B(PP3)'!$D$170"]
["pp3_bl4_11_8_units_out",{"$f":"'T2-B(PP3)'!$G$170","v":0},"#'T2-B(PP3)'!$G$170"]
["pp3_bl4_11_9_name",{"$f":"'T2-B(PP3)'!$B$171","v":0},"#'T2-B(PP3)'!$B$171"]
["pp3_bl4_11_9_rate_in",{"$f":"'T2-B(PP3)'!$E$171","v":0},"#'T2-B(PP3)'!$E$171"]
["pp3_bl4_11_9_rate_out",{"$f":"'T2-B(PP3)'!$H$171","v":0},"#'T2-B(PP3)'!$H$171"]
["pp3_bl4_11_9_total",{"$f":"'T2-B(PP3)'!$J$171","v":0},"#'T2-B(PP3)'!$J$171"]
["pp3_bl4_11_9_total_in",{"$f":"'T2-B(PP3)'!$F$171","v":0},"#'T2-B(PP3)'!$F$171"]
["pp3_bl4_11_9_total_out",{"$f":"'T2-B(PP3)'!$I$171","v":0},"#'T2-B(PP3)'!$I$171"]
["pp3_bl4_11_9_unit",{"$f":"'T2-B(PP3)'!$C$171","v":0},"#'T2-B(PP3)'!$C$171"]
["pp3_bl4_11_9_unit_in",{"$f":"'T2-B(PP3)'!$D$171","v":0},"#'T2-B(PP3)'!$D$171"]
["pp3_bl4_11_9_units_out",{"$f":"'T2-B(PP3)'!$G$171","v":0},"#'T2-B(PP3)'!$G$171"]
["pp3_bl4_11_total",{"$f":"'T2-B(PP3)'!$J$162","v":0},"#'T2-B(PP3)'!$J$162"]
["pp3_bl4_11_total_in",{"$f":"'T2-B(PP3)'!$F$162","v":0},"#'T2-B(PP3)'!$F$162"]
["pp3_bl4_11_total_out",{"$f":"'T2-B(PP3)'!$I$162","v":0},"#'T2-B(PP3)'!$I$162"]
["pp3_bl4_12_1_name",{"$f":"'T2-B(PP3)'!$B$174","v":0},"#'T2-B(PP3)'!$B$174"]
["pp3_bl4_12_1_rate_in",{"$f":"'T2-B(PP3)'!$E$174","v":0},"#'T2-B(PP3)'!$E$174"]
["pp3_bl4_12_1_rate_out",{"$f":"'T2-B(PP3)'!$H$174","v":0},"#'T2-B(PP3)'!$H$174"]
["pp3_bl4_12_1_total",{"$f":"'T2-B(PP3)'!$J$174","v":0},"#'T2-B(PP3)'!$J$174"]
["pp3_bl4_12_1_total_in",{"$f":"'T2-B(PP3)'!$F$174","v":0},"#'T2-B(PP3)'!$F$174"]
["pp3_bl4_12_1_total_out",{"$f":"'T2-B(PP3)'!$I$174","v":0},"#'T2-B(PP3)'!$I$174"]
["pp3_bl4_12_1_unit",{"$f":"'T2-B(PP3)'!$C$174","v":0},"#'T2-B(PP3)'!$C$174"]
["pp3_bl4_12_1_unit_in",{"$f":"'T2-B(PP3)'!$D$174","v":0},"#'T2-B(PP3)'!$D$174"]
["pp3_bl4_12_1_units_out",{"$f":"'T2-B(PP3)'!$G$174","v":0},"#'T2-B(PP3)'!$G$174"]
["pp3_bl4_12_10_name",{"$f":"'T2-B(PP3)'!$B$183","v":0},"#'T2-B(PP3)'!$B$183"]
["pp3_bl4_12_10_rate_in",{"$f":"'T2-B(PP3)'!$E$183","v":0},"#'T2-B(PP3)'!$E$183"]
["pp3_bl4_12_10_rate_out",{"$f":"'T2-B(PP3)'!$H$183","v":0},"#'T2-B(PP3)'!$H$183"]
["pp3_bl4_12_10_total",{"$f":"'T2-B(PP3)'!$J$183","v":0},"#'T2-B(PP3)'!$J$183"]
["pp3_bl4_12_10_total_in",{"$f":"'T2-B(PP3)'!$F$183","v":0},"#'T2-B(PP3)'!$F$183"]
["pp3_bl4_12_10_total_out",{"$f":"'T2-B(PP3)'!$I$183","v":0},"#'T2-B(PP3)'!$I$183"]
["pp3_bl4_12_10_unit",{"$f":"'T2-B(PP3)'!$C$183","v":0},"#'T2-B(PP3)'!$C$183"]
["pp3_bl4_12_10_unit_in",{"$f":"'T2-B(PP3)'!$D$183","v":0},"#'T2-B(PP3)'!$D$183"]
["pp3_bl4_12_10_units_out",{"$f":"'T2-B(PP3)'!$G$183","v":0},"#'T2-B(PP3)'!$G$183"]
["pp3_bl4_12_2_name",{"$f":"'T2-B(PP3)'!$B$175","v":"BL5 - EQUIPMENT AND WORKS"},"#'T2-B(PP3)'!$B$175"]
["pp3_bl4_12_2_rate_in",{"$f":"'T2-B(PP3)'!$E$175","v":0},"#'T2-B(PP3)'!$E$175"]
["pp3_bl4_12_2_rate_out",{"$f":"'T2-B(PP3)'!$H$175","v":0},"#'T2-B(PP3)'!$H$175"]
["pp3_bl4_12_2_total",{"$f":"'T2-B(PP3)'!$J$175","v":"TOTAL"},"#'T2-B(PP3)'!$J$175"]
["pp3_bl4_12_2_total_in",{"$f":"'T2-B(PP3)'!$F$175","v":0},"#'T2-B(PP3)'!$F$175"]
["pp3_bl4_12_2_total_out",{"$f":"'T2-B(PP3)'!$I$175","v":0},"#'T2-B(PP3)'!$I$175"]
["pp3_bl4_12_2_unit",{"$f":"'T2-B(PP3)'!$C$175","v":"Unit"},"#'T2-B(PP3)'!$C$175"]
["pp3_bl4_12_2_unit_in",{"$f":"'T2-B(PP3)'!$D$175","v":"Expenditures in the eligible area"},"#'T2-B(PP3)'!$D$175"]
["pp3_bl4_12_2_units_out",{"$f":"'T2-B(PP3)'!$G$175","v":"Expenditures outside the eligible area"},"#'T2-B(PP3)'!$G$175"]
["pp3_bl4_12_3_name",{"$f":"'T2-B(PP3)'!$B$176","v":0},"#'T2-B(PP3)'!$B$176"]
["pp3_bl4_12_3_rate_in",{"$f":"'T2-B(PP3)'!$E$176","v":"Unit rate"},"#'T2-B(PP3)'!$E$176"]
["pp3_bl4_12_3_rate_out",{"$f":"'T2-B(PP3)'!$H$176","v":"Unit rate"},"#'T2-B(PP3)'!$H$176"]
["pp3_bl4_12_3_total",{"$f":"'T2-B(PP3)'!$J$176","v":0},"#'T2-B(PP3)'!$J$176"]
["pp3_bl4_12_3_total_in",{"$f":"'T2-B(PP3)'!$F$176","v":"Total"},"#'T2-B(PP3)'!$F$176"]
["pp3_bl4_12_3_total_out",{"$f":"'T2-B(PP3)'!$I$176","v":"Total"},"#'T2-B(PP3)'!$I$176"]
["pp3_bl4_12_3_unit",{"$f":"'T2-B(PP3)'!$C$176","v":0},"#'T2-B(PP3)'!$C$176"]
["pp3_bl4_12_3_unit_in",{"$f":"'T2-B(PP3)'!$D$176","v":"Units"},"#'T2-B(PP3)'!$D$176"]
["pp3_bl4_12_3_units_out",{"$f":"'T2-B(PP3)'!$G$176","v":"Units"},"#'T2-B(PP3)'!$G$176"]
["pp3_bl4_12_4_name",{"$f":"'T2-B(PP3)'!$B$177","v":"Small scale construction"},"#'T2-B(PP3)'!$B$177"]
["pp3_bl4_12_4_rate_in",{"$f":"'T2-B(PP3)'!$E$177","v":0},"#'T2-B(PP3)'!$E$177"]
["pp3_bl4_12_4_rate_out",{"$f":"'T2-B(PP3)'!$H$177","v":0},"#'T2-B(PP3)'!$H$177"]
["pp3_bl4_12_4_total",{"$f":"'T2-B(PP3)'!$J$177","v":0},"#'T2-B(PP3)'!$J$177"]
["pp3_bl4_12_4_total_in",{"$f":"'T2-B(PP3)'!$F$177","v":0},"#'T2-B(PP3)'!$F$177"]
["pp3_bl4_12_4_total_out",{"$f":"'T2-B(PP3)'!$I$177","v":0},"#'T2-B(PP3)'!$I$177"]
["pp3_bl4_12_4_unit",{"$f":"'T2-B(PP3)'!$C$177","v":0},"#'T2-B(PP3)'!$C$177"]
["pp3_bl4_12_4_unit_in",{"$f":"'T2-B(PP3)'!$D$177","v":0},"#'T2-B(PP3)'!$D$177"]
["pp3_bl4_12_4_units_out",{"$f":"'T2-B(PP3)'!$G$177","v":0},"#'T2-B(PP3)'!$G$177"]
["pp3_bl4_12_5_name",{"$f":"'T2-B(PP3)'!$B$178","v":0},"#'T2-B(PP3)'!$B$178"]
["pp3_bl4_12_5_rate_in",{"$f":"'T2-B(PP3)'!$E$178","v":0},"#'T2-B(PP3)'!$E$178"]
["pp3_bl4_12_5_rate_out",{"$f":"'T2-B(PP3)'!$H$178","v":0},"#'T2-B(PP3)'!$H$178"]
["pp3_bl4_12_5_total",{"$f":"'T2-B(PP3)'!$J$178","v":0},"#'T2-B(PP3)'!$J$178"]
["pp3_bl4_12_5_total_in",{"$f":"'T2-B(PP3)'!$F$178","v":0},"#'T2-B(PP3)'!$F$178"]
["pp3_bl4_12_5_total_out",{"$f":"'T2-B(PP3)'!$I$178","v":0},"#'T2-B(PP3)'!$I$178"]
["pp3_bl4_12_5_unit",{"$f":"'T2-B(PP3)'!$C$178","v":0},"#'T2-B(PP3)'!$C$178"]
["pp3_bl4_12_5_unit_in",{"$f":"'T2-B(PP3)'!$D$178","v":0},"#'T2-B(PP3)'!$D$178"]
["pp3_bl4_12_5_units_out",{"$f":"'T2-B(PP3)'!$G$178","v":0},"#'T2-B(PP3)'!$G$178"]
["pp3_bl4_12_6_name",{"$f":"'T2-B(PP3)'!$B$179","v":0},"#'T2-B(PP3)'!$B$179"]
["pp3_bl4_12_6_rate_in",{"$f":"'T2-B(PP3)'!$E$179","v":0},"#'T2-B(PP3)'!$E$179"]
["pp3_bl4_12_6_rate_out",{"$f":"'T2-B(PP3)'!$H$179","v":0},"#'T2-B(PP3)'!$H$179"]
["pp3_bl4_12_6_total",{"$f":"'T2-B(PP3)'!$J$179","v":0},"#'T2-B(PP3)'!$J$179"]
["pp3_bl4_12_6_total_in",{"$f":"'T2-B(PP3)'!$F$179","v":0},"#'T2-B(PP3)'!$F$179"]
["pp3_bl4_12_6_total_out",{"$f":"'T2-B(PP3)'!$I$179","v":0},"#'T2-B(PP3)'!$I$179"]
["pp3_bl4_12_6_unit",{"$f":"'T2-B(PP3)'!$C$179","v":0},"#'T2-B(PP3)'!$C$179"]
["pp3_bl4_12_6_unit_in",{"$f":"'T2-B(PP3)'!$D$179","v":0},"#'T2-B(PP3)'!$D$179"]
["pp3_bl4_12_6_units_out",{"$f":"'T2-B(PP3)'!$G$179","v":0},"#'T2-B(PP3)'!$G$179"]
["pp3_bl4_12_7_name",{"$f":"'T2-B(PP3)'!$B$180","v":0},"#'T2-B(PP3)'!$B$180"]
["pp3_bl4_12_7_rate_in",{"$f":"'T2-B(PP3)'!$E$180","v":0},"#'T2-B(PP3)'!$E$180"]
["pp3_bl4_12_7_rate_out",{"$f":"'T2-B(PP3)'!$H$180","v":0},"#'T2-B(PP3)'!$H$180"]
["pp3_bl4_12_7_total",{"$f":"'T2-B(PP3)'!$J$180","v":0},"#'T2-B(PP3)'!$J$180"]
["pp3_bl4_12_7_total_in",{"$f":"'T2-B(PP3)'!$F$180","v":0},"#'T2-B(PP3)'!$F$180"]
["pp3_bl4_12_7_total_out",{"$f":"'T2-B(PP3)'!$I$180","v":0},"#'T2-B(PP3)'!$I$180"]
["pp3_bl4_12_7_unit",{"$f":"'T2-B(PP3)'!$C$180","v":0},"#'T2-B(PP3)'!$C$180"]
["pp3_bl4_12_7_unit_in",{"$f":"'T2-B(PP3)'!$D$180","v":0},"#'T2-B(PP3)'!$D$180"]
["pp3_bl4_12_7_units_out",{"$f":"'T2-B(PP3)'!$G$180","v":0},"#'T2-B(PP3)'!$G$180"]
["pp3_bl4_12_8_name",{"$f":"'T2-B(PP3)'!$B$181","v":0},"#'T2-B(PP3)'!$B$181"]
["pp3_bl4_12_8_rate_in",{"$f":"'T2-B(PP3)'!$E$181","v":0},"#'T2-B(PP3)'!$E$181"]
["pp3_bl4_12_8_rate_out",{"$f":"'T2-B(PP3)'!$H$181","v":0},"#'T2-B(PP3)'!$H$181"]
["pp3_bl4_12_8_total",{"$f":"'T2-B(PP3)'!$J$181","v":0},"#'T2-B(PP3)'!$J$181"]
["pp3_bl4_12_8_total_in",{"$f":"'T2-B(PP3)'!$F$181","v":0},"#'T2-B(PP3)'!$F$181"]
["pp3_bl4_12_8_total_out",{"$f":"'T2-B(PP3)'!$I$181","v":0},"#'T2-B(PP3)'!$I$181"]
["pp3_bl4_12_8_unit",{"$f":"'T2-B(PP3)'!$C$181","v":0},"#'T2-B(PP3)'!$C$181"]
["pp3_bl4_12_8_unit_in",{"$f":"'T2-B(PP3)'!$D$181","v":0},"#'T2-B(PP3)'!$D$181"]
["pp3_bl4_12_8_units_out",{"$f":"'T2-B(PP3)'!$G$181","v":0},"#'T2-B(PP3)'!$G$181"]
["pp3_bl4_12_9_name",{"$f":"'T2-B(PP3)'!$B$182","v":0},"#'T2-B(PP3)'!$B$182"]
["pp3_bl4_12_9_rate_in",{"$f":"'T2-B(PP3)'!$E$182","v":0},"#'T2-B(PP3)'!$E$182"]
["pp3_bl4_12_9_rate_out",{"$f":"'T2-B(PP3)'!$H$182","v":0},"#'T2-B(PP3)'!$H$182"]
["pp3_bl4_12_9_total",{"$f":"'T2-B(PP3)'!$J$182","v":0},"#'T2-B(PP3)'!$J$182"]
["pp3_bl4_12_9_total_in",{"$f":"'T2-B(PP3)'!$F$182","v":0},"#'T2-B(PP3)'!$F$182"]
["pp3_bl4_12_9_total_out",{"$f":"'T2-B(PP3)'!$I$182","v":0},"#'T2-B(PP3)'!$I$182"]
["pp3_bl4_12_9_unit",{"$f":"'T2-B(PP3)'!$C$182","v":0},"#'T2-B(PP3)'!$C$182"]
["pp3_bl4_12_9_unit_in",{"$f":"'T2-B(PP3)'!$D$182","v":0},"#'T2-B(PP3)'!$D$182"]
["pp3_bl4_12_9_units_out",{"$f":"'T2-B(PP3)'!$G$182","v":0},"#'T2-B(PP3)'!$G$182"]
["pp3_bl4_12_total",{"$f":"'T2-B(PP3)'!$J$173","v":0},"#'T2-B(PP3)'!$J$173"]
["pp3_bl4_12_total_in",{"$f":"'T2-B(PP3)'!$F$173","v":0},"#'T2-B(PP3)'!$F$173"]
["pp3_bl4_12_total_out",{"$f":"'T2-B(PP3)'!$I$173","v":0},"#'T2-B(PP3)'!$I$173"]
["pp3_bl4_13_1_name",{"$f":"'T2-B(PP3)'!$B$185","v":0},"#'T2-B(PP3)'!$B$185"]
["pp3_bl4_13_1_rate_in",{"$f":"'T2-B(PP3)'!$E$185","v":0},"#'T2-B(PP3)'!$E$185"]
["pp3_bl4_13_1_rate_out",{"$f":"'T2-B(PP3)'!$H$185","v":0},"#'T2-B(PP3)'!$H$185"]
["pp3_bl4_13_1_total",{"$f":"'T2-B(PP3)'!$J$185","v":0},"#'T2-B(PP3)'!$J$185"]
["pp3_bl4_13_1_total_in",{"$f":"'T2-B(PP3)'!$F$185","v":0},"#'T2-B(PP3)'!$F$185"]
["pp3_bl4_13_1_total_out",{"$f":"'T2-B(PP3)'!$I$185","v":0},"#'T2-B(PP3)'!$I$185"]
["pp3_bl4_13_1_unit",{"$f":"'T2-B(PP3)'!$C$185","v":0},"#'T2-B(PP3)'!$C$185"]
["pp3_bl4_13_1_unit_in",{"$f":"'T2-B(PP3)'!$D$185","v":0},"#'T2-B(PP3)'!$D$185"]
["pp3_bl4_13_1_units_out",{"$f":"'T2-B(PP3)'!$G$185","v":0},"#'T2-B(PP3)'!$G$185"]
["pp3_bl4_13_10_name",{"$f":"'T2-B(PP3)'!$B$194","v":0},"#'T2-B(PP3)'!$B$194"]
["pp3_bl4_13_10_rate_in",{"$f":"'T2-B(PP3)'!$E$194","v":0},"#'T2-B(PP3)'!$E$194"]
["pp3_bl4_13_10_rate_out",{"$f":"'T2-B(PP3)'!$H$194","v":0},"#'T2-B(PP3)'!$H$194"]
["pp3_bl4_13_10_total",{"$f":"'T2-B(PP3)'!$J$194","v":0},"#'T2-B(PP3)'!$J$194"]
["pp3_bl4_13_10_total_in",{"$f":"'T2-B(PP3)'!$F$194","v":0},"#'T2-B(PP3)'!$F$194"]
["pp3_bl4_13_10_total_out",{"$f":"'T2-B(PP3)'!$I$194","v":0},"#'T2-B(PP3)'!$I$194"]
["pp3_bl4_13_10_unit",{"$f":"'T2-B(PP3)'!$C$194","v":0},"#'T2-B(PP3)'!$C$194"]
["pp3_bl4_13_10_unit_in",{"$f":"'T2-B(PP3)'!$D$194","v":0},"#'T2-B(PP3)'!$D$194"]
["pp3_bl4_13_10_units_out",{"$f":"'T2-B(PP3)'!$G$194","v":0},"#'T2-B(PP3)'!$G$194"]
["pp3_bl4_13_2_name",{"$f":"'T2-B(PP3)'!$B$186","v":0},"#'T2-B(PP3)'!$B$186"]
["pp3_bl4_13_2_rate_in",{"$f":"'T2-B(PP3)'!$E$186","v":0},"#'T2-B(PP3)'!$E$186"]
["pp3_bl4_13_2_rate_out",{"$f":"'T2-B(PP3)'!$H$186","v":0},"#'T2-B(PP3)'!$H$186"]
["pp3_bl4_13_2_total",{"$f":"'T2-B(PP3)'!$J$186","v":0},"#'T2-B(PP3)'!$J$186"]
["pp3_bl4_13_2_total_in",{"$f":"'T2-B(PP3)'!$F$186","v":0},"#'T2-B(PP3)'!$F$186"]
["pp3_bl4_13_2_total_out",{"$f":"'T2-B(PP3)'!$I$186","v":0},"#'T2-B(PP3)'!$I$186"]
["pp3_bl4_13_2_unit",{"$f":"'T2-B(PP3)'!$C$186","v":0},"#'T2-B(PP3)'!$C$186"]
["pp3_bl4_13_2_unit_in",{"$f":"'T2-B(PP3)'!$D$186","v":0},"#'T2-B(PP3)'!$D$186"]
["pp3_bl4_13_2_units_out",{"$f":"'T2-B(PP3)'!$G$186","v":0},"#'T2-B(PP3)'!$G$186"]
["pp3_bl4_13_3_name",{"$f":"'T2-B(PP3)'!$B$187","v":0},"#'T2-B(PP3)'!$B$187"]
["pp3_bl4_13_3_rate_in",{"$f":"'T2-B(PP3)'!$E$187","v":0},"#'T2-B(PP3)'!$E$187"]
["pp3_bl4_13_3_rate_out",{"$f":"'T2-B(PP3)'!$H$187","v":0},"#'T2-B(PP3)'!$H$187"]
["pp3_bl4_13_3_total",{"$f":"'T2-B(PP3)'!$J$187","v":0},"#'T2-B(PP3)'!$J$187"]
["pp3_bl4_13_3_total_in",{"$f":"'T2-B(PP3)'!$F$187","v":0},"#'T2-B(PP3)'!$F$187"]
["pp3_bl4_13_3_total_out",{"$f":"'T2-B(PP3)'!$I$187","v":0},"#'T2-B(PP3)'!$I$187"]
["pp3_bl4_13_3_unit",{"$f":"'T2-B(PP3)'!$C$187","v":0},"#'T2-B(PP3)'!$C$187"]
["pp3_bl4_13_3_unit_in",{"$f":"'T2-B(PP3)'!$D$187","v":0},"#'T2-B(PP3)'!$D$187"]
["pp3_bl4_13_3_units_out",{"$f":"'T2-B(PP3)'!$G$187","v":0},"#'T2-B(PP3)'!$G$187"]
["pp3_bl4_13_4_name",{"$f":"'T2-B(PP3)'!$B$188","v":"Supply"},"#'T2-B(PP3)'!$B$188"]
["pp3_bl4_13_4_rate_in",{"$f":"'T2-B(PP3)'!$E$188","v":0},"#'T2-B(PP3)'!$E$188"]
["pp3_bl4_13_4_rate_out",{"$f":"'T2-B(PP3)'!$H$188","v":0},"#'T2-B(PP3)'!$H$188"]
["pp3_bl4_13_4_total",{"$f":"'T2-B(PP3)'!$J$188","v":0},"#'T2-B(PP3)'!$J$188"]
["pp3_bl4_13_4_total_in",{"$f":"'T2-B(PP3)'!$F$188","v":0},"#'T2-B(PP3)'!$F$188"]
["pp3_bl4_13_4_total_out",{"$f":"'T2-B(PP3)'!$I$188","v":0},"#'T2-B(PP3)'!$I$188"]
["pp3_bl4_13_4_unit",{"$f":"'T2-B(PP3)'!$C$188","v":0},"#'T2-B(PP3)'!$C$188"]
["pp3_bl4_13_4_unit_in",{"$f":"'T2-B(PP3)'!$D$188","v":0},"#'T2-B(PP3)'!$D$188"]
["pp3_bl4_13_4_units_out",{"$f":"'T2-B(PP3)'!$G$188","v":0},"#'T2-B(PP3)'!$G$188"]
["pp3_bl4_13_5_name",{"$f":"'T2-B(PP3)'!$B$189","v":0},"#'T2-B(PP3)'!$B$189"]
["pp3_bl4_13_5_rate_in",{"$f":"'T2-B(PP3)'!$E$189","v":0},"#'T2-B(PP3)'!$E$189"]
["pp3_bl4_13_5_rate_out",{"$f":"'T2-B(PP3)'!$H$189","v":0},"#'T2-B(PP3)'!$H$189"]
["pp3_bl4_13_5_total",{"$f":"'T2-B(PP3)'!$J$189","v":0},"#'T2-B(PP3)'!$J$189"]
["pp3_bl4_13_5_total_in",{"$f":"'T2-B(PP3)'!$F$189","v":0},"#'T2-B(PP3)'!$F$189"]
["pp3_bl4_13_5_total_out",{"$f":"'T2-B(PP3)'!$I$189","v":0},"#'T2-B(PP3)'!$I$189"]
["pp3_bl4_13_5_unit",{"$f":"'T2-B(PP3)'!$C$189","v":0},"#'T2-B(PP3)'!$C$189"]
["pp3_bl4_13_5_unit_in",{"$f":"'T2-B(PP3)'!$D$189","v":0},"#'T2-B(PP3)'!$D$189"]
["pp3_bl4_13_5_units_out",{"$f":"'T2-B(PP3)'!$G$189","v":0},"#'T2-B(PP3)'!$G$189"]
["pp3_bl4_13_6_name",{"$f":"'T2-B(PP3)'!$B$190","v":0},"#'T2-B(PP3)'!$B$190"]
["pp3_bl4_13_6_rate_in",{"$f":"'T2-B(PP3)'!$E$190","v":0},"#'T2-B(PP3)'!$E$190"]
["pp3_bl4_13_6_rate_out",{"$f":"'T2-B(PP3)'!$H$190","v":0},"#'T2-B(PP3)'!$H$190"]
["pp3_bl4_13_6_total",{"$f":"'T2-B(PP3)'!$J$190","v":0},"#'T2-B(PP3)'!$J$190"]
["pp3_bl4_13_6_total_in",{"$f":"'T2-B(PP3)'!$F$190","v":0},"#'T2-B(PP3)'!$F$190"]
["pp3_bl4_13_6_total_out",{"$f":"'T2-B(PP3)'!$I$190","v":0},"#'T2-B(PP3)'!$I$190"]
["pp3_bl4_13_6_unit",{"$f":"'T2-B(PP3)'!$C$190","v":0},"#'T2-B(PP3)'!$C$190"]
["pp3_bl4_13_6_unit_in",{"$f":"'T2-B(PP3)'!$D$190","v":0},"#'T2-B(PP3)'!$D$190"]
["pp3_bl4_13_6_units_out",{"$f":"'T2-B(PP3)'!$G$190","v":0},"#'T2-B(PP3)'!$G$190"]
["pp3_bl4_13_7_name",{"$f":"'T2-B(PP3)'!$B$191","v":0},"#'T2-B(PP3)'!$B$191"]
["pp3_bl4_13_7_rate_in",{"$f":"'T2-B(PP3)'!$E$191","v":0},"#'T2-B(PP3)'!$E$191"]
["pp3_bl4_13_7_rate_out",{"$f":"'T2-B(PP3)'!$H$191","v":0},"#'T2-B(PP3)'!$H$191"]
["pp3_bl4_13_7_total",{"$f":"'T2-B(PP3)'!$J$191","v":0},"#'T2-B(PP3)'!$J$191"]
["pp3_bl4_13_7_total_in",{"$f":"'T2-B(PP3)'!$F$191","v":0},"#'T2-B(PP3)'!$F$191"]
["pp3_bl4_13_7_total_out",{"$f":"'T2-B(PP3)'!$I$191","v":0},"#'T2-B(PP3)'!$I$191"]
["pp3_bl4_13_7_unit",{"$f":"'T2-B(PP3)'!$C$191","v":0},"#'T2-B(PP3)'!$C$191"]
["pp3_bl4_13_7_unit_in",{"$f":"'T2-B(PP3)'!$D$191","v":0},"#'T2-B(PP3)'!$D$191"]
["pp3_bl4_13_7_units_out",{"$f":"'T2-B(PP3)'!$G$191","v":0},"#'T2-B(PP3)'!$G$191"]
["pp3_bl4_13_8_name",{"$f":"'T2-B(PP3)'!$B$192","v":0},"#'T2-B(PP3)'!$B$192"]
["pp3_bl4_13_8_rate_in",{"$f":"'T2-B(PP3)'!$E$192","v":0},"#'T2-B(PP3)'!$E$192"]
["pp3_bl4_13_8_rate_out",{"$f":"'T2-B(PP3)'!$H$192","v":0},"#'T2-B(PP3)'!$H$192"]
["pp3_bl4_13_8_total",{"$f":"'T2-B(PP3)'!$J$192","v":0},"#'T2-B(PP3)'!$J$192"]
["pp3_bl4_13_8_total_in",{"$f":"'T2-B(PP3)'!$F$192","v":0},"#'T2-B(PP3)'!$F$192"]
["pp3_bl4_13_8_total_out",{"$f":"'T2-B(PP3)'!$I$192","v":0},"#'T2-B(PP3)'!$I$192"]
["pp3_bl4_13_8_unit",{"$f":"'T2-B(PP3)'!$C$192","v":0},"#'T2-B(PP3)'!$C$192"]
["pp3_bl4_13_8_unit_in",{"$f":"'T2-B(PP3)'!$D$192","v":0},"#'T2-B(PP3)'!$D$192"]
["pp3_bl4_13_8_units_out",{"$f":"'T2-B(PP3)'!$G$192","v":0},"#'T2-B(PP3)'!$G$192"]
["pp3_bl4_13_9_name",{"$f":"'T2-B(PP3)'!$B$193","v":0},"#'T2-B(PP3)'!$B$193"]
["pp3_bl4_13_9_rate_in",{"$f":"'T2-B(PP3)'!$E$193","v":0},"#'T2-B(PP3)'!$E$193"]
["pp3_bl4_13_9_rate_out",{"$f":"'T2-B(PP3)'!$H$193","v":0},"#'T2-B(PP3)'!$H$193"]
["pp3_bl4_13_9_total",{"$f":"'T2-B(PP3)'!$J$193","v":0},"#'T2-B(PP3)'!$J$193"]
["pp3_bl4_13_9_total_in",{"$f":"'T2-B(PP3)'!$F$193","v":0},"#'T2-B(PP3)'!$F$193"]
["pp3_bl4_13_9_total_out",{"$f":"'T2-B(PP3)'!$I$193","v":0},"#'T2-B(PP3)'!$I$193"]
["pp3_bl4_13_9_unit",{"$f":"'T2-B(PP3)'!$C$193","v":0},"#'T2-B(PP3)'!$C$193"]
["pp3_bl4_13_9_unit_in",{"$f":"'T2-B(PP3)'!$D$193","v":0},"#'T2-B(PP3)'!$D$193"]
["pp3_bl4_13_9_units_out",{"$f":"'T2-B(PP3)'!$G$193","v":0},"#'T2-B(PP3)'!$G$193"]
["pp3_bl4_13_total",{"$f":"'T2-B(PP3)'!$J$184","v":0},"#'T2-B(PP3)'!$J$184"]
["pp3_bl4_13_total_in",{"$f":"'T2-B(PP3)'!$F$184","v":0},"#'T2-B(PP3)'!$F$184"]
["pp3_bl4_13_total_out",{"$f":"'T2-B(PP3)'!$I$184","v":0},"#'T2-B(PP3)'!$I$184"]
["pp3_bl4_2_1_name",{"$f":"'T2-B(PP3)'!$B$64","v":0},"#'T2-B(PP3)'!$B$64"]
["pp3_bl4_2_1_rate_in",{"$f":"'T2-B(PP3)'!$E$64","v":0},"#'T2-B(PP3)'!$E$64"]
["pp3_bl4_2_1_rate_out",{"$f":"'T2-B(PP3)'!$H$64","v":0},"#'T2-B(PP3)'!$H$64"]
["pp3_bl4_2_1_total",{"$f":"'T2-B(PP3)'!$J$64","v":0},"#'T2-B(PP3)'!$J$64"]
["pp3_bl4_2_1_total_in",{"$f":"'T2-B(PP3)'!$F$64","v":0},"#'T2-B(PP3)'!$F$64"]
["pp3_bl4_2_1_total_out",{"$f":"'T2-B(PP3)'!$I$64","v":0},"#'T2-B(PP3)'!$I$64"]
["pp3_bl4_2_1_unit",{"$f":"'T2-B(PP3)'!$C$64","v":0},"#'T2-B(PP3)'!$C$64"]
["pp3_bl4_2_1_unit_in",{"$f":"'T2-B(PP3)'!$D$64","v":0},"#'T2-B(PP3)'!$D$64"]
["pp3_bl4_2_1_units_out",{"$f":"'T2-B(PP3)'!$G$64","v":0},"#'T2-B(PP3)'!$G$64"]
["pp3_bl4_2_10_name",{"$f":"'T2-B(PP3)'!$B$73","v":0},"#'T2-B(PP3)'!$B$73"]
["pp3_bl4_2_10_rate_in",{"$f":"'T2-B(PP3)'!$E$73","v":0},"#'T2-B(PP3)'!$E$73"]
["pp3_bl4_2_10_rate_out",{"$f":"'T2-B(PP3)'!$H$73","v":0},"#'T2-B(PP3)'!$H$73"]
["pp3_bl4_2_10_total",{"$f":"'T2-B(PP3)'!$J$73","v":0},"#'T2-B(PP3)'!$J$73"]
["pp3_bl4_2_10_total_in",{"$f":"'T2-B(PP3)'!$F$73","v":0},"#'T2-B(PP3)'!$F$73"]
["pp3_bl4_2_10_total_out",{"$f":"'T2-B(PP3)'!$I$73","v":0},"#'T2-B(PP3)'!$I$73"]
["pp3_bl4_2_10_unit",{"$f":"'T2-B(PP3)'!$C$73","v":0},"#'T2-B(PP3)'!$C$73"]
["pp3_bl4_2_10_unit_in",{"$f":"'T2-B(PP3)'!$D$73","v":0},"#'T2-B(PP3)'!$D$73"]
["pp3_bl4_2_10_units_out",{"$f":"'T2-B(PP3)'!$G$73","v":0},"#'T2-B(PP3)'!$G$73"]
["pp3_bl4_2_2_name",{"$f":"'T2-B(PP3)'!$B$65","v":0},"#'T2-B(PP3)'!$B$65"]
["pp3_bl4_2_2_rate_in",{"$f":"'T2-B(PP3)'!$E$65","v":0},"#'T2-B(PP3)'!$E$65"]
["pp3_bl4_2_2_rate_out",{"$f":"'T2-B(PP3)'!$H$65","v":0},"#'T2-B(PP3)'!$H$65"]
["pp3_bl4_2_2_total",{"$f":"'T2-B(PP3)'!$J$65","v":0},"#'T2-B(PP3)'!$J$65"]
["pp3_bl4_2_2_total_in",{"$f":"'T2-B(PP3)'!$F$65","v":0},"#'T2-B(PP3)'!$F$65"]
["pp3_bl4_2_2_total_out",{"$f":"'T2-B(PP3)'!$I$65","v":0},"#'T2-B(PP3)'!$I$65"]
["pp3_bl4_2_2_unit",{"$f":"'T2-B(PP3)'!$C$65","v":0},"#'T2-B(PP3)'!$C$65"]
["pp3_bl4_2_2_unit_in",{"$f":"'T2-B(PP3)'!$D$65","v":0},"#'T2-B(PP3)'!$D$65"]
["pp3_bl4_2_2_units_out",{"$f":"'T2-B(PP3)'!$G$65","v":0},"#'T2-B(PP3)'!$G$65"]
["pp3_bl4_2_3_name",{"$f":"'T2-B(PP3)'!$B$66","v":0},"#'T2-B(PP3)'!$B$66"]
["pp3_bl4_2_3_rate_in",{"$f":"'T2-B(PP3)'!$E$66","v":0},"#'T2-B(PP3)'!$E$66"]
["pp3_bl4_2_3_rate_out",{"$f":"'T2-B(PP3)'!$H$66","v":0},"#'T2-B(PP3)'!$H$66"]
["pp3_bl4_2_3_total",{"$f":"'T2-B(PP3)'!$J$66","v":0},"#'T2-B(PP3)'!$J$66"]
["pp3_bl4_2_3_total_in",{"$f":"'T2-B(PP3)'!$F$66","v":0},"#'T2-B(PP3)'!$F$66"]
["pp3_bl4_2_3_total_out",{"$f":"'T2-B(PP3)'!$I$66","v":0},"#'T2-B(PP3)'!$I$66"]
["pp3_bl4_2_3_unit",{"$f":"'T2-B(PP3)'!$C$66","v":0},"#'T2-B(PP3)'!$C$66"]
["pp3_bl4_2_3_unit_in",{"$f":"'T2-B(PP3)'!$D$66","v":0},"#'T2-B(PP3)'!$D$66"]
["pp3_bl4_2_3_units_out",{"$f":"'T2-B(PP3)'!$G$66","v":0},"#'T2-B(PP3)'!$G$66"]
["pp3_bl4_2_4_name",{"$f":"'T2-B(PP3)'!$B$67","v":0},"#'T2-B(PP3)'!$B$67"]
["pp3_bl4_2_4_rate_in",{"$f":"'T2-B(PP3)'!$E$67","v":0},"#'T2-B(PP3)'!$E$67"]
["pp3_bl4_2_4_rate_out",{"$f":"'T2-B(PP3)'!$H$67","v":0},"#'T2-B(PP3)'!$H$67"]
["pp3_bl4_2_4_total",{"$f":"'T2-B(PP3)'!$J$67","v":0},"#'T2-B(PP3)'!$J$67"]
["pp3_bl4_2_4_total_in",{"$f":"'T2-B(PP3)'!$F$67","v":0},"#'T2-B(PP3)'!$F$67"]
["pp3_bl4_2_4_total_out",{"$f":"'T2-B(PP3)'!$I$67","v":0},"#'T2-B(PP3)'!$I$67"]
["pp3_bl4_2_4_unit",{"$f":"'T2-B(PP3)'!$C$67","v":0},"#'T2-B(PP3)'!$C$67"]
["pp3_bl4_2_4_unit_in",{"$f":"'T2-B(PP3)'!$D$67","v":0},"#'T2-B(PP3)'!$D$67"]
["pp3_bl4_2_4_units_out",{"$f":"'T2-B(PP3)'!$G$67","v":0},"#'T2-B(PP3)'!$G$67"]
["pp3_bl4_2_5_name",{"$f":"'T2-B(PP3)'!$B$68","v":0},"#'T2-B(PP3)'!$B$68"]
["pp3_bl4_2_5_rate_in",{"$f":"'T2-B(PP3)'!$E$68","v":0},"#'T2-B(PP3)'!$E$68"]
["pp3_bl4_2_5_rate_out",{"$f":"'T2-B(PP3)'!$H$68","v":0},"#'T2-B(PP3)'!$H$68"]
["pp3_bl4_2_5_total",{"$f":"'T2-B(PP3)'!$J$68","v":0},"#'T2-B(PP3)'!$J$68"]
["pp3_bl4_2_5_total_in",{"$f":"'T2-B(PP3)'!$F$68","v":0},"#'T2-B(PP3)'!$F$68"]
["pp3_bl4_2_5_total_out",{"$f":"'T2-B(PP3)'!$I$68","v":0},"#'T2-B(PP3)'!$I$68"]
["pp3_bl4_2_5_unit",{"$f":"'T2-B(PP3)'!$C$68","v":0},"#'T2-B(PP3)'!$C$68"]
["pp3_bl4_2_5_unit_in",{"$f":"'T2-B(PP3)'!$D$68","v":0},"#'T2-B(PP3)'!$D$68"]
["pp3_bl4_2_5_units_out",{"$f":"'T2-B(PP3)'!$G$68","v":0},"#'T2-B(PP3)'!$G$68"]
["pp3_bl4_2_6_name",{"$f":"'T2-B(PP3)'!$B$69","v":0},"#'T2-B(PP3)'!$B$69"]
["pp3_bl4_2_6_rate_in",{"$f":"'T2-B(PP3)'!$E$69","v":0},"#'T2-B(PP3)'!$E$69"]
["pp3_bl4_2_6_rate_out",{"$f":"'T2-B(PP3)'!$H$69","v":0},"#'T2-B(PP3)'!$H$69"]
["pp3_bl4_2_6_total",{"$f":"'T2-B(PP3)'!$J$69","v":0},"#'T2-B(PP3)'!$J$69"]
["pp3_bl4_2_6_total_in",{"$f":"'T2-B(PP3)'!$F$69","v":0},"#'T2-B(PP3)'!$F$69"]
["pp3_bl4_2_6_total_out",{"$f":"'T2-B(PP3)'!$I$69","v":0},"#'T2-B(PP3)'!$I$69"]
["pp3_bl4_2_6_unit",{"$f":"'T2-B(PP3)'!$C$69","v":0},"#'T2-B(PP3)'!$C$69"]
["pp3_bl4_2_6_unit_in",{"$f":"'T2-B(PP3)'!$D$69","v":0},"#'T2-B(PP3)'!$D$69"]
["pp3_bl4_2_6_units_out",{"$f":"'T2-B(PP3)'!$G$69","v":0},"#'T2-B(PP3)'!$G$69"]
["pp3_bl4_2_7_name",{"$f":"'T2-B(PP3)'!$B$70","v":0},"#'T2-B(PP3)'!$B$70"]
["pp3_bl4_2_7_rate_in",{"$f":"'T2-B(PP3)'!$E$70","v":0},"#'T2-B(PP3)'!$E$70"]
["pp3_bl4_2_7_rate_out",{"$f":"'T2-B(PP3)'!$H$70","v":0},"#'T2-B(PP3)'!$H$70"]
["pp3_bl4_2_7_total",{"$f":"'T2-B(PP3)'!$J$70","v":0},"#'T2-B(PP3)'!$J$70"]
["pp3_bl4_2_7_total_in",{"$f":"'T2-B(PP3)'!$F$70","v":0},"#'T2-B(PP3)'!$F$70"]
["pp3_bl4_2_7_total_out",{"$f":"'T2-B(PP3)'!$I$70","v":0},"#'T2-B(PP3)'!$I$70"]
["pp3_bl4_2_7_unit",{"$f":"'T2-B(PP3)'!$C$70","v":0},"#'T2-B(PP3)'!$C$70"]
["pp3_bl4_2_7_unit_in",{"$f":"'T2-B(PP3)'!$D$70","v":0},"#'T2-B(PP3)'!$D$70"]
["pp3_bl4_2_7_units_out",{"$f":"'T2-B(PP3)'!$G$70","v":0},"#'T2-B(PP3)'!$G$70"]
["pp3_bl4_2_8_name",{"$f":"'T2-B(PP3)'!$B$71","v":0},"#'T2-B(PP3)'!$B$71"]
["pp3_bl4_2_8_rate_in",{"$f":"'T2-B(PP3)'!$E$71","v":0},"#'T2-B(PP3)'!$E$71"]
["pp3_bl4_2_8_rate_out",{"$f":"'T2-B(PP3)'!$H$71","v":0},"#'T2-B(PP3)'!$H$71"]
["pp3_bl4_2_8_total",{"$f":"'T2-B(PP3)'!$J$71","v":0},"#'T2-B(PP3)'!$J$71"]
["pp3_bl4_2_8_total_in",{"$f":"'T2-B(PP3)'!$F$71","v":0},"#'T2-B(PP3)'!$F$71"]
["pp3_bl4_2_8_total_out",{"$f":"'T2-B(PP3)'!$I$71","v":0},"#'T2-B(PP3)'!$I$71"]
["pp3_bl4_2_8_unit",{"$f":"'T2-B(PP3)'!$C$71","v":0},"#'T2-B(PP3)'!$C$71"]
["pp3_bl4_2_8_unit_in",{"$f":"'T2-B(PP3)'!$D$71","v":0},"#'T2-B(PP3)'!$D$71"]
["pp3_bl4_2_8_units_out",{"$f":"'T2-B(PP3)'!$G$71","v":0},"#'T2-B(PP3)'!$G$71"]
["pp3_bl4_2_9_name",{"$f":"'T2-B(PP3)'!$B$72","v":0},"#'T2-B(PP3)'!$B$72"]
["pp3_bl4_2_9_rate_in",{"$f":"'T2-B(PP3)'!$E$72","v":0},"#'T2-B(PP3)'!$E$72"]
["pp3_bl4_2_9_rate_out",{"$f":"'T2-B(PP3)'!$H$72","v":0},"#'T2-B(PP3)'!$H$72"]
["pp3_bl4_2_9_total",{"$f":"'T2-B(PP3)'!$J$72","v":0},"#'T2-B(PP3)'!$J$72"]
["pp3_bl4_2_9_total_in",{"$f":"'T2-B(PP3)'!$F$72","v":0},"#'T2-B(PP3)'!$F$72"]
["pp3_bl4_2_9_total_out",{"$f":"'T2-B(PP3)'!$I$72","v":0},"#'T2-B(PP3)'!$I$72"]
["pp3_bl4_2_9_unit",{"$f":"'T2-B(PP3)'!$C$72","v":0},"#'T2-B(PP3)'!$C$72"]
["pp3_bl4_2_9_unit_in",{"$f":"'T2-B(PP3)'!$D$72","v":0},"#'T2-B(PP3)'!$D$72"]
["pp3_bl4_2_9_units_out",{"$f":"'T2-B(PP3)'!$G$72","v":0},"#'T2-B(PP3)'!$G$72"]
["pp3_bl4_2_total",{"$f":"'T2-B(PP3)'!$J$63","v":0},"#'T2-B(PP3)'!$J$63"]
["pp3_bl4_2_total_in",{"$f":"'T2-B(PP3)'!$F$63","v":0},"#'T2-B(PP3)'!$F$63"]
["pp3_bl4_2_total_out",{"$f":"'T2-B(PP3)'!$I$63","v":0},"#'T2-B(PP3)'!$I$63"]
["pp3_bl4_3_1_name",{"$f":"'T2-B(PP3)'!$B$75","v":0},"#'T2-B(PP3)'!$B$75"]
["pp3_bl4_3_1_rate_in",{"$f":"'T2-B(PP3)'!$E$75","v":0},"#'T2-B(PP3)'!$E$75"]
["pp3_bl4_3_1_rate_out",{"$f":"'T2-B(PP3)'!$H$75","v":0},"#'T2-B(PP3)'!$H$75"]
["pp3_bl4_3_1_total",{"$f":"'T2-B(PP3)'!$J$75","v":0},"#'T2-B(PP3)'!$J$75"]
["pp3_bl4_3_1_total_in",{"$f":"'T2-B(PP3)'!$F$75","v":0},"#'T2-B(PP3)'!$F$75"]
["pp3_bl4_3_1_total_out",{"$f":"'T2-B(PP3)'!$I$75","v":0},"#'T2-B(PP3)'!$I$75"]
["pp3_bl4_3_1_unit",{"$f":"'T2-B(PP3)'!$C$75","v":0},"#'T2-B(PP3)'!$C$75"]
["pp3_bl4_3_1_unit_in",{"$f":"'T2-B(PP3)'!$D$75","v":0},"#'T2-B(PP3)'!$D$75"]
["pp3_bl4_3_1_units_out",{"$f":"'T2-B(PP3)'!$G$75","v":0},"#'T2-B(PP3)'!$G$75"]
["pp3_bl4_3_10_name",{"$f":"'T2-B(PP3)'!$B$84","v":0},"#'T2-B(PP3)'!$B$84"]
["pp3_bl4_3_10_rate_in",{"$f":"'T2-B(PP3)'!$E$84","v":0},"#'T2-B(PP3)'!$E$84"]
["pp3_bl4_3_10_rate_out",{"$f":"'T2-B(PP3)'!$H$84","v":0},"#'T2-B(PP3)'!$H$84"]
["pp3_bl4_3_10_total",{"$f":"'T2-B(PP3)'!$J$84","v":0},"#'T2-B(PP3)'!$J$84"]
["pp3_bl4_3_10_total_in",{"$f":"'T2-B(PP3)'!$F$84","v":0},"#'T2-B(PP3)'!$F$84"]
["pp3_bl4_3_10_total_out",{"$f":"'T2-B(PP3)'!$I$84","v":0},"#'T2-B(PP3)'!$I$84"]
["pp3_bl4_3_10_unit",{"$f":"'T2-B(PP3)'!$C$84","v":0},"#'T2-B(PP3)'!$C$84"]
["pp3_bl4_3_10_unit_in",{"$f":"'T2-B(PP3)'!$D$84","v":0},"#'T2-B(PP3)'!$D$84"]
["pp3_bl4_3_10_units_out",{"$f":"'T2-B(PP3)'!$G$84","v":0},"#'T2-B(PP3)'!$G$84"]
["pp3_bl4_3_2_name",{"$f":"'T2-B(PP3)'!$B$76","v":0},"#'T2-B(PP3)'!$B$76"]
["pp3_bl4_3_2_rate_in",{"$f":"'T2-B(PP3)'!$E$76","v":0},"#'T2-B(PP3)'!$E$76"]
["pp3_bl4_3_2_rate_out",{"$f":"'T2-B(PP3)'!$H$76","v":0},"#'T2-B(PP3)'!$H$76"]
["pp3_bl4_3_2_total",{"$f":"'T2-B(PP3)'!$J$76","v":0},"#'T2-B(PP3)'!$J$76"]
["pp3_bl4_3_2_total_in",{"$f":"'T2-B(PP3)'!$F$76","v":0},"#'T2-B(PP3)'!$F$76"]
["pp3_bl4_3_2_total_out",{"$f":"'T2-B(PP3)'!$I$76","v":0},"#'T2-B(PP3)'!$I$76"]
["pp3_bl4_3_2_unit",{"$f":"'T2-B(PP3)'!$C$76","v":0},"#'T2-B(PP3)'!$C$76"]
["pp3_bl4_3_2_unit_in",{"$f":"'T2-B(PP3)'!$D$76","v":0},"#'T2-B(PP3)'!$D$76"]
["pp3_bl4_3_2_units_out",{"$f":"'T2-B(PP3)'!$G$76","v":0},"#'T2-B(PP3)'!$G$76"]
["pp3_bl4_3_3_name",{"$f":"'T2-B(PP3)'!$B$77","v":0},"#'T2-B(PP3)'!$B$77"]
["pp3_bl4_3_3_rate_in",{"$f":"'T2-B(PP3)'!$E$77","v":0},"#'T2-B(PP3)'!$E$77"]
["pp3_bl4_3_3_rate_out",{"$f":"'T2-B(PP3)'!$H$77","v":0},"#'T2-B(PP3)'!$H$77"]
["pp3_bl4_3_3_total",{"$f":"'T2-B(PP3)'!$J$77","v":0},"#'T2-B(PP3)'!$J$77"]
["pp3_bl4_3_3_total_in",{"$f":"'T2-B(PP3)'!$F$77","v":0},"#'T2-B(PP3)'!$F$77"]
["pp3_bl4_3_3_total_out",{"$f":"'T2-B(PP3)'!$I$77","v":0},"#'T2-B(PP3)'!$I$77"]
["pp3_bl4_3_3_unit",{"$f":"'T2-B(PP3)'!$C$77","v":0},"#'T2-B(PP3)'!$C$77"]
["pp3_bl4_3_3_unit_in",{"$f":"'T2-B(PP3)'!$D$77","v":0},"#'T2-B(PP3)'!$D$77"]
["pp3_bl4_3_3_units_out",{"$f":"'T2-B(PP3)'!$G$77","v":0},"#'T2-B(PP3)'!$G$77"]
["pp3_bl4_3_4_name",{"$f":"'T2-B(PP3)'!$B$78","v":0},"#'T2-B(PP3)'!$B$78"]
["pp3_bl4_3_4_rate_in",{"$f":"'T2-B(PP3)'!$E$78","v":0},"#'T2-B(PP3)'!$E$78"]
["pp3_bl4_3_4_rate_out",{"$f":"'T2-B(PP3)'!$H$78","v":0},"#'T2-B(PP3)'!$H$78"]
["pp3_bl4_3_4_total",{"$f":"'T2-B(PP3)'!$J$78","v":0},"#'T2-B(PP3)'!$J$78"]
["pp3_bl4_3_4_total_in",{"$f":"'T2-B(PP3)'!$F$78","v":0},"#'T2-B(PP3)'!$F$78"]
["pp3_bl4_3_4_total_out",{"$f":"'T2-B(PP3)'!$I$78","v":0},"#'T2-B(PP3)'!$I$78"]
["pp3_bl4_3_4_unit",{"$f":"'T2-B(PP3)'!$C$78","v":0},"#'T2-B(PP3)'!$C$78"]
["pp3_bl4_3_4_unit_in",{"$f":"'T2-B(PP3)'!$D$78","v":0},"#'T2-B(PP3)'!$D$78"]
["pp3_bl4_3_4_units_out",{"$f":"'T2-B(PP3)'!$G$78","v":0},"#'T2-B(PP3)'!$G$78"]
["pp3_bl4_3_5_name",{"$f":"'T2-B(PP3)'!$B$79","v":0},"#'T2-B(PP3)'!$B$79"]
["pp3_bl4_3_5_rate_in",{"$f":"'T2-B(PP3)'!$E$79","v":0},"#'T2-B(PP3)'!$E$79"]
["pp3_bl4_3_5_rate_out",{"$f":"'T2-B(PP3)'!$H$79","v":0},"#'T2-B(PP3)'!$H$79"]
["pp3_bl4_3_5_total",{"$f":"'T2-B(PP3)'!$J$79","v":0},"#'T2-B(PP3)'!$J$79"]
["pp3_bl4_3_5_total_in",{"$f":"'T2-B(PP3)'!$F$79","v":0},"#'T2-B(PP3)'!$F$79"]
["pp3_bl4_3_5_total_out",{"$f":"'T2-B(PP3)'!$I$79","v":0},"#'T2-B(PP3)'!$I$79"]
["pp3_bl4_3_5_unit",{"$f":"'T2-B(PP3)'!$C$79","v":0},"#'T2-B(PP3)'!$C$79"]
["pp3_bl4_3_5_unit_in",{"$f":"'T2-B(PP3)'!$D$79","v":0},"#'T2-B(PP3)'!$D$79"]
["pp3_bl4_3_5_units_out",{"$f":"'T2-B(PP3)'!$G$79","v":0},"#'T2-B(PP3)'!$G$79"]
["pp3_bl4_3_6_name",{"$f":"'T2-B(PP3)'!$B$80","v":0},"#'T2-B(PP3)'!$B$80"]
["pp3_bl4_3_6_rate_in",{"$f":"'T2-B(PP3)'!$E$80","v":0},"#'T2-B(PP3)'!$E$80"]
["pp3_bl4_3_6_rate_out",{"$f":"'T2-B(PP3)'!$H$80","v":0},"#'T2-B(PP3)'!$H$80"]
["pp3_bl4_3_6_total",{"$f":"'T2-B(PP3)'!$J$80","v":0},"#'T2-B(PP3)'!$J$80"]
["pp3_bl4_3_6_total_in",{"$f":"'T2-B(PP3)'!$F$80","v":0},"#'T2-B(PP3)'!$F$80"]
["pp3_bl4_3_6_total_out",{"$f":"'T2-B(PP3)'!$I$80","v":0},"#'T2-B(PP3)'!$I$80"]
["pp3_bl4_3_6_unit",{"$f":"'T2-B(PP3)'!$C$80","v":0},"#'T2-B(PP3)'!$C$80"]
["pp3_bl4_3_6_unit_in",{"$f":"'T2-B(PP3)'!$D$80","v":0},"#'T2-B(PP3)'!$D$80"]
["pp3_bl4_3_6_units_out",{"$f":"'T2-B(PP3)'!$G$80","v":0},"#'T2-B(PP3)'!$G$80"]
["pp3_bl4_3_7_name",{"$f":"'T2-B(PP3)'!$B$81","v":0},"#'T2-B(PP3)'!$B$81"]
["pp3_bl4_3_7_rate_in",{"$f":"'T2-B(PP3)'!$E$81","v":0},"#'T2-B(PP3)'!$E$81"]
["pp3_bl4_3_7_rate_out",{"$f":"'T2-B(PP3)'!$H$81","v":0},"#'T2-B(PP3)'!$H$81"]
["pp3_bl4_3_7_total",{"$f":"'T2-B(PP3)'!$J$81","v":0},"#'T2-B(PP3)'!$J$81"]
["pp3_bl4_3_7_total_in",{"$f":"'T2-B(PP3)'!$F$81","v":0},"#'T2-B(PP3)'!$F$81"]
["pp3_bl4_3_7_total_out",{"$f":"'T2-B(PP3)'!$I$81","v":0},"#'T2-B(PP3)'!$I$81"]
["pp3_bl4_3_7_unit",{"$f":"'T2-B(PP3)'!$C$81","v":0},"#'T2-B(PP3)'!$C$81"]
["pp3_bl4_3_7_unit_in",{"$f":"'T2-B(PP3)'!$D$81","v":0},"#'T2-B(PP3)'!$D$81"]
["pp3_bl4_3_7_units_out",{"$f":"'T2-B(PP3)'!$G$81","v":0},"#'T2-B(PP3)'!$G$81"]
["pp3_bl4_3_8_name",{"$f":"'T2-B(PP3)'!$B$82","v":0},"#'T2-B(PP3)'!$B$82"]
["pp3_bl4_3_8_rate_in",{"$f":"'T2-B(PP3)'!$E$82","v":0},"#'T2-B(PP3)'!$E$82"]
["pp3_bl4_3_8_rate_out",{"$f":"'T2-B(PP3)'!$H$82","v":0},"#'T2-B(PP3)'!$H$82"]
["pp3_bl4_3_8_total",{"$f":"'T2-B(PP3)'!$J$82","v":0},"#'T2-B(PP3)'!$J$82"]
["pp3_bl4_3_8_total_in",{"$f":"'T2-B(PP3)'!$F$82","v":0},"#'T2-B(PP3)'!$F$82"]
["pp3_bl4_3_8_total_out",{"$f":"'T2-B(PP3)'!$I$82","v":0},"#'T2-B(PP3)'!$I$82"]
["pp3_bl4_3_8_unit",{"$f":"'T2-B(PP3)'!$C$82","v":0},"#'T2-B(PP3)'!$C$82"]
["pp3_bl4_3_8_unit_in",{"$f":"'T2-B(PP3)'!$D$82","v":0},"#'T2-B(PP3)'!$D$82"]
["pp3_bl4_3_8_units_out",{"$f":"'T2-B(PP3)'!$G$82","v":0},"#'T2-B(PP3)'!$G$82"]
["pp3_bl4_3_9_name",{"$f":"'T2-B(PP3)'!$B$83","v":0},"#'T2-B(PP3)'!$B$83"]
["pp3_bl4_3_9_rate_in",{"$f":"'T2-B(PP3)'!$E$83","v":0},"#'T2-B(PP3)'!$E$83"]
["pp3_bl4_3_9_rate_out",{"$f":"'T2-B(PP3)'!$H$83","v":0},"#'T2-B(PP3)'!$H$83"]
["pp3_bl4_3_9_total",{"$f":"'T2-B(PP3)'!$J$83","v":0},"#'T2-B(PP3)'!$J$83"]
["pp3_bl4_3_9_total_in",{"$f":"'T2-B(PP3)'!$F$83","v":0},"#'T2-B(PP3)'!$F$83"]
["pp3_bl4_3_9_total_out",{"$f":"'T2-B(PP3)'!$I$83","v":0},"#'T2-B(PP3)'!$I$83"]
["pp3_bl4_3_9_unit",{"$f":"'T2-B(PP3)'!$C$83","v":0},"#'T2-B(PP3)'!$C$83"]
["pp3_bl4_3_9_unit_in",{"$f":"'T2-B(PP3)'!$D$83","v":0},"#'T2-B(PP3)'!$D$83"]
["pp3_bl4_3_9_units_out",{"$f":"'T2-B(PP3)'!$G$83","v":0},"#'T2-B(PP3)'!$G$83"]
["pp3_bl4_3_total",{"$f":"'T2-B(PP3)'!$J$74","v":0},"#'T2-B(PP3)'!$J$74"]
["pp3_bl4_3_total_in",{"$f":"'T2-B(PP3)'!$F$74","v":0},"#'T2-B(PP3)'!$F$74"]
["pp3_bl4_3_total_out",{"$f":"'T2-B(PP3)'!$I$74","v":0},"#'T2-B(PP3)'!$I$74"]
["pp3_bl4_4_1_name",{"$f":"'T2-B(PP3)'!$B$86","v":0},"#'T2-B(PP3)'!$B$86"]
["pp3_bl4_4_1_rate_in",{"$f":"'T2-B(PP3)'!$E$86","v":0},"#'T2-B(PP3)'!$E$86"]
["pp3_bl4_4_1_rate_out",{"$f":"'T2-B(PP3)'!$H$86","v":0},"#'T2-B(PP3)'!$H$86"]
["pp3_bl4_4_1_total",{"$f":"'T2-B(PP3)'!$J$86","v":0},"#'T2-B(PP3)'!$J$86"]
["pp3_bl4_4_1_total_in",{"$f":"'T2-B(PP3)'!$F$86","v":0},"#'T2-B(PP3)'!$F$86"]
["pp3_bl4_4_1_total_out",{"$f":"'T2-B(PP3)'!$I$86","v":0},"#'T2-B(PP3)'!$I$86"]
["pp3_bl4_4_1_unit",{"$f":"'T2-B(PP3)'!$C$86","v":0},"#'T2-B(PP3)'!$C$86"]
["pp3_bl4_4_1_unit_in",{"$f":"'T2-B(PP3)'!$D$86","v":0},"#'T2-B(PP3)'!$D$86"]
["pp3_bl4_4_1_units_out",{"$f":"'T2-B(PP3)'!$G$86","v":0},"#'T2-B(PP3)'!$G$86"]
["pp3_bl4_4_10_name",{"$f":"'T2-B(PP3)'!$B$95","v":0},"#'T2-B(PP3)'!$B$95"]
["pp3_bl4_4_10_rate_in",{"$f":"'T2-B(PP3)'!$E$95","v":0},"#'T2-B(PP3)'!$E$95"]
["pp3_bl4_4_10_rate_out",{"$f":"'T2-B(PP3)'!$H$95","v":0},"#'T2-B(PP3)'!$H$95"]
["pp3_bl4_4_10_total",{"$f":"'T2-B(PP3)'!$J$95","v":0},"#'T2-B(PP3)'!$J$95"]
["pp3_bl4_4_10_total_in",{"$f":"'T2-B(PP3)'!$F$95","v":0},"#'T2-B(PP3)'!$F$95"]
["pp3_bl4_4_10_total_out",{"$f":"'T2-B(PP3)'!$I$95","v":0},"#'T2-B(PP3)'!$I$95"]
["pp3_bl4_4_10_unit",{"$f":"'T2-B(PP3)'!$C$95","v":0},"#'T2-B(PP3)'!$C$95"]
["pp3_bl4_4_10_unit_in",{"$f":"'T2-B(PP3)'!$D$95","v":0},"#'T2-B(PP3)'!$D$95"]
["pp3_bl4_4_10_units_out",{"$f":"'T2-B(PP3)'!$G$95","v":0},"#'T2-B(PP3)'!$G$95"]
["pp3_bl4_4_2_name",{"$f":"'T2-B(PP3)'!$B$87","v":0},"#'T2-B(PP3)'!$B$87"]
["pp3_bl4_4_2_rate_in",{"$f":"'T2-B(PP3)'!$E$87","v":0},"#'T2-B(PP3)'!$E$87"]
["pp3_bl4_4_2_rate_out",{"$f":"'T2-B(PP3)'!$H$87","v":0},"#'T2-B(PP3)'!$H$87"]
["pp3_bl4_4_2_total",{"$f":"'T2-B(PP3)'!$J$87","v":0},"#'T2-B(PP3)'!$J$87"]
["pp3_bl4_4_2_total_in",{"$f":"'T2-B(PP3)'!$F$87","v":0},"#'T2-B(PP3)'!$F$87"]
["pp3_bl4_4_2_total_out",{"$f":"'T2-B(PP3)'!$I$87","v":0},"#'T2-B(PP3)'!$I$87"]
["pp3_bl4_4_2_unit",{"$f":"'T2-B(PP3)'!$C$87","v":0},"#'T2-B(PP3)'!$C$87"]
["pp3_bl4_4_2_unit_in",{"$f":"'T2-B(PP3)'!$D$87","v":0},"#'T2-B(PP3)'!$D$87"]
["pp3_bl4_4_2_units_out",{"$f":"'T2-B(PP3)'!$G$87","v":0},"#'T2-B(PP3)'!$G$87"]
["pp3_bl4_4_3_name",{"$f":"'T2-B(PP3)'!$B$88","v":0},"#'T2-B(PP3)'!$B$88"]
["pp3_bl4_4_3_rate_in",{"$f":"'T2-B(PP3)'!$E$88","v":0},"#'T2-B(PP3)'!$E$88"]
["pp3_bl4_4_3_rate_out",{"$f":"'T2-B(PP3)'!$H$88","v":0},"#'T2-B(PP3)'!$H$88"]
["pp3_bl4_4_3_total",{"$f":"'T2-B(PP3)'!$J$88","v":0},"#'T2-B(PP3)'!$J$88"]
["pp3_bl4_4_3_total_in",{"$f":"'T2-B(PP3)'!$F$88","v":0},"#'T2-B(PP3)'!$F$88"]
["pp3_bl4_4_3_total_out",{"$f":"'T2-B(PP3)'!$I$88","v":0},"#'T2-B(PP3)'!$I$88"]
["pp3_bl4_4_3_unit",{"$f":"'T2-B(PP3)'!$C$88","v":0},"#'T2-B(PP3)'!$C$88"]
["pp3_bl4_4_3_unit_in",{"$f":"'T2-B(PP3)'!$D$88","v":0},"#'T2-B(PP3)'!$D$88"]
["pp3_bl4_4_3_units_out",{"$f":"'T2-B(PP3)'!$G$88","v":0},"#'T2-B(PP3)'!$G$88"]
["pp3_bl4_4_4_name",{"$f":"'T2-B(PP3)'!$B$89","v":0},"#'T2-B(PP3)'!$B$89"]
["pp3_bl4_4_4_rate_in",{"$f":"'T2-B(PP3)'!$E$89","v":0},"#'T2-B(PP3)'!$E$89"]
["pp3_bl4_4_4_rate_out",{"$f":"'T2-B(PP3)'!$H$89","v":0},"#'T2-B(PP3)'!$H$89"]
["pp3_bl4_4_4_total",{"$f":"'T2-B(PP3)'!$J$89","v":0},"#'T2-B(PP3)'!$J$89"]
["pp3_bl4_4_4_total_in",{"$f":"'T2-B(PP3)'!$F$89","v":0},"#'T2-B(PP3)'!$F$89"]
["pp3_bl4_4_4_total_out",{"$f":"'T2-B(PP3)'!$I$89","v":0},"#'T2-B(PP3)'!$I$89"]
["pp3_bl4_4_4_unit",{"$f":"'T2-B(PP3)'!$C$89","v":0},"#'T2-B(PP3)'!$C$89"]
["pp3_bl4_4_4_unit_in",{"$f":"'T2-B(PP3)'!$D$89","v":0},"#'T2-B(PP3)'!$D$89"]
["pp3_bl4_4_4_units_out",{"$f":"'T2-B(PP3)'!$G$89","v":0},"#'T2-B(PP3)'!$G$89"]
["pp3_bl4_4_5_name",{"$f":"'T2-B(PP3)'!$B$90","v":0},"#'T2-B(PP3)'!$B$90"]
["pp3_bl4_4_5_rate_in",{"$f":"'T2-B(PP3)'!$E$90","v":0},"#'T2-B(PP3)'!$E$90"]
["pp3_bl4_4_5_rate_out",{"$f":"'T2-B(PP3)'!$H$90","v":0},"#'T2-B(PP3)'!$H$90"]
["pp3_bl4_4_5_total",{"$f":"'T2-B(PP3)'!$J$90","v":0},"#'T2-B(PP3)'!$J$90"]
["pp3_bl4_4_5_total_in",{"$f":"'T2-B(PP3)'!$F$90","v":0},"#'T2-B(PP3)'!$F$90"]
["pp3_bl4_4_5_total_out",{"$f":"'T2-B(PP3)'!$I$90","v":0},"#'T2-B(PP3)'!$I$90"]
["pp3_bl4_4_5_unit",{"$f":"'T2-B(PP3)'!$C$90","v":0},"#'T2-B(PP3)'!$C$90"]
["pp3_bl4_4_5_unit_in",{"$f":"'T2-B(PP3)'!$D$90","v":0},"#'T2-B(PP3)'!$D$90"]
["pp3_bl4_4_5_units_out",{"$f":"'T2-B(PP3)'!$G$90","v":0},"#'T2-B(PP3)'!$G$90"]
["pp3_bl4_4_6_name",{"$f":"'T2-B(PP3)'!$B$91","v":0},"#'T2-B(PP3)'!$B$91"]
["pp3_bl4_4_6_rate_in",{"$f":"'T2-B(PP3)'!$E$91","v":0},"#'T2-B(PP3)'!$E$91"]
["pp3_bl4_4_6_rate_out",{"$f":"'T2-B(PP3)'!$H$91","v":0},"#'T2-B(PP3)'!$H$91"]
["pp3_bl4_4_6_total",{"$f":"'T2-B(PP3)'!$J$91","v":0},"#'T2-B(PP3)'!$J$91"]
["pp3_bl4_4_6_total_in",{"$f":"'T2-B(PP3)'!$F$91","v":0},"#'T2-B(PP3)'!$F$91"]
["pp3_bl4_4_6_total_out",{"$f":"'T2-B(PP3)'!$I$91","v":0},"#'T2-B(PP3)'!$I$91"]
["pp3_bl4_4_6_unit",{"$f":"'T2-B(PP3)'!$C$91","v":0},"#'T2-B(PP3)'!$C$91"]
["pp3_bl4_4_6_unit_in",{"$f":"'T2-B(PP3)'!$D$91","v":0},"#'T2-B(PP3)'!$D$91"]
["pp3_bl4_4_6_units_out",{"$f":"'T2-B(PP3)'!$G$91","v":0},"#'T2-B(PP3)'!$G$91"]
["pp3_bl4_4_7_name",{"$f":"'T2-B(PP3)'!$B$92","v":0},"#'T2-B(PP3)'!$B$92"]
["pp3_bl4_4_7_rate_in",{"$f":"'T2-B(PP3)'!$E$92","v":0},"#'T2-B(PP3)'!$E$92"]
["pp3_bl4_4_7_rate_out",{"$f":"'T2-B(PP3)'!$H$92","v":0},"#'T2-B(PP3)'!$H$92"]
["pp3_bl4_4_7_total",{"$f":"'T2-B(PP3)'!$J$92","v":0},"#'T2-B(PP3)'!$J$92"]
["pp3_bl4_4_7_total_in",{"$f":"'T2-B(PP3)'!$F$92","v":0},"#'T2-B(PP3)'!$F$92"]
["pp3_bl4_4_7_total_out",{"$f":"'T2-B(PP3)'!$I$92","v":0},"#'T2-B(PP3)'!$I$92"]
["pp3_bl4_4_7_unit",{"$f":"'T2-B(PP3)'!$C$92","v":0},"#'T2-B(PP3)'!$C$92"]
["pp3_bl4_4_7_unit_in",{"$f":"'T2-B(PP3)'!$D$92","v":0},"#'T2-B(PP3)'!$D$92"]
["pp3_bl4_4_7_units_out",{"$f":"'T2-B(PP3)'!$G$92","v":0},"#'T2-B(PP3)'!$G$92"]
["pp3_bl4_4_8_name",{"$f":"'T2-B(PP3)'!$B$93","v":0},"#'T2-B(PP3)'!$B$93"]
["pp3_bl4_4_8_rate_in",{"$f":"'T2-B(PP3)'!$E$93","v":0},"#'T2-B(PP3)'!$E$93"]
["pp3_bl4_4_8_rate_out",{"$f":"'T2-B(PP3)'!$H$93","v":0},"#'T2-B(PP3)'!$H$93"]
["pp3_bl4_4_8_total",{"$f":"'T2-B(PP3)'!$J$93","v":0},"#'T2-B(PP3)'!$J$93"]
["pp3_bl4_4_8_total_in",{"$f":"'T2-B(PP3)'!$F$93","v":0},"#'T2-B(PP3)'!$F$93"]
["pp3_bl4_4_8_total_out",{"$f":"'T2-B(PP3)'!$I$93","v":0},"#'T2-B(PP3)'!$I$93"]
["pp3_bl4_4_8_unit",{"$f":"'T2-B(PP3)'!$C$93","v":0},"#'T2-B(PP3)'!$C$93"]
["pp3_bl4_4_8_unit_in",{"$f":"'T2-B(PP3)'!$D$93","v":0},"#'T2-B(PP3)'!$D$93"]
["pp3_bl4_4_8_units_out",{"$f":"'T2-B(PP3)'!$G$93","v":0},"#'T2-B(PP3)'!$G$93"]
["pp3_bl4_4_9_name",{"$f":"'T2-B(PP3)'!$B$94","v":0},"#'T2-B(PP3)'!$B$94"]
["pp3_bl4_4_9_rate_in",{"$f":"'T2-B(PP3)'!$E$94","v":0},"#'T2-B(PP3)'!$E$94"]
["pp3_bl4_4_9_rate_out",{"$f":"'T2-B(PP3)'!$H$94","v":0},"#'T2-B(PP3)'!$H$94"]
["pp3_bl4_4_9_total",{"$f":"'T2-B(PP3)'!$J$94","v":0},"#'T2-B(PP3)'!$J$94"]
["pp3_bl4_4_9_total_in",{"$f":"'T2-B(PP3)'!$F$94","v":0},"#'T2-B(PP3)'!$F$94"]
["pp3_bl4_4_9_total_out",{"$f":"'T2-B(PP3)'!$I$94","v":0},"#'T2-B(PP3)'!$I$94"]
["pp3_bl4_4_9_unit",{"$f":"'T2-B(PP3)'!$C$94","v":0},"#'T2-B(PP3)'!$C$94"]
["pp3_bl4_4_9_unit_in",{"$f":"'T2-B(PP3)'!$D$94","v":0},"#'T2-B(PP3)'!$D$94"]
["pp3_bl4_4_9_units_out",{"$f":"'T2-B(PP3)'!$G$94","v":0},"#'T2-B(PP3)'!$G$94"]
["pp3_bl4_4_total",{"$f":"'T2-B(PP3)'!$J$85","v":0},"#'T2-B(PP3)'!$J$85"]
["pp3_bl4_4_total_in",{"$f":"'T2-B(PP3)'!$F$85","v":0},"#'T2-B(PP3)'!$F$85"]
["pp3_bl4_4_total_out",{"$f":"'T2-B(PP3)'!$I$85","v":0},"#'T2-B(PP3)'!$I$85"]
["pp3_bl4_5_1_name",{"$f":"'T2-B(PP3)'!$B$97","v":0},"#'T2-B(PP3)'!$B$97"]
["pp3_bl4_5_1_rate_in",{"$f":"'T2-B(PP3)'!$E$97","v":0},"#'T2-B(PP3)'!$E$97"]
["pp3_bl4_5_1_rate_out",{"$f":"'T2-B(PP3)'!$H$97","v":0},"#'T2-B(PP3)'!$H$97"]
["pp3_bl4_5_1_total",{"$f":"'T2-B(PP3)'!$J$97","v":0},"#'T2-B(PP3)'!$J$97"]
["pp3_bl4_5_1_total_in",{"$f":"'T2-B(PP3)'!$F$97","v":0},"#'T2-B(PP3)'!$F$97"]
["pp3_bl4_5_1_total_out",{"$f":"'T2-B(PP3)'!$I$97","v":0},"#'T2-B(PP3)'!$I$97"]
["pp3_bl4_5_1_unit",{"$f":"'T2-B(PP3)'!$C$97","v":0},"#'T2-B(PP3)'!$C$97"]
["pp3_bl4_5_1_unit_in",{"$f":"'T2-B(PP3)'!$D$97","v":0},"#'T2-B(PP3)'!$D$97"]
["pp3_bl4_5_1_units_out",{"$f":"'T2-B(PP3)'!$G$97","v":0},"#'T2-B(PP3)'!$G$97"]
["pp3_bl4_5_10_name",{"$f":"'T2-B(PP3)'!$B$106","v":0},"#'T2-B(PP3)'!$B$106"]
["pp3_bl4_5_10_rate_in",{"$f":"'T2-B(PP3)'!$E$106","v":0},"#'T2-B(PP3)'!$E$106"]
["pp3_bl4_5_10_rate_out",{"$f":"'T2-B(PP3)'!$H$106","v":0},"#'T2-B(PP3)'!$H$106"]
["pp3_bl4_5_10_total",{"$f":"'T2-B(PP3)'!$J$106","v":0},"#'T2-B(PP3)'!$J$106"]
["pp3_bl4_5_10_total_in",{"$f":"'T2-B(PP3)'!$F$106","v":0},"#'T2-B(PP3)'!$F$106"]
["pp3_bl4_5_10_total_out",{"$f":"'T2-B(PP3)'!$I$106","v":0},"#'T2-B(PP3)'!$I$106"]
["pp3_bl4_5_10_unit",{"$f":"'T2-B(PP3)'!$C$106","v":0},"#'T2-B(PP3)'!$C$106"]
["pp3_bl4_5_10_unit_in",{"$f":"'T2-B(PP3)'!$D$106","v":0},"#'T2-B(PP3)'!$D$106"]
["pp3_bl4_5_10_units_out",{"$f":"'T2-B(PP3)'!$G$106","v":0},"#'T2-B(PP3)'!$G$106"]
["pp3_bl4_5_2_name",{"$f":"'T2-B(PP3)'!$B$98","v":0},"#'T2-B(PP3)'!$B$98"]
["pp3_bl4_5_2_rate_in",{"$f":"'T2-B(PP3)'!$E$98","v":0},"#'T2-B(PP3)'!$E$98"]
["pp3_bl4_5_2_rate_out",{"$f":"'T2-B(PP3)'!$H$98","v":0},"#'T2-B(PP3)'!$H$98"]
["pp3_bl4_5_2_total",{"$f":"'T2-B(PP3)'!$J$98","v":0},"#'T2-B(PP3)'!$J$98"]
["pp3_bl4_5_2_total_in",{"$f":"'T2-B(PP3)'!$F$98","v":0},"#'T2-B(PP3)'!$F$98"]
["pp3_bl4_5_2_total_out",{"$f":"'T2-B(PP3)'!$I$98","v":0},"#'T2-B(PP3)'!$I$98"]
["pp3_bl4_5_2_unit",{"$f":"'T2-B(PP3)'!$C$98","v":0},"#'T2-B(PP3)'!$C$98"]
["pp3_bl4_5_2_unit_in",{"$f":"'T2-B(PP3)'!$D$98","v":0},"#'T2-B(PP3)'!$D$98"]
["pp3_bl4_5_2_units_out",{"$f":"'T2-B(PP3)'!$G$98","v":0},"#'T2-B(PP3)'!$G$98"]
["pp3_bl4_5_3_name",{"$f":"'T2-B(PP3)'!$B$99","v":0},"#'T2-B(PP3)'!$B$99"]
["pp3_bl4_5_3_rate_in",{"$f":"'T2-B(PP3)'!$E$99","v":0},"#'T2-B(PP3)'!$E$99"]
["pp3_bl4_5_3_rate_out",{"$f":"'T2-B(PP3)'!$H$99","v":0},"#'T2-B(PP3)'!$H$99"]
["pp3_bl4_5_3_total",{"$f":"'T2-B(PP3)'!$J$99","v":0},"#'T2-B(PP3)'!$J$99"]
["pp3_bl4_5_3_total_in",{"$f":"'T2-B(PP3)'!$F$99","v":0},"#'T2-B(PP3)'!$F$99"]
["pp3_bl4_5_3_total_out",{"$f":"'T2-B(PP3)'!$I$99","v":0},"#'T2-B(PP3)'!$I$99"]
["pp3_bl4_5_3_unit",{"$f":"'T2-B(PP3)'!$C$99","v":0},"#'T2-B(PP3)'!$C$99"]
["pp3_bl4_5_3_unit_in",{"$f":"'T2-B(PP3)'!$D$99","v":0},"#'T2-B(PP3)'!$D$99"]
["pp3_bl4_5_3_units_out",{"$f":"'T2-B(PP3)'!$G$99","v":0},"#'T2-B(PP3)'!$G$99"]
["pp3_bl4_5_4_name",{"$f":"'T2-B(PP3)'!$B$100","v":0},"#'T2-B(PP3)'!$B$100"]
["pp3_bl4_5_4_rate_in",{"$f":"'T2-B(PP3)'!$E$100","v":0},"#'T2-B(PP3)'!$E$100"]
["pp3_bl4_5_4_rate_out",{"$f":"'T2-B(PP3)'!$H$100","v":0},"#'T2-B(PP3)'!$H$100"]
["pp3_bl4_5_4_total",{"$f":"'T2-B(PP3)'!$J$100","v":0},"#'T2-B(PP3)'!$J$100"]
["pp3_bl4_5_4_total_in",{"$f":"'T2-B(PP3)'!$F$100","v":0},"#'T2-B(PP3)'!$F$100"]
["pp3_bl4_5_4_total_out",{"$f":"'T2-B(PP3)'!$I$100","v":0},"#'T2-B(PP3)'!$I$100"]
["pp3_bl4_5_4_unit",{"$f":"'T2-B(PP3)'!$C$100","v":0},"#'T2-B(PP3)'!$C$100"]
["pp3_bl4_5_4_unit_in",{"$f":"'T2-B(PP3)'!$D$100","v":0},"#'T2-B(PP3)'!$D$100"]
["pp3_bl4_5_4_units_out",{"$f":"'T2-B(PP3)'!$G$100","v":0},"#'T2-B(PP3)'!$G$100"]
["pp3_bl4_5_5_name",{"$f":"'T2-B(PP3)'!$B$101","v":0},"#'T2-B(PP3)'!$B$101"]
["pp3_bl4_5_5_rate_in",{"$f":"'T2-B(PP3)'!$E$101","v":0},"#'T2-B(PP3)'!$E$101"]
["pp3_bl4_5_5_rate_out",{"$f":"'T2-B(PP3)'!$H$101","v":0},"#'T2-B(PP3)'!$H$101"]
["pp3_bl4_5_5_total",{"$f":"'T2-B(PP3)'!$J$101","v":0},"#'T2-B(PP3)'!$J$101"]
["pp3_bl4_5_5_total_in",{"$f":"'T2-B(PP3)'!$F$101","v":0},"#'T2-B(PP3)'!$F$101"]
["pp3_bl4_5_5_total_out",{"$f":"'T2-B(PP3)'!$I$101","v":0},"#'T2-B(PP3)'!$I$101"]
["pp3_bl4_5_5_unit",{"$f":"'T2-B(PP3)'!$C$101","v":0},"#'T2-B(PP3)'!$C$101"]
["pp3_bl4_5_5_unit_in",{"$f":"'T2-B(PP3)'!$D$101","v":0},"#'T2-B(PP3)'!$D$101"]
["pp3_bl4_5_5_units_out",{"$f":"'T2-B(PP3)'!$G$101","v":0},"#'T2-B(PP3)'!$G$101"]
["pp3_bl4_5_6_name",{"$f":"'T2-B(PP3)'!$B$102","v":0},"#'T2-B(PP3)'!$B$102"]
["pp3_bl4_5_6_rate_in",{"$f":"'T2-B(PP3)'!$E$102","v":0},"#'T2-B(PP3)'!$E$102"]
["pp3_bl4_5_6_rate_out",{"$f":"'T2-B(PP3)'!$H$102","v":0},"#'T2-B(PP3)'!$H$102"]
["pp3_bl4_5_6_total",{"$f":"'T2-B(PP3)'!$J$102","v":0},"#'T2-B(PP3)'!$J$102"]
["pp3_bl4_5_6_total_in",{"$f":"'T2-B(PP3)'!$F$102","v":0},"#'T2-B(PP3)'!$F$102"]
["pp3_bl4_5_6_total_out",{"$f":"'T2-B(PP3)'!$I$102","v":0},"#'T2-B(PP3)'!$I$102"]
["pp3_bl4_5_6_unit",{"$f":"'T2-B(PP3)'!$C$102","v":0},"#'T2-B(PP3)'!$C$102"]
["pp3_bl4_5_6_unit_in",{"$f":"'T2-B(PP3)'!$D$102","v":0},"#'T2-B(PP3)'!$D$102"]
["pp3_bl4_5_6_units_out",{"$f":"'T2-B(PP3)'!$G$102","v":0},"#'T2-B(PP3)'!$G$102"]
["pp3_bl4_5_7_name",{"$f":"'T2-B(PP3)'!$B$103","v":0},"#'T2-B(PP3)'!$B$103"]
["pp3_bl4_5_7_rate_in",{"$f":"'T2-B(PP3)'!$E$103","v":0},"#'T2-B(PP3)'!$E$103"]
["pp3_bl4_5_7_rate_out",{"$f":"'T2-B(PP3)'!$H$103","v":0},"#'T2-B(PP3)'!$H$103"]
["pp3_bl4_5_7_total",{"$f":"'T2-B(PP3)'!$J$103","v":0},"#'T2-B(PP3)'!$J$103"]
["pp3_bl4_5_7_total_in",{"$f":"'T2-B(PP3)'!$F$103","v":0},"#'T2-B(PP3)'!$F$103"]
["pp3_bl4_5_7_total_out",{"$f":"'T2-B(PP3)'!$I$103","v":0},"#'T2-B(PP3)'!$I$103"]
["pp3_bl4_5_7_unit",{"$f":"'T2-B(PP3)'!$C$103","v":0},"#'T2-B(PP3)'!$C$103"]
["pp3_bl4_5_7_unit_in",{"$f":"'T2-B(PP3)'!$D$103","v":0},"#'T2-B(PP3)'!$D$103"]
["pp3_bl4_5_7_units_out",{"$f":"'T2-B(PP3)'!$G$103","v":0},"#'T2-B(PP3)'!$G$103"]
["pp3_bl4_5_8_name",{"$f":"'T2-B(PP3)'!$B$104","v":0},"#'T2-B(PP3)'!$B$104"]
["pp3_bl4_5_8_rate_in",{"$f":"'T2-B(PP3)'!$E$104","v":0},"#'T2-B(PP3)'!$E$104"]
["pp3_bl4_5_8_rate_out",{"$f":"'T2-B(PP3)'!$H$104","v":0},"#'T2-B(PP3)'!$H$104"]
["pp3_bl4_5_8_total",{"$f":"'T2-B(PP3)'!$J$104","v":0},"#'T2-B(PP3)'!$J$104"]
["pp3_bl4_5_8_total_in",{"$f":"'T2-B(PP3)'!$F$104","v":0},"#'T2-B(PP3)'!$F$104"]
["pp3_bl4_5_8_total_out",{"$f":"'T2-B(PP3)'!$I$104","v":0},"#'T2-B(PP3)'!$I$104"]
["pp3_bl4_5_8_unit",{"$f":"'T2-B(PP3)'!$C$104","v":0},"#'T2-B(PP3)'!$C$104"]
["pp3_bl4_5_8_unit_in",{"$f":"'T2-B(PP3)'!$D$104","v":0},"#'T2-B(PP3)'!$D$104"]
["pp3_bl4_5_8_units_out",{"$f":"'T2-B(PP3)'!$G$104","v":0},"#'T2-B(PP3)'!$G$104"]
["pp3_bl4_5_9_name",{"$f":"'T2-B(PP3)'!$B$105","v":0},"#'T2-B(PP3)'!$B$105"]
["pp3_bl4_5_9_rate_in",{"$f":"'T2-B(PP3)'!$E$105","v":0},"#'T2-B(PP3)'!$E$105"]
["pp3_bl4_5_9_rate_out",{"$f":"'T2-B(PP3)'!$H$105","v":0},"#'T2-B(PP3)'!$H$105"]
["pp3_bl4_5_9_total",{"$f":"'T2-B(PP3)'!$J$105","v":0},"#'T2-B(PP3)'!$J$105"]
["pp3_bl4_5_9_total_in",{"$f":"'T2-B(PP3)'!$F$105","v":0},"#'T2-B(PP3)'!$F$105"]
["pp3_bl4_5_9_total_out",{"$f":"'T2-B(PP3)'!$I$105","v":0},"#'T2-B(PP3)'!$I$105"]
["pp3_bl4_5_9_unit",{"$f":"'T2-B(PP3)'!$C$105","v":0},"#'T2-B(PP3)'!$C$105"]
["pp3_bl4_5_9_unit_in",{"$f":"'T2-B(PP3)'!$D$105","v":0},"#'T2-B(PP3)'!$D$105"]
["pp3_bl4_5_9_units_out",{"$f":"'T2-B(PP3)'!$G$105","v":0},"#'T2-B(PP3)'!$G$105"]
["pp3_bl4_5_total",{"$f":"'T2-B(PP3)'!$J$96","v":0},"#'T2-B(PP3)'!$J$96"]
["pp3_bl4_5_total_in",{"$f":"'T2-B(PP3)'!$F$96","v":0},"#'T2-B(PP3)'!$F$96"]
["pp3_bl4_5_total_out",{"$f":"'T2-B(PP3)'!$I$96","v":0},"#'T2-B(PP3)'!$I$96"]
["pp3_bl4_6_1_name",{"$f":"'T2-B(PP3)'!$B$108","v":0},"#'T2-B(PP3)'!$B$108"]
["pp3_bl4_6_1_rate_in",{"$f":"'T2-B(PP3)'!$E$108","v":0},"#'T2-B(PP3)'!$E$108"]
["pp3_bl4_6_1_rate_out",{"$f":"'T2-B(PP3)'!$H$108","v":0},"#'T2-B(PP3)'!$H$108"]
["pp3_bl4_6_1_total",{"$f":"'T2-B(PP3)'!$J$108","v":0},"#'T2-B(PP3)'!$J$108"]
["pp3_bl4_6_1_total_in",{"$f":"'T2-B(PP3)'!$F$108","v":0},"#'T2-B(PP3)'!$F$108"]
["pp3_bl4_6_1_total_out",{"$f":"'T2-B(PP3)'!$I$108","v":0},"#'T2-B(PP3)'!$I$108"]
["pp3_bl4_6_1_unit",{"$f":"'T2-B(PP3)'!$C$108","v":0},"#'T2-B(PP3)'!$C$108"]
["pp3_bl4_6_1_unit_in",{"$f":"'T2-B(PP3)'!$D$108","v":0},"#'T2-B(PP3)'!$D$108"]
["pp3_bl4_6_1_units_out",{"$f":"'T2-B(PP3)'!$G$108","v":0},"#'T2-B(PP3)'!$G$108"]
["pp3_bl4_6_10_name",{"$f":"'T2-B(PP3)'!$B$117","v":0},"#'T2-B(PP3)'!$B$117"]
["pp3_bl4_6_10_rate_in",{"$f":"'T2-B(PP3)'!$E$117","v":0},"#'T2-B(PP3)'!$E$117"]
["pp3_bl4_6_10_rate_out",{"$f":"'T2-B(PP3)'!$H$117","v":0},"#'T2-B(PP3)'!$H$117"]
["pp3_bl4_6_10_total",{"$f":"'T2-B(PP3)'!$J$117","v":0},"#'T2-B(PP3)'!$J$117"]
["pp3_bl4_6_10_total_in",{"$f":"'T2-B(PP3)'!$F$117","v":0},"#'T2-B(PP3)'!$F$117"]
["pp3_bl4_6_10_total_out",{"$f":"'T2-B(PP3)'!$I$117","v":0},"#'T2-B(PP3)'!$I$117"]
["pp3_bl4_6_10_unit",{"$f":"'T2-B(PP3)'!$C$117","v":0},"#'T2-B(PP3)'!$C$117"]
["pp3_bl4_6_10_unit_in",{"$f":"'T2-B(PP3)'!$D$117","v":0},"#'T2-B(PP3)'!$D$117"]
["pp3_bl4_6_10_units_out",{"$f":"'T2-B(PP3)'!$G$117","v":0},"#'T2-B(PP3)'!$G$117"]
["pp3_bl4_6_2_name",{"$f":"'T2-B(PP3)'!$B$109","v":0},"#'T2-B(PP3)'!$B$109"]
["pp3_bl4_6_2_rate_in",{"$f":"'T2-B(PP3)'!$E$109","v":0},"#'T2-B(PP3)'!$E$109"]
["pp3_bl4_6_2_rate_out",{"$f":"'T2-B(PP3)'!$H$109","v":0},"#'T2-B(PP3)'!$H$109"]
["pp3_bl4_6_2_total",{"$f":"'T2-B(PP3)'!$J$109","v":0},"#'T2-B(PP3)'!$J$109"]
["pp3_bl4_6_2_total_in",{"$f":"'T2-B(PP3)'!$F$109","v":0},"#'T2-B(PP3)'!$F$109"]
["pp3_bl4_6_2_total_out",{"$f":"'T2-B(PP3)'!$I$109","v":0},"#'T2-B(PP3)'!$I$109"]
["pp3_bl4_6_2_unit",{"$f":"'T2-B(PP3)'!$C$109","v":0},"#'T2-B(PP3)'!$C$109"]
["pp3_bl4_6_2_unit_in",{"$f":"'T2-B(PP3)'!$D$109","v":0},"#'T2-B(PP3)'!$D$109"]
["pp3_bl4_6_2_units_out",{"$f":"'T2-B(PP3)'!$G$109","v":0},"#'T2-B(PP3)'!$G$109"]
["pp3_bl4_6_3_name",{"$f":"'T2-B(PP3)'!$B$110","v":0},"#'T2-B(PP3)'!$B$110"]
["pp3_bl4_6_3_rate_in",{"$f":"'T2-B(PP3)'!$E$110","v":0},"#'T2-B(PP3)'!$E$110"]
["pp3_bl4_6_3_rate_out",{"$f":"'T2-B(PP3)'!$H$110","v":0},"#'T2-B(PP3)'!$H$110"]
["pp3_bl4_6_3_total",{"$f":"'T2-B(PP3)'!$J$110","v":0},"#'T2-B(PP3)'!$J$110"]
["pp3_bl4_6_3_total_in",{"$f":"'T2-B(PP3)'!$F$110","v":0},"#'T2-B(PP3)'!$F$110"]
["pp3_bl4_6_3_total_out",{"$f":"'T2-B(PP3)'!$I$110","v":0},"#'T2-B(PP3)'!$I$110"]
["pp3_bl4_6_3_unit",{"$f":"'T2-B(PP3)'!$C$110","v":0},"#'T2-B(PP3)'!$C$110"]
["pp3_bl4_6_3_unit_in",{"$f":"'T2-B(PP3)'!$D$110","v":0},"#'T2-B(PP3)'!$D$110"]
["pp3_bl4_6_3_units_out",{"$f":"'T2-B(PP3)'!$G$110","v":0},"#'T2-B(PP3)'!$G$110"]
["pp3_bl4_6_4_name",{"$f":"'T2-B(PP3)'!$B$111","v":0},"#'T2-B(PP3)'!$B$111"]
["pp3_bl4_6_4_rate_in",{"$f":"'T2-B(PP3)'!$E$111","v":0},"#'T2-B(PP3)'!$E$111"]
["pp3_bl4_6_4_rate_out",{"$f":"'T2-B(PP3)'!$H$111","v":0},"#'T2-B(PP3)'!$H$111"]
["pp3_bl4_6_4_total",{"$f":"'T2-B(PP3)'!$J$111","v":0},"#'T2-B(PP3)'!$J$111"]
["pp3_bl4_6_4_total_in",{"$f":"'T2-B(PP3)'!$F$111","v":0},"#'T2-B(PP3)'!$F$111"]
["pp3_bl4_6_4_total_out",{"$f":"'T2-B(PP3)'!$I$111","v":0},"#'T2-B(PP3)'!$I$111"]
["pp3_bl4_6_4_unit",{"$f":"'T2-B(PP3)'!$C$111","v":0},"#'T2-B(PP3)'!$C$111"]
["pp3_bl4_6_4_unit_in",{"$f":"'T2-B(PP3)'!$D$111","v":0},"#'T2-B(PP3)'!$D$111"]
["pp3_bl4_6_4_units_out",{"$f":"'T2-B(PP3)'!$G$111","v":0},"#'T2-B(PP3)'!$G$111"]
["pp3_bl4_6_5_name",{"$f":"'T2-B(PP3)'!$B$112","v":0},"#'T2-B(PP3)'!$B$112"]
["pp3_bl4_6_5_rate_in",{"$f":"'T2-B(PP3)'!$E$112","v":0},"#'T2-B(PP3)'!$E$112"]
["pp3_bl4_6_5_rate_out",{"$f":"'T2-B(PP3)'!$H$112","v":0},"#'T2-B(PP3)'!$H$112"]
["pp3_bl4_6_5_total",{"$f":"'T2-B(PP3)'!$J$112","v":0},"#'T2-B(PP3)'!$J$112"]
["pp3_bl4_6_5_total_in",{"$f":"'T2-B(PP3)'!$F$112","v":0},"#'T2-B(PP3)'!$F$112"]
["pp3_bl4_6_5_total_out",{"$f":"'T2-B(PP3)'!$I$112","v":0},"#'T2-B(PP3)'!$I$112"]
["pp3_bl4_6_5_unit",{"$f":"'T2-B(PP3)'!$C$112","v":0},"#'T2-B(PP3)'!$C$112"]
["pp3_bl4_6_5_unit_in",{"$f":"'T2-B(PP3)'!$D$112","v":0},"#'T2-B(PP3)'!$D$112"]
["pp3_bl4_6_5_units_out",{"$f":"'T2-B(PP3)'!$G$112","v":0},"#'T2-B(PP3)'!$G$112"]
["pp3_bl4_6_6_name",{"$f":"'T2-B(PP3)'!$B$113","v":0},"#'T2-B(PP3)'!$B$113"]
["pp3_bl4_6_6_rate_in",{"$f":"'T2-B(PP3)'!$E$113","v":0},"#'T2-B(PP3)'!$E$113"]
["pp3_bl4_6_6_rate_out",{"$f":"'T2-B(PP3)'!$H$113","v":0},"#'T2-B(PP3)'!$H$113"]
["pp3_bl4_6_6_total",{"$f":"'T2-B(PP3)'!$J$113","v":0},"#'T2-B(PP3)'!$J$113"]
["pp3_bl4_6_6_total_in",{"$f":"'T2-B(PP3)'!$F$113","v":0},"#'T2-B(PP3)'!$F$113"]
["pp3_bl4_6_6_total_out",{"$f":"'T2-B(PP3)'!$I$113","v":0},"#'T2-B(PP3)'!$I$113"]
["pp3_bl4_6_6_unit",{"$f":"'T2-B(PP3)'!$C$113","v":0},"#'T2-B(PP3)'!$C$113"]
["pp3_bl4_6_6_unit_in",{"$f":"'T2-B(PP3)'!$D$113","v":0},"#'T2-B(PP3)'!$D$113"]
["pp3_bl4_6_6_units_out",{"$f":"'T2-B(PP3)'!$G$113","v":0},"#'T2-B(PP3)'!$G$113"]
["pp3_bl4_6_7_name",{"$f":"'T2-B(PP3)'!$B$114","v":0},"#'T2-B(PP3)'!$B$114"]
["pp3_bl4_6_7_rate_in",{"$f":"'T2-B(PP3)'!$E$114","v":0},"#'T2-B(PP3)'!$E$114"]
["pp3_bl4_6_7_rate_out",{"$f":"'T2-B(PP3)'!$H$114","v":0},"#'T2-B(PP3)'!$H$114"]
["pp3_bl4_6_7_total",{"$f":"'T2-B(PP3)'!$J$114","v":0},"#'T2-B(PP3)'!$J$114"]
["pp3_bl4_6_7_total_in",{"$f":"'T2-B(PP3)'!$F$114","v":0},"#'T2-B(PP3)'!$F$114"]
["pp3_bl4_6_7_total_out",{"$f":"'T2-B(PP3)'!$I$114","v":0},"#'T2-B(PP3)'!$I$114"]
["pp3_bl4_6_7_unit",{"$f":"'T2-B(PP3)'!$C$114","v":0},"#'T2-B(PP3)'!$C$114"]
["pp3_bl4_6_7_unit_in",{"$f":"'T2-B(PP3)'!$D$114","v":0},"#'T2-B(PP3)'!$D$114"]
["pp3_bl4_6_7_units_out",{"$f":"'T2-B(PP3)'!$G$114","v":0},"#'T2-B(PP3)'!$G$114"]
["pp3_bl4_6_8_name",{"$f":"'T2-B(PP3)'!$B$115","v":0},"#'T2-B(PP3)'!$B$115"]
["pp3_bl4_6_8_rate_in",{"$f":"'T2-B(PP3)'!$E$115","v":0},"#'T2-B(PP3)'!$E$115"]
["pp3_bl4_6_8_rate_out",{"$f":"'T2-B(PP3)'!$H$115","v":0},"#'T2-B(PP3)'!$H$115"]
["pp3_bl4_6_8_total",{"$f":"'T2-B(PP3)'!$J$115","v":0},"#'T2-B(PP3)'!$J$115"]
["pp3_bl4_6_8_total_in",{"$f":"'T2-B(PP3)'!$F$115","v":0},"#'T2-B(PP3)'!$F$115"]
["pp3_bl4_6_8_total_out",{"$f":"'T2-B(PP3)'!$I$115","v":0},"#'T2-B(PP3)'!$I$115"]
["pp3_bl4_6_8_unit",{"$f":"'T2-B(PP3)'!$C$115","v":0},"#'T2-B(PP3)'!$C$115"]
["pp3_bl4_6_8_unit_in",{"$f":"'T2-B(PP3)'!$D$115","v":0},"#'T2-B(PP3)'!$D$115"]
["pp3_bl4_6_8_units_out",{"$f":"'T2-B(PP3)'!$G$115","v":0},"#'T2-B(PP3)'!$G$115"]
["pp3_bl4_6_9_name",{"$f":"'T2-B(PP3)'!$B$116","v":0},"#'T2-B(PP3)'!$B$116"]
["pp3_bl4_6_9_rate_in",{"$f":"'T2-B(PP3)'!$E$116","v":0},"#'T2-B(PP3)'!$E$116"]
["pp3_bl4_6_9_rate_out",{"$f":"'T2-B(PP3)'!$H$116","v":0},"#'T2-B(PP3)'!$H$116"]
["pp3_bl4_6_9_total",{"$f":"'T2-B(PP3)'!$J$116","v":0},"#'T2-B(PP3)'!$J$116"]
["pp3_bl4_6_9_total_in",{"$f":"'T2-B(PP3)'!$F$116","v":0},"#'T2-B(PP3)'!$F$116"]
["pp3_bl4_6_9_total_out",{"$f":"'T2-B(PP3)'!$I$116","v":0},"#'T2-B(PP3)'!$I$116"]
["pp3_bl4_6_9_unit",{"$f":"'T2-B(PP3)'!$C$116","v":0},"#'T2-B(PP3)'!$C$116"]
["pp3_bl4_6_9_unit_in",{"$f":"'T2-B(PP3)'!$D$116","v":0},"#'T2-B(PP3)'!$D$116"]
["pp3_bl4_6_9_units_out",{"$f":"'T2-B(PP3)'!$G$116","v":0},"#'T2-B(PP3)'!$G$116"]
["pp3_bl4_6_total",{"$f":"'T2-B(PP3)'!$J$107","v":0},"#'T2-B(PP3)'!$J$107"]
["pp3_bl4_6_total_in",{"$f":"'T2-B(PP3)'!$F$107","v":0},"#'T2-B(PP3)'!$F$107"]
["pp3_bl4_6_total_out",{"$f":"'T2-B(PP3)'!$I$107","v":0},"#'T2-B(PP3)'!$I$107"]
["pp3_bl4_7_1_name",{"$f":"'T2-B(PP3)'!$B$119","v":0},"#'T2-B(PP3)'!$B$119"]
["pp3_bl4_7_1_rate_in",{"$f":"'T2-B(PP3)'!$E$119","v":0},"#'T2-B(PP3)'!$E$119"]
["pp3_bl4_7_1_rate_out",{"$f":"'T2-B(PP3)'!$H$119","v":0},"#'T2-B(PP3)'!$H$119"]
["pp3_bl4_7_1_total",{"$f":"'T2-B(PP3)'!$J$119","v":0},"#'T2-B(PP3)'!$J$119"]
["pp3_bl4_7_1_total_in",{"$f":"'T2-B(PP3)'!$F$119","v":0},"#'T2-B(PP3)'!$F$119"]
["pp3_bl4_7_1_total_out",{"$f":"'T2-B(PP3)'!$I$119","v":0},"#'T2-B(PP3)'!$I$119"]
["pp3_bl4_7_1_unit",{"$f":"'T2-B(PP3)'!$C$119","v":0},"#'T2-B(PP3)'!$C$119"]
["pp3_bl4_7_1_unit_in",{"$f":"'T2-B(PP3)'!$D$119","v":0},"#'T2-B(PP3)'!$D$119"]
["pp3_bl4_7_1_units_out",{"$f":"'T2-B(PP3)'!$G$119","v":0},"#'T2-B(PP3)'!$G$119"]
["pp3_bl4_7_10_name",{"$f":"'T2-B(PP3)'!$B$128","v":0},"#'T2-B(PP3)'!$B$128"]
["pp3_bl4_7_10_rate_in",{"$f":"'T2-B(PP3)'!$E$128","v":0},"#'T2-B(PP3)'!$E$128"]
["pp3_bl4_7_10_rate_out",{"$f":"'T2-B(PP3)'!$H$128","v":0},"#'T2-B(PP3)'!$H$128"]
["pp3_bl4_7_10_total",{"$f":"'T2-B(PP3)'!$J$128","v":0},"#'T2-B(PP3)'!$J$128"]
["pp3_bl4_7_10_total_in",{"$f":"'T2-B(PP3)'!$F$128","v":0},"#'T2-B(PP3)'!$F$128"]
["pp3_bl4_7_10_total_out",{"$f":"'T2-B(PP3)'!$I$128","v":0},"#'T2-B(PP3)'!$I$128"]
["pp3_bl4_7_10_unit",{"$f":"'T2-B(PP3)'!$C$128","v":0},"#'T2-B(PP3)'!$C$128"]
["pp3_bl4_7_10_unit_in",{"$f":"'T2-B(PP3)'!$D$128","v":0},"#'T2-B(PP3)'!$D$128"]
["pp3_bl4_7_10_units_out",{"$f":"'T2-B(PP3)'!$G$128","v":0},"#'T2-B(PP3)'!$G$128"]
["pp3_bl4_7_2_name",{"$f":"'T2-B(PP3)'!$B$120","v":0},"#'T2-B(PP3)'!$B$120"]
["pp3_bl4_7_2_rate_in",{"$f":"'T2-B(PP3)'!$E$120","v":0},"#'T2-B(PP3)'!$E$120"]
["pp3_bl4_7_2_rate_out",{"$f":"'T2-B(PP3)'!$H$120","v":0},"#'T2-B(PP3)'!$H$120"]
["pp3_bl4_7_2_total",{"$f":"'T2-B(PP3)'!$J$120","v":0},"#'T2-B(PP3)'!$J$120"]
["pp3_bl4_7_2_total_in",{"$f":"'T2-B(PP3)'!$F$120","v":0},"#'T2-B(PP3)'!$F$120"]
["pp3_bl4_7_2_total_out",{"$f":"'T2-B(PP3)'!$I$120","v":0},"#'T2-B(PP3)'!$I$120"]
["pp3_bl4_7_2_unit",{"$f":"'T2-B(PP3)'!$C$120","v":0},"#'T2-B(PP3)'!$C$120"]
["pp3_bl4_7_2_unit_in",{"$f":"'T2-B(PP3)'!$D$120","v":0},"#'T2-B(PP3)'!$D$120"]
["pp3_bl4_7_2_units_out",{"$f":"'T2-B(PP3)'!$G$120","v":0},"#'T2-B(PP3)'!$G$120"]
["pp3_bl4_7_3_name",{"$f":"'T2-B(PP3)'!$B$121","v":0},"#'T2-B(PP3)'!$B$121"]
["pp3_bl4_7_3_rate_in",{"$f":"'T2-B(PP3)'!$E$121","v":0},"#'T2-B(PP3)'!$E$121"]
["pp3_bl4_7_3_rate_out",{"$f":"'T2-B(PP3)'!$H$121","v":0},"#'T2-B(PP3)'!$H$121"]
["pp3_bl4_7_3_total",{"$f":"'T2-B(PP3)'!$J$121","v":0},"#'T2-B(PP3)'!$J$121"]
["pp3_bl4_7_3_total_in",{"$f":"'T2-B(PP3)'!$F$121","v":0},"#'T2-B(PP3)'!$F$121"]
["pp3_bl4_7_3_total_out",{"$f":"'T2-B(PP3)'!$I$121","v":0},"#'T2-B(PP3)'!$I$121"]
["pp3_bl4_7_3_unit",{"$f":"'T2-B(PP3)'!$C$121","v":0},"#'T2-B(PP3)'!$C$121"]
["pp3_bl4_7_3_unit_in",{"$f":"'T2-B(PP3)'!$D$121","v":0},"#'T2-B(PP3)'!$D$121"]
["pp3_bl4_7_3_units_out",{"$f":"'T2-B(PP3)'!$G$121","v":0},"#'T2-B(PP3)'!$G$121"]
["pp3_bl4_7_4_name",{"$f":"'T2-B(PP3)'!$B$122","v":0},"#'T2-B(PP3)'!$B$122"]
["pp3_bl4_7_4_rate_in",{"$f":"'T2-B(PP3)'!$E$122","v":0},"#'T2-B(PP3)'!$E$122"]
["pp3_bl4_7_4_rate_out",{"$f":"'T2-B(PP3)'!$H$122","v":0},"#'T2-B(PP3)'!$H$122"]
["pp3_bl4_7_4_total",{"$f":"'T2-B(PP3)'!$J$122","v":0},"#'T2-B(PP3)'!$J$122"]
["pp3_bl4_7_4_total_in",{"$f":"'T2-B(PP3)'!$F$122","v":0},"#'T2-B(PP3)'!$F$122"]
["pp3_bl4_7_4_total_out",{"$f":"'T2-B(PP3)'!$I$122","v":0},"#'T2-B(PP3)'!$I$122"]
["pp3_bl4_7_4_unit",{"$f":"'T2-B(PP3)'!$C$122","v":0},"#'T2-B(PP3)'!$C$122"]
["pp3_bl4_7_4_unit_in",{"$f":"'T2-B(PP3)'!$D$122","v":0},"#'T2-B(PP3)'!$D$122"]
["pp3_bl4_7_4_units_out",{"$f":"'T2-B(PP3)'!$G$122","v":0},"#'T2-B(PP3)'!$G$122"]
["pp3_bl4_7_5_name",{"$f":"'T2-B(PP3)'!$B$123","v":0},"#'T2-B(PP3)'!$B$123"]
["pp3_bl4_7_5_rate_in",{"$f":"'T2-B(PP3)'!$E$123","v":0},"#'T2-B(PP3)'!$E$123"]
["pp3_bl4_7_5_rate_out",{"$f":"'T2-B(PP3)'!$H$123","v":0},"#'T2-B(PP3)'!$H$123"]
["pp3_bl4_7_5_total",{"$f":"'T2-B(PP3)'!$J$123","v":0},"#'T2-B(PP3)'!$J$123"]
["pp3_bl4_7_5_total_in",{"$f":"'T2-B(PP3)'!$F$123","v":0},"#'T2-B(PP3)'!$F$123"]
["pp3_bl4_7_5_total_out",{"$f":"'T2-B(PP3)'!$I$123","v":0},"#'T2-B(PP3)'!$I$123"]
["pp3_bl4_7_5_unit",{"$f":"'T2-B(PP3)'!$C$123","v":0},"#'T2-B(PP3)'!$C$123"]
["pp3_bl4_7_5_unit_in",{"$f":"'T2-B(PP3)'!$D$123","v":0},"#'T2-B(PP3)'!$D$123"]
["pp3_bl4_7_5_units_out",{"$f":"'T2-B(PP3)'!$G$123","v":0},"#'T2-B(PP3)'!$G$123"]
["pp3_bl4_7_6_name",{"$f":"'T2-B(PP3)'!$B$124","v":0},"#'T2-B(PP3)'!$B$124"]
["pp3_bl4_7_6_rate_in",{"$f":"'T2-B(PP3)'!$E$124","v":0},"#'T2-B(PP3)'!$E$124"]
["pp3_bl4_7_6_rate_out",{"$f":"'T2-B(PP3)'!$H$124","v":0},"#'T2-B(PP3)'!$H$124"]
["pp3_bl4_7_6_total",{"$f":"'T2-B(PP3)'!$J$124","v":0},"#'T2-B(PP3)'!$J$124"]
["pp3_bl4_7_6_total_in",{"$f":"'T2-B(PP3)'!$F$124","v":0},"#'T2-B(PP3)'!$F$124"]
["pp3_bl4_7_6_total_out",{"$f":"'T2-B(PP3)'!$I$124","v":0},"#'T2-B(PP3)'!$I$124"]
["pp3_bl4_7_6_unit",{"$f":"'T2-B(PP3)'!$C$124","v":0},"#'T2-B(PP3)'!$C$124"]
["pp3_bl4_7_6_unit_in",{"$f":"'T2-B(PP3)'!$D$124","v":0},"#'T2-B(PP3)'!$D$124"]
["pp3_bl4_7_6_units_out",{"$f":"'T2-B(PP3)'!$G$124","v":0},"#'T2-B(PP3)'!$G$124"]
["pp3_bl4_7_7_name",{"$f":"'T2-B(PP3)'!$B$125","v":0},"#'T2-B(PP3)'!$B$125"]
["pp3_bl4_7_7_rate_in",{"$f":"'T2-B(PP3)'!$E$125","v":0},"#'T2-B(PP3)'!$E$125"]
["pp3_bl4_7_7_rate_out",{"$f":"'T2-B(PP3)'!$H$125","v":0},"#'T2-B(PP3)'!$H$125"]
["pp3_bl4_7_7_total",{"$f":"'T2-B(PP3)'!$J$125","v":0},"#'T2-B(PP3)'!$J$125"]
["pp3_bl4_7_7_total_in",{"$f":"'T2-B(PP3)'!$F$125","v":0},"#'T2-B(PP3)'!$F$125"]
["pp3_bl4_7_7_total_out",{"$f":"'T2-B(PP3)'!$I$125","v":0},"#'T2-B(PP3)'!$I$125"]
["pp3_bl4_7_7_unit",{"$f":"'T2-B(PP3)'!$C$125","v":0},"#'T2-B(PP3)'!$C$125"]
["pp3_bl4_7_7_unit_in",{"$f":"'T2-B(PP3)'!$D$125","v":0},"#'T2-B(PP3)'!$D$125"]
["pp3_bl4_7_7_units_out",{"$f":"'T2-B(PP3)'!$G$125","v":0},"#'T2-B(PP3)'!$G$125"]
["pp3_bl4_7_8_name",{"$f":"'T2-B(PP3)'!$B$126","v":0},"#'T2-B(PP3)'!$B$126"]
["pp3_bl4_7_8_rate_in",{"$f":"'T2-B(PP3)'!$E$126","v":0},"#'T2-B(PP3)'!$E$126"]
["pp3_bl4_7_8_rate_out",{"$f":"'T2-B(PP3)'!$H$126","v":0},"#'T2-B(PP3)'!$H$126"]
["pp3_bl4_7_8_total",{"$f":"'T2-B(PP3)'!$J$126","v":0},"#'T2-B(PP3)'!$J$126"]
["pp3_bl4_7_8_total_in",{"$f":"'T2-B(PP3)'!$F$126","v":0},"#'T2-B(PP3)'!$F$126"]
["pp3_bl4_7_8_total_out",{"$f":"'T2-B(PP3)'!$I$126","v":0},"#'T2-B(PP3)'!$I$126"]
["pp3_bl4_7_8_unit",{"$f":"'T2-B(PP3)'!$C$126","v":0},"#'T2-B(PP3)'!$C$126"]
["pp3_bl4_7_8_unit_in",{"$f":"'T2-B(PP3)'!$D$126","v":0},"#'T2-B(PP3)'!$D$126"]
["pp3_bl4_7_8_units_out",{"$f":"'T2-B(PP3)'!$G$126","v":0},"#'T2-B(PP3)'!$G$126"]
["pp3_bl4_7_9_name",{"$f":"'T2-B(PP3)'!$B$127","v":0},"#'T2-B(PP3)'!$B$127"]
["pp3_bl4_7_9_rate_in",{"$f":"'T2-B(PP3)'!$E$127","v":0},"#'T2-B(PP3)'!$E$127"]
["pp3_bl4_7_9_rate_out",{"$f":"'T2-B(PP3)'!$H$127","v":0},"#'T2-B(PP3)'!$H$127"]
["pp3_bl4_7_9_total",{"$f":"'T2-B(PP3)'!$J$127","v":0},"#'T2-B(PP3)'!$J$127"]
["pp3_bl4_7_9_total_in",{"$f":"'T2-B(PP3)'!$F$127","v":0},"#'T2-B(PP3)'!$F$127"]
["pp3_bl4_7_9_total_out",{"$f":"'T2-B(PP3)'!$I$127","v":0},"#'T2-B(PP3)'!$I$127"]
["pp3_bl4_7_9_unit",{"$f":"'T2-B(PP3)'!$C$127","v":0},"#'T2-B(PP3)'!$C$127"]
["pp3_bl4_7_9_unit_in",{"$f":"'T2-B(PP3)'!$D$127","v":0},"#'T2-B(PP3)'!$D$127"]
["pp3_bl4_7_9_units_out",{"$f":"'T2-B(PP3)'!$G$127","v":0},"#'T2-B(PP3)'!$G$127"]
["pp3_bl4_7_total",{"$f":"'T2-B(PP3)'!$J$118","v":0},"#'T2-B(PP3)'!$J$118"]
["pp3_bl4_7_total_in",{"$f":"'T2-B(PP3)'!$F$118","v":0},"#'T2-B(PP3)'!$F$118"]
["pp3_bl4_7_total_out",{"$f":"'T2-B(PP3)'!$I$118","v":0},"#'T2-B(PP3)'!$I$118"]
["pp3_bl4_8_1_name",{"$f":"'T2-B(PP3)'!$B$130","v":0},"#'T2-B(PP3)'!$B$130"]
["pp3_bl4_8_1_rate_in",{"$f":"'T2-B(PP3)'!$E$130","v":0},"#'T2-B(PP3)'!$E$130"]
["pp3_bl4_8_1_rate_out",{"$f":"'T2-B(PP3)'!$H$130","v":0},"#'T2-B(PP3)'!$H$130"]
["pp3_bl4_8_1_total",{"$f":"'T2-B(PP3)'!$J$130","v":0},"#'T2-B(PP3)'!$J$130"]
["pp3_bl4_8_1_total_in",{"$f":"'T2-B(PP3)'!$F$130","v":0},"#'T2-B(PP3)'!$F$130"]
["pp3_bl4_8_1_total_out",{"$f":"'T2-B(PP3)'!$I$130","v":0},"#'T2-B(PP3)'!$I$130"]
["pp3_bl4_8_1_unit",{"$f":"'T2-B(PP3)'!$C$130","v":0},"#'T2-B(PP3)'!$C$130"]
["pp3_bl4_8_1_unit_in",{"$f":"'T2-B(PP3)'!$D$130","v":0},"#'T2-B(PP3)'!$D$130"]
["pp3_bl4_8_1_units_out",{"$f":"'T2-B(PP3)'!$G$130","v":0},"#'T2-B(PP3)'!$G$130"]
["pp3_bl4_8_10_name",{"$f":"'T2-B(PP3)'!$B$139","v":0},"#'T2-B(PP3)'!$B$139"]
["pp3_bl4_8_10_rate_in",{"$f":"'T2-B(PP3)'!$E$139","v":0},"#'T2-B(PP3)'!$E$139"]
["pp3_bl4_8_10_rate_out",{"$f":"'T2-B(PP3)'!$H$139","v":0},"#'T2-B(PP3)'!$H$139"]
["pp3_bl4_8_10_total",{"$f":"'T2-B(PP3)'!$J$139","v":0},"#'T2-B(PP3)'!$J$139"]
["pp3_bl4_8_10_total_in",{"$f":"'T2-B(PP3)'!$F$139","v":0},"#'T2-B(PP3)'!$F$139"]
["pp3_bl4_8_10_total_out",{"$f":"'T2-B(PP3)'!$I$139","v":0},"#'T2-B(PP3)'!$I$139"]
["pp3_bl4_8_10_unit",{"$f":"'T2-B(PP3)'!$C$139","v":0},"#'T2-B(PP3)'!$C$139"]
["pp3_bl4_8_10_unit_in",{"$f":"'T2-B(PP3)'!$D$139","v":0},"#'T2-B(PP3)'!$D$139"]
["pp3_bl4_8_10_units_out",{"$f":"'T2-B(PP3)'!$G$139","v":0},"#'T2-B(PP3)'!$G$139"]
["pp3_bl4_8_2_name",{"$f":"'T2-B(PP3)'!$B$131","v":0},"#'T2-B(PP3)'!$B$131"]
["pp3_bl4_8_2_rate_in",{"$f":"'T2-B(PP3)'!$E$131","v":0},"#'T2-B(PP3)'!$E$131"]
["pp3_bl4_8_2_rate_out",{"$f":"'T2-B(PP3)'!$H$131","v":0},"#'T2-B(PP3)'!$H$131"]
["pp3_bl4_8_2_total",{"$f":"'T2-B(PP3)'!$J$131","v":0},"#'T2-B(PP3)'!$J$131"]
["pp3_bl4_8_2_total_in",{"$f":"'T2-B(PP3)'!$F$131","v":0},"#'T2-B(PP3)'!$F$131"]
["pp3_bl4_8_2_total_out",{"$f":"'T2-B(PP3)'!$I$131","v":0},"#'T2-B(PP3)'!$I$131"]
["pp3_bl4_8_2_unit",{"$f":"'T2-B(PP3)'!$C$131","v":0},"#'T2-B(PP3)'!$C$131"]
["pp3_bl4_8_2_unit_in",{"$f":"'T2-B(PP3)'!$D$131","v":0},"#'T2-B(PP3)'!$D$131"]
["pp3_bl4_8_2_units_out",{"$f":"'T2-B(PP3)'!$G$131","v":0},"#'T2-B(PP3)'!$G$131"]
["pp3_bl4_8_3_name",{"$f":"'T2-B(PP3)'!$B$132","v":0},"#'T2-B(PP3)'!$B$132"]
["pp3_bl4_8_3_rate_in",{"$f":"'T2-B(PP3)'!$E$132","v":0},"#'T2-B(PP3)'!$E$132"]
["pp3_bl4_8_3_rate_out",{"$f":"'T2-B(PP3)'!$H$132","v":0},"#'T2-B(PP3)'!$H$132"]
["pp3_bl4_8_3_total",{"$f":"'T2-B(PP3)'!$J$132","v":0},"#'T2-B(PP3)'!$J$132"]
["pp3_bl4_8_3_total_in",{"$f":"'T2-B(PP3)'!$F$132","v":0},"#'T2-B(PP3)'!$F$132"]
["pp3_bl4_8_3_total_out",{"$f":"'T2-B(PP3)'!$I$132","v":0},"#'T2-B(PP3)'!$I$132"]
["pp3_bl4_8_3_unit",{"$f":"'T2-B(PP3)'!$C$132","v":0},"#'T2-B(PP3)'!$C$132"]
["pp3_bl4_8_3_unit_in",{"$f":"'T2-B(PP3)'!$D$132","v":0},"#'T2-B(PP3)'!$D$132"]
["pp3_bl4_8_3_units_out",{"$f":"'T2-B(PP3)'!$G$132","v":0},"#'T2-B(PP3)'!$G$132"]
["pp3_bl4_8_4_name",{"$f":"'T2-B(PP3)'!$B$133","v":0},"#'T2-B(PP3)'!$B$133"]
["pp3_bl4_8_4_rate_in",{"$f":"'T2-B(PP3)'!$E$133","v":0},"#'T2-B(PP3)'!$E$133"]
["pp3_bl4_8_4_rate_out",{"$f":"'T2-B(PP3)'!$H$133","v":0},"#'T2-B(PP3)'!$H$133"]
["pp3_bl4_8_4_total",{"$f":"'T2-B(PP3)'!$J$133","v":0},"#'T2-B(PP3)'!$J$133"]
["pp3_bl4_8_4_total_in",{"$f":"'T2-B(PP3)'!$F$133","v":0},"#'T2-B(PP3)'!$F$133"]
["pp3_bl4_8_4_total_out",{"$f":"'T2-B(PP3)'!$I$133","v":0},"#'T2-B(PP3)'!$I$133"]
["pp3_bl4_8_4_unit",{"$f":"'T2-B(PP3)'!$C$133","v":0},"#'T2-B(PP3)'!$C$133"]
["pp3_bl4_8_4_unit_in",{"$f":"'T2-B(PP3)'!$D$133","v":0},"#'T2-B(PP3)'!$D$133"]
["pp3_bl4_8_4_units_out",{"$f":"'T2-B(PP3)'!$G$133","v":0},"#'T2-B(PP3)'!$G$133"]
["pp3_bl4_8_5_name",{"$f":"'T2-B(PP3)'!$B$134","v":0},"#'T2-B(PP3)'!$B$134"]
["pp3_bl4_8_5_rate_in",{"$f":"'T2-B(PP3)'!$E$134","v":0},"#'T2-B(PP3)'!$E$134"]
["pp3_bl4_8_5_rate_out",{"$f":"'T2-B(PP3)'!$H$134","v":0},"#'T2-B(PP3)'!$H$134"]
["pp3_bl4_8_5_total",{"$f":"'T2-B(PP3)'!$J$134","v":0},"#'T2-B(PP3)'!$J$134"]
["pp3_bl4_8_5_total_in",{"$f":"'T2-B(PP3)'!$F$134","v":0},"#'T2-B(PP3)'!$F$134"]
["pp3_bl4_8_5_total_out",{"$f":"'T2-B(PP3)'!$I$134","v":0},"#'T2-B(PP3)'!$I$134"]
["pp3_bl4_8_5_unit",{"$f":"'T2-B(PP3)'!$C$134","v":0},"#'T2-B(PP3)'!$C$134"]
["pp3_bl4_8_5_unit_in",{"$f":"'T2-B(PP3)'!$D$134","v":0},"#'T2-B(PP3)'!$D$134"]
["pp3_bl4_8_5_units_out",{"$f":"'T2-B(PP3)'!$G$134","v":0},"#'T2-B(PP3)'!$G$134"]
["pp3_bl4_8_6_name",{"$f":"'T2-B(PP3)'!$B$135","v":0},"#'T2-B(PP3)'!$B$135"]
["pp3_bl4_8_6_rate_in",{"$f":"'T2-B(PP3)'!$E$135","v":0},"#'T2-B(PP3)'!$E$135"]
["pp3_bl4_8_6_rate_out",{"$f":"'T2-B(PP3)'!$H$135","v":0},"#'T2-B(PP3)'!$H$135"]
["pp3_bl4_8_6_total",{"$f":"'T2-B(PP3)'!$J$135","v":0},"#'T2-B(PP3)'!$J$135"]
["pp3_bl4_8_6_total_in",{"$f":"'T2-B(PP3)'!$F$135","v":0},"#'T2-B(PP3)'!$F$135"]
["pp3_bl4_8_6_total_out",{"$f":"'T2-B(PP3)'!$I$135","v":0},"#'T2-B(PP3)'!$I$135"]
["pp3_bl4_8_6_unit",{"$f":"'T2-B(PP3)'!$C$135","v":0},"#'T2-B(PP3)'!$C$135"]
["pp3_bl4_8_6_unit_in",{"$f":"'T2-B(PP3)'!$D$135","v":0},"#'T2-B(PP3)'!$D$135"]
["pp3_bl4_8_6_units_out",{"$f":"'T2-B(PP3)'!$G$135","v":0},"#'T2-B(PP3)'!$G$135"]
["pp3_bl4_8_7_name",{"$f":"'T2-B(PP3)'!$B$136","v":0},"#'T2-B(PP3)'!$B$136"]
["pp3_bl4_8_7_rate_in",{"$f":"'T2-B(PP3)'!$E$136","v":0},"#'T2-B(PP3)'!$E$136"]
["pp3_bl4_8_7_rate_out",{"$f":"'T2-B(PP3)'!$H$136","v":0},"#'T2-B(PP3)'!$H$136"]
["pp3_bl4_8_7_total",{"$f":"'T2-B(PP3)'!$J$136","v":0},"#'T2-B(PP3)'!$J$136"]
["pp3_bl4_8_7_total_in",{"$f":"'T2-B(PP3)'!$F$136","v":0},"#'T2-B(PP3)'!$F$136"]
["pp3_bl4_8_7_total_out",{"$f":"'T2-B(PP3)'!$I$136","v":0},"#'T2-B(PP3)'!$I$136"]
["pp3_bl4_8_7_unit",{"$f":"'T2-B(PP3)'!$C$136","v":0},"#'T2-B(PP3)'!$C$136"]
["pp3_bl4_8_7_unit_in",{"$f":"'T2-B(PP3)'!$D$136","v":0},"#'T2-B(PP3)'!$D$136"]
["pp3_bl4_8_7_units_out",{"$f":"'T2-B(PP3)'!$G$136","v":0},"#'T2-B(PP3)'!$G$136"]
["pp3_bl4_8_8_name",{"$f":"'T2-B(PP3)'!$B$137","v":0},"#'T2-B(PP3)'!$B$137"]
["pp3_bl4_8_8_rate_in",{"$f":"'T2-B(PP3)'!$E$137","v":0},"#'T2-B(PP3)'!$E$137"]
["pp3_bl4_8_8_rate_out",{"$f":"'T2-B(PP3)'!$H$137","v":0},"#'T2-B(PP3)'!$H$137"]
["pp3_bl4_8_8_total",{"$f":"'T2-B(PP3)'!$J$137","v":0},"#'T2-B(PP3)'!$J$137"]
["pp3_bl4_8_8_total_in",{"$f":"'T2-B(PP3)'!$F$137","v":0},"#'T2-B(PP3)'!$F$137"]
["pp3_bl4_8_8_total_out",{"$f":"'T2-B(PP3)'!$I$137","v":0},"#'T2-B(PP3)'!$I$137"]
["pp3_bl4_8_8_unit",{"$f":"'T2-B(PP3)'!$C$137","v":0},"#'T2-B(PP3)'!$C$137"]
["pp3_bl4_8_8_unit_in",{"$f":"'T2-B(PP3)'!$D$137","v":0},"#'T2-B(PP3)'!$D$137"]
["pp3_bl4_8_8_units_out",{"$f":"'T2-B(PP3)'!$G$137","v":0},"#'T2-B(PP3)'!$G$137"]
["pp3_bl4_8_9_name",{"$f":"'T2-B(PP3)'!$B$138","v":0},"#'T2-B(PP3)'!$B$138"]
["pp3_bl4_8_9_rate_in",{"$f":"'T2-B(PP3)'!$E$138","v":0},"#'T2-B(PP3)'!$E$138"]
["pp3_bl4_8_9_rate_out",{"$f":"'T2-B(PP3)'!$H$138","v":0},"#'T2-B(PP3)'!$H$138"]
["pp3_bl4_8_9_total",{"$f":"'T2-B(PP3)'!$J$138","v":0},"#'T2-B(PP3)'!$J$138"]
["pp3_bl4_8_9_total_in",{"$f":"'T2-B(PP3)'!$F$138","v":0},"#'T2-B(PP3)'!$F$138"]
["pp3_bl4_8_9_total_out",{"$f":"'T2-B(PP3)'!$I$138","v":0},"#'T2-B(PP3)'!$I$138"]
["pp3_bl4_8_9_unit",{"$f":"'T2-B(PP3)'!$C$138","v":0},"#'T2-B(PP3)'!$C$138"]
["pp3_bl4_8_9_unit_in",{"$f":"'T2-B(PP3)'!$D$138","v":0},"#'T2-B(PP3)'!$D$138"]
["pp3_bl4_8_9_units_out",{"$f":"'T2-B(PP3)'!$G$138","v":0},"#'T2-B(PP3)'!$G$138"]
["pp3_bl4_8_total",{"$f":"'T2-B(PP3)'!$J$129","v":0},"#'T2-B(PP3)'!$J$129"]
["pp3_bl4_8_total_in",{"$f":"'T2-B(PP3)'!$F$129","v":0},"#'T2-B(PP3)'!$F$129"]
["pp3_bl4_8_total_out",{"$f":"'T2-B(PP3)'!$I$129","v":0},"#'T2-B(PP3)'!$I$129"]
["pp3_bl4_9_1_name",{"$f":"'T2-B(PP3)'!$B$141","v":0},"#'T2-B(PP3)'!$B$141"]
["pp3_bl4_9_1_rate_in",{"$f":"'T2-B(PP3)'!$E$141","v":0},"#'T2-B(PP3)'!$E$141"]
["pp3_bl4_9_1_rate_out",{"$f":"'T2-B(PP3)'!$H$141","v":0},"#'T2-B(PP3)'!$H$141"]
["pp3_bl4_9_1_total",{"$f":"'T2-B(PP3)'!$J$141","v":0},"#'T2-B(PP3)'!$J$141"]
["pp3_bl4_9_1_total_in",{"$f":"'T2-B(PP3)'!$F$141","v":0},"#'T2-B(PP3)'!$F$141"]
["pp3_bl4_9_1_total_out",{"$f":"'T2-B(PP3)'!$I$141","v":0},"#'T2-B(PP3)'!$I$141"]
["pp3_bl4_9_1_unit",{"$f":"'T2-B(PP3)'!$C$141","v":0},"#'T2-B(PP3)'!$C$141"]
["pp3_bl4_9_1_unit_in",{"$f":"'T2-B(PP3)'!$D$141","v":0},"#'T2-B(PP3)'!$D$141"]
["pp3_bl4_9_1_units_out",{"$f":"'T2-B(PP3)'!$G$141","v":0},"#'T2-B(PP3)'!$G$141"]
["pp3_bl4_9_10_name",{"$f":"'T2-B(PP3)'!$B$150","v":0},"#'T2-B(PP3)'!$B$150"]
["pp3_bl4_9_10_rate_in",{"$f":"'T2-B(PP3)'!$E$150","v":0},"#'T2-B(PP3)'!$E$150"]
["pp3_bl4_9_10_rate_out",{"$f":"'T2-B(PP3)'!$H$150","v":0},"#'T2-B(PP3)'!$H$150"]
["pp3_bl4_9_10_total",{"$f":"'T2-B(PP3)'!$J$150","v":0},"#'T2-B(PP3)'!$J$150"]
["pp3_bl4_9_10_total_in",{"$f":"'T2-B(PP3)'!$F$150","v":0},"#'T2-B(PP3)'!$F$150"]
["pp3_bl4_9_10_total_out",{"$f":"'T2-B(PP3)'!$I$150","v":0},"#'T2-B(PP3)'!$I$150"]
["pp3_bl4_9_10_unit",{"$f":"'T2-B(PP3)'!$C$150","v":0},"#'T2-B(PP3)'!$C$150"]
["pp3_bl4_9_10_unit_in",{"$f":"'T2-B(PP3)'!$D$150","v":0},"#'T2-B(PP3)'!$D$150"]
["pp3_bl4_9_10_units_out",{"$f":"'T2-B(PP3)'!$G$150","v":0},"#'T2-B(PP3)'!$G$150"]
["pp3_bl4_9_2_name",{"$f":"'T2-B(PP3)'!$B$142","v":0},"#'T2-B(PP3)'!$B$142"]
["pp3_bl4_9_2_rate_in",{"$f":"'T2-B(PP3)'!$E$142","v":0},"#'T2-B(PP3)'!$E$142"]
["pp3_bl4_9_2_rate_out",{"$f":"'T2-B(PP3)'!$H$142","v":0},"#'T2-B(PP3)'!$H$142"]
["pp3_bl4_9_2_total",{"$f":"'T2-B(PP3)'!$J$142","v":0},"#'T2-B(PP3)'!$J$142"]
["pp3_bl4_9_2_total_in",{"$f":"'T2-B(PP3)'!$F$142","v":0},"#'T2-B(PP3)'!$F$142"]
["pp3_bl4_9_2_total_out",{"$f":"'T2-B(PP3)'!$I$142","v":0},"#'T2-B(PP3)'!$I$142"]
["pp3_bl4_9_2_unit",{"$f":"'T2-B(PP3)'!$C$142","v":0},"#'T2-B(PP3)'!$C$142"]
["pp3_bl4_9_2_unit_in",{"$f":"'T2-B(PP3)'!$D$142","v":0},"#'T2-B(PP3)'!$D$142"]
["pp3_bl4_9_2_units_out",{"$f":"'T2-B(PP3)'!$G$142","v":0},"#'T2-B(PP3)'!$G$142"]
["pp3_bl4_9_3_name",{"$f":"'T2-B(PP3)'!$B$143","v":0},"#'T2-B(PP3)'!$B$143"]
["pp3_bl4_9_3_rate_in",{"$f":"'T2-B(PP3)'!$E$143","v":0},"#'T2-B(PP3)'!$E$143"]
["pp3_bl4_9_3_rate_out",{"$f":"'T2-B(PP3)'!$H$143","v":0},"#'T2-B(PP3)'!$H$143"]
["pp3_bl4_9_3_total",{"$f":"'T2-B(PP3)'!$J$143","v":0},"#'T2-B(PP3)'!$J$143"]
["pp3_bl4_9_3_total_in",{"$f":"'T2-B(PP3)'!$F$143","v":0},"#'T2-B(PP3)'!$F$143"]
["pp3_bl4_9_3_total_out",{"$f":"'T2-B(PP3)'!$I$143","v":0},"#'T2-B(PP3)'!$I$143"]
["pp3_bl4_9_3_unit",{"$f":"'T2-B(PP3)'!$C$143","v":0},"#'T2-B(PP3)'!$C$143"]
["pp3_bl4_9_3_unit_in",{"$f":"'T2-B(PP3)'!$D$143","v":0},"#'T2-B(PP3)'!$D$143"]
["pp3_bl4_9_3_units_out",{"$f":"'T2-B(PP3)'!$G$143","v":0},"#'T2-B(PP3)'!$G$143"]
["pp3_bl4_9_4_name",{"$f":"'T2-B(PP3)'!$B$144","v":0},"#'T2-B(PP3)'!$B$144"]
["pp3_bl4_9_4_rate_in",{"$f":"'T2-B(PP3)'!$E$144","v":0},"#'T2-B(PP3)'!$E$144"]
["pp3_bl4_9_4_rate_out",{"$f":"'T2-B(PP3)'!$H$144","v":0},"#'T2-B(PP3)'!$H$144"]
["pp3_bl4_9_4_total",{"$f":"'T2-B(PP3)'!$J$144","v":0},"#'T2-B(PP3)'!$J$144"]
["pp3_bl4_9_4_total_in",{"$f":"'T2-B(PP3)'!$F$144","v":0},"#'T2-B(PP3)'!$F$144"]
["pp3_bl4_9_4_total_out",{"$f":"'T2-B(PP3)'!$I$144","v":0},"#'T2-B(PP3)'!$I$144"]
["pp3_bl4_9_4_unit",{"$f":"'T2-B(PP3)'!$C$144","v":0},"#'T2-B(PP3)'!$C$144"]
["pp3_bl4_9_4_unit_in",{"$f":"'T2-B(PP3)'!$D$144","v":0},"#'T2-B(PP3)'!$D$144"]
["pp3_bl4_9_4_units_out",{"$f":"'T2-B(PP3)'!$G$144","v":0},"#'T2-B(PP3)'!$G$144"]
["pp3_bl4_9_5_name",{"$f":"'T2-B(PP3)'!$B$145","v":0},"#'T2-B(PP3)'!$B$145"]
["pp3_bl4_9_5_rate_in",{"$f":"'T2-B(PP3)'!$E$145","v":0},"#'T2-B(PP3)'!$E$145"]
["pp3_bl4_9_5_rate_out",{"$f":"'T2-B(PP3)'!$H$145","v":0},"#'T2-B(PP3)'!$H$145"]
["pp3_bl4_9_5_total",{"$f":"'T2-B(PP3)'!$J$145","v":0},"#'T2-B(PP3)'!$J$145"]
["pp3_bl4_9_5_total_in",{"$f":"'T2-B(PP3)'!$F$145","v":0},"#'T2-B(PP3)'!$F$145"]
["pp3_bl4_9_5_total_out",{"$f":"'T2-B(PP3)'!$I$145","v":0},"#'T2-B(PP3)'!$I$145"]
["pp3_bl4_9_5_unit",{"$f":"'T2-B(PP3)'!$C$145","v":0},"#'T2-B(PP3)'!$C$145"]
["pp3_bl4_9_5_unit_in",{"$f":"'T2-B(PP3)'!$D$145","v":0},"#'T2-B(PP3)'!$D$145"]
["pp3_bl4_9_5_units_out",{"$f":"'T2-B(PP3)'!$G$145","v":0},"#'T2-B(PP3)'!$G$145"]
["pp3_bl4_9_6_name",{"$f":"'T2-B(PP3)'!$B$146","v":0},"#'T2-B(PP3)'!$B$146"]
["pp3_bl4_9_6_rate_in",{"$f":"'T2-B(PP3)'!$E$146","v":0},"#'T2-B(PP3)'!$E$146"]
["pp3_bl4_9_6_rate_out",{"$f":"'T2-B(PP3)'!$H$146","v":0},"#'T2-B(PP3)'!$H$146"]
["pp3_bl4_9_6_total",{"$f":"'T2-B(PP3)'!$J$146","v":0},"#'T2-B(PP3)'!$J$146"]
["pp3_bl4_9_6_total_in",{"$f":"'T2-B(PP3)'!$F$146","v":0},"#'T2-B(PP3)'!$F$146"]
["pp3_bl4_9_6_total_out",{"$f":"'T2-B(PP3)'!$I$146","v":0},"#'T2-B(PP3)'!$I$146"]
["pp3_bl4_9_6_unit",{"$f":"'T2-B(PP3)'!$C$146","v":0},"#'T2-B(PP3)'!$C$146"]
["pp3_bl4_9_6_unit_in",{"$f":"'T2-B(PP3)'!$D$146","v":0},"#'T2-B(PP3)'!$D$146"]
["pp3_bl4_9_6_units_out",{"$f":"'T2-B(PP3)'!$G$146","v":0},"#'T2-B(PP3)'!$G$146"]
["pp3_bl4_9_7_name",{"$f":"'T2-B(PP3)'!$B$147","v":0},"#'T2-B(PP3)'!$B$147"]
["pp3_bl4_9_7_rate_in",{"$f":"'T2-B(PP3)'!$E$147","v":0},"#'T2-B(PP3)'!$E$147"]
["pp3_bl4_9_7_rate_out",{"$f":"'T2-B(PP3)'!$H$147","v":0},"#'T2-B(PP3)'!$H$147"]
["pp3_bl4_9_7_total",{"$f":"'T2-B(PP3)'!$J$147","v":0},"#'T2-B(PP3)'!$J$147"]
["pp3_bl4_9_7_total_in",{"$f":"'T2-B(PP3)'!$F$147","v":0},"#'T2-B(PP3)'!$F$147"]
["pp3_bl4_9_7_total_out",{"$f":"'T2-B(PP3)'!$I$147","v":0},"#'T2-B(PP3)'!$I$147"]
["pp3_bl4_9_7_unit",{"$f":"'T2-B(PP3)'!$C$147","v":0},"#'T2-B(PP3)'!$C$147"]
["pp3_bl4_9_7_unit_in",{"$f":"'T2-B(PP3)'!$D$147","v":0},"#'T2-B(PP3)'!$D$147"]
["pp3_bl4_9_7_units_out",{"$f":"'T2-B(PP3)'!$G$147","v":0},"#'T2-B(PP3)'!$G$147"]
["pp3_bl4_9_8_name",{"$f":"'T2-B(PP3)'!$B$148","v":0},"#'T2-B(PP3)'!$B$148"]
["pp3_bl4_9_8_rate_in",{"$f":"'T2-B(PP3)'!$E$148","v":0},"#'T2-B(PP3)'!$E$148"]
["pp3_bl4_9_8_rate_out",{"$f":"'T2-B(PP3)'!$H$148","v":0},"#'T2-B(PP3)'!$H$148"]
["pp3_bl4_9_8_total",{"$f":"'T2-B(PP3)'!$J$148","v":0},"#'T2-B(PP3)'!$J$148"]
["pp3_bl4_9_8_total_in",{"$f":"'T2-B(PP3)'!$F$148","v":0},"#'T2-B(PP3)'!$F$148"]
["pp3_bl4_9_8_total_out",{"$f":"'T2-B(PP3)'!$I$148","v":0},"#'T2-B(PP3)'!$I$148"]
["pp3_bl4_9_8_unit",{"$f":"'T2-B(PP3)'!$C$148","v":0},"#'T2-B(PP3)'!$C$148"]
["pp3_bl4_9_8_unit_in",{"$f":"'T2-B(PP3)'!$D$148","v":0},"#'T2-B(PP3)'!$D$148"]
["pp3_bl4_9_8_units_out",{"$f":"'T2-B(PP3)'!$G$148","v":0},"#'T2-B(PP3)'!$G$148"]
["pp3_bl4_9_9_name",{"$f":"'T2-B(PP3)'!$B$149","v":0},"#'T2-B(PP3)'!$B$149"]
["pp3_bl4_9_9_rate_in",{"$f":"'T2-B(PP3)'!$E$149","v":0},"#'T2-B(PP3)'!$E$149"]
["pp3_bl4_9_9_rate_out",{"$f":"'T2-B(PP3)'!$H$149","v":0},"#'T2-B(PP3)'!$H$149"]
["pp3_bl4_9_9_total",{"$f":"'T2-B(PP3)'!$J$149","v":0},"#'T2-B(PP3)'!$J$149"]
["pp3_bl4_9_9_total_in",{"$f":"'T2-B(PP3)'!$F$149","v":0},"#'T2-B(PP3)'!$F$149"]
["pp3_bl4_9_9_total_out",{"$f":"'T2-B(PP3)'!$I$149","v":0},"#'T2-B(PP3)'!$I$149"]
["pp3_bl4_9_9_unit",{"$f":"'T2-B(PP3)'!$C$149","v":0},"#'T2-B(PP3)'!$C$149"]
["pp3_bl4_9_9_unit_in",{"$f":"'T2-B(PP3)'!$D$149","v":0},"#'T2-B(PP3)'!$D$149"]
["pp3_bl4_9_9_units_out",{"$f":"'T2-B(PP3)'!$G$149","v":0},"#'T2-B(PP3)'!$G$149"]
["pp3_bl4_9_total",{"$f":"'T2-B(PP3)'!$J$140","v":0},"#'T2-B(PP3)'!$J$140"]
["pp3_bl4_9_total_in",{"$f":"'T2-B(PP3)'!$F$140","v":0},"#'T2-B(PP3)'!$F$140"]
["pp3_bl4_9_total_out",{"$f":"'T2-B(PP3)'!$I$140","v":0},"#'T2-B(PP3)'!$I$140"]
["pp3_bl4_total",{"$f":"'T2-B(PP3)'!$J$195","v":0},"#'T2-B(PP3)'!$J$195"]
["pp3_bl4_total_in",{"$f":"'T2-B(PP3)'!$F$195","v":0},"#'T2-B(PP3)'!$F$195"]
["pp3_bl4_total_out",{"$f":"'T2-B(PP3)'!$I$195","v":0},"#'T2-B(PP3)'!$I$195"]
["pp3_bl5_1_1_name",{"$f":"'T2-B(PP3)'!$B$200","v":0},"#'T2-B(PP3)'!$B$200"]
["pp3_bl5_1_1_rate_in",{"$f":"'T2-B(PP3)'!$E$200","v":0},"#'T2-B(PP3)'!$E$200"]
["pp3_bl5_1_1_rate_out",{"$f":"'T2-B(PP3)'!$H$200","v":0},"#'T2-B(PP3)'!$H$200"]
["pp3_bl5_1_1_total",{"$f":"'T2-B(PP3)'!$J$200","v":0},"#'T2-B(PP3)'!$J$200"]
["pp3_bl5_1_1_total_in",{"$f":"'T2-B(PP3)'!$F$200","v":0},"#'T2-B(PP3)'!$F$200"]
["pp3_bl5_1_1_total_out",{"$f":"'T2-B(PP3)'!$I$200","v":0},"#'T2-B(PP3)'!$I$200"]
["pp3_bl5_1_1_unit",{"$f":"'T2-B(PP3)'!$C$200","v":0},"#'T2-B(PP3)'!$C$200"]
["pp3_bl5_1_1_unit_in",{"$f":"'T2-B(PP3)'!$D$200","v":0},"#'T2-B(PP3)'!$D$200"]
["pp3_bl5_1_1_units_out",{"$f":"'T2-B(PP3)'!$G$200","v":0},"#'T2-B(PP3)'!$G$200"]
["pp3_bl5_1_10_name",{"$f":"'T2-B(PP3)'!$B$209","v":0},"#'T2-B(PP3)'!$B$209"]
["pp3_bl5_1_10_rate_in",{"$f":"'T2-B(PP3)'!$E$209","v":0},"#'T2-B(PP3)'!$E$209"]
["pp3_bl5_1_10_rate_out",{"$f":"'T2-B(PP3)'!$H$209","v":0},"#'T2-B(PP3)'!$H$209"]
["pp3_bl5_1_10_total",{"$f":"'T2-B(PP3)'!$J$209","v":0},"#'T2-B(PP3)'!$J$209"]
["pp3_bl5_1_10_total_in",{"$f":"'T2-B(PP3)'!$F$209","v":0},"#'T2-B(PP3)'!$F$209"]
["pp3_bl5_1_10_total_out",{"$f":"'T2-B(PP3)'!$I$209","v":0},"#'T2-B(PP3)'!$I$209"]
["pp3_bl5_1_10_unit",{"$f":"'T2-B(PP3)'!$C$209","v":0},"#'T2-B(PP3)'!$C$209"]
["pp3_bl5_1_10_unit_in",{"$f":"'T2-B(PP3)'!$D$209","v":0},"#'T2-B(PP3)'!$D$209"]
["pp3_bl5_1_10_units_out",{"$f":"'T2-B(PP3)'!$G$209","v":0},"#'T2-B(PP3)'!$G$209"]
["pp3_bl5_1_2_name",{"$f":"'T2-B(PP3)'!$B$201","v":"BL6 - PROJECT PREPARATION"},"#'T2-B(PP3)'!$B$201"]
["pp3_bl5_1_2_rate_in",{"$f":"'T2-B(PP3)'!$E$201","v":0},"#'T2-B(PP3)'!$E$201"]
["pp3_bl5_1_2_rate_out",{"$f":"'T2-B(PP3)'!$H$201","v":0},"#'T2-B(PP3)'!$H$201"]
["pp3_bl5_1_2_total",{"$f":"'T2-B(PP3)'!$J$201","v":"TOTAL"},"#'T2-B(PP3)'!$J$201"]
["pp3_bl5_1_2_total_in",{"$f":"'T2-B(PP3)'!$F$201","v":0},"#'T2-B(PP3)'!$F$201"]
["pp3_bl5_1_2_total_out",{"$f":"'T2-B(PP3)'!$I$201","v":0},"#'T2-B(PP3)'!$I$201"]
["pp3_bl5_1_2_unit",{"$f":"'T2-B(PP3)'!$C$201","v":"Unit"},"#'T2-B(PP3)'!$C$201"]
["pp3_bl5_1_2_unit_in",{"$f":"'T2-B(PP3)'!$D$201","v":"Expenditures in the eligible area"},"#'T2-B(PP3)'!$D$201"]
["pp3_bl5_1_2_units_out",{"$f":"'T2-B(PP3)'!$G$201","v":"Expenditures outside the eligible area"},"#'T2-B(PP3)'!$G$201"]
["pp3_bl5_1_3_name",{"$f":"'T2-B(PP3)'!$B$202","v":0},"#'T2-B(PP3)'!$B$202"]
["pp3_bl5_1_3_rate_in",{"$f":"'T2-B(PP3)'!$E$202","v":"Unit rate"},"#'T2-B(PP3)'!$E$202"]
["pp3_bl5_1_3_rate_out",{"$f":"'T2-B(PP3)'!$H$202","v":"Unit rate"},"#'T2-B(PP3)'!$H$202"]
["pp3_bl5_1_3_total",{"$f":"'T2-B(PP3)'!$J$202","v":0},"#'T2-B(PP3)'!$J$202"]
["pp3_bl5_1_3_total_in",{"$f":"'T2-B(PP3)'!$F$202","v":"Total"},"#'T2-B(PP3)'!$F$202"]
["pp3_bl5_1_3_total_out",{"$f":"'T2-B(PP3)'!$I$202","v":"Total"},"#'T2-B(PP3)'!$I$202"]
["pp3_bl5_1_3_unit",{"$f":"'T2-B(PP3)'!$C$202","v":0},"#'T2-B(PP3)'!$C$202"]
["pp3_bl5_1_3_unit_in",{"$f":"'T2-B(PP3)'!$D$202","v":"Units"},"#'T2-B(PP3)'!$D$202"]
["pp3_bl5_1_3_units_out",{"$f":"'T2-B(PP3)'!$G$202","v":"Units"},"#'T2-B(PP3)'!$G$202"]
["pp3_bl5_1_4_name",{"$f":"'T2-B(PP3)'!$B$203","v":"6.1. Preparation of Application package "},"#'T2-B(PP3)'!$B$203"]
["pp3_bl5_1_4_rate_in",{"$f":"'T2-B(PP3)'!$E$203","v":0},"#'T2-B(PP3)'!$E$203"]
["pp3_bl5_1_4_rate_out",{"$f":"'T2-B(PP3)'!$H$203","v":0},"#'T2-B(PP3)'!$H$203"]
["pp3_bl5_1_4_total",{"$f":"'T2-B(PP3)'!$J$203","v":0},"#'T2-B(PP3)'!$J$203"]
["pp3_bl5_1_4_total_in",{"$f":"'T2-B(PP3)'!$F$203","v":0},"#'T2-B(PP3)'!$F$203"]
["pp3_bl5_1_4_total_out",{"$f":"'T2-B(PP3)'!$I$203","v":0},"#'T2-B(PP3)'!$I$203"]
["pp3_bl5_1_4_unit",{"$f":"'T2-B(PP3)'!$C$203","v":0},"#'T2-B(PP3)'!$C$203"]
["pp3_bl5_1_4_unit_in",{"$f":"'T2-B(PP3)'!$D$203","v":0},"#'T2-B(PP3)'!$D$203"]
["pp3_bl5_1_4_units_out",{"$f":"'T2-B(PP3)'!$G$203","v":0},"#'T2-B(PP3)'!$G$203"]
["pp3_bl5_1_5_name",{"$f":"'T2-B(PP3)'!$B$204","v":0},"#'T2-B(PP3)'!$B$204"]
["pp3_bl5_1_5_rate_in",{"$f":"'T2-B(PP3)'!$E$204","v":0},"#'T2-B(PP3)'!$E$204"]
["pp3_bl5_1_5_rate_out",{"$f":"'T2-B(PP3)'!$H$204","v":0},"#'T2-B(PP3)'!$H$204"]
["pp3_bl5_1_5_total",{"$f":"'T2-B(PP3)'!$J$204","v":0},"#'T2-B(PP3)'!$J$204"]
["pp3_bl5_1_5_total_in",{"$f":"'T2-B(PP3)'!$F$204","v":0},"#'T2-B(PP3)'!$F$204"]
["pp3_bl5_1_5_total_out",{"$f":"'T2-B(PP3)'!$I$204","v":0},"#'T2-B(PP3)'!$I$204"]
["pp3_bl5_1_5_unit",{"$f":"'T2-B(PP3)'!$C$204","v":0},"#'T2-B(PP3)'!$C$204"]
["pp3_bl5_1_5_unit_in",{"$f":"'T2-B(PP3)'!$D$204","v":0},"#'T2-B(PP3)'!$D$204"]
["pp3_bl5_1_5_units_out",{"$f":"'T2-B(PP3)'!$G$204","v":0},"#'T2-B(PP3)'!$G$204"]
["pp3_bl5_1_6_name",{"$f":"'T2-B(PP3)'!$B$205","v":0},"#'T2-B(PP3)'!$B$205"]
["pp3_bl5_1_6_rate_in",{"$f":"'T2-B(PP3)'!$E$205","v":0},"#'T2-B(PP3)'!$E$205"]
["pp3_bl5_1_6_rate_out",{"$f":"'T2-B(PP3)'!$H$205","v":0},"#'T2-B(PP3)'!$H$205"]
["pp3_bl5_1_6_total",{"$f":"'T2-B(PP3)'!$J$205","v":0},"#'T2-B(PP3)'!$J$205"]
["pp3_bl5_1_6_total_in",{"$f":"'T2-B(PP3)'!$F$205","v":0},"#'T2-B(PP3)'!$F$205"]
["pp3_bl5_1_6_total_out",{"$f":"'T2-B(PP3)'!$I$205","v":0},"#'T2-B(PP3)'!$I$205"]
["pp3_bl5_1_6_unit",{"$f":"'T2-B(PP3)'!$C$205","v":0},"#'T2-B(PP3)'!$C$205"]
["pp3_bl5_1_6_unit_in",{"$f":"'T2-B(PP3)'!$D$205","v":0},"#'T2-B(PP3)'!$D$205"]
["pp3_bl5_1_6_units_out",{"$f":"'T2-B(PP3)'!$G$205","v":0},"#'T2-B(PP3)'!$G$205"]
["pp3_bl5_1_7_name",{"$f":"'T2-B(PP3)'!$B$206","v":0},"#'T2-B(PP3)'!$B$206"]
["pp3_bl5_1_7_rate_in",{"$f":"'T2-B(PP3)'!$E$206","v":0},"#'T2-B(PP3)'!$E$206"]
["pp3_bl5_1_7_rate_out",{"$f":"'T2-B(PP3)'!$H$206","v":0},"#'T2-B(PP3)'!$H$206"]
["pp3_bl5_1_7_total",{"$f":"'T2-B(PP3)'!$J$206","v":0},"#'T2-B(PP3)'!$J$206"]
["pp3_bl5_1_7_total_in",{"$f":"'T2-B(PP3)'!$F$206","v":0},"#'T2-B(PP3)'!$F$206"]
["pp3_bl5_1_7_total_out",{"$f":"'T2-B(PP3)'!$I$206","v":0},"#'T2-B(PP3)'!$I$206"]
["pp3_bl5_1_7_unit",{"$f":"'T2-B(PP3)'!$C$206","v":0},"#'T2-B(PP3)'!$C$206"]
["pp3_bl5_1_7_unit_in",{"$f":"'T2-B(PP3)'!$D$206","v":0},"#'T2-B(PP3)'!$D$206"]
["pp3_bl5_1_7_units_out",{"$f":"'T2-B(PP3)'!$G$206","v":0},"#'T2-B(PP3)'!$G$206"]
["pp3_bl5_1_8_name",{"$f":"'T2-B(PP3)'!$B$207","v":0},"#'T2-B(PP3)'!$B$207"]
["pp3_bl5_1_8_rate_in",{"$f":"'T2-B(PP3)'!$E$207","v":0},"#'T2-B(PP3)'!$E$207"]
["pp3_bl5_1_8_rate_out",{"$f":"'T2-B(PP3)'!$H$207","v":0},"#'T2-B(PP3)'!$H$207"]
["pp3_bl5_1_8_total",{"$f":"'T2-B(PP3)'!$J$207","v":0},"#'T2-B(PP3)'!$J$207"]
["pp3_bl5_1_8_total_in",{"$f":"'T2-B(PP3)'!$F$207","v":0},"#'T2-B(PP3)'!$F$207"]
["pp3_bl5_1_8_total_out",{"$f":"'T2-B(PP3)'!$I$207","v":0},"#'T2-B(PP3)'!$I$207"]
["pp3_bl5_1_8_unit",{"$f":"'T2-B(PP3)'!$C$207","v":0},"#'T2-B(PP3)'!$C$207"]
["pp3_bl5_1_8_unit_in",{"$f":"'T2-B(PP3)'!$D$207","v":0},"#'T2-B(PP3)'!$D$207"]
["pp3_bl5_1_8_units_out",{"$f":"'T2-B(PP3)'!$G$207","v":0},"#'T2-B(PP3)'!$G$207"]
["pp3_bl5_1_9_name",{"$f":"'T2-B(PP3)'!$B$208","v":0},"#'T2-B(PP3)'!$B$208"]
["pp3_bl5_1_9_rate_in",{"$f":"'T2-B(PP3)'!$E$208","v":0},"#'T2-B(PP3)'!$E$208"]
["pp3_bl5_1_9_rate_out",{"$f":"'T2-B(PP3)'!$H$208","v":0},"#'T2-B(PP3)'!$H$208"]
["pp3_bl5_1_9_total",{"$f":"'T2-B(PP3)'!$J$208","v":0},"#'T2-B(PP3)'!$J$208"]
["pp3_bl5_1_9_total_in",{"$f":"'T2-B(PP3)'!$F$208","v":0},"#'T2-B(PP3)'!$F$208"]
["pp3_bl5_1_9_total_out",{"$f":"'T2-B(PP3)'!$I$208","v":0},"#'T2-B(PP3)'!$I$208"]
["pp3_bl5_1_9_unit",{"$f":"'T2-B(PP3)'!$C$208","v":0},"#'T2-B(PP3)'!$C$208"]
["pp3_bl5_1_9_unit_in",{"$f":"'T2-B(PP3)'!$D$208","v":0},"#'T2-B(PP3)'!$D$208"]
["pp3_bl5_1_9_units_out",{"$f":"'T2-B(PP3)'!$G$208","v":0},"#'T2-B(PP3)'!$G$208"]
["pp3_bl5_1_total",{"$f":"'T2-B(PP3)'!$J$199","v":0},"#'T2-B(PP3)'!$J$199"]
["pp3_bl5_1_total_in",{"$f":"'T2-B(PP3)'!$F$199","v":0},"#'T2-B(PP3)'!$F$199"]
["pp3_bl5_1_total_out",{"$f":"'T2-B(PP3)'!$I$199","v":0},"#'T2-B(PP3)'!$I$199"]
["pp3_bl5_2_1_name",{"$f":"'T2-B(PP3)'!$B$211","v":0},"#'T2-B(PP3)'!$B$211"]
["pp3_bl5_2_1_rate_in",{"$f":"'T2-B(PP3)'!$E$211","v":0},"#'T2-B(PP3)'!$E$211"]
["pp3_bl5_2_1_rate_out",{"$f":"'T2-B(PP3)'!$H$211","v":0},"#'T2-B(PP3)'!$H$211"]
["pp3_bl5_2_1_total",{"$f":"'T2-B(PP3)'!$J$211","v":0},"#'T2-B(PP3)'!$J$211"]
["pp3_bl5_2_1_total_in",{"$f":"'T2-B(PP3)'!$F$211","v":0},"#'T2-B(PP3)'!$F$211"]
["pp3_bl5_2_1_total_out",{"$f":"'T2-B(PP3)'!$I$211","v":0},"#'T2-B(PP3)'!$I$211"]
["pp3_bl5_2_1_unit",{"$f":"'T2-B(PP3)'!$C$211","v":0},"#'T2-B(PP3)'!$C$211"]
["pp3_bl5_2_1_unit_in",{"$f":"'T2-B(PP3)'!$D$211","v":0},"#'T2-B(PP3)'!$D$211"]
["pp3_bl5_2_1_units_out",{"$f":"'T2-B(PP3)'!$G$211","v":0},"#'T2-B(PP3)'!$G$211"]
["pp3_bl5_2_10_name",{"$f":"'T2-B(PP3)'!$B$220","v":0},"#'T2-B(PP3)'!$B$220"]
["pp3_bl5_2_10_rate_in",{"$f":"'T2-B(PP3)'!$E$220","v":0},"#'T2-B(PP3)'!$E$220"]
["pp3_bl5_2_10_rate_out",{"$f":"'T2-B(PP3)'!$H$220","v":0},"#'T2-B(PP3)'!$H$220"]
["pp3_bl5_2_10_total",{"$f":"'T2-B(PP3)'!$J$220","v":0},"#'T2-B(PP3)'!$J$220"]
["pp3_bl5_2_10_total_in",{"$f":"'T2-B(PP3)'!$F$220","v":0},"#'T2-B(PP3)'!$F$220"]
["pp3_bl5_2_10_total_out",{"$f":"'T2-B(PP3)'!$I$220","v":0},"#'T2-B(PP3)'!$I$220"]
["pp3_bl5_2_10_unit",{"$f":"'T2-B(PP3)'!$C$220","v":0},"#'T2-B(PP3)'!$C$220"]
["pp3_bl5_2_10_unit_in",{"$f":"'T2-B(PP3)'!$D$220","v":0},"#'T2-B(PP3)'!$D$220"]
["pp3_bl5_2_10_units_out",{"$f":"'T2-B(PP3)'!$G$220","v":0},"#'T2-B(PP3)'!$G$220"]
["pp3_bl5_2_2_name",{"$f":"'T2-B(PP3)'!$B$212","v":0},"#'T2-B(PP3)'!$B$212"]
["pp3_bl5_2_2_rate_in",{"$f":"'T2-B(PP3)'!$E$212","v":0},"#'T2-B(PP3)'!$E$212"]
["pp3_bl5_2_2_rate_out",{"$f":"'T2-B(PP3)'!$H$212","v":0},"#'T2-B(PP3)'!$H$212"]
["pp3_bl5_2_2_total",{"$f":"'T2-B(PP3)'!$J$212","v":0},"#'T2-B(PP3)'!$J$212"]
["pp3_bl5_2_2_total_in",{"$f":"'T2-B(PP3)'!$F$212","v":0},"#'T2-B(PP3)'!$F$212"]
["pp3_bl5_2_2_total_out",{"$f":"'T2-B(PP3)'!$I$212","v":0},"#'T2-B(PP3)'!$I$212"]
["pp3_bl5_2_2_unit",{"$f":"'T2-B(PP3)'!$C$212","v":0},"#'T2-B(PP3)'!$C$212"]
["pp3_bl5_2_2_unit_in",{"$f":"'T2-B(PP3)'!$D$212","v":0},"#'T2-B(PP3)'!$D$212"]
["pp3_bl5_2_2_units_out",{"$f":"'T2-B(PP3)'!$G$212","v":0},"#'T2-B(PP3)'!$G$212"]
["pp3_bl5_2_3_name",{"$f":"'T2-B(PP3)'!$B$213","v":0},"#'T2-B(PP3)'!$B$213"]
["pp3_bl5_2_3_rate_in",{"$f":"'T2-B(PP3)'!$E$213","v":0},"#'T2-B(PP3)'!$E$213"]
["pp3_bl5_2_3_rate_out",{"$f":"'T2-B(PP3)'!$H$213","v":0},"#'T2-B(PP3)'!$H$213"]
["pp3_bl5_2_3_total",{"$f":"'T2-B(PP3)'!$J$213","v":0},"#'T2-B(PP3)'!$J$213"]
["pp3_bl5_2_3_total_in",{"$f":"'T2-B(PP3)'!$F$213","v":0},"#'T2-B(PP3)'!$F$213"]
["pp3_bl5_2_3_total_out",{"$f":"'T2-B(PP3)'!$I$213","v":0},"#'T2-B(PP3)'!$I$213"]
["pp3_bl5_2_3_unit",{"$f":"'T2-B(PP3)'!$C$213","v":0},"#'T2-B(PP3)'!$C$213"]
["pp3_bl5_2_3_unit_in",{"$f":"'T2-B(PP3)'!$D$213","v":0},"#'T2-B(PP3)'!$D$213"]
["pp3_bl5_2_3_units_out",{"$f":"'T2-B(PP3)'!$G$213","v":0},"#'T2-B(PP3)'!$G$213"]
["pp3_bl5_2_4_name",{"$f":"'T2-B(PP3)'!$B$214","v":"6.2. Preparation of technical documentation"},"#'T2-B(PP3)'!$B$214"]
["pp3_bl5_2_4_rate_in",{"$f":"'T2-B(PP3)'!$E$214","v":0},"#'T2-B(PP3)'!$E$214"]
["pp3_bl5_2_4_rate_out",{"$f":"'T2-B(PP3)'!$H$214","v":0},"#'T2-B(PP3)'!$H$214"]
["pp3_bl5_2_4_total",{"$f":"'T2-B(PP3)'!$J$214","v":0},"#'T2-B(PP3)'!$J$214"]
["pp3_bl5_2_4_total_in",{"$f":"'T2-B(PP3)'!$F$214","v":0},"#'T2-B(PP3)'!$F$214"]
["pp3_bl5_2_4_total_out",{"$f":"'T2-B(PP3)'!$I$214","v":0},"#'T2-B(PP3)'!$I$214"]
["pp3_bl5_2_4_unit",{"$f":"'T2-B(PP3)'!$C$214","v":0},"#'T2-B(PP3)'!$C$214"]
["pp3_bl5_2_4_unit_in",{"$f":"'T2-B(PP3)'!$D$214","v":0},"#'T2-B(PP3)'!$D$214"]
["pp3_bl5_2_4_units_out",{"$f":"'T2-B(PP3)'!$G$214","v":0},"#'T2-B(PP3)'!$G$214"]
["pp3_bl5_2_5_name",{"$f":"'T2-B(PP3)'!$B$215","v":0},"#'T2-B(PP3)'!$B$215"]
["pp3_bl5_2_5_rate_in",{"$f":"'T2-B(PP3)'!$E$215","v":0},"#'T2-B(PP3)'!$E$215"]
["pp3_bl5_2_5_rate_out",{"$f":"'T2-B(PP3)'!$H$215","v":0},"#'T2-B(PP3)'!$H$215"]
["pp3_bl5_2_5_total",{"$f":"'T2-B(PP3)'!$J$215","v":0},"#'T2-B(PP3)'!$J$215"]
["pp3_bl5_2_5_total_in",{"$f":"'T2-B(PP3)'!$F$215","v":0},"#'T2-B(PP3)'!$F$215"]
["pp3_bl5_2_5_total_out",{"$f":"'T2-B(PP3)'!$I$215","v":0},"#'T2-B(PP3)'!$I$215"]
["pp3_bl5_2_5_unit",{"$f":"'T2-B(PP3)'!$C$215","v":0},"#'T2-B(PP3)'!$C$215"]
["pp3_bl5_2_5_unit_in",{"$f":"'T2-B(PP3)'!$D$215","v":0},"#'T2-B(PP3)'!$D$215"]
["pp3_bl5_2_5_units_out",{"$f":"'T2-B(PP3)'!$G$215","v":0},"#'T2-B(PP3)'!$G$215"]
["pp3_bl5_2_6_name",{"$f":"'T2-B(PP3)'!$B$216","v":0},"#'T2-B(PP3)'!$B$216"]
["pp3_bl5_2_6_rate_in",{"$f":"'T2-B(PP3)'!$E$216","v":0},"#'T2-B(PP3)'!$E$216"]
["pp3_bl5_2_6_rate_out",{"$f":"'T2-B(PP3)'!$H$216","v":0},"#'T2-B(PP3)'!$H$216"]
["pp3_bl5_2_6_total",{"$f":"'T2-B(PP3)'!$J$216","v":0},"#'T2-B(PP3)'!$J$216"]
["pp3_bl5_2_6_total_in",{"$f":"'T2-B(PP3)'!$F$216","v":0},"#'T2-B(PP3)'!$F$216"]
["pp3_bl5_2_6_total_out",{"$f":"'T2-B(PP3)'!$I$216","v":0},"#'T2-B(PP3)'!$I$216"]
["pp3_bl5_2_6_unit",{"$f":"'T2-B(PP3)'!$C$216","v":0},"#'T2-B(PP3)'!$C$216"]
["pp3_bl5_2_6_unit_in",{"$f":"'T2-B(PP3)'!$D$216","v":0},"#'T2-B(PP3)'!$D$216"]
["pp3_bl5_2_6_units_out",{"$f":"'T2-B(PP3)'!$G$216","v":0},"#'T2-B(PP3)'!$G$216"]
["pp3_bl5_2_7_name",{"$f":"'T2-B(PP3)'!$B$217","v":0},"#'T2-B(PP3)'!$B$217"]
["pp3_bl5_2_7_rate_in",{"$f":"'T2-B(PP3)'!$E$217","v":0},"#'T2-B(PP3)'!$E$217"]
["pp3_bl5_2_7_rate_out",{"$f":"'T2-B(PP3)'!$H$217","v":0},"#'T2-B(PP3)'!$H$217"]
["pp3_bl5_2_7_total",{"$f":"'T2-B(PP3)'!$J$217","v":0},"#'T2-B(PP3)'!$J$217"]
["pp3_bl5_2_7_total_in",{"$f":"'T2-B(PP3)'!$F$217","v":0},"#'T2-B(PP3)'!$F$217"]
["pp3_bl5_2_7_total_out",{"$f":"'T2-B(PP3)'!$I$217","v":0},"#'T2-B(PP3)'!$I$217"]
["pp3_bl5_2_7_unit",{"$f":"'T2-B(PP3)'!$C$217","v":0},"#'T2-B(PP3)'!$C$217"]
["pp3_bl5_2_7_unit_in",{"$f":"'T2-B(PP3)'!$D$217","v":0},"#'T2-B(PP3)'!$D$217"]
["pp3_bl5_2_7_units_out",{"$f":"'T2-B(PP3)'!$G$217","v":0},"#'T2-B(PP3)'!$G$217"]
["pp3_bl5_2_8_name",{"$f":"'T2-B(PP3)'!$B$218","v":0},"#'T2-B(PP3)'!$B$218"]
["pp3_bl5_2_8_rate_in",{"$f":"'T2-B(PP3)'!$E$218","v":0},"#'T2-B(PP3)'!$E$218"]
["pp3_bl5_2_8_rate_out",{"$f":"'T2-B(PP3)'!$H$218","v":0},"#'T2-B(PP3)'!$H$218"]
["pp3_bl5_2_8_total",{"$f":"'T2-B(PP3)'!$J$218","v":0},"#'T2-B(PP3)'!$J$218"]
["pp3_bl5_2_8_total_in",{"$f":"'T2-B(PP3)'!$F$218","v":0},"#'T2-B(PP3)'!$F$218"]
["pp3_bl5_2_8_total_out",{"$f":"'T2-B(PP3)'!$I$218","v":0},"#'T2-B(PP3)'!$I$218"]
["pp3_bl5_2_8_unit",{"$f":"'T2-B(PP3)'!$C$218","v":0},"#'T2-B(PP3)'!$C$218"]
["pp3_bl5_2_8_unit_in",{"$f":"'T2-B(PP3)'!$D$218","v":0},"#'T2-B(PP3)'!$D$218"]
["pp3_bl5_2_8_units_out",{"$f":"'T2-B(PP3)'!$G$218","v":0},"#'T2-B(PP3)'!$G$218"]
["pp3_bl5_2_9_name",{"$f":"'T2-B(PP3)'!$B$219","v":0},"#'T2-B(PP3)'!$B$219"]
["pp3_bl5_2_9_rate_in",{"$f":"'T2-B(PP3)'!$E$219","v":0},"#'T2-B(PP3)'!$E$219"]
["pp3_bl5_2_9_rate_out",{"$f":"'T2-B(PP3)'!$H$219","v":0},"#'T2-B(PP3)'!$H$219"]
["pp3_bl5_2_9_total",{"$f":"'T2-B(PP3)'!$J$219","v":0},"#'T2-B(PP3)'!$J$219"]
["pp3_bl5_2_9_total_in",{"$f":"'T2-B(PP3)'!$F$219","v":0},"#'T2-B(PP3)'!$F$219"]
["pp3_bl5_2_9_total_out",{"$f":"'T2-B(PP3)'!$I$219","v":0},"#'T2-B(PP3)'!$I$219"]
["pp3_bl5_2_9_unit",{"$f":"'T2-B(PP3)'!$C$219","v":0},"#'T2-B(PP3)'!$C$219"]
["pp3_bl5_2_9_unit_in",{"$f":"'T2-B(PP3)'!$D$219","v":0},"#'T2-B(PP3)'!$D$219"]
["pp3_bl5_2_9_units_out",{"$f":"'T2-B(PP3)'!$G$219","v":0},"#'T2-B(PP3)'!$G$219"]
["pp3_bl5_2_total",{"$f":"'T2-B(PP3)'!$J$210","v":0},"#'T2-B(PP3)'!$J$210"]
["pp3_bl5_2_total_in",{"$f":"'T2-B(PP3)'!$F$210","v":0},"#'T2-B(PP3)'!$F$210"]
["pp3_bl5_2_total_out",{"$f":"'T2-B(PP3)'!$I$210","v":0},"#'T2-B(PP3)'!$I$210"]
["pp3_bl5_total",{"$f":"'T2-B(PP3)'!$J$221","v":0},"#'T2-B(PP3)'!$J$221"]
["pp3_bl5_total_in",{"$f":"'T2-B(PP3)'!$F$221","v":0},"#'T2-B(PP3)'!$F$221"]
["pp3_bl5_total_out",{"$f":"'T2-B(PP3)'!$I$221","v":0},"#'T2-B(PP3)'!$I$221"]
["pp3_bl6_1_1_name",{"$f":"'T2-B(PP3)'!$B$225","v":"TOTAL"},"#'T2-B(PP3)'!$B$225"]
["pp3_bl6_1_1_rate_in",{"$f":"'T2-B(PP3)'!$E$225","v":0},"#'T2-B(PP3)'!$E$225"]
["pp3_bl6_1_1_rate_out",{"$f":"'T2-B(PP3)'!$H$225","v":0},"#'T2-B(PP3)'!$H$225"]
["pp3_bl6_1_1_total",{"$f":"'T2-B(PP3)'!$J$225","v":0},"#'T2-B(PP3)'!$J$225"]
["pp3_bl6_1_1_total_in",{"$f":"'T2-B(PP3)'!$F$225","v":0},"#'T2-B(PP3)'!$F$225"]
["pp3_bl6_1_1_total_out",{"$f":"'T2-B(PP3)'!$I$225","v":0},"#'T2-B(PP3)'!$I$225"]
["pp3_bl6_1_1_unit",{"$f":"'T2-B(PP3)'!$C$225","v":0},"#'T2-B(PP3)'!$C$225"]
["pp3_bl6_1_1_unit_in",{"$f":"'T2-B(PP3)'!$D$225","v":0},"#'T2-B(PP3)'!$D$225"]
["pp3_bl6_1_1_units_out",{"$f":"'T2-B(PP3)'!$G$225","v":0},"#'T2-B(PP3)'!$G$225"]
["pp3_bl6_1_10_name",{"$f":"'T2-B(PP3)'!$B$234","v":0},"#'T2-B(PP3)'!$B$234"]
["pp3_bl6_1_10_rate_in",{"$f":"'T2-B(PP3)'!$E$234","v":0},"#'T2-B(PP3)'!$E$234"]
["pp3_bl6_1_10_rate_out",{"$f":"'T2-B(PP3)'!$H$234","v":0},"#'T2-B(PP3)'!$H$234"]
["pp3_bl6_1_10_total",{"$f":"'T2-B(PP3)'!$J$234","v":0},"#'T2-B(PP3)'!$J$234"]
["pp3_bl6_1_10_total_in",{"$f":"'T2-B(PP3)'!$F$234","v":0},"#'T2-B(PP3)'!$F$234"]
["pp3_bl6_1_10_total_out",{"$f":"'T2-B(PP3)'!$I$234","v":0},"#'T2-B(PP3)'!$I$234"]
["pp3_bl6_1_10_unit",{"$f":"'T2-B(PP3)'!$C$234","v":0},"#'T2-B(PP3)'!$C$234"]
["pp3_bl6_1_10_unit_in",{"$f":"'T2-B(PP3)'!$D$234","v":0},"#'T2-B(PP3)'!$D$234"]
["pp3_bl6_1_10_units_out",{"$f":"'T2-B(PP3)'!$G$234","v":0},"#'T2-B(PP3)'!$G$234"]
["pp3_bl6_1_2_name",{"$f":"'T2-B(PP3)'!$B$226","v":0},"#'T2-B(PP3)'!$B$226"]
["pp3_bl6_1_2_rate_in",{"$f":"'T2-B(PP3)'!$E$226","v":0},"#'T2-B(PP3)'!$E$226"]
["pp3_bl6_1_2_rate_out",{"$f":"'T2-B(PP3)'!$H$226","v":0},"#'T2-B(PP3)'!$H$226"]
["pp3_bl6_1_2_total",{"$f":"'T2-B(PP3)'!$J$226","v":0},"#'T2-B(PP3)'!$J$226"]
["pp3_bl6_1_2_total_in",{"$f":"'T2-B(PP3)'!$F$226","v":0},"#'T2-B(PP3)'!$F$226"]
["pp3_bl6_1_2_total_out",{"$f":"'T2-B(PP3)'!$I$226","v":0},"#'T2-B(PP3)'!$I$226"]
["pp3_bl6_1_2_unit",{"$f":"'T2-B(PP3)'!$C$226","v":0},"#'T2-B(PP3)'!$C$226"]
["pp3_bl6_1_2_unit_in",{"$f":"'T2-B(PP3)'!$D$226","v":0},"#'T2-B(PP3)'!$D$226"]
["pp3_bl6_1_2_units_out",{"$f":"'T2-B(PP3)'!$G$226","v":0},"#'T2-B(PP3)'!$G$226"]
["pp3_bl6_1_3_name",{"$f":"'T2-B(PP3)'!$B$227","v":"Own Contribution"},"#'T2-B(PP3)'!$B$227"]
["pp3_bl6_1_3_rate_in",{"$f":"'T2-B(PP3)'!$E$227","v":0},"#'T2-B(PP3)'!$E$227"]
["pp3_bl6_1_3_rate_out",{"$f":"'T2-B(PP3)'!$H$227","v":0},"#'T2-B(PP3)'!$H$227"]
["pp3_bl6_1_3_total",{"$f":"'T2-B(PP3)'!$J$227","v":"TOTAL"},"#'T2-B(PP3)'!$J$227"]
["pp3_bl6_1_3_total_in",{"$f":"'T2-B(PP3)'!$F$227","v":0},"#'T2-B(PP3)'!$F$227"]
["pp3_bl6_1_3_total_out",{"$f":"'T2-B(PP3)'!$I$227","v":0},"#'T2-B(PP3)'!$I$227"]
["pp3_bl6_1_3_unit",{"$f":"'T2-B(PP3)'!$C$227","v":"Unit"},"#'T2-B(PP3)'!$C$227"]
["pp3_bl6_1_3_unit_in",{"$f":"'T2-B(PP3)'!$D$227","v":"Expenditures in the eligible area"},"#'T2-B(PP3)'!$D$227"]
["pp3_bl6_1_3_units_out",{"$f":"'T2-B(PP3)'!$G$227","v":"Expenditures outside the eligible area"},"#'T2-B(PP3)'!$G$227"]
["pp3_bl6_1_4_name",{"$f":"'T2-B(PP3)'!$B$228","v":0},"#'T2-B(PP3)'!$B$228"]
["pp3_bl6_1_4_rate_in",{"$f":"'T2-B(PP3)'!$E$228","v":"Unit rate"},"#'T2-B(PP3)'!$E$228"]
["pp3_bl6_1_4_rate_out",{"$f":"'T2-B(PP3)'!$H$228","v":"Unit rate"},"#'T2-B(PP3)'!$H$228"]
["pp3_bl6_1_4_total",{"$f":"'T2-B(PP3)'!$J$228","v":0},"#'T2-B(PP3)'!$J$228"]
["pp3_bl6_1_4_total_in",{"$f":"'T2-B(PP3)'!$F$228","v":"Total"},"#'T2-B(PP3)'!$F$228"]
["pp3_bl6_1_4_total_out",{"$f":"'T2-B(PP3)'!$I$228","v":"Total"},"#'T2-B(PP3)'!$I$228"]
["pp3_bl6_1_4_unit",{"$f":"'T2-B(PP3)'!$C$228","v":0},"#'T2-B(PP3)'!$C$228"]
["pp3_bl6_1_4_unit_in",{"$f":"'T2-B(PP3)'!$D$228","v":"Units"},"#'T2-B(PP3)'!$D$228"]
["pp3_bl6_1_4_units_out",{"$f":"'T2-B(PP3)'!$G$228","v":"Units"},"#'T2-B(PP3)'!$G$228"]
["pp3_bl6_1_5_name",{"$f":"'T2-B(PP3)'!$B$229","v":0},"#'T2-B(PP3)'!$B$229"]
["pp3_bl6_1_5_rate_in",{"$f":"'T2-B(PP3)'!$E$229","v":0},"#'T2-B(PP3)'!$E$229"]
["pp3_bl6_1_5_rate_out",{"$f":"'T2-B(PP3)'!$H$229","v":0},"#'T2-B(PP3)'!$H$229"]
["pp3_bl6_1_5_total",{"$f":"'T2-B(PP3)'!$J$229","v":0},"#'T2-B(PP3)'!$J$229"]
["pp3_bl6_1_5_total_in",{"$f":"'T2-B(PP3)'!$F$229","v":0},"#'T2-B(PP3)'!$F$229"]
["pp3_bl6_1_5_total_out",{"$f":"'T2-B(PP3)'!$I$229","v":0},"#'T2-B(PP3)'!$I$229"]
["pp3_bl6_1_5_unit",{"$f":"'T2-B(PP3)'!$C$229","v":0},"#'T2-B(PP3)'!$C$229"]
["pp3_bl6_1_5_unit_in",{"$f":"'T2-B(PP3)'!$D$229","v":0},"#'T2-B(PP3)'!$D$229"]
["pp3_bl6_1_5_units_out",{"$f":"'T2-B(PP3)'!$G$229","v":0},"#'T2-B(PP3)'!$G$229"]
["pp3_bl6_1_6_name",{"$f":"'T2-B(PP3)'!$B$230","v":0},"#'T2-B(PP3)'!$B$230"]
["pp3_bl6_1_6_rate_in",{"$f":"'T2-B(PP3)'!$E$230","v":0},"#'T2-B(PP3)'!$E$230"]
["pp3_bl6_1_6_rate_out",{"$f":"'T2-B(PP3)'!$H$230","v":0},"#'T2-B(PP3)'!$H$230"]
["pp3_bl6_1_6_total",{"$f":"'T2-B(PP3)'!$J$230","v":0},"#'T2-B(PP3)'!$J$230"]
["pp3_bl6_1_6_total_in",{"$f":"'T2-B(PP3)'!$F$230","v":0},"#'T2-B(PP3)'!$F$230"]
["pp3_bl6_1_6_total_out",{"$f":"'T2-B(PP3)'!$I$230","v":0},"#'T2-B(PP3)'!$I$230"]
["pp3_bl6_1_6_unit",{"$f":"'T2-B(PP3)'!$C$230","v":0},"#'T2-B(PP3)'!$C$230"]
["pp3_bl6_1_6_unit_in",{"$f":"'T2-B(PP3)'!$D$230","v":0},"#'T2-B(PP3)'!$D$230"]
["pp3_bl6_1_6_units_out",{"$f":"'T2-B(PP3)'!$G$230","v":0},"#'T2-B(PP3)'!$G$230"]
["pp3_bl6_1_7_name",{"$f":"'T2-B(PP3)'!$B$231","v":"Total direct project costs (BL3+BL4+BL5)"},"#'T2-B(PP3)'!$B$231"]
["pp3_bl6_1_7_rate_in",{"$f":"'T2-B(PP3)'!$E$231","v":0},"#'T2-B(PP3)'!$E$231"]
["pp3_bl6_1_7_rate_out",{"$f":"'T2-B(PP3)'!$H$231","v":0},"#'T2-B(PP3)'!$H$231"]
["pp3_bl6_1_7_total",{"$f":"'T2-B(PP3)'!$J$231","v":0},"#'T2-B(PP3)'!$J$231"]
["pp3_bl6_1_7_total_in",{"$f":"'T2-B(PP3)'!$F$231","v":0},"#'T2-B(PP3)'!$F$231"]
["pp3_bl6_1_7_total_out",{"$f":"'T2-B(PP3)'!$I$231","v":0},"#'T2-B(PP3)'!$I$231"]
["pp3_bl6_1_7_unit",{"$f":"'T2-B(PP3)'!$C$231","v":0},"#'T2-B(PP3)'!$C$231"]
["pp3_bl6_1_7_unit_in",{"$f":"'T2-B(PP3)'!$D$231","v":0},"#'T2-B(PP3)'!$D$231"]
["pp3_bl6_1_7_units_out",{"$f":"'T2-B(PP3)'!$G$231","v":0},"#'T2-B(PP3)'!$G$231"]
["pp3_bl6_1_8_name",{"$f":"'T2-B(PP3)'!$B$232","v":"TOTAL PROJECT COSTS"},"#'T2-B(PP3)'!$B$232"]
["pp3_bl6_1_8_rate_in",{"$f":"'T2-B(PP3)'!$E$232","v":0},"#'T2-B(PP3)'!$E$232"]
["pp3_bl6_1_8_rate_out",{"$f":"'T2-B(PP3)'!$H$232","v":0},"#'T2-B(PP3)'!$H$232"]
["pp3_bl6_1_8_total",{"$f":"'T2-B(PP3)'!$J$232","v":0},"#'T2-B(PP3)'!$J$232"]
["pp3_bl6_1_8_total_in",{"$f":"'T2-B(PP3)'!$F$232","v":0},"#'T2-B(PP3)'!$F$232"]
["pp3_bl6_1_8_total_out",{"$f":"'T2-B(PP3)'!$I$232","v":0},"#'T2-B(PP3)'!$I$232"]
["pp3_bl6_1_8_unit",{"$f":"'T2-B(PP3)'!$C$232","v":0},"#'T2-B(PP3)'!$C$232"]
["pp3_bl6_1_8_unit_in",{"$f":"'T2-B(PP3)'!$D$232","v":0},"#'T2-B(PP3)'!$D$232"]
["pp3_bl6_1_8_units_out",{"$f":"'T2-B(PP3)'!$G$232","v":0},"#'T2-B(PP3)'!$G$232"]
["pp3_bl6_1_9_name",{"$f":"'T2-B(PP3)'!$B$233","v":0},"#'T2-B(PP3)'!$B$233"]
["pp3_bl6_1_9_rate_in",{"$f":"'T2-B(PP3)'!$E$233","v":0},"#'T2-B(PP3)'!$E$233"]
["pp3_bl6_1_9_rate_out",{"$f":"'T2-B(PP3)'!$H$233","v":0},"#'T2-B(PP3)'!$H$233"]
["pp3_bl6_1_9_total",{"$f":"'T2-B(PP3)'!$J$233","v":0},"#'T2-B(PP3)'!$J$233"]
["pp3_bl6_1_9_total_in",{"$f":"'T2-B(PP3)'!$F$233","v":0},"#'T2-B(PP3)'!$F$233"]
["pp3_bl6_1_9_total_out",{"$f":"'T2-B(PP3)'!$I$233","v":0},"#'T2-B(PP3)'!$I$233"]
["pp3_bl6_1_9_unit",{"$f":"'T2-B(PP3)'!$C$233","v":0},"#'T2-B(PP3)'!$C$233"]
["pp3_bl6_1_9_unit_in",{"$f":"'T2-B(PP3)'!$D$233","v":0},"#'T2-B(PP3)'!$D$233"]
["pp3_bl6_1_9_units_out",{"$f":"'T2-B(PP3)'!$G$233","v":0},"#'T2-B(PP3)'!$G$233"]
["pp3_bl6_1_total",{"$f":"'T2-B(PP3)'!$J$224","v":0},"#'T2-B(PP3)'!$J$224"]
["pp3_bl6_1_total_in",{"$f":"'T2-B(PP3)'!$F$224","v":0},"#'T2-B(PP3)'!$F$224"]
["pp3_bl6_1_total_out",{"$f":"'T2-B(PP3)'!$I$224","v":0},"#'T2-B(PP3)'!$I$224"]
["pp3_bl6_total",{"$f":"'T2-B(PP3)'!$J$235","v":0},"#'T2-B(PP3)'!$J$235"]
["pp3_bl6_total_in",{"$f":"'T2-B(PP3)'!$F$235","v":0},"#'T2-B(PP3)'!$F$235"]
["pp3_bl6_total_out",{"$f":"'T2-B(PP3)'!$I$235","v":0},"#'T2-B(PP3)'!$I$235"]
["pp3_country",{"$f":"'PP3'!$K$14","v":1},"#'PP3'!$K$14"]
["pp3_fax",{"$f":"'PP3'!$C$29","v":0},"#'PP3'!$C$29"]
["pp3_is_bg",{"$f":"'PP3'!$D$13","v":0},"#'PP3'!$D$13"]
["pp3_is_pc",{"$f":"'PP3'!$F$13","v":0},"#'PP3'!$F$13"]
["pp3_legal_representative",{"$f":"'PP3'!$C$23","v":0},"#'PP3'!$C$23"]
["pp3_legal_representative_position",{"$f":"'PP3'!$C$25","v":0},"#'PP3'!$C$25"]
["pp3_mail",{"$f":"'PP3'!$C$31","v":0},"#'PP3'!$C$31"]
["pp3_nat_code",{"$f":"'PP3'!$C$75","v":0},"#'PP3'!$C$75"]
["pp3_nuts3",{"$f":"'PP3'!$C$15","v":0},"#'PP3'!$C$15"]
["pp3_organisation_en",{"$f":"'PP3'!$C$7","v":0},"#'PP3'!$C$7"]
["pp3_organisation_native",{"$f":"'PP3'!$C$9","v":0},"#'PP3'!$C$9"]
["pp3_pe_date1",{"$f":"'PP3'!$G$51","v":0},"#'PP3'!$G$51"]
["pp3_pe_date2",{"$f":"'PP3'!$G$59","v":0},"#'PP3'!$G$59"]
["pp3_pe_date3",{"$f":"'PP3'!$G$67","v":0},"#'PP3'!$G$67"]
["pp3_pe_ga1",{"$f":"'PP3'!$G$50","v":0},"#'PP3'!$G$50"]
["pp3_pe_ga2",{"$f":"'PP3'!$G$58","v":0},"#'PP3'!$G$58"]
["pp3_pe_ga3",{"$f":"'PP3'!$G$66","v":0},"#'PP3'!$G$66"]
["pp3_pe_ip1",{"$f":"'PP3'!$C$47","v":0},"#'PP3'!$C$47"]
["pp3_pe_ip2",{"$f":"'PP3'!$C$55","v":0},"#'PP3'!$C$55"]
["pp3_pe_ip3",{"$f":"'PP3'!$C$63","v":0},"#'PP3'!$C$63"]
["pp3_pe_or1",{"$f":"'PP3'!$C$51","v":0},"#'PP3'!$C$51"]
["pp3_pe_or2",{"$f":"'PP3'!$C$59","v":0},"#'PP3'!$C$59"]
["pp3_pe_or3",{"$f":"'PP3'!$C$67","v":0},"#'PP3'!$C$67"]
["pp3_pe_pt1",{"$f":"'PP3'!$C$48","v":0},"#'PP3'!$C$48"]
["pp3_pe_pt2",{"$f":"'PP3'!$C$56","v":0},"#'PP3'!$C$56"]
["pp3_pe_pt3",{"$f":"'PP3'!$C$64","v":0},"#'PP3'!$C$64"]
["pp3_pe_sd1",{"$f":"'PP3'!$C$49","v":0},"#'PP3'!$C$49"]
["pp3_pe_sd2",{"$f":"'PP3'!$C$57","v":0},"#'PP3'!$C$57"]
["pp3_pe_sd3",{"$f":"'PP3'!$C$65","v":0},"#'PP3'!$C$65"]
["pp3_pe_tev1",{"$f":"'PP3'!$C$50","v":0},"#'PP3'!$C$50"]
["pp3_pe_tev2",{"$f":"'PP3'!$C$58","v":0},"#'PP3'!$C$58"]
["pp3_pe_tev3",{"$f":"'PP3'!$C$66","v":0},"#'PP3'!$C$66"]
["pp3_phone",{"$f":"'PP3'!$C$27","v":0},"#'PP3'!$C$27"]
["pp3_post_code",{"$f":"'PP3'!$C$21","v":0},"#'PP3'!$C$21"]
["pp3_profile",{"$f":"'PP3'!$B$41","v":0},"#'PP3'!$B$41"]
["pp3_town",{"$f":"'PP3'!$C$17","v":0},"#'PP3'!$C$17"]
["pp3_type_org",{"$f":"'PP3'!$C$11","v":0},"#'PP3'!$C$11"]
["pp3_vat_code",{"$f":"'PP3'!$C$77","v":0},"#'PP3'!$C$77"]
["pp3_website",{"$f":"'PP3'!$C$33","v":0},"#'PP3'!$C$33"]
["pp4_2012_fulltime_staff",{"$f":"'PP4'!$D$84","v":0},"#'PP4'!$D$84"]
["pp4_2012_offices",{"$f":"'PP4'!$F$84","v":0},"#'PP4'!$F$84"]
["pp4_2012_parttime_staff",{"$f":"'PP4'!$E$84","v":0},"#'PP4'!$E$84"]
["pp4_2012_turnover",{"$f":"'PP4'!$C$84","v":0},"#'PP4'!$C$84"]
["pp4_2013_fulltime_staff",{"$f":"'PP4'!$D$83","v":0},"#'PP4'!$D$83"]
["pp4_2013_offices",{"$f":"'PP4'!$F$83","v":0},"#'PP4'!$F$83"]
["pp4_2013_parttime_staff",{"$f":"'PP4'!$E$83","v":0},"#'PP4'!$E$83"]
["pp4_2013_turnover",{"$f":"'PP4'!$C$83","v":0},"#'PP4'!$C$83"]
["pp4_2014_fulltime_staff",{"$f":"'PP4'!$D$82","v":0},"#'PP4'!$D$82"]
["pp4_2014_offices",{"$f":"'PP4'!$F$82","v":0},"#'PP4'!$F$82"]
["pp4_2014_parttime_staff",{"$f":"'PP4'!$E$82","v":0},"#'PP4'!$E$82"]
["pp4_2014_turnover",{"$f":"'PP4'!$C$82","v":0},"#'PP4'!$C$82"]
["pp4_address",{"$f":"'PP4'!$C$19","v":0},"#'PP4'!$C$19"]
["pp4_bl3_1_1_name",{"$f":"'T2-B(PP4)'!$B$16","v":0},"#'T2-B(PP4)'!$B$16"]
["pp4_bl3_1_1_rate_in",{"$f":"'T2-B(PP4)'!$E$16","v":0},"#'T2-B(PP4)'!$E$16"]
["pp4_bl3_1_1_rate_out",{"$f":"'T2-B(PP4)'!$H$16","v":0},"#'T2-B(PP4)'!$H$16"]
["pp4_bl3_1_1_total",{"$f":"'T2-B(PP4)'!$J$16","v":0},"#'T2-B(PP4)'!$J$16"]
["pp4_bl3_1_1_total_in",{"$f":"'T2-B(PP4)'!$F$16","v":0},"#'T2-B(PP4)'!$F$16"]
["pp4_bl3_1_1_total_out",{"$f":"'T2-B(PP4)'!$I$16","v":0},"#'T2-B(PP4)'!$I$16"]
["pp4_bl3_1_1_unit",{"$f":"'T2-B(PP4)'!$C$16","v":0},"#'T2-B(PP4)'!$C$16"]
["pp4_bl3_1_1_unit_in",{"$f":"'T2-B(PP4)'!$D$16","v":0},"#'T2-B(PP4)'!$D$16"]
["pp4_bl3_1_1_units_out",{"$f":"'T2-B(PP4)'!$G$16","v":0},"#'T2-B(PP4)'!$G$16"]
["pp4_bl3_1_10_name",{"$f":"'T2-B(PP4)'!$B$25","v":0},"#'T2-B(PP4)'!$B$25"]
["pp4_bl3_1_10_rate_in",{"$f":"'T2-B(PP4)'!$E$25","v":0},"#'T2-B(PP4)'!$E$25"]
["pp4_bl3_1_10_rate_out",{"$f":"'T2-B(PP4)'!$H$25","v":0},"#'T2-B(PP4)'!$H$25"]
["pp4_bl3_1_10_total",{"$f":"'T2-B(PP4)'!$J$25","v":0},"#'T2-B(PP4)'!$J$25"]
["pp4_bl3_1_10_total_in",{"$f":"'T2-B(PP4)'!$F$25","v":0},"#'T2-B(PP4)'!$F$25"]
["pp4_bl3_1_10_total_out",{"$f":"'T2-B(PP4)'!$I$25","v":0},"#'T2-B(PP4)'!$I$25"]
["pp4_bl3_1_10_unit",{"$f":"'T2-B(PP4)'!$C$25","v":0},"#'T2-B(PP4)'!$C$25"]
["pp4_bl3_1_10_unit_in",{"$f":"'T2-B(PP4)'!$D$25","v":0},"#'T2-B(PP4)'!$D$25"]
["pp4_bl3_1_10_units_out",{"$f":"'T2-B(PP4)'!$G$25","v":0},"#'T2-B(PP4)'!$G$25"]
["pp4_bl3_1_2_name",{"$f":"'T2-B(PP4)'!$B$17","v":0},"#'T2-B(PP4)'!$B$17"]
["pp4_bl3_1_2_rate_in",{"$f":"'T2-B(PP4)'!$E$17","v":0},"#'T2-B(PP4)'!$E$17"]
["pp4_bl3_1_2_rate_out",{"$f":"'T2-B(PP4)'!$H$17","v":0},"#'T2-B(PP4)'!$H$17"]
["pp4_bl3_1_2_total",{"$f":"'T2-B(PP4)'!$J$17","v":0},"#'T2-B(PP4)'!$J$17"]
["pp4_bl3_1_2_total_in",{"$f":"'T2-B(PP4)'!$F$17","v":0},"#'T2-B(PP4)'!$F$17"]
["pp4_bl3_1_2_total_out",{"$f":"'T2-B(PP4)'!$I$17","v":0},"#'T2-B(PP4)'!$I$17"]
["pp4_bl3_1_2_unit",{"$f":"'T2-B(PP4)'!$C$17","v":0},"#'T2-B(PP4)'!$C$17"]
["pp4_bl3_1_2_unit_in",{"$f":"'T2-B(PP4)'!$D$17","v":0},"#'T2-B(PP4)'!$D$17"]
["pp4_bl3_1_2_units_out",{"$f":"'T2-B(PP4)'!$G$17","v":0},"#'T2-B(PP4)'!$G$17"]
["pp4_bl3_1_3_name",{"$f":"'T2-B(PP4)'!$B$18","v":0},"#'T2-B(PP4)'!$B$18"]
["pp4_bl3_1_3_rate_in",{"$f":"'T2-B(PP4)'!$E$18","v":0},"#'T2-B(PP4)'!$E$18"]
["pp4_bl3_1_3_rate_out",{"$f":"'T2-B(PP4)'!$H$18","v":0},"#'T2-B(PP4)'!$H$18"]
["pp4_bl3_1_3_total",{"$f":"'T2-B(PP4)'!$J$18","v":0},"#'T2-B(PP4)'!$J$18"]
["pp4_bl3_1_3_total_in",{"$f":"'T2-B(PP4)'!$F$18","v":0},"#'T2-B(PP4)'!$F$18"]
["pp4_bl3_1_3_total_out",{"$f":"'T2-B(PP4)'!$I$18","v":0},"#'T2-B(PP4)'!$I$18"]
["pp4_bl3_1_3_unit",{"$f":"'T2-B(PP4)'!$C$18","v":0},"#'T2-B(PP4)'!$C$18"]
["pp4_bl3_1_3_unit_in",{"$f":"'T2-B(PP4)'!$D$18","v":0},"#'T2-B(PP4)'!$D$18"]
["pp4_bl3_1_3_units_out",{"$f":"'T2-B(PP4)'!$G$18","v":0},"#'T2-B(PP4)'!$G$18"]
["pp4_bl3_1_4_name",{"$f":"'T2-B(PP4)'!$B$19","v":0},"#'T2-B(PP4)'!$B$19"]
["pp4_bl3_1_4_rate_in",{"$f":"'T2-B(PP4)'!$E$19","v":0},"#'T2-B(PP4)'!$E$19"]
["pp4_bl3_1_4_rate_out",{"$f":"'T2-B(PP4)'!$H$19","v":0},"#'T2-B(PP4)'!$H$19"]
["pp4_bl3_1_4_total",{"$f":"'T2-B(PP4)'!$J$19","v":0},"#'T2-B(PP4)'!$J$19"]
["pp4_bl3_1_4_total_in",{"$f":"'T2-B(PP4)'!$F$19","v":0},"#'T2-B(PP4)'!$F$19"]
["pp4_bl3_1_4_total_out",{"$f":"'T2-B(PP4)'!$I$19","v":0},"#'T2-B(PP4)'!$I$19"]
["pp4_bl3_1_4_unit",{"$f":"'T2-B(PP4)'!$C$19","v":0},"#'T2-B(PP4)'!$C$19"]
["pp4_bl3_1_4_unit_in",{"$f":"'T2-B(PP4)'!$D$19","v":0},"#'T2-B(PP4)'!$D$19"]
["pp4_bl3_1_4_units_out",{"$f":"'T2-B(PP4)'!$G$19","v":0},"#'T2-B(PP4)'!$G$19"]
["pp4_bl3_1_5_name",{"$f":"'T2-B(PP4)'!$B$20","v":0},"#'T2-B(PP4)'!$B$20"]
["pp4_bl3_1_5_rate_in",{"$f":"'T2-B(PP4)'!$E$20","v":0},"#'T2-B(PP4)'!$E$20"]
["pp4_bl3_1_5_rate_out",{"$f":"'T2-B(PP4)'!$H$20","v":0},"#'T2-B(PP4)'!$H$20"]
["pp4_bl3_1_5_total",{"$f":"'T2-B(PP4)'!$J$20","v":0},"#'T2-B(PP4)'!$J$20"]
["pp4_bl3_1_5_total_in",{"$f":"'T2-B(PP4)'!$F$20","v":0},"#'T2-B(PP4)'!$F$20"]
["pp4_bl3_1_5_total_out",{"$f":"'T2-B(PP4)'!$I$20","v":0},"#'T2-B(PP4)'!$I$20"]
["pp4_bl3_1_5_unit",{"$f":"'T2-B(PP4)'!$C$20","v":0},"#'T2-B(PP4)'!$C$20"]
["pp4_bl3_1_5_unit_in",{"$f":"'T2-B(PP4)'!$D$20","v":0},"#'T2-B(PP4)'!$D$20"]
["pp4_bl3_1_5_units_out",{"$f":"'T2-B(PP4)'!$G$20","v":0},"#'T2-B(PP4)'!$G$20"]
["pp4_bl3_1_6_name",{"$f":"'T2-B(PP4)'!$B$21","v":0},"#'T2-B(PP4)'!$B$21"]
["pp4_bl3_1_6_rate_in",{"$f":"'T2-B(PP4)'!$E$21","v":0},"#'T2-B(PP4)'!$E$21"]
["pp4_bl3_1_6_rate_out",{"$f":"'T2-B(PP4)'!$H$21","v":0},"#'T2-B(PP4)'!$H$21"]
["pp4_bl3_1_6_total",{"$f":"'T2-B(PP4)'!$J$21","v":0},"#'T2-B(PP4)'!$J$21"]
["pp4_bl3_1_6_total_in",{"$f":"'T2-B(PP4)'!$F$21","v":0},"#'T2-B(PP4)'!$F$21"]
["pp4_bl3_1_6_total_out",{"$f":"'T2-B(PP4)'!$I$21","v":0},"#'T2-B(PP4)'!$I$21"]
["pp4_bl3_1_6_unit",{"$f":"'T2-B(PP4)'!$C$21","v":0},"#'T2-B(PP4)'!$C$21"]
["pp4_bl3_1_6_unit_in",{"$f":"'T2-B(PP4)'!$D$21","v":0},"#'T2-B(PP4)'!$D$21"]
["pp4_bl3_1_6_units_out",{"$f":"'T2-B(PP4)'!$G$21","v":0},"#'T2-B(PP4)'!$G$21"]
["pp4_bl3_1_7_name",{"$f":"'T2-B(PP4)'!$B$22","v":0},"#'T2-B(PP4)'!$B$22"]
["pp4_bl3_1_7_rate_in",{"$f":"'T2-B(PP4)'!$E$22","v":0},"#'T2-B(PP4)'!$E$22"]
["pp4_bl3_1_7_rate_out",{"$f":"'T2-B(PP4)'!$H$22","v":0},"#'T2-B(PP4)'!$H$22"]
["pp4_bl3_1_7_total",{"$f":"'T2-B(PP4)'!$J$22","v":0},"#'T2-B(PP4)'!$J$22"]
["pp4_bl3_1_7_total_in",{"$f":"'T2-B(PP4)'!$F$22","v":0},"#'T2-B(PP4)'!$F$22"]
["pp4_bl3_1_7_total_out",{"$f":"'T2-B(PP4)'!$I$22","v":0},"#'T2-B(PP4)'!$I$22"]
["pp4_bl3_1_7_unit",{"$f":"'T2-B(PP4)'!$C$22","v":0},"#'T2-B(PP4)'!$C$22"]
["pp4_bl3_1_7_unit_in",{"$f":"'T2-B(PP4)'!$D$22","v":0},"#'T2-B(PP4)'!$D$22"]
["pp4_bl3_1_7_units_out",{"$f":"'T2-B(PP4)'!$G$22","v":0},"#'T2-B(PP4)'!$G$22"]
["pp4_bl3_1_8_name",{"$f":"'T2-B(PP4)'!$B$23","v":0},"#'T2-B(PP4)'!$B$23"]
["pp4_bl3_1_8_rate_in",{"$f":"'T2-B(PP4)'!$E$23","v":0},"#'T2-B(PP4)'!$E$23"]
["pp4_bl3_1_8_rate_out",{"$f":"'T2-B(PP4)'!$H$23","v":0},"#'T2-B(PP4)'!$H$23"]
["pp4_bl3_1_8_total",{"$f":"'T2-B(PP4)'!$J$23","v":0},"#'T2-B(PP4)'!$J$23"]
["pp4_bl3_1_8_total_in",{"$f":"'T2-B(PP4)'!$F$23","v":0},"#'T2-B(PP4)'!$F$23"]
["pp4_bl3_1_8_total_out",{"$f":"'T2-B(PP4)'!$I$23","v":0},"#'T2-B(PP4)'!$I$23"]
["pp4_bl3_1_8_unit",{"$f":"'T2-B(PP4)'!$C$23","v":0},"#'T2-B(PP4)'!$C$23"]
["pp4_bl3_1_8_unit_in",{"$f":"'T2-B(PP4)'!$D$23","v":0},"#'T2-B(PP4)'!$D$23"]
["pp4_bl3_1_8_units_out",{"$f":"'T2-B(PP4)'!$G$23","v":0},"#'T2-B(PP4)'!$G$23"]
["pp4_bl3_1_9_name",{"$f":"'T2-B(PP4)'!$B$24","v":0},"#'T2-B(PP4)'!$B$24"]
["pp4_bl3_1_9_rate_in",{"$f":"'T2-B(PP4)'!$E$24","v":0},"#'T2-B(PP4)'!$E$24"]
["pp4_bl3_1_9_rate_out",{"$f":"'T2-B(PP4)'!$H$24","v":0},"#'T2-B(PP4)'!$H$24"]
["pp4_bl3_1_9_total",{"$f":"'T2-B(PP4)'!$J$24","v":0},"#'T2-B(PP4)'!$J$24"]
["pp4_bl3_1_9_total_in",{"$f":"'T2-B(PP4)'!$F$24","v":0},"#'T2-B(PP4)'!$F$24"]
["pp4_bl3_1_9_total_out",{"$f":"'T2-B(PP4)'!$I$24","v":0},"#'T2-B(PP4)'!$I$24"]
["pp4_bl3_1_9_unit",{"$f":"'T2-B(PP4)'!$C$24","v":0},"#'T2-B(PP4)'!$C$24"]
["pp4_bl3_1_9_unit_in",{"$f":"'T2-B(PP4)'!$D$24","v":0},"#'T2-B(PP4)'!$D$24"]
["pp4_bl3_1_9_units_out",{"$f":"'T2-B(PP4)'!$G$24","v":0},"#'T2-B(PP4)'!$G$24"]
["pp4_bl3_1_total",{"$f":"'T2-B(PP4)'!$J$15","v":0},"#'T2-B(PP4)'!$J$15"]
["pp4_bl3_1_total_in",{"$f":"'T2-B(PP4)'!$F$15","v":0},"#'T2-B(PP4)'!$F$15"]
["pp4_bl3_1_total_out",{"$f":"'T2-B(PP4)'!$I$15","v":0},"#'T2-B(PP4)'!$I$15"]
["pp4_bl3_2_1_name",{"$f":"'T2-B(PP4)'!$B$27","v":0},"#'T2-B(PP4)'!$B$27"]
["pp4_bl3_2_1_rate_in",{"$f":"'T2-B(PP4)'!$E$27","v":0},"#'T2-B(PP4)'!$E$27"]
["pp4_bl3_2_1_rate_out",{"$f":"'T2-B(PP4)'!$H$27","v":0},"#'T2-B(PP4)'!$H$27"]
["pp4_bl3_2_1_total",{"$f":"'T2-B(PP4)'!$J$27","v":0},"#'T2-B(PP4)'!$J$27"]
["pp4_bl3_2_1_total_in",{"$f":"'T2-B(PP4)'!$F$27","v":0},"#'T2-B(PP4)'!$F$27"]
["pp4_bl3_2_1_total_out",{"$f":"'T2-B(PP4)'!$I$27","v":0},"#'T2-B(PP4)'!$I$27"]
["pp4_bl3_2_1_unit",{"$f":"'T2-B(PP4)'!$C$27","v":0},"#'T2-B(PP4)'!$C$27"]
["pp4_bl3_2_1_unit_in",{"$f":"'T2-B(PP4)'!$D$27","v":0},"#'T2-B(PP4)'!$D$27"]
["pp4_bl3_2_1_units_out",{"$f":"'T2-B(PP4)'!$G$27","v":0},"#'T2-B(PP4)'!$G$27"]
["pp4_bl3_2_10_name",{"$f":"'T2-B(PP4)'!$B$36","v":0},"#'T2-B(PP4)'!$B$36"]
["pp4_bl3_2_10_rate_in",{"$f":"'T2-B(PP4)'!$E$36","v":0},"#'T2-B(PP4)'!$E$36"]
["pp4_bl3_2_10_rate_out",{"$f":"'T2-B(PP4)'!$H$36","v":0},"#'T2-B(PP4)'!$H$36"]
["pp4_bl3_2_10_total",{"$f":"'T2-B(PP4)'!$J$36","v":0},"#'T2-B(PP4)'!$J$36"]
["pp4_bl3_2_10_total_in",{"$f":"'T2-B(PP4)'!$F$36","v":0},"#'T2-B(PP4)'!$F$36"]
["pp4_bl3_2_10_total_out",{"$f":"'T2-B(PP4)'!$I$36","v":0},"#'T2-B(PP4)'!$I$36"]
["pp4_bl3_2_10_unit",{"$f":"'T2-B(PP4)'!$C$36","v":0},"#'T2-B(PP4)'!$C$36"]
["pp4_bl3_2_10_unit_in",{"$f":"'T2-B(PP4)'!$D$36","v":0},"#'T2-B(PP4)'!$D$36"]
["pp4_bl3_2_10_units_out",{"$f":"'T2-B(PP4)'!$G$36","v":0},"#'T2-B(PP4)'!$G$36"]
["pp4_bl3_2_2_name",{"$f":"'T2-B(PP4)'!$B$28","v":0},"#'T2-B(PP4)'!$B$28"]
["pp4_bl3_2_2_rate_in",{"$f":"'T2-B(PP4)'!$E$28","v":0},"#'T2-B(PP4)'!$E$28"]
["pp4_bl3_2_2_rate_out",{"$f":"'T2-B(PP4)'!$H$28","v":0},"#'T2-B(PP4)'!$H$28"]
["pp4_bl3_2_2_total",{"$f":"'T2-B(PP4)'!$J$28","v":0},"#'T2-B(PP4)'!$J$28"]
["pp4_bl3_2_2_total_in",{"$f":"'T2-B(PP4)'!$F$28","v":0},"#'T2-B(PP4)'!$F$28"]
["pp4_bl3_2_2_total_out",{"$f":"'T2-B(PP4)'!$I$28","v":0},"#'T2-B(PP4)'!$I$28"]
["pp4_bl3_2_2_unit",{"$f":"'T2-B(PP4)'!$C$28","v":0},"#'T2-B(PP4)'!$C$28"]
["pp4_bl3_2_2_unit_in",{"$f":"'T2-B(PP4)'!$D$28","v":0},"#'T2-B(PP4)'!$D$28"]
["pp4_bl3_2_2_units_out",{"$f":"'T2-B(PP4)'!$G$28","v":0},"#'T2-B(PP4)'!$G$28"]
["pp4_bl3_2_3_name",{"$f":"'T2-B(PP4)'!$B$29","v":0},"#'T2-B(PP4)'!$B$29"]
["pp4_bl3_2_3_rate_in",{"$f":"'T2-B(PP4)'!$E$29","v":0},"#'T2-B(PP4)'!$E$29"]
["pp4_bl3_2_3_rate_out",{"$f":"'T2-B(PP4)'!$H$29","v":0},"#'T2-B(PP4)'!$H$29"]
["pp4_bl3_2_3_total",{"$f":"'T2-B(PP4)'!$J$29","v":0},"#'T2-B(PP4)'!$J$29"]
["pp4_bl3_2_3_total_in",{"$f":"'T2-B(PP4)'!$F$29","v":0},"#'T2-B(PP4)'!$F$29"]
["pp4_bl3_2_3_total_out",{"$f":"'T2-B(PP4)'!$I$29","v":0},"#'T2-B(PP4)'!$I$29"]
["pp4_bl3_2_3_unit",{"$f":"'T2-B(PP4)'!$C$29","v":0},"#'T2-B(PP4)'!$C$29"]
["pp4_bl3_2_3_unit_in",{"$f":"'T2-B(PP4)'!$D$29","v":0},"#'T2-B(PP4)'!$D$29"]
["pp4_bl3_2_3_units_out",{"$f":"'T2-B(PP4)'!$G$29","v":0},"#'T2-B(PP4)'!$G$29"]
["pp4_bl3_2_4_name",{"$f":"'T2-B(PP4)'!$B$30","v":0},"#'T2-B(PP4)'!$B$30"]
["pp4_bl3_2_4_rate_in",{"$f":"'T2-B(PP4)'!$E$30","v":0},"#'T2-B(PP4)'!$E$30"]
["pp4_bl3_2_4_rate_out",{"$f":"'T2-B(PP4)'!$H$30","v":0},"#'T2-B(PP4)'!$H$30"]
["pp4_bl3_2_4_total",{"$f":"'T2-B(PP4)'!$J$30","v":0},"#'T2-B(PP4)'!$J$30"]
["pp4_bl3_2_4_total_in",{"$f":"'T2-B(PP4)'!$F$30","v":0},"#'T2-B(PP4)'!$F$30"]
["pp4_bl3_2_4_total_out",{"$f":"'T2-B(PP4)'!$I$30","v":0},"#'T2-B(PP4)'!$I$30"]
["pp4_bl3_2_4_unit",{"$f":"'T2-B(PP4)'!$C$30","v":0},"#'T2-B(PP4)'!$C$30"]
["pp4_bl3_2_4_unit_in",{"$f":"'T2-B(PP4)'!$D$30","v":0},"#'T2-B(PP4)'!$D$30"]
["pp4_bl3_2_4_units_out",{"$f":"'T2-B(PP4)'!$G$30","v":0},"#'T2-B(PP4)'!$G$30"]
["pp4_bl3_2_5_name",{"$f":"'T2-B(PP4)'!$B$31","v":0},"#'T2-B(PP4)'!$B$31"]
["pp4_bl3_2_5_rate_in",{"$f":"'T2-B(PP4)'!$E$31","v":0},"#'T2-B(PP4)'!$E$31"]
["pp4_bl3_2_5_rate_out",{"$f":"'T2-B(PP4)'!$H$31","v":0},"#'T2-B(PP4)'!$H$31"]
["pp4_bl3_2_5_total",{"$f":"'T2-B(PP4)'!$J$31","v":0},"#'T2-B(PP4)'!$J$31"]
["pp4_bl3_2_5_total_in",{"$f":"'T2-B(PP4)'!$F$31","v":0},"#'T2-B(PP4)'!$F$31"]
["pp4_bl3_2_5_total_out",{"$f":"'T2-B(PP4)'!$I$31","v":0},"#'T2-B(PP4)'!$I$31"]
["pp4_bl3_2_5_unit",{"$f":"'T2-B(PP4)'!$C$31","v":0},"#'T2-B(PP4)'!$C$31"]
["pp4_bl3_2_5_unit_in",{"$f":"'T2-B(PP4)'!$D$31","v":0},"#'T2-B(PP4)'!$D$31"]
["pp4_bl3_2_5_units_out",{"$f":"'T2-B(PP4)'!$G$31","v":0},"#'T2-B(PP4)'!$G$31"]
["pp4_bl3_2_6_name",{"$f":"'T2-B(PP4)'!$B$32","v":0},"#'T2-B(PP4)'!$B$32"]
["pp4_bl3_2_6_rate_in",{"$f":"'T2-B(PP4)'!$E$32","v":0},"#'T2-B(PP4)'!$E$32"]
["pp4_bl3_2_6_rate_out",{"$f":"'T2-B(PP4)'!$H$32","v":0},"#'T2-B(PP4)'!$H$32"]
["pp4_bl3_2_6_total",{"$f":"'T2-B(PP4)'!$J$32","v":0},"#'T2-B(PP4)'!$J$32"]
["pp4_bl3_2_6_total_in",{"$f":"'T2-B(PP4)'!$F$32","v":0},"#'T2-B(PP4)'!$F$32"]
["pp4_bl3_2_6_total_out",{"$f":"'T2-B(PP4)'!$I$32","v":0},"#'T2-B(PP4)'!$I$32"]
["pp4_bl3_2_6_unit",{"$f":"'T2-B(PP4)'!$C$32","v":0},"#'T2-B(PP4)'!$C$32"]
["pp4_bl3_2_6_unit_in",{"$f":"'T2-B(PP4)'!$D$32","v":0},"#'T2-B(PP4)'!$D$32"]
["pp4_bl3_2_6_units_out",{"$f":"'T2-B(PP4)'!$G$32","v":0},"#'T2-B(PP4)'!$G$32"]
["pp4_bl3_2_7_name",{"$f":"'T2-B(PP4)'!$B$33","v":0},"#'T2-B(PP4)'!$B$33"]
["pp4_bl3_2_7_rate_in",{"$f":"'T2-B(PP4)'!$E$33","v":0},"#'T2-B(PP4)'!$E$33"]
["pp4_bl3_2_7_rate_out",{"$f":"'T2-B(PP4)'!$H$33","v":0},"#'T2-B(PP4)'!$H$33"]
["pp4_bl3_2_7_total",{"$f":"'T2-B(PP4)'!$J$33","v":0},"#'T2-B(PP4)'!$J$33"]
["pp4_bl3_2_7_total_in",{"$f":"'T2-B(PP4)'!$F$33","v":0},"#'T2-B(PP4)'!$F$33"]
["pp4_bl3_2_7_total_out",{"$f":"'T2-B(PP4)'!$I$33","v":0},"#'T2-B(PP4)'!$I$33"]
["pp4_bl3_2_7_unit",{"$f":"'T2-B(PP4)'!$C$33","v":0},"#'T2-B(PP4)'!$C$33"]
["pp4_bl3_2_7_unit_in",{"$f":"'T2-B(PP4)'!$D$33","v":0},"#'T2-B(PP4)'!$D$33"]
["pp4_bl3_2_7_units_out",{"$f":"'T2-B(PP4)'!$G$33","v":0},"#'T2-B(PP4)'!$G$33"]
["pp4_bl3_2_8_name",{"$f":"'T2-B(PP4)'!$B$34","v":0},"#'T2-B(PP4)'!$B$34"]
["pp4_bl3_2_8_rate_in",{"$f":"'T2-B(PP4)'!$E$34","v":0},"#'T2-B(PP4)'!$E$34"]
["pp4_bl3_2_8_rate_out",{"$f":"'T2-B(PP4)'!$H$34","v":0},"#'T2-B(PP4)'!$H$34"]
["pp4_bl3_2_8_total",{"$f":"'T2-B(PP4)'!$J$34","v":0},"#'T2-B(PP4)'!$J$34"]
["pp4_bl3_2_8_total_in",{"$f":"'T2-B(PP4)'!$F$34","v":0},"#'T2-B(PP4)'!$F$34"]
["pp4_bl3_2_8_total_out",{"$f":"'T2-B(PP4)'!$I$34","v":0},"#'T2-B(PP4)'!$I$34"]
["pp4_bl3_2_8_unit",{"$f":"'T2-B(PP4)'!$C$34","v":0},"#'T2-B(PP4)'!$C$34"]
["pp4_bl3_2_8_unit_in",{"$f":"'T2-B(PP4)'!$D$34","v":0},"#'T2-B(PP4)'!$D$34"]
["pp4_bl3_2_8_units_out",{"$f":"'T2-B(PP4)'!$G$34","v":0},"#'T2-B(PP4)'!$G$34"]
["pp4_bl3_2_9_name",{"$f":"'T2-B(PP4)'!$B$35","v":0},"#'T2-B(PP4)'!$B$35"]
["pp4_bl3_2_9_rate_in",{"$f":"'T2-B(PP4)'!$E$35","v":0},"#'T2-B(PP4)'!$E$35"]
["pp4_bl3_2_9_rate_out",{"$f":"'T2-B(PP4)'!$H$35","v":0},"#'T2-B(PP4)'!$H$35"]
["pp4_bl3_2_9_total",{"$f":"'T2-B(PP4)'!$J$35","v":0},"#'T2-B(PP4)'!$J$35"]
["pp4_bl3_2_9_total_in",{"$f":"'T2-B(PP4)'!$F$35","v":0},"#'T2-B(PP4)'!$F$35"]
["pp4_bl3_2_9_total_out",{"$f":"'T2-B(PP4)'!$I$35","v":0},"#'T2-B(PP4)'!$I$35"]
["pp4_bl3_2_9_unit",{"$f":"'T2-B(PP4)'!$C$35","v":0},"#'T2-B(PP4)'!$C$35"]
["pp4_bl3_2_9_unit_in",{"$f":"'T2-B(PP4)'!$D$35","v":0},"#'T2-B(PP4)'!$D$35"]
["pp4_bl3_2_9_units_out",{"$f":"'T2-B(PP4)'!$G$35","v":0},"#'T2-B(PP4)'!$G$35"]
["pp4_bl3_2_total",{"$f":"'T2-B(PP4)'!$J$26","v":0},"#'T2-B(PP4)'!$J$26"]
["pp4_bl3_2_total_in",{"$f":"'T2-B(PP4)'!$F$26","v":0},"#'T2-B(PP4)'!$F$26"]
["pp4_bl3_2_total_out",{"$f":"'T2-B(PP4)'!$I$26","v":0},"#'T2-B(PP4)'!$I$26"]
["pp4_bl3_3_1_name",{"$f":"'T2-B(PP4)'!$B$38","v":0},"#'T2-B(PP4)'!$B$38"]
["pp4_bl3_3_1_rate_in",{"$f":"'T2-B(PP4)'!$E$38","v":0},"#'T2-B(PP4)'!$E$38"]
["pp4_bl3_3_1_rate_out",{"$f":"'T2-B(PP4)'!$H$38","v":0},"#'T2-B(PP4)'!$H$38"]
["pp4_bl3_3_1_total",{"$f":"'T2-B(PP4)'!$J$38","v":0},"#'T2-B(PP4)'!$J$38"]
["pp4_bl3_3_1_total_in",{"$f":"'T2-B(PP4)'!$F$38","v":0},"#'T2-B(PP4)'!$F$38"]
["pp4_bl3_3_1_total_out",{"$f":"'T2-B(PP4)'!$I$38","v":0},"#'T2-B(PP4)'!$I$38"]
["pp4_bl3_3_1_unit",{"$f":"'T2-B(PP4)'!$C$38","v":0},"#'T2-B(PP4)'!$C$38"]
["pp4_bl3_3_1_unit_in",{"$f":"'T2-B(PP4)'!$D$38","v":0},"#'T2-B(PP4)'!$D$38"]
["pp4_bl3_3_1_units_out",{"$f":"'T2-B(PP4)'!$G$38","v":0},"#'T2-B(PP4)'!$G$38"]
["pp4_bl3_3_10_name",{"$f":"'T2-B(PP4)'!$B$47","v":0},"#'T2-B(PP4)'!$B$47"]
["pp4_bl3_3_10_rate_in",{"$f":"'T2-B(PP4)'!$E$47","v":0},"#'T2-B(PP4)'!$E$47"]
["pp4_bl3_3_10_rate_out",{"$f":"'T2-B(PP4)'!$H$47","v":0},"#'T2-B(PP4)'!$H$47"]
["pp4_bl3_3_10_total",{"$f":"'T2-B(PP4)'!$J$47","v":0},"#'T2-B(PP4)'!$J$47"]
["pp4_bl3_3_10_total_in",{"$f":"'T2-B(PP4)'!$F$47","v":0},"#'T2-B(PP4)'!$F$47"]
["pp4_bl3_3_10_total_out",{"$f":"'T2-B(PP4)'!$I$47","v":0},"#'T2-B(PP4)'!$I$47"]
["pp4_bl3_3_10_unit",{"$f":"'T2-B(PP4)'!$C$47","v":0},"#'T2-B(PP4)'!$C$47"]
["pp4_bl3_3_10_unit_in",{"$f":"'T2-B(PP4)'!$D$47","v":0},"#'T2-B(PP4)'!$D$47"]
["pp4_bl3_3_10_units_out",{"$f":"'T2-B(PP4)'!$G$47","v":0},"#'T2-B(PP4)'!$G$47"]
["pp4_bl3_3_2_name",{"$f":"'T2-B(PP4)'!$B$39","v":0},"#'T2-B(PP4)'!$B$39"]
["pp4_bl3_3_2_rate_in",{"$f":"'T2-B(PP4)'!$E$39","v":0},"#'T2-B(PP4)'!$E$39"]
["pp4_bl3_3_2_rate_out",{"$f":"'T2-B(PP4)'!$H$39","v":0},"#'T2-B(PP4)'!$H$39"]
["pp4_bl3_3_2_total",{"$f":"'T2-B(PP4)'!$J$39","v":0},"#'T2-B(PP4)'!$J$39"]
["pp4_bl3_3_2_total_in",{"$f":"'T2-B(PP4)'!$F$39","v":0},"#'T2-B(PP4)'!$F$39"]
["pp4_bl3_3_2_total_out",{"$f":"'T2-B(PP4)'!$I$39","v":0},"#'T2-B(PP4)'!$I$39"]
["pp4_bl3_3_2_unit",{"$f":"'T2-B(PP4)'!$C$39","v":0},"#'T2-B(PP4)'!$C$39"]
["pp4_bl3_3_2_unit_in",{"$f":"'T2-B(PP4)'!$D$39","v":0},"#'T2-B(PP4)'!$D$39"]
["pp4_bl3_3_2_units_out",{"$f":"'T2-B(PP4)'!$G$39","v":0},"#'T2-B(PP4)'!$G$39"]
["pp4_bl3_3_3_name",{"$f":"'T2-B(PP4)'!$B$40","v":0},"#'T2-B(PP4)'!$B$40"]
["pp4_bl3_3_3_rate_in",{"$f":"'T2-B(PP4)'!$E$40","v":0},"#'T2-B(PP4)'!$E$40"]
["pp4_bl3_3_3_rate_out",{"$f":"'T2-B(PP4)'!$H$40","v":0},"#'T2-B(PP4)'!$H$40"]
["pp4_bl3_3_3_total",{"$f":"'T2-B(PP4)'!$J$40","v":0},"#'T2-B(PP4)'!$J$40"]
["pp4_bl3_3_3_total_in",{"$f":"'T2-B(PP4)'!$F$40","v":0},"#'T2-B(PP4)'!$F$40"]
["pp4_bl3_3_3_total_out",{"$f":"'T2-B(PP4)'!$I$40","v":0},"#'T2-B(PP4)'!$I$40"]
["pp4_bl3_3_3_unit",{"$f":"'T2-B(PP4)'!$C$40","v":0},"#'T2-B(PP4)'!$C$40"]
["pp4_bl3_3_3_unit_in",{"$f":"'T2-B(PP4)'!$D$40","v":0},"#'T2-B(PP4)'!$D$40"]
["pp4_bl3_3_3_units_out",{"$f":"'T2-B(PP4)'!$G$40","v":0},"#'T2-B(PP4)'!$G$40"]
["pp4_bl3_3_4_name",{"$f":"'T2-B(PP4)'!$B$41","v":0},"#'T2-B(PP4)'!$B$41"]
["pp4_bl3_3_4_rate_in",{"$f":"'T2-B(PP4)'!$E$41","v":0},"#'T2-B(PP4)'!$E$41"]
["pp4_bl3_3_4_rate_out",{"$f":"'T2-B(PP4)'!$H$41","v":0},"#'T2-B(PP4)'!$H$41"]
["pp4_bl3_3_4_total",{"$f":"'T2-B(PP4)'!$J$41","v":0},"#'T2-B(PP4)'!$J$41"]
["pp4_bl3_3_4_total_in",{"$f":"'T2-B(PP4)'!$F$41","v":0},"#'T2-B(PP4)'!$F$41"]
["pp4_bl3_3_4_total_out",{"$f":"'T2-B(PP4)'!$I$41","v":0},"#'T2-B(PP4)'!$I$41"]
["pp4_bl3_3_4_unit",{"$f":"'T2-B(PP4)'!$C$41","v":0},"#'T2-B(PP4)'!$C$41"]
["pp4_bl3_3_4_unit_in",{"$f":"'T2-B(PP4)'!$D$41","v":0},"#'T2-B(PP4)'!$D$41"]
["pp4_bl3_3_4_units_out",{"$f":"'T2-B(PP4)'!$G$41","v":0},"#'T2-B(PP4)'!$G$41"]
["pp4_bl3_3_5_name",{"$f":"'T2-B(PP4)'!$B$42","v":0},"#'T2-B(PP4)'!$B$42"]
["pp4_bl3_3_5_rate_in",{"$f":"'T2-B(PP4)'!$E$42","v":0},"#'T2-B(PP4)'!$E$42"]
["pp4_bl3_3_5_rate_out",{"$f":"'T2-B(PP4)'!$H$42","v":0},"#'T2-B(PP4)'!$H$42"]
["pp4_bl3_3_5_total",{"$f":"'T2-B(PP4)'!$J$42","v":0},"#'T2-B(PP4)'!$J$42"]
["pp4_bl3_3_5_total_in",{"$f":"'T2-B(PP4)'!$F$42","v":0},"#'T2-B(PP4)'!$F$42"]
["pp4_bl3_3_5_total_out",{"$f":"'T2-B(PP4)'!$I$42","v":0},"#'T2-B(PP4)'!$I$42"]
["pp4_bl3_3_5_unit",{"$f":"'T2-B(PP4)'!$C$42","v":0},"#'T2-B(PP4)'!$C$42"]
["pp4_bl3_3_5_unit_in",{"$f":"'T2-B(PP4)'!$D$42","v":0},"#'T2-B(PP4)'!$D$42"]
["pp4_bl3_3_5_units_out",{"$f":"'T2-B(PP4)'!$G$42","v":0},"#'T2-B(PP4)'!$G$42"]
["pp4_bl3_3_6_name",{"$f":"'T2-B(PP4)'!$B$43","v":0},"#'T2-B(PP4)'!$B$43"]
["pp4_bl3_3_6_rate_in",{"$f":"'T2-B(PP4)'!$E$43","v":0},"#'T2-B(PP4)'!$E$43"]
["pp4_bl3_3_6_rate_out",{"$f":"'T2-B(PP4)'!$H$43","v":0},"#'T2-B(PP4)'!$H$43"]
["pp4_bl3_3_6_total",{"$f":"'T2-B(PP4)'!$J$43","v":0},"#'T2-B(PP4)'!$J$43"]
["pp4_bl3_3_6_total_in",{"$f":"'T2-B(PP4)'!$F$43","v":0},"#'T2-B(PP4)'!$F$43"]
["pp4_bl3_3_6_total_out",{"$f":"'T2-B(PP4)'!$I$43","v":0},"#'T2-B(PP4)'!$I$43"]
["pp4_bl3_3_6_unit",{"$f":"'T2-B(PP4)'!$C$43","v":0},"#'T2-B(PP4)'!$C$43"]
["pp4_bl3_3_6_unit_in",{"$f":"'T2-B(PP4)'!$D$43","v":0},"#'T2-B(PP4)'!$D$43"]
["pp4_bl3_3_6_units_out",{"$f":"'T2-B(PP4)'!$G$43","v":0},"#'T2-B(PP4)'!$G$43"]
["pp4_bl3_3_7_name",{"$f":"'T2-B(PP4)'!$B$44","v":0},"#'T2-B(PP4)'!$B$44"]
["pp4_bl3_3_7_rate_in",{"$f":"'T2-B(PP4)'!$E$44","v":0},"#'T2-B(PP4)'!$E$44"]
["pp4_bl3_3_7_rate_out",{"$f":"'T2-B(PP4)'!$H$44","v":0},"#'T2-B(PP4)'!$H$44"]
["pp4_bl3_3_7_total",{"$f":"'T2-B(PP4)'!$J$44","v":0},"#'T2-B(PP4)'!$J$44"]
["pp4_bl3_3_7_total_in",{"$f":"'T2-B(PP4)'!$F$44","v":0},"#'T2-B(PP4)'!$F$44"]
["pp4_bl3_3_7_total_out",{"$f":"'T2-B(PP4)'!$I$44","v":0},"#'T2-B(PP4)'!$I$44"]
["pp4_bl3_3_7_unit",{"$f":"'T2-B(PP4)'!$C$44","v":0},"#'T2-B(PP4)'!$C$44"]
["pp4_bl3_3_7_unit_in",{"$f":"'T2-B(PP4)'!$D$44","v":0},"#'T2-B(PP4)'!$D$44"]
["pp4_bl3_3_7_units_out",{"$f":"'T2-B(PP4)'!$G$44","v":0},"#'T2-B(PP4)'!$G$44"]
["pp4_bl3_3_8_name",{"$f":"'T2-B(PP4)'!$B$45","v":0},"#'T2-B(PP4)'!$B$45"]
["pp4_bl3_3_8_rate_in",{"$f":"'T2-B(PP4)'!$E$45","v":0},"#'T2-B(PP4)'!$E$45"]
["pp4_bl3_3_8_rate_out",{"$f":"'T2-B(PP4)'!$H$45","v":0},"#'T2-B(PP4)'!$H$45"]
["pp4_bl3_3_8_total",{"$f":"'T2-B(PP4)'!$J$45","v":0},"#'T2-B(PP4)'!$J$45"]
["pp4_bl3_3_8_total_in",{"$f":"'T2-B(PP4)'!$F$45","v":0},"#'T2-B(PP4)'!$F$45"]
["pp4_bl3_3_8_total_out",{"$f":"'T2-B(PP4)'!$I$45","v":0},"#'T2-B(PP4)'!$I$45"]
["pp4_bl3_3_8_unit",{"$f":"'T2-B(PP4)'!$C$45","v":0},"#'T2-B(PP4)'!$C$45"]
["pp4_bl3_3_8_unit_in",{"$f":"'T2-B(PP4)'!$D$45","v":0},"#'T2-B(PP4)'!$D$45"]
["pp4_bl3_3_8_units_out",{"$f":"'T2-B(PP4)'!$G$45","v":0},"#'T2-B(PP4)'!$G$45"]
["pp4_bl3_3_9_name",{"$f":"'T2-B(PP4)'!$B$46","v":0},"#'T2-B(PP4)'!$B$46"]
["pp4_bl3_3_9_rate_in",{"$f":"'T2-B(PP4)'!$E$46","v":0},"#'T2-B(PP4)'!$E$46"]
["pp4_bl3_3_9_rate_out",{"$f":"'T2-B(PP4)'!$H$46","v":0},"#'T2-B(PP4)'!$H$46"]
["pp4_bl3_3_9_total",{"$f":"'T2-B(PP4)'!$J$46","v":0},"#'T2-B(PP4)'!$J$46"]
["pp4_bl3_3_9_total_in",{"$f":"'T2-B(PP4)'!$F$46","v":0},"#'T2-B(PP4)'!$F$46"]
["pp4_bl3_3_9_total_out",{"$f":"'T2-B(PP4)'!$I$46","v":0},"#'T2-B(PP4)'!$I$46"]
["pp4_bl3_3_9_unit",{"$f":"'T2-B(PP4)'!$C$46","v":0},"#'T2-B(PP4)'!$C$46"]
["pp4_bl3_3_9_unit_in",{"$f":"'T2-B(PP4)'!$D$46","v":0},"#'T2-B(PP4)'!$D$46"]
["pp4_bl3_3_9_units_out",{"$f":"'T2-B(PP4)'!$G$46","v":0},"#'T2-B(PP4)'!$G$46"]
["pp4_bl3_3_total",{"$f":"'T2-B(PP4)'!$J$37","v":0},"#'T2-B(PP4)'!$J$37"]
["pp4_bl3_3_total_in",{"$f":"'T2-B(PP4)'!$F$37","v":0},"#'T2-B(PP4)'!$F$37"]
["pp4_bl3_3_total_out",{"$f":"'T2-B(PP4)'!$I$37","v":0},"#'T2-B(PP4)'!$I$37"]
["pp4_bl3_total",{"$f":"'T2-B(PP4)'!$J$48","v":0},"#'T2-B(PP4)'!$J$48"]
["pp4_bl3_total_in",{"$f":"'T2-B(PP4)'!$F$48","v":0},"#'T2-B(PP4)'!$F$48"]
["pp4_bl3_total_out",{"$f":"'T2-B(PP4)'!$I$48","v":0},"#'T2-B(PP4)'!$I$48"]
["pp4_bl4_1_1_name",{"$f":"'T2-B(PP4)'!$B$53","v":0},"#'T2-B(PP4)'!$B$53"]
["pp4_bl4_1_1_rate_in",{"$f":"'T2-B(PP4)'!$E$53","v":0},"#'T2-B(PP4)'!$E$53"]
["pp4_bl4_1_1_rate_out",{"$f":"'T2-B(PP4)'!$H$53","v":0},"#'T2-B(PP4)'!$H$53"]
["pp4_bl4_1_1_total",{"$f":"'T2-B(PP4)'!$J$53","v":0},"#'T2-B(PP4)'!$J$53"]
["pp4_bl4_1_1_total_in",{"$f":"'T2-B(PP4)'!$F$53","v":0},"#'T2-B(PP4)'!$F$53"]
["pp4_bl4_1_1_total_out",{"$f":"'T2-B(PP4)'!$I$53","v":0},"#'T2-B(PP4)'!$I$53"]
["pp4_bl4_1_1_unit",{"$f":"'T2-B(PP4)'!$C$53","v":0},"#'T2-B(PP4)'!$C$53"]
["pp4_bl4_1_1_unit_in",{"$f":"'T2-B(PP4)'!$D$53","v":0},"#'T2-B(PP4)'!$D$53"]
["pp4_bl4_1_1_units_out",{"$f":"'T2-B(PP4)'!$G$53","v":0},"#'T2-B(PP4)'!$G$53"]
["pp4_bl4_1_10_name",{"$f":"'T2-B(PP4)'!$B$62","v":0},"#'T2-B(PP4)'!$B$62"]
["pp4_bl4_1_10_rate_in",{"$f":"'T2-B(PP4)'!$E$62","v":0},"#'T2-B(PP4)'!$E$62"]
["pp4_bl4_1_10_rate_out",{"$f":"'T2-B(PP4)'!$H$62","v":0},"#'T2-B(PP4)'!$H$62"]
["pp4_bl4_1_10_total",{"$f":"'T2-B(PP4)'!$J$62","v":0},"#'T2-B(PP4)'!$J$62"]
["pp4_bl4_1_10_total_in",{"$f":"'T2-B(PP4)'!$F$62","v":0},"#'T2-B(PP4)'!$F$62"]
["pp4_bl4_1_10_total_out",{"$f":"'T2-B(PP4)'!$I$62","v":0},"#'T2-B(PP4)'!$I$62"]
["pp4_bl4_1_10_unit",{"$f":"'T2-B(PP4)'!$C$62","v":0},"#'T2-B(PP4)'!$C$62"]
["pp4_bl4_1_10_unit_in",{"$f":"'T2-B(PP4)'!$D$62","v":0},"#'T2-B(PP4)'!$D$62"]
["pp4_bl4_1_10_units_out",{"$f":"'T2-B(PP4)'!$G$62","v":0},"#'T2-B(PP4)'!$G$62"]
["pp4_bl4_1_2_name",{"$f":"'T2-B(PP4)'!$B$54","v":0},"#'T2-B(PP4)'!$B$54"]
["pp4_bl4_1_2_rate_in",{"$f":"'T2-B(PP4)'!$E$54","v":0},"#'T2-B(PP4)'!$E$54"]
["pp4_bl4_1_2_rate_out",{"$f":"'T2-B(PP4)'!$H$54","v":0},"#'T2-B(PP4)'!$H$54"]
["pp4_bl4_1_2_total",{"$f":"'T2-B(PP4)'!$J$54","v":0},"#'T2-B(PP4)'!$J$54"]
["pp4_bl4_1_2_total_in",{"$f":"'T2-B(PP4)'!$F$54","v":0},"#'T2-B(PP4)'!$F$54"]
["pp4_bl4_1_2_total_out",{"$f":"'T2-B(PP4)'!$I$54","v":0},"#'T2-B(PP4)'!$I$54"]
["pp4_bl4_1_2_unit",{"$f":"'T2-B(PP4)'!$C$54","v":0},"#'T2-B(PP4)'!$C$54"]
["pp4_bl4_1_2_unit_in",{"$f":"'T2-B(PP4)'!$D$54","v":0},"#'T2-B(PP4)'!$D$54"]
["pp4_bl4_1_2_units_out",{"$f":"'T2-B(PP4)'!$G$54","v":0},"#'T2-B(PP4)'!$G$54"]
["pp4_bl4_1_3_name",{"$f":"'T2-B(PP4)'!$B$55","v":0},"#'T2-B(PP4)'!$B$55"]
["pp4_bl4_1_3_rate_in",{"$f":"'T2-B(PP4)'!$E$55","v":0},"#'T2-B(PP4)'!$E$55"]
["pp4_bl4_1_3_rate_out",{"$f":"'T2-B(PP4)'!$H$55","v":0},"#'T2-B(PP4)'!$H$55"]
["pp4_bl4_1_3_total",{"$f":"'T2-B(PP4)'!$J$55","v":0},"#'T2-B(PP4)'!$J$55"]
["pp4_bl4_1_3_total_in",{"$f":"'T2-B(PP4)'!$F$55","v":0},"#'T2-B(PP4)'!$F$55"]
["pp4_bl4_1_3_total_out",{"$f":"'T2-B(PP4)'!$I$55","v":0},"#'T2-B(PP4)'!$I$55"]
["pp4_bl4_1_3_unit",{"$f":"'T2-B(PP4)'!$C$55","v":0},"#'T2-B(PP4)'!$C$55"]
["pp4_bl4_1_3_unit_in",{"$f":"'T2-B(PP4)'!$D$55","v":0},"#'T2-B(PP4)'!$D$55"]
["pp4_bl4_1_3_units_out",{"$f":"'T2-B(PP4)'!$G$55","v":0},"#'T2-B(PP4)'!$G$55"]
["pp4_bl4_1_4_name",{"$f":"'T2-B(PP4)'!$B$56","v":0},"#'T2-B(PP4)'!$B$56"]
["pp4_bl4_1_4_rate_in",{"$f":"'T2-B(PP4)'!$E$56","v":0},"#'T2-B(PP4)'!$E$56"]
["pp4_bl4_1_4_rate_out",{"$f":"'T2-B(PP4)'!$H$56","v":0},"#'T2-B(PP4)'!$H$56"]
["pp4_bl4_1_4_total",{"$f":"'T2-B(PP4)'!$J$56","v":0},"#'T2-B(PP4)'!$J$56"]
["pp4_bl4_1_4_total_in",{"$f":"'T2-B(PP4)'!$F$56","v":0},"#'T2-B(PP4)'!$F$56"]
["pp4_bl4_1_4_total_out",{"$f":"'T2-B(PP4)'!$I$56","v":0},"#'T2-B(PP4)'!$I$56"]
["pp4_bl4_1_4_unit",{"$f":"'T2-B(PP4)'!$C$56","v":0},"#'T2-B(PP4)'!$C$56"]
["pp4_bl4_1_4_unit_in",{"$f":"'T2-B(PP4)'!$D$56","v":0},"#'T2-B(PP4)'!$D$56"]
["pp4_bl4_1_4_units_out",{"$f":"'T2-B(PP4)'!$G$56","v":0},"#'T2-B(PP4)'!$G$56"]
["pp4_bl4_1_5_name",{"$f":"'T2-B(PP4)'!$B$57","v":0},"#'T2-B(PP4)'!$B$57"]
["pp4_bl4_1_5_rate_in",{"$f":"'T2-B(PP4)'!$E$57","v":0},"#'T2-B(PP4)'!$E$57"]
["pp4_bl4_1_5_rate_out",{"$f":"'T2-B(PP4)'!$H$57","v":0},"#'T2-B(PP4)'!$H$57"]
["pp4_bl4_1_5_total",{"$f":"'T2-B(PP4)'!$J$57","v":0},"#'T2-B(PP4)'!$J$57"]
["pp4_bl4_1_5_total_in",{"$f":"'T2-B(PP4)'!$F$57","v":0},"#'T2-B(PP4)'!$F$57"]
["pp4_bl4_1_5_total_out",{"$f":"'T2-B(PP4)'!$I$57","v":0},"#'T2-B(PP4)'!$I$57"]
["pp4_bl4_1_5_unit",{"$f":"'T2-B(PP4)'!$C$57","v":0},"#'T2-B(PP4)'!$C$57"]
["pp4_bl4_1_5_unit_in",{"$f":"'T2-B(PP4)'!$D$57","v":0},"#'T2-B(PP4)'!$D$57"]
["pp4_bl4_1_5_units_out",{"$f":"'T2-B(PP4)'!$G$57","v":0},"#'T2-B(PP4)'!$G$57"]
["pp4_bl4_1_6_name",{"$f":"'T2-B(PP4)'!$B$58","v":0},"#'T2-B(PP4)'!$B$58"]
["pp4_bl4_1_6_rate_in",{"$f":"'T2-B(PP4)'!$E$58","v":0},"#'T2-B(PP4)'!$E$58"]
["pp4_bl4_1_6_rate_out",{"$f":"'T2-B(PP4)'!$H$58","v":0},"#'T2-B(PP4)'!$H$58"]
["pp4_bl4_1_6_total",{"$f":"'T2-B(PP4)'!$J$58","v":0},"#'T2-B(PP4)'!$J$58"]
["pp4_bl4_1_6_total_in",{"$f":"'T2-B(PP4)'!$F$58","v":0},"#'T2-B(PP4)'!$F$58"]
["pp4_bl4_1_6_total_out",{"$f":"'T2-B(PP4)'!$I$58","v":0},"#'T2-B(PP4)'!$I$58"]
["pp4_bl4_1_6_unit",{"$f":"'T2-B(PP4)'!$C$58","v":0},"#'T2-B(PP4)'!$C$58"]
["pp4_bl4_1_6_unit_in",{"$f":"'T2-B(PP4)'!$D$58","v":0},"#'T2-B(PP4)'!$D$58"]
["pp4_bl4_1_6_units_out",{"$f":"'T2-B(PP4)'!$G$58","v":0},"#'T2-B(PP4)'!$G$58"]
["pp4_bl4_1_7_name",{"$f":"'T2-B(PP4)'!$B$59","v":0},"#'T2-B(PP4)'!$B$59"]
["pp4_bl4_1_7_rate_in",{"$f":"'T2-B(PP4)'!$E$59","v":0},"#'T2-B(PP4)'!$E$59"]
["pp4_bl4_1_7_rate_out",{"$f":"'T2-B(PP4)'!$H$59","v":0},"#'T2-B(PP4)'!$H$59"]
["pp4_bl4_1_7_total",{"$f":"'T2-B(PP4)'!$J$59","v":0},"#'T2-B(PP4)'!$J$59"]
["pp4_bl4_1_7_total_in",{"$f":"'T2-B(PP4)'!$F$59","v":0},"#'T2-B(PP4)'!$F$59"]
["pp4_bl4_1_7_total_out",{"$f":"'T2-B(PP4)'!$I$59","v":0},"#'T2-B(PP4)'!$I$59"]
["pp4_bl4_1_7_unit",{"$f":"'T2-B(PP4)'!$C$59","v":0},"#'T2-B(PP4)'!$C$59"]
["pp4_bl4_1_7_unit_in",{"$f":"'T2-B(PP4)'!$D$59","v":0},"#'T2-B(PP4)'!$D$59"]
["pp4_bl4_1_7_units_out",{"$f":"'T2-B(PP4)'!$G$59","v":0},"#'T2-B(PP4)'!$G$59"]
["pp4_bl4_1_8_name",{"$f":"'T2-B(PP4)'!$B$60","v":0},"#'T2-B(PP4)'!$B$60"]
["pp4_bl4_1_8_rate_in",{"$f":"'T2-B(PP4)'!$E$60","v":0},"#'T2-B(PP4)'!$E$60"]
["pp4_bl4_1_8_rate_out",{"$f":"'T2-B(PP4)'!$H$60","v":0},"#'T2-B(PP4)'!$H$60"]
["pp4_bl4_1_8_total",{"$f":"'T2-B(PP4)'!$J$60","v":0},"#'T2-B(PP4)'!$J$60"]
["pp4_bl4_1_8_total_in",{"$f":"'T2-B(PP4)'!$F$60","v":0},"#'T2-B(PP4)'!$F$60"]
["pp4_bl4_1_8_total_out",{"$f":"'T2-B(PP4)'!$I$60","v":0},"#'T2-B(PP4)'!$I$60"]
["pp4_bl4_1_8_unit",{"$f":"'T2-B(PP4)'!$C$60","v":0},"#'T2-B(PP4)'!$C$60"]
["pp4_bl4_1_8_unit_in",{"$f":"'T2-B(PP4)'!$D$60","v":0},"#'T2-B(PP4)'!$D$60"]
["pp4_bl4_1_8_units_out",{"$f":"'T2-B(PP4)'!$G$60","v":0},"#'T2-B(PP4)'!$G$60"]
["pp4_bl4_1_9_name",{"$f":"'T2-B(PP4)'!$B$61","v":0},"#'T2-B(PP4)'!$B$61"]
["pp4_bl4_1_9_rate_in",{"$f":"'T2-B(PP4)'!$E$61","v":0},"#'T2-B(PP4)'!$E$61"]
["pp4_bl4_1_9_rate_out",{"$f":"'T2-B(PP4)'!$H$61","v":0},"#'T2-B(PP4)'!$H$61"]
["pp4_bl4_1_9_total",{"$f":"'T2-B(PP4)'!$J$61","v":0},"#'T2-B(PP4)'!$J$61"]
["pp4_bl4_1_9_total_in",{"$f":"'T2-B(PP4)'!$F$61","v":0},"#'T2-B(PP4)'!$F$61"]
["pp4_bl4_1_9_total_out",{"$f":"'T2-B(PP4)'!$I$61","v":0},"#'T2-B(PP4)'!$I$61"]
["pp4_bl4_1_9_unit",{"$f":"'T2-B(PP4)'!$C$61","v":0},"#'T2-B(PP4)'!$C$61"]
["pp4_bl4_1_9_unit_in",{"$f":"'T2-B(PP4)'!$D$61","v":0},"#'T2-B(PP4)'!$D$61"]
["pp4_bl4_1_9_units_out",{"$f":"'T2-B(PP4)'!$G$61","v":0},"#'T2-B(PP4)'!$G$61"]
["pp4_bl4_1_total",{"$f":"'T2-B(PP4)'!$J$52","v":0},"#'T2-B(PP4)'!$J$52"]
["pp4_bl4_1_total_in",{"$f":"'T2-B(PP4)'!$F$52","v":0},"#'T2-B(PP4)'!$F$52"]
["pp4_bl4_1_total_out",{"$f":"'T2-B(PP4)'!$I$52","v":0},"#'T2-B(PP4)'!$I$52"]
["pp4_bl4_10_1_name",{"$f":"'T2-B(PP4)'!$B$152","v":0},"#'T2-B(PP4)'!$B$152"]
["pp4_bl4_10_1_rate_in",{"$f":"'T2-B(PP4)'!$E$152","v":0},"#'T2-B(PP4)'!$E$152"]
["pp4_bl4_10_1_rate_out",{"$f":"'T2-B(PP4)'!$H$152","v":0},"#'T2-B(PP4)'!$H$152"]
["pp4_bl4_10_1_total",{"$f":"'T2-B(PP4)'!$J$152","v":0},"#'T2-B(PP4)'!$J$152"]
["pp4_bl4_10_1_total_in",{"$f":"'T2-B(PP4)'!$F$152","v":0},"#'T2-B(PP4)'!$F$152"]
["pp4_bl4_10_1_total_out",{"$f":"'T2-B(PP4)'!$I$152","v":0},"#'T2-B(PP4)'!$I$152"]
["pp4_bl4_10_1_unit",{"$f":"'T2-B(PP4)'!$C$152","v":0},"#'T2-B(PP4)'!$C$152"]
["pp4_bl4_10_1_unit_in",{"$f":"'T2-B(PP4)'!$D$152","v":0},"#'T2-B(PP4)'!$D$152"]
["pp4_bl4_10_1_units_out",{"$f":"'T2-B(PP4)'!$G$152","v":0},"#'T2-B(PP4)'!$G$152"]
["pp4_bl4_10_10_name",{"$f":"'T2-B(PP4)'!$B$161","v":0},"#'T2-B(PP4)'!$B$161"]
["pp4_bl4_10_10_rate_in",{"$f":"'T2-B(PP4)'!$E$161","v":0},"#'T2-B(PP4)'!$E$161"]
["pp4_bl4_10_10_rate_out",{"$f":"'T2-B(PP4)'!$H$161","v":0},"#'T2-B(PP4)'!$H$161"]
["pp4_bl4_10_10_total",{"$f":"'T2-B(PP4)'!$J$161","v":0},"#'T2-B(PP4)'!$J$161"]
["pp4_bl4_10_10_total_in",{"$f":"'T2-B(PP4)'!$F$161","v":0},"#'T2-B(PP4)'!$F$161"]
["pp4_bl4_10_10_total_out",{"$f":"'T2-B(PP4)'!$I$161","v":0},"#'T2-B(PP4)'!$I$161"]
["pp4_bl4_10_10_unit",{"$f":"'T2-B(PP4)'!$C$161","v":0},"#'T2-B(PP4)'!$C$161"]
["pp4_bl4_10_10_unit_in",{"$f":"'T2-B(PP4)'!$D$161","v":0},"#'T2-B(PP4)'!$D$161"]
["pp4_bl4_10_10_units_out",{"$f":"'T2-B(PP4)'!$G$161","v":0},"#'T2-B(PP4)'!$G$161"]
["pp4_bl4_10_2_name",{"$f":"'T2-B(PP4)'!$B$153","v":0},"#'T2-B(PP4)'!$B$153"]
["pp4_bl4_10_2_rate_in",{"$f":"'T2-B(PP4)'!$E$153","v":0},"#'T2-B(PP4)'!$E$153"]
["pp4_bl4_10_2_rate_out",{"$f":"'T2-B(PP4)'!$H$153","v":0},"#'T2-B(PP4)'!$H$153"]
["pp4_bl4_10_2_total",{"$f":"'T2-B(PP4)'!$J$153","v":0},"#'T2-B(PP4)'!$J$153"]
["pp4_bl4_10_2_total_in",{"$f":"'T2-B(PP4)'!$F$153","v":0},"#'T2-B(PP4)'!$F$153"]
["pp4_bl4_10_2_total_out",{"$f":"'T2-B(PP4)'!$I$153","v":0},"#'T2-B(PP4)'!$I$153"]
["pp4_bl4_10_2_unit",{"$f":"'T2-B(PP4)'!$C$153","v":0},"#'T2-B(PP4)'!$C$153"]
["pp4_bl4_10_2_unit_in",{"$f":"'T2-B(PP4)'!$D$153","v":0},"#'T2-B(PP4)'!$D$153"]
["pp4_bl4_10_2_units_out",{"$f":"'T2-B(PP4)'!$G$153","v":0},"#'T2-B(PP4)'!$G$153"]
["pp4_bl4_10_3_name",{"$f":"'T2-B(PP4)'!$B$154","v":0},"#'T2-B(PP4)'!$B$154"]
["pp4_bl4_10_3_rate_in",{"$f":"'T2-B(PP4)'!$E$154","v":0},"#'T2-B(PP4)'!$E$154"]
["pp4_bl4_10_3_rate_out",{"$f":"'T2-B(PP4)'!$H$154","v":0},"#'T2-B(PP4)'!$H$154"]
["pp4_bl4_10_3_total",{"$f":"'T2-B(PP4)'!$J$154","v":0},"#'T2-B(PP4)'!$J$154"]
["pp4_bl4_10_3_total_in",{"$f":"'T2-B(PP4)'!$F$154","v":0},"#'T2-B(PP4)'!$F$154"]
["pp4_bl4_10_3_total_out",{"$f":"'T2-B(PP4)'!$I$154","v":0},"#'T2-B(PP4)'!$I$154"]
["pp4_bl4_10_3_unit",{"$f":"'T2-B(PP4)'!$C$154","v":0},"#'T2-B(PP4)'!$C$154"]
["pp4_bl4_10_3_unit_in",{"$f":"'T2-B(PP4)'!$D$154","v":0},"#'T2-B(PP4)'!$D$154"]
["pp4_bl4_10_3_units_out",{"$f":"'T2-B(PP4)'!$G$154","v":0},"#'T2-B(PP4)'!$G$154"]
["pp4_bl4_10_4_name",{"$f":"'T2-B(PP4)'!$B$155","v":0},"#'T2-B(PP4)'!$B$155"]
["pp4_bl4_10_4_rate_in",{"$f":"'T2-B(PP4)'!$E$155","v":0},"#'T2-B(PP4)'!$E$155"]
["pp4_bl4_10_4_rate_out",{"$f":"'T2-B(PP4)'!$H$155","v":0},"#'T2-B(PP4)'!$H$155"]
["pp4_bl4_10_4_total",{"$f":"'T2-B(PP4)'!$J$155","v":0},"#'T2-B(PP4)'!$J$155"]
["pp4_bl4_10_4_total_in",{"$f":"'T2-B(PP4)'!$F$155","v":0},"#'T2-B(PP4)'!$F$155"]
["pp4_bl4_10_4_total_out",{"$f":"'T2-B(PP4)'!$I$155","v":0},"#'T2-B(PP4)'!$I$155"]
["pp4_bl4_10_4_unit",{"$f":"'T2-B(PP4)'!$C$155","v":0},"#'T2-B(PP4)'!$C$155"]
["pp4_bl4_10_4_unit_in",{"$f":"'T2-B(PP4)'!$D$155","v":0},"#'T2-B(PP4)'!$D$155"]
["pp4_bl4_10_4_units_out",{"$f":"'T2-B(PP4)'!$G$155","v":0},"#'T2-B(PP4)'!$G$155"]
["pp4_bl4_10_5_name",{"$f":"'T2-B(PP4)'!$B$156","v":0},"#'T2-B(PP4)'!$B$156"]
["pp4_bl4_10_5_rate_in",{"$f":"'T2-B(PP4)'!$E$156","v":0},"#'T2-B(PP4)'!$E$156"]
["pp4_bl4_10_5_rate_out",{"$f":"'T2-B(PP4)'!$H$156","v":0},"#'T2-B(PP4)'!$H$156"]
["pp4_bl4_10_5_total",{"$f":"'T2-B(PP4)'!$J$156","v":0},"#'T2-B(PP4)'!$J$156"]
["pp4_bl4_10_5_total_in",{"$f":"'T2-B(PP4)'!$F$156","v":0},"#'T2-B(PP4)'!$F$156"]
["pp4_bl4_10_5_total_out",{"$f":"'T2-B(PP4)'!$I$156","v":0},"#'T2-B(PP4)'!$I$156"]
["pp4_bl4_10_5_unit",{"$f":"'T2-B(PP4)'!$C$156","v":0},"#'T2-B(PP4)'!$C$156"]
["pp4_bl4_10_5_unit_in",{"$f":"'T2-B(PP4)'!$D$156","v":0},"#'T2-B(PP4)'!$D$156"]
["pp4_bl4_10_5_units_out",{"$f":"'T2-B(PP4)'!$G$156","v":0},"#'T2-B(PP4)'!$G$156"]
["pp4_bl4_10_6_name",{"$f":"'T2-B(PP4)'!$B$157","v":0},"#'T2-B(PP4)'!$B$157"]
["pp4_bl4_10_6_rate_in",{"$f":"'T2-B(PP4)'!$E$157","v":0},"#'T2-B(PP4)'!$E$157"]
["pp4_bl4_10_6_rate_out",{"$f":"'T2-B(PP4)'!$H$157","v":0},"#'T2-B(PP4)'!$H$157"]
["pp4_bl4_10_6_total",{"$f":"'T2-B(PP4)'!$J$157","v":0},"#'T2-B(PP4)'!$J$157"]
["pp4_bl4_10_6_total_in",{"$f":"'T2-B(PP4)'!$F$157","v":0},"#'T2-B(PP4)'!$F$157"]
["pp4_bl4_10_6_total_out",{"$f":"'T2-B(PP4)'!$I$157","v":0},"#'T2-B(PP4)'!$I$157"]
["pp4_bl4_10_6_unit",{"$f":"'T2-B(PP4)'!$C$157","v":0},"#'T2-B(PP4)'!$C$157"]
["pp4_bl4_10_6_unit_in",{"$f":"'T2-B(PP4)'!$D$157","v":0},"#'T2-B(PP4)'!$D$157"]
["pp4_bl4_10_6_units_out",{"$f":"'T2-B(PP4)'!$G$157","v":0},"#'T2-B(PP4)'!$G$157"]
["pp4_bl4_10_7_name",{"$f":"'T2-B(PP4)'!$B$158","v":0},"#'T2-B(PP4)'!$B$158"]
["pp4_bl4_10_7_rate_in",{"$f":"'T2-B(PP4)'!$E$158","v":0},"#'T2-B(PP4)'!$E$158"]
["pp4_bl4_10_7_rate_out",{"$f":"'T2-B(PP4)'!$H$158","v":0},"#'T2-B(PP4)'!$H$158"]
["pp4_bl4_10_7_total",{"$f":"'T2-B(PP4)'!$J$158","v":0},"#'T2-B(PP4)'!$J$158"]
["pp4_bl4_10_7_total_in",{"$f":"'T2-B(PP4)'!$F$158","v":0},"#'T2-B(PP4)'!$F$158"]
["pp4_bl4_10_7_total_out",{"$f":"'T2-B(PP4)'!$I$158","v":0},"#'T2-B(PP4)'!$I$158"]
["pp4_bl4_10_7_unit",{"$f":"'T2-B(PP4)'!$C$158","v":0},"#'T2-B(PP4)'!$C$158"]
["pp4_bl4_10_7_unit_in",{"$f":"'T2-B(PP4)'!$D$158","v":0},"#'T2-B(PP4)'!$D$158"]
["pp4_bl4_10_7_units_out",{"$f":"'T2-B(PP4)'!$G$158","v":0},"#'T2-B(PP4)'!$G$158"]
["pp4_bl4_10_8_name",{"$f":"'T2-B(PP4)'!$B$159","v":0},"#'T2-B(PP4)'!$B$159"]
["pp4_bl4_10_8_rate_in",{"$f":"'T2-B(PP4)'!$E$159","v":0},"#'T2-B(PP4)'!$E$159"]
["pp4_bl4_10_8_rate_out",{"$f":"'T2-B(PP4)'!$H$159","v":0},"#'T2-B(PP4)'!$H$159"]
["pp4_bl4_10_8_total",{"$f":"'T2-B(PP4)'!$J$159","v":0},"#'T2-B(PP4)'!$J$159"]
["pp4_bl4_10_8_total_in",{"$f":"'T2-B(PP4)'!$F$159","v":0},"#'T2-B(PP4)'!$F$159"]
["pp4_bl4_10_8_total_out",{"$f":"'T2-B(PP4)'!$I$159","v":0},"#'T2-B(PP4)'!$I$159"]
["pp4_bl4_10_8_unit",{"$f":"'T2-B(PP4)'!$C$159","v":0},"#'T2-B(PP4)'!$C$159"]
["pp4_bl4_10_8_unit_in",{"$f":"'T2-B(PP4)'!$D$159","v":0},"#'T2-B(PP4)'!$D$159"]
["pp4_bl4_10_8_units_out",{"$f":"'T2-B(PP4)'!$G$159","v":0},"#'T2-B(PP4)'!$G$159"]
["pp4_bl4_10_9_name",{"$f":"'T2-B(PP4)'!$B$160","v":0},"#'T2-B(PP4)'!$B$160"]
["pp4_bl4_10_9_rate_in",{"$f":"'T2-B(PP4)'!$E$160","v":0},"#'T2-B(PP4)'!$E$160"]
["pp4_bl4_10_9_rate_out",{"$f":"'T2-B(PP4)'!$H$160","v":0},"#'T2-B(PP4)'!$H$160"]
["pp4_bl4_10_9_total",{"$f":"'T2-B(PP4)'!$J$160","v":0},"#'T2-B(PP4)'!$J$160"]
["pp4_bl4_10_9_total_in",{"$f":"'T2-B(PP4)'!$F$160","v":0},"#'T2-B(PP4)'!$F$160"]
["pp4_bl4_10_9_total_out",{"$f":"'T2-B(PP4)'!$I$160","v":0},"#'T2-B(PP4)'!$I$160"]
["pp4_bl4_10_9_unit",{"$f":"'T2-B(PP4)'!$C$160","v":0},"#'T2-B(PP4)'!$C$160"]
["pp4_bl4_10_9_unit_in",{"$f":"'T2-B(PP4)'!$D$160","v":0},"#'T2-B(PP4)'!$D$160"]
["pp4_bl4_10_9_units_out",{"$f":"'T2-B(PP4)'!$G$160","v":0},"#'T2-B(PP4)'!$G$160"]
["pp4_bl4_10_total",{"$f":"'T2-B(PP4)'!$J$151","v":0},"#'T2-B(PP4)'!$J$151"]
["pp4_bl4_10_total_in",{"$f":"'T2-B(PP4)'!$F$151","v":0},"#'T2-B(PP4)'!$F$151"]
["pp4_bl4_10_total_out",{"$f":"'T2-B(PP4)'!$I$151","v":0},"#'T2-B(PP4)'!$I$151"]
["pp4_bl4_11_1_name",{"$f":"'T2-B(PP4)'!$B$163","v":0},"#'T2-B(PP4)'!$B$163"]
["pp4_bl4_11_1_rate_in",{"$f":"'T2-B(PP4)'!$E$163","v":0},"#'T2-B(PP4)'!$E$163"]
["pp4_bl4_11_1_rate_out",{"$f":"'T2-B(PP4)'!$H$163","v":0},"#'T2-B(PP4)'!$H$163"]
["pp4_bl4_11_1_total",{"$f":"'T2-B(PP4)'!$J$163","v":0},"#'T2-B(PP4)'!$J$163"]
["pp4_bl4_11_1_total_in",{"$f":"'T2-B(PP4)'!$F$163","v":0},"#'T2-B(PP4)'!$F$163"]
["pp4_bl4_11_1_total_out",{"$f":"'T2-B(PP4)'!$I$163","v":0},"#'T2-B(PP4)'!$I$163"]
["pp4_bl4_11_1_unit",{"$f":"'T2-B(PP4)'!$C$163","v":0},"#'T2-B(PP4)'!$C$163"]
["pp4_bl4_11_1_unit_in",{"$f":"'T2-B(PP4)'!$D$163","v":0},"#'T2-B(PP4)'!$D$163"]
["pp4_bl4_11_1_units_out",{"$f":"'T2-B(PP4)'!$G$163","v":0},"#'T2-B(PP4)'!$G$163"]
["pp4_bl4_11_10_name",{"$f":"'T2-B(PP4)'!$B$172","v":0},"#'T2-B(PP4)'!$B$172"]
["pp4_bl4_11_10_rate_in",{"$f":"'T2-B(PP4)'!$E$172","v":0},"#'T2-B(PP4)'!$E$172"]
["pp4_bl4_11_10_rate_out",{"$f":"'T2-B(PP4)'!$H$172","v":0},"#'T2-B(PP4)'!$H$172"]
["pp4_bl4_11_10_total",{"$f":"'T2-B(PP4)'!$J$172","v":0},"#'T2-B(PP4)'!$J$172"]
["pp4_bl4_11_10_total_in",{"$f":"'T2-B(PP4)'!$F$172","v":0},"#'T2-B(PP4)'!$F$172"]
["pp4_bl4_11_10_total_out",{"$f":"'T2-B(PP4)'!$I$172","v":0},"#'T2-B(PP4)'!$I$172"]
["pp4_bl4_11_10_unit",{"$f":"'T2-B(PP4)'!$C$172","v":0},"#'T2-B(PP4)'!$C$172"]
["pp4_bl4_11_10_unit_in",{"$f":"'T2-B(PP4)'!$D$172","v":0},"#'T2-B(PP4)'!$D$172"]
["pp4_bl4_11_10_units_out",{"$f":"'T2-B(PP4)'!$G$172","v":0},"#'T2-B(PP4)'!$G$172"]
["pp4_bl4_11_2_name",{"$f":"'T2-B(PP4)'!$B$164","v":0},"#'T2-B(PP4)'!$B$164"]
["pp4_bl4_11_2_rate_in",{"$f":"'T2-B(PP4)'!$E$164","v":0},"#'T2-B(PP4)'!$E$164"]
["pp4_bl4_11_2_rate_out",{"$f":"'T2-B(PP4)'!$H$164","v":0},"#'T2-B(PP4)'!$H$164"]
["pp4_bl4_11_2_total",{"$f":"'T2-B(PP4)'!$J$164","v":0},"#'T2-B(PP4)'!$J$164"]
["pp4_bl4_11_2_total_in",{"$f":"'T2-B(PP4)'!$F$164","v":0},"#'T2-B(PP4)'!$F$164"]
["pp4_bl4_11_2_total_out",{"$f":"'T2-B(PP4)'!$I$164","v":0},"#'T2-B(PP4)'!$I$164"]
["pp4_bl4_11_2_unit",{"$f":"'T2-B(PP4)'!$C$164","v":0},"#'T2-B(PP4)'!$C$164"]
["pp4_bl4_11_2_unit_in",{"$f":"'T2-B(PP4)'!$D$164","v":0},"#'T2-B(PP4)'!$D$164"]
["pp4_bl4_11_2_units_out",{"$f":"'T2-B(PP4)'!$G$164","v":0},"#'T2-B(PP4)'!$G$164"]
["pp4_bl4_11_3_name",{"$f":"'T2-B(PP4)'!$B$165","v":0},"#'T2-B(PP4)'!$B$165"]
["pp4_bl4_11_3_rate_in",{"$f":"'T2-B(PP4)'!$E$165","v":0},"#'T2-B(PP4)'!$E$165"]
["pp4_bl4_11_3_rate_out",{"$f":"'T2-B(PP4)'!$H$165","v":0},"#'T2-B(PP4)'!$H$165"]
["pp4_bl4_11_3_total",{"$f":"'T2-B(PP4)'!$J$165","v":0},"#'T2-B(PP4)'!$J$165"]
["pp4_bl4_11_3_total_in",{"$f":"'T2-B(PP4)'!$F$165","v":0},"#'T2-B(PP4)'!$F$165"]
["pp4_bl4_11_3_total_out",{"$f":"'T2-B(PP4)'!$I$165","v":0},"#'T2-B(PP4)'!$I$165"]
["pp4_bl4_11_3_unit",{"$f":"'T2-B(PP4)'!$C$165","v":0},"#'T2-B(PP4)'!$C$165"]
["pp4_bl4_11_3_unit_in",{"$f":"'T2-B(PP4)'!$D$165","v":0},"#'T2-B(PP4)'!$D$165"]
["pp4_bl4_11_3_units_out",{"$f":"'T2-B(PP4)'!$G$165","v":0},"#'T2-B(PP4)'!$G$165"]
["pp4_bl4_11_4_name",{"$f":"'T2-B(PP4)'!$B$166","v":0},"#'T2-B(PP4)'!$B$166"]
["pp4_bl4_11_4_rate_in",{"$f":"'T2-B(PP4)'!$E$166","v":0},"#'T2-B(PP4)'!$E$166"]
["pp4_bl4_11_4_rate_out",{"$f":"'T2-B(PP4)'!$H$166","v":0},"#'T2-B(PP4)'!$H$166"]
["pp4_bl4_11_4_total",{"$f":"'T2-B(PP4)'!$J$166","v":0},"#'T2-B(PP4)'!$J$166"]
["pp4_bl4_11_4_total_in",{"$f":"'T2-B(PP4)'!$F$166","v":0},"#'T2-B(PP4)'!$F$166"]
["pp4_bl4_11_4_total_out",{"$f":"'T2-B(PP4)'!$I$166","v":0},"#'T2-B(PP4)'!$I$166"]
["pp4_bl4_11_4_unit",{"$f":"'T2-B(PP4)'!$C$166","v":0},"#'T2-B(PP4)'!$C$166"]
["pp4_bl4_11_4_unit_in",{"$f":"'T2-B(PP4)'!$D$166","v":0},"#'T2-B(PP4)'!$D$166"]
["pp4_bl4_11_4_units_out",{"$f":"'T2-B(PP4)'!$G$166","v":0},"#'T2-B(PP4)'!$G$166"]
["pp4_bl4_11_5_name",{"$f":"'T2-B(PP4)'!$B$167","v":0},"#'T2-B(PP4)'!$B$167"]
["pp4_bl4_11_5_rate_in",{"$f":"'T2-B(PP4)'!$E$167","v":0},"#'T2-B(PP4)'!$E$167"]
["pp4_bl4_11_5_rate_out",{"$f":"'T2-B(PP4)'!$H$167","v":0},"#'T2-B(PP4)'!$H$167"]
["pp4_bl4_11_5_total",{"$f":"'T2-B(PP4)'!$J$167","v":0},"#'T2-B(PP4)'!$J$167"]
["pp4_bl4_11_5_total_in",{"$f":"'T2-B(PP4)'!$F$167","v":0},"#'T2-B(PP4)'!$F$167"]
["pp4_bl4_11_5_total_out",{"$f":"'T2-B(PP4)'!$I$167","v":0},"#'T2-B(PP4)'!$I$167"]
["pp4_bl4_11_5_unit",{"$f":"'T2-B(PP4)'!$C$167","v":0},"#'T2-B(PP4)'!$C$167"]
["pp4_bl4_11_5_unit_in",{"$f":"'T2-B(PP4)'!$D$167","v":0},"#'T2-B(PP4)'!$D$167"]
["pp4_bl4_11_5_units_out",{"$f":"'T2-B(PP4)'!$G$167","v":0},"#'T2-B(PP4)'!$G$167"]
["pp4_bl4_11_6_name",{"$f":"'T2-B(PP4)'!$B$168","v":0},"#'T2-B(PP4)'!$B$168"]
["pp4_bl4_11_6_rate_in",{"$f":"'T2-B(PP4)'!$E$168","v":0},"#'T2-B(PP4)'!$E$168"]
["pp4_bl4_11_6_rate_out",{"$f":"'T2-B(PP4)'!$H$168","v":0},"#'T2-B(PP4)'!$H$168"]
["pp4_bl4_11_6_total",{"$f":"'T2-B(PP4)'!$J$168","v":0},"#'T2-B(PP4)'!$J$168"]
["pp4_bl4_11_6_total_in",{"$f":"'T2-B(PP4)'!$F$168","v":0},"#'T2-B(PP4)'!$F$168"]
["pp4_bl4_11_6_total_out",{"$f":"'T2-B(PP4)'!$I$168","v":0},"#'T2-B(PP4)'!$I$168"]
["pp4_bl4_11_6_unit",{"$f":"'T2-B(PP4)'!$C$168","v":0},"#'T2-B(PP4)'!$C$168"]
["pp4_bl4_11_6_unit_in",{"$f":"'T2-B(PP4)'!$D$168","v":0},"#'T2-B(PP4)'!$D$168"]
["pp4_bl4_11_6_units_out",{"$f":"'T2-B(PP4)'!$G$168","v":0},"#'T2-B(PP4)'!$G$168"]
["pp4_bl4_11_7_name",{"$f":"'T2-B(PP4)'!$B$169","v":0},"#'T2-B(PP4)'!$B$169"]
["pp4_bl4_11_7_rate_in",{"$f":"'T2-B(PP4)'!$E$169","v":0},"#'T2-B(PP4)'!$E$169"]
["pp4_bl4_11_7_rate_out",{"$f":"'T2-B(PP4)'!$H$169","v":0},"#'T2-B(PP4)'!$H$169"]
["pp4_bl4_11_7_total",{"$f":"'T2-B(PP4)'!$J$169","v":0},"#'T2-B(PP4)'!$J$169"]
["pp4_bl4_11_7_total_in",{"$f":"'T2-B(PP4)'!$F$169","v":0},"#'T2-B(PP4)'!$F$169"]
["pp4_bl4_11_7_total_out",{"$f":"'T2-B(PP4)'!$I$169","v":0},"#'T2-B(PP4)'!$I$169"]
["pp4_bl4_11_7_unit",{"$f":"'T2-B(PP4)'!$C$169","v":0},"#'T2-B(PP4)'!$C$169"]
["pp4_bl4_11_7_unit_in",{"$f":"'T2-B(PP4)'!$D$169","v":0},"#'T2-B(PP4)'!$D$169"]
["pp4_bl4_11_7_units_out",{"$f":"'T2-B(PP4)'!$G$169","v":0},"#'T2-B(PP4)'!$G$169"]
["pp4_bl4_11_8_name",{"$f":"'T2-B(PP4)'!$B$170","v":0},"#'T2-B(PP4)'!$B$170"]
["pp4_bl4_11_8_rate_in",{"$f":"'T2-B(PP4)'!$E$170","v":0},"#'T2-B(PP4)'!$E$170"]
["pp4_bl4_11_8_rate_out",{"$f":"'T2-B(PP4)'!$H$170","v":0},"#'T2-B(PP4)'!$H$170"]
["pp4_bl4_11_8_total",{"$f":"'T2-B(PP4)'!$J$170","v":0},"#'T2-B(PP4)'!$J$170"]
["pp4_bl4_11_8_total_in",{"$f":"'T2-B(PP4)'!$F$170","v":0},"#'T2-B(PP4)'!$F$170"]
["pp4_bl4_11_8_total_out",{"$f":"'T2-B(PP4)'!$I$170","v":0},"#'T2-B(PP4)'!$I$170"]
["pp4_bl4_11_8_unit",{"$f":"'T2-B(PP4)'!$C$170","v":0},"#'T2-B(PP4)'!$C$170"]
["pp4_bl4_11_8_unit_in",{"$f":"'T2-B(PP4)'!$D$170","v":0},"#'T2-B(PP4)'!$D$170"]
["pp4_bl4_11_8_units_out",{"$f":"'T2-B(PP4)'!$G$170","v":0},"#'T2-B(PP4)'!$G$170"]
["pp4_bl4_11_9_name",{"$f":"'T2-B(PP4)'!$B$171","v":0},"#'T2-B(PP4)'!$B$171"]
["pp4_bl4_11_9_rate_in",{"$f":"'T2-B(PP4)'!$E$171","v":0},"#'T2-B(PP4)'!$E$171"]
["pp4_bl4_11_9_rate_out",{"$f":"'T2-B(PP4)'!$H$171","v":0},"#'T2-B(PP4)'!$H$171"]
["pp4_bl4_11_9_total",{"$f":"'T2-B(PP4)'!$J$171","v":0},"#'T2-B(PP4)'!$J$171"]
["pp4_bl4_11_9_total_in",{"$f":"'T2-B(PP4)'!$F$171","v":0},"#'T2-B(PP4)'!$F$171"]
["pp4_bl4_11_9_total_out",{"$f":"'T2-B(PP4)'!$I$171","v":0},"#'T2-B(PP4)'!$I$171"]
["pp4_bl4_11_9_unit",{"$f":"'T2-B(PP4)'!$C$171","v":0},"#'T2-B(PP4)'!$C$171"]
["pp4_bl4_11_9_unit_in",{"$f":"'T2-B(PP4)'!$D$171","v":0},"#'T2-B(PP4)'!$D$171"]
["pp4_bl4_11_9_units_out",{"$f":"'T2-B(PP4)'!$G$171","v":0},"#'T2-B(PP4)'!$G$171"]
["pp4_bl4_11_total",{"$f":"'T2-B(PP4)'!$J$162","v":0},"#'T2-B(PP4)'!$J$162"]
["pp4_bl4_11_total_in",{"$f":"'T2-B(PP4)'!$F$162","v":0},"#'T2-B(PP4)'!$F$162"]
["pp4_bl4_11_total_out",{"$f":"'T2-B(PP4)'!$I$162","v":0},"#'T2-B(PP4)'!$I$162"]
["pp4_bl4_12_1_name",{"$f":"'T2-B(PP4)'!$B$174","v":0},"#'T2-B(PP4)'!$B$174"]
["pp4_bl4_12_1_rate_in",{"$f":"'T2-B(PP4)'!$E$174","v":0},"#'T2-B(PP4)'!$E$174"]
["pp4_bl4_12_1_rate_out",{"$f":"'T2-B(PP4)'!$H$174","v":0},"#'T2-B(PP4)'!$H$174"]
["pp4_bl4_12_1_total",{"$f":"'T2-B(PP4)'!$J$174","v":0},"#'T2-B(PP4)'!$J$174"]
["pp4_bl4_12_1_total_in",{"$f":"'T2-B(PP4)'!$F$174","v":0},"#'T2-B(PP4)'!$F$174"]
["pp4_bl4_12_1_total_out",{"$f":"'T2-B(PP4)'!$I$174","v":0},"#'T2-B(PP4)'!$I$174"]
["pp4_bl4_12_1_unit",{"$f":"'T2-B(PP4)'!$C$174","v":0},"#'T2-B(PP4)'!$C$174"]
["pp4_bl4_12_1_unit_in",{"$f":"'T2-B(PP4)'!$D$174","v":0},"#'T2-B(PP4)'!$D$174"]
["pp4_bl4_12_1_units_out",{"$f":"'T2-B(PP4)'!$G$174","v":0},"#'T2-B(PP4)'!$G$174"]
["pp4_bl4_12_10_name",{"$f":"'T2-B(PP4)'!$B$183","v":0},"#'T2-B(PP4)'!$B$183"]
["pp4_bl4_12_10_rate_in",{"$f":"'T2-B(PP4)'!$E$183","v":0},"#'T2-B(PP4)'!$E$183"]
["pp4_bl4_12_10_rate_out",{"$f":"'T2-B(PP4)'!$H$183","v":0},"#'T2-B(PP4)'!$H$183"]
["pp4_bl4_12_10_total",{"$f":"'T2-B(PP4)'!$J$183","v":0},"#'T2-B(PP4)'!$J$183"]
["pp4_bl4_12_10_total_in",{"$f":"'T2-B(PP4)'!$F$183","v":0},"#'T2-B(PP4)'!$F$183"]
["pp4_bl4_12_10_total_out",{"$f":"'T2-B(PP4)'!$I$183","v":0},"#'T2-B(PP4)'!$I$183"]
["pp4_bl4_12_10_unit",{"$f":"'T2-B(PP4)'!$C$183","v":0},"#'T2-B(PP4)'!$C$183"]
["pp4_bl4_12_10_unit_in",{"$f":"'T2-B(PP4)'!$D$183","v":0},"#'T2-B(PP4)'!$D$183"]
["pp4_bl4_12_10_units_out",{"$f":"'T2-B(PP4)'!$G$183","v":0},"#'T2-B(PP4)'!$G$183"]
["pp4_bl4_12_2_name",{"$f":"'T2-B(PP4)'!$B$175","v":"BL5 - EQUIPMENT AND WORKS"},"#'T2-B(PP4)'!$B$175"]
["pp4_bl4_12_2_rate_in",{"$f":"'T2-B(PP4)'!$E$175","v":0},"#'T2-B(PP4)'!$E$175"]
["pp4_bl4_12_2_rate_out",{"$f":"'T2-B(PP4)'!$H$175","v":0},"#'T2-B(PP4)'!$H$175"]
["pp4_bl4_12_2_total",{"$f":"'T2-B(PP4)'!$J$175","v":"TOTAL"},"#'T2-B(PP4)'!$J$175"]
["pp4_bl4_12_2_total_in",{"$f":"'T2-B(PP4)'!$F$175","v":0},"#'T2-B(PP4)'!$F$175"]
["pp4_bl4_12_2_total_out",{"$f":"'T2-B(PP4)'!$I$175","v":0},"#'T2-B(PP4)'!$I$175"]
["pp4_bl4_12_2_unit",{"$f":"'T2-B(PP4)'!$C$175","v":"Unit"},"#'T2-B(PP4)'!$C$175"]
["pp4_bl4_12_2_unit_in",{"$f":"'T2-B(PP4)'!$D$175","v":"Expenditures in the eligible area"},"#'T2-B(PP4)'!$D$175"]
["pp4_bl4_12_2_units_out",{"$f":"'T2-B(PP4)'!$G$175","v":"Expenditures outside the eligible area"},"#'T2-B(PP4)'!$G$175"]
["pp4_bl4_12_3_name",{"$f":"'T2-B(PP4)'!$B$176","v":0},"#'T2-B(PP4)'!$B$176"]
["pp4_bl4_12_3_rate_in",{"$f":"'T2-B(PP4)'!$E$176","v":"Unit rate"},"#'T2-B(PP4)'!$E$176"]
["pp4_bl4_12_3_rate_out",{"$f":"'T2-B(PP4)'!$H$176","v":"Unit rate"},"#'T2-B(PP4)'!$H$176"]
["pp4_bl4_12_3_total",{"$f":"'T2-B(PP4)'!$J$176","v":0},"#'T2-B(PP4)'!$J$176"]
["pp4_bl4_12_3_total_in",{"$f":"'T2-B(PP4)'!$F$176","v":"Total"},"#'T2-B(PP4)'!$F$176"]
["pp4_bl4_12_3_total_out",{"$f":"'T2-B(PP4)'!$I$176","v":"Total"},"#'T2-B(PP4)'!$I$176"]
["pp4_bl4_12_3_unit",{"$f":"'T2-B(PP4)'!$C$176","v":0},"#'T2-B(PP4)'!$C$176"]
["pp4_bl4_12_3_unit_in",{"$f":"'T2-B(PP4)'!$D$176","v":"Units"},"#'T2-B(PP4)'!$D$176"]
["pp4_bl4_12_3_units_out",{"$f":"'T2-B(PP4)'!$G$176","v":"Units"},"#'T2-B(PP4)'!$G$176"]
["pp4_bl4_12_4_name",{"$f":"'T2-B(PP4)'!$B$177","v":"Small scale construction"},"#'T2-B(PP4)'!$B$177"]
["pp4_bl4_12_4_rate_in",{"$f":"'T2-B(PP4)'!$E$177","v":0},"#'T2-B(PP4)'!$E$177"]
["pp4_bl4_12_4_rate_out",{"$f":"'T2-B(PP4)'!$H$177","v":0},"#'T2-B(PP4)'!$H$177"]
["pp4_bl4_12_4_total",{"$f":"'T2-B(PP4)'!$J$177","v":0},"#'T2-B(PP4)'!$J$177"]
["pp4_bl4_12_4_total_in",{"$f":"'T2-B(PP4)'!$F$177","v":0},"#'T2-B(PP4)'!$F$177"]
["pp4_bl4_12_4_total_out",{"$f":"'T2-B(PP4)'!$I$177","v":0},"#'T2-B(PP4)'!$I$177"]
["pp4_bl4_12_4_unit",{"$f":"'T2-B(PP4)'!$C$177","v":0},"#'T2-B(PP4)'!$C$177"]
["pp4_bl4_12_4_unit_in",{"$f":"'T2-B(PP4)'!$D$177","v":0},"#'T2-B(PP4)'!$D$177"]
["pp4_bl4_12_4_units_out",{"$f":"'T2-B(PP4)'!$G$177","v":0},"#'T2-B(PP4)'!$G$177"]
["pp4_bl4_12_5_name",{"$f":"'T2-B(PP4)'!$B$178","v":0},"#'T2-B(PP4)'!$B$178"]
["pp4_bl4_12_5_rate_in",{"$f":"'T2-B(PP4)'!$E$178","v":0},"#'T2-B(PP4)'!$E$178"]
["pp4_bl4_12_5_rate_out",{"$f":"'T2-B(PP4)'!$H$178","v":0},"#'T2-B(PP4)'!$H$178"]
["pp4_bl4_12_5_total",{"$f":"'T2-B(PP4)'!$J$178","v":0},"#'T2-B(PP4)'!$J$178"]
["pp4_bl4_12_5_total_in",{"$f":"'T2-B(PP4)'!$F$178","v":0},"#'T2-B(PP4)'!$F$178"]
["pp4_bl4_12_5_total_out",{"$f":"'T2-B(PP4)'!$I$178","v":0},"#'T2-B(PP4)'!$I$178"]
["pp4_bl4_12_5_unit",{"$f":"'T2-B(PP4)'!$C$178","v":0},"#'T2-B(PP4)'!$C$178"]
["pp4_bl4_12_5_unit_in",{"$f":"'T2-B(PP4)'!$D$178","v":0},"#'T2-B(PP4)'!$D$178"]
["pp4_bl4_12_5_units_out",{"$f":"'T2-B(PP4)'!$G$178","v":0},"#'T2-B(PP4)'!$G$178"]
["pp4_bl4_12_6_name",{"$f":"'T2-B(PP4)'!$B$179","v":0},"#'T2-B(PP4)'!$B$179"]
["pp4_bl4_12_6_rate_in",{"$f":"'T2-B(PP4)'!$E$179","v":0},"#'T2-B(PP4)'!$E$179"]
["pp4_bl4_12_6_rate_out",{"$f":"'T2-B(PP4)'!$H$179","v":0},"#'T2-B(PP4)'!$H$179"]
["pp4_bl4_12_6_total",{"$f":"'T2-B(PP4)'!$J$179","v":0},"#'T2-B(PP4)'!$J$179"]
["pp4_bl4_12_6_total_in",{"$f":"'T2-B(PP4)'!$F$179","v":0},"#'T2-B(PP4)'!$F$179"]
["pp4_bl4_12_6_total_out",{"$f":"'T2-B(PP4)'!$I$179","v":0},"#'T2-B(PP4)'!$I$179"]
["pp4_bl4_12_6_unit",{"$f":"'T2-B(PP4)'!$C$179","v":0},"#'T2-B(PP4)'!$C$179"]
["pp4_bl4_12_6_unit_in",{"$f":"'T2-B(PP4)'!$D$179","v":0},"#'T2-B(PP4)'!$D$179"]
["pp4_bl4_12_6_units_out",{"$f":"'T2-B(PP4)'!$G$179","v":0},"#'T2-B(PP4)'!$G$179"]
["pp4_bl4_12_7_name",{"$f":"'T2-B(PP4)'!$B$180","v":0},"#'T2-B(PP4)'!$B$180"]
["pp4_bl4_12_7_rate_in",{"$f":"'T2-B(PP4)'!$E$180","v":0},"#'T2-B(PP4)'!$E$180"]
["pp4_bl4_12_7_rate_out",{"$f":"'T2-B(PP4)'!$H$180","v":0},"#'T2-B(PP4)'!$H$180"]
["pp4_bl4_12_7_total",{"$f":"'T2-B(PP4)'!$J$180","v":0},"#'T2-B(PP4)'!$J$180"]
["pp4_bl4_12_7_total_in",{"$f":"'T2-B(PP4)'!$F$180","v":0},"#'T2-B(PP4)'!$F$180"]
["pp4_bl4_12_7_total_out",{"$f":"'T2-B(PP4)'!$I$180","v":0},"#'T2-B(PP4)'!$I$180"]
["pp4_bl4_12_7_unit",{"$f":"'T2-B(PP4)'!$C$180","v":0},"#'T2-B(PP4)'!$C$180"]
["pp4_bl4_12_7_unit_in",{"$f":"'T2-B(PP4)'!$D$180","v":0},"#'T2-B(PP4)'!$D$180"]
["pp4_bl4_12_7_units_out",{"$f":"'T2-B(PP4)'!$G$180","v":0},"#'T2-B(PP4)'!$G$180"]
["pp4_bl4_12_8_name",{"$f":"'T2-B(PP4)'!$B$181","v":0},"#'T2-B(PP4)'!$B$181"]
["pp4_bl4_12_8_rate_in",{"$f":"'T2-B(PP4)'!$E$181","v":0},"#'T2-B(PP4)'!$E$181"]
["pp4_bl4_12_8_rate_out",{"$f":"'T2-B(PP4)'!$H$181","v":0},"#'T2-B(PP4)'!$H$181"]
["pp4_bl4_12_8_total",{"$f":"'T2-B(PP4)'!$J$181","v":0},"#'T2-B(PP4)'!$J$181"]
["pp4_bl4_12_8_total_in",{"$f":"'T2-B(PP4)'!$F$181","v":0},"#'T2-B(PP4)'!$F$181"]
["pp4_bl4_12_8_total_out",{"$f":"'T2-B(PP4)'!$I$181","v":0},"#'T2-B(PP4)'!$I$181"]
["pp4_bl4_12_8_unit",{"$f":"'T2-B(PP4)'!$C$181","v":0},"#'T2-B(PP4)'!$C$181"]
["pp4_bl4_12_8_unit_in",{"$f":"'T2-B(PP4)'!$D$181","v":0},"#'T2-B(PP4)'!$D$181"]
["pp4_bl4_12_8_units_out",{"$f":"'T2-B(PP4)'!$G$181","v":0},"#'T2-B(PP4)'!$G$181"]
["pp4_bl4_12_9_name",{"$f":"'T2-B(PP4)'!$B$182","v":0},"#'T2-B(PP4)'!$B$182"]
["pp4_bl4_12_9_rate_in",{"$f":"'T2-B(PP4)'!$E$182","v":0},"#'T2-B(PP4)'!$E$182"]
["pp4_bl4_12_9_rate_out",{"$f":"'T2-B(PP4)'!$H$182","v":0},"#'T2-B(PP4)'!$H$182"]
["pp4_bl4_12_9_total",{"$f":"'T2-B(PP4)'!$J$182","v":0},"#'T2-B(PP4)'!$J$182"]
["pp4_bl4_12_9_total_in",{"$f":"'T2-B(PP4)'!$F$182","v":0},"#'T2-B(PP4)'!$F$182"]
["pp4_bl4_12_9_total_out",{"$f":"'T2-B(PP4)'!$I$182","v":0},"#'T2-B(PP4)'!$I$182"]
["pp4_bl4_12_9_unit",{"$f":"'T2-B(PP4)'!$C$182","v":0},"#'T2-B(PP4)'!$C$182"]
["pp4_bl4_12_9_unit_in",{"$f":"'T2-B(PP4)'!$D$182","v":0},"#'T2-B(PP4)'!$D$182"]
["pp4_bl4_12_9_units_out",{"$f":"'T2-B(PP4)'!$G$182","v":0},"#'T2-B(PP4)'!$G$182"]
["pp4_bl4_12_total",{"$f":"'T2-B(PP4)'!$J$173","v":0},"#'T2-B(PP4)'!$J$173"]
["pp4_bl4_12_total_in",{"$f":"'T2-B(PP4)'!$F$173","v":0},"#'T2-B(PP4)'!$F$173"]
["pp4_bl4_12_total_out",{"$f":"'T2-B(PP4)'!$I$173","v":0},"#'T2-B(PP4)'!$I$173"]
["pp4_bl4_13_1_name",{"$f":"'T2-B(PP4)'!$B$185","v":0},"#'T2-B(PP4)'!$B$185"]
["pp4_bl4_13_1_rate_in",{"$f":"'T2-B(PP4)'!$E$185","v":0},"#'T2-B(PP4)'!$E$185"]
["pp4_bl4_13_1_rate_out",{"$f":"'T2-B(PP4)'!$H$185","v":0},"#'T2-B(PP4)'!$H$185"]
["pp4_bl4_13_1_total",{"$f":"'T2-B(PP4)'!$J$185","v":0},"#'T2-B(PP4)'!$J$185"]
["pp4_bl4_13_1_total_in",{"$f":"'T2-B(PP4)'!$F$185","v":0},"#'T2-B(PP4)'!$F$185"]
["pp4_bl4_13_1_total_out",{"$f":"'T2-B(PP4)'!$I$185","v":0},"#'T2-B(PP4)'!$I$185"]
["pp4_bl4_13_1_unit",{"$f":"'T2-B(PP4)'!$C$185","v":0},"#'T2-B(PP4)'!$C$185"]
["pp4_bl4_13_1_unit_in",{"$f":"'T2-B(PP4)'!$D$185","v":0},"#'T2-B(PP4)'!$D$185"]
["pp4_bl4_13_1_units_out",{"$f":"'T2-B(PP4)'!$G$185","v":0},"#'T2-B(PP4)'!$G$185"]
["pp4_bl4_13_10_name",{"$f":"'T2-B(PP4)'!$B$194","v":0},"#'T2-B(PP4)'!$B$194"]
["pp4_bl4_13_10_rate_in",{"$f":"'T2-B(PP4)'!$E$194","v":0},"#'T2-B(PP4)'!$E$194"]
["pp4_bl4_13_10_rate_out",{"$f":"'T2-B(PP4)'!$H$194","v":0},"#'T2-B(PP4)'!$H$194"]
["pp4_bl4_13_10_total",{"$f":"'T2-B(PP4)'!$J$194","v":0},"#'T2-B(PP4)'!$J$194"]
["pp4_bl4_13_10_total_in",{"$f":"'T2-B(PP4)'!$F$194","v":0},"#'T2-B(PP4)'!$F$194"]
["pp4_bl4_13_10_total_out",{"$f":"'T2-B(PP4)'!$I$194","v":0},"#'T2-B(PP4)'!$I$194"]
["pp4_bl4_13_10_unit",{"$f":"'T2-B(PP4)'!$C$194","v":0},"#'T2-B(PP4)'!$C$194"]
["pp4_bl4_13_10_unit_in",{"$f":"'T2-B(PP4)'!$D$194","v":0},"#'T2-B(PP4)'!$D$194"]
["pp4_bl4_13_10_units_out",{"$f":"'T2-B(PP4)'!$G$194","v":0},"#'T2-B(PP4)'!$G$194"]
["pp4_bl4_13_2_name",{"$f":"'T2-B(PP4)'!$B$186","v":0},"#'T2-B(PP4)'!$B$186"]
["pp4_bl4_13_2_rate_in",{"$f":"'T2-B(PP4)'!$E$186","v":0},"#'T2-B(PP4)'!$E$186"]
["pp4_bl4_13_2_rate_out",{"$f":"'T2-B(PP4)'!$H$186","v":0},"#'T2-B(PP4)'!$H$186"]
["pp4_bl4_13_2_total",{"$f":"'T2-B(PP4)'!$J$186","v":0},"#'T2-B(PP4)'!$J$186"]
["pp4_bl4_13_2_total_in",{"$f":"'T2-B(PP4)'!$F$186","v":0},"#'T2-B(PP4)'!$F$186"]
["pp4_bl4_13_2_total_out",{"$f":"'T2-B(PP4)'!$I$186","v":0},"#'T2-B(PP4)'!$I$186"]
["pp4_bl4_13_2_unit",{"$f":"'T2-B(PP4)'!$C$186","v":0},"#'T2-B(PP4)'!$C$186"]
["pp4_bl4_13_2_unit_in",{"$f":"'T2-B(PP4)'!$D$186","v":0},"#'T2-B(PP4)'!$D$186"]
["pp4_bl4_13_2_units_out",{"$f":"'T2-B(PP4)'!$G$186","v":0},"#'T2-B(PP4)'!$G$186"]
["pp4_bl4_13_3_name",{"$f":"'T2-B(PP4)'!$B$187","v":0},"#'T2-B(PP4)'!$B$187"]
["pp4_bl4_13_3_rate_in",{"$f":"'T2-B(PP4)'!$E$187","v":0},"#'T2-B(PP4)'!$E$187"]
["pp4_bl4_13_3_rate_out",{"$f":"'T2-B(PP4)'!$H$187","v":0},"#'T2-B(PP4)'!$H$187"]
["pp4_bl4_13_3_total",{"$f":"'T2-B(PP4)'!$J$187","v":0},"#'T2-B(PP4)'!$J$187"]
["pp4_bl4_13_3_total_in",{"$f":"'T2-B(PP4)'!$F$187","v":0},"#'T2-B(PP4)'!$F$187"]
["pp4_bl4_13_3_total_out",{"$f":"'T2-B(PP4)'!$I$187","v":0},"#'T2-B(PP4)'!$I$187"]
["pp4_bl4_13_3_unit",{"$f":"'T2-B(PP4)'!$C$187","v":0},"#'T2-B(PP4)'!$C$187"]
["pp4_bl4_13_3_unit_in",{"$f":"'T2-B(PP4)'!$D$187","v":0},"#'T2-B(PP4)'!$D$187"]
["pp4_bl4_13_3_units_out",{"$f":"'T2-B(PP4)'!$G$187","v":0},"#'T2-B(PP4)'!$G$187"]
["pp4_bl4_13_4_name",{"$f":"'T2-B(PP4)'!$B$188","v":"Supply"},"#'T2-B(PP4)'!$B$188"]
["pp4_bl4_13_4_rate_in",{"$f":"'T2-B(PP4)'!$E$188","v":0},"#'T2-B(PP4)'!$E$188"]
["pp4_bl4_13_4_rate_out",{"$f":"'T2-B(PP4)'!$H$188","v":0},"#'T2-B(PP4)'!$H$188"]
["pp4_bl4_13_4_total",{"$f":"'T2-B(PP4)'!$J$188","v":0},"#'T2-B(PP4)'!$J$188"]
["pp4_bl4_13_4_total_in",{"$f":"'T2-B(PP4)'!$F$188","v":0},"#'T2-B(PP4)'!$F$188"]
["pp4_bl4_13_4_total_out",{"$f":"'T2-B(PP4)'!$I$188","v":0},"#'T2-B(PP4)'!$I$188"]
["pp4_bl4_13_4_unit",{"$f":"'T2-B(PP4)'!$C$188","v":0},"#'T2-B(PP4)'!$C$188"]
["pp4_bl4_13_4_unit_in",{"$f":"'T2-B(PP4)'!$D$188","v":0},"#'T2-B(PP4)'!$D$188"]
["pp4_bl4_13_4_units_out",{"$f":"'T2-B(PP4)'!$G$188","v":0},"#'T2-B(PP4)'!$G$188"]
["pp4_bl4_13_5_name",{"$f":"'T2-B(PP4)'!$B$189","v":0},"#'T2-B(PP4)'!$B$189"]
["pp4_bl4_13_5_rate_in",{"$f":"'T2-B(PP4)'!$E$189","v":0},"#'T2-B(PP4)'!$E$189"]
["pp4_bl4_13_5_rate_out",{"$f":"'T2-B(PP4)'!$H$189","v":0},"#'T2-B(PP4)'!$H$189"]
["pp4_bl4_13_5_total",{"$f":"'T2-B(PP4)'!$J$189","v":0},"#'T2-B(PP4)'!$J$189"]
["pp4_bl4_13_5_total_in",{"$f":"'T2-B(PP4)'!$F$189","v":0},"#'T2-B(PP4)'!$F$189"]
["pp4_bl4_13_5_total_out",{"$f":"'T2-B(PP4)'!$I$189","v":0},"#'T2-B(PP4)'!$I$189"]
["pp4_bl4_13_5_unit",{"$f":"'T2-B(PP4)'!$C$189","v":0},"#'T2-B(PP4)'!$C$189"]
["pp4_bl4_13_5_unit_in",{"$f":"'T2-B(PP4)'!$D$189","v":0},"#'T2-B(PP4)'!$D$189"]
["pp4_bl4_13_5_units_out",{"$f":"'T2-B(PP4)'!$G$189","v":0},"#'T2-B(PP4)'!$G$189"]
["pp4_bl4_13_6_name",{"$f":"'T2-B(PP4)'!$B$190","v":0},"#'T2-B(PP4)'!$B$190"]
["pp4_bl4_13_6_rate_in",{"$f":"'T2-B(PP4)'!$E$190","v":0},"#'T2-B(PP4)'!$E$190"]
["pp4_bl4_13_6_rate_out",{"$f":"'T2-B(PP4)'!$H$190","v":0},"#'T2-B(PP4)'!$H$190"]
["pp4_bl4_13_6_total",{"$f":"'T2-B(PP4)'!$J$190","v":0},"#'T2-B(PP4)'!$J$190"]
["pp4_bl4_13_6_total_in",{"$f":"'T2-B(PP4)'!$F$190","v":0},"#'T2-B(PP4)'!$F$190"]
["pp4_bl4_13_6_total_out",{"$f":"'T2-B(PP4)'!$I$190","v":0},"#'T2-B(PP4)'!$I$190"]
["pp4_bl4_13_6_unit",{"$f":"'T2-B(PP4)'!$C$190","v":0},"#'T2-B(PP4)'!$C$190"]
["pp4_bl4_13_6_unit_in",{"$f":"'T2-B(PP4)'!$D$190","v":0},"#'T2-B(PP4)'!$D$190"]
["pp4_bl4_13_6_units_out",{"$f":"'T2-B(PP4)'!$G$190","v":0},"#'T2-B(PP4)'!$G$190"]
["pp4_bl4_13_7_name",{"$f":"'T2-B(PP4)'!$B$191","v":0},"#'T2-B(PP4)'!$B$191"]
["pp4_bl4_13_7_rate_in",{"$f":"'T2-B(PP4)'!$E$191","v":0},"#'T2-B(PP4)'!$E$191"]
["pp4_bl4_13_7_rate_out",{"$f":"'T2-B(PP4)'!$H$191","v":0},"#'T2-B(PP4)'!$H$191"]
["pp4_bl4_13_7_total",{"$f":"'T2-B(PP4)'!$J$191","v":0},"#'T2-B(PP4)'!$J$191"]
["pp4_bl4_13_7_total_in",{"$f":"'T2-B(PP4)'!$F$191","v":0},"#'T2-B(PP4)'!$F$191"]
["pp4_bl4_13_7_total_out",{"$f":"'T2-B(PP4)'!$I$191","v":0},"#'T2-B(PP4)'!$I$191"]
["pp4_bl4_13_7_unit",{"$f":"'T2-B(PP4)'!$C$191","v":0},"#'T2-B(PP4)'!$C$191"]
["pp4_bl4_13_7_unit_in",{"$f":"'T2-B(PP4)'!$D$191","v":0},"#'T2-B(PP4)'!$D$191"]
["pp4_bl4_13_7_units_out",{"$f":"'T2-B(PP4)'!$G$191","v":0},"#'T2-B(PP4)'!$G$191"]
["pp4_bl4_13_8_name",{"$f":"'T2-B(PP4)'!$B$192","v":0},"#'T2-B(PP4)'!$B$192"]
["pp4_bl4_13_8_rate_in",{"$f":"'T2-B(PP4)'!$E$192","v":0},"#'T2-B(PP4)'!$E$192"]
["pp4_bl4_13_8_rate_out",{"$f":"'T2-B(PP4)'!$H$192","v":0},"#'T2-B(PP4)'!$H$192"]
["pp4_bl4_13_8_total",{"$f":"'T2-B(PP4)'!$J$192","v":0},"#'T2-B(PP4)'!$J$192"]
["pp4_bl4_13_8_total_in",{"$f":"'T2-B(PP4)'!$F$192","v":0},"#'T2-B(PP4)'!$F$192"]
["pp4_bl4_13_8_total_out",{"$f":"'T2-B(PP4)'!$I$192","v":0},"#'T2-B(PP4)'!$I$192"]
["pp4_bl4_13_8_unit",{"$f":"'T2-B(PP4)'!$C$192","v":0},"#'T2-B(PP4)'!$C$192"]
["pp4_bl4_13_8_unit_in",{"$f":"'T2-B(PP4)'!$D$192","v":0},"#'T2-B(PP4)'!$D$192"]
["pp4_bl4_13_8_units_out",{"$f":"'T2-B(PP4)'!$G$192","v":0},"#'T2-B(PP4)'!$G$192"]
["pp4_bl4_13_9_name",{"$f":"'T2-B(PP4)'!$B$193","v":0},"#'T2-B(PP4)'!$B$193"]
["pp4_bl4_13_9_rate_in",{"$f":"'T2-B(PP4)'!$E$193","v":0},"#'T2-B(PP4)'!$E$193"]
["pp4_bl4_13_9_rate_out",{"$f":"'T2-B(PP4)'!$H$193","v":0},"#'T2-B(PP4)'!$H$193"]
["pp4_bl4_13_9_total",{"$f":"'T2-B(PP4)'!$J$193","v":0},"#'T2-B(PP4)'!$J$193"]
["pp4_bl4_13_9_total_in",{"$f":"'T2-B(PP4)'!$F$193","v":0},"#'T2-B(PP4)'!$F$193"]
["pp4_bl4_13_9_total_out",{"$f":"'T2-B(PP4)'!$I$193","v":0},"#'T2-B(PP4)'!$I$193"]
["pp4_bl4_13_9_unit",{"$f":"'T2-B(PP4)'!$C$193","v":0},"#'T2-B(PP4)'!$C$193"]
["pp4_bl4_13_9_unit_in",{"$f":"'T2-B(PP4)'!$D$193","v":0},"#'T2-B(PP4)'!$D$193"]
["pp4_bl4_13_9_units_out",{"$f":"'T2-B(PP4)'!$G$193","v":0},"#'T2-B(PP4)'!$G$193"]
["pp4_bl4_13_total",{"$f":"'T2-B(PP4)'!$J$184","v":0},"#'T2-B(PP4)'!$J$184"]
["pp4_bl4_13_total_in",{"$f":"'T2-B(PP4)'!$F$184","v":0},"#'T2-B(PP4)'!$F$184"]
["pp4_bl4_13_total_out",{"$f":"'T2-B(PP4)'!$I$184","v":0},"#'T2-B(PP4)'!$I$184"]
["pp4_bl4_2_1_name",{"$f":"'T2-B(PP4)'!$B$64","v":0},"#'T2-B(PP4)'!$B$64"]
["pp4_bl4_2_1_rate_in",{"$f":"'T2-B(PP4)'!$E$64","v":0},"#'T2-B(PP4)'!$E$64"]
["pp4_bl4_2_1_rate_out",{"$f":"'T2-B(PP4)'!$H$64","v":0},"#'T2-B(PP4)'!$H$64"]
["pp4_bl4_2_1_total",{"$f":"'T2-B(PP4)'!$J$64","v":0},"#'T2-B(PP4)'!$J$64"]
["pp4_bl4_2_1_total_in",{"$f":"'T2-B(PP4)'!$F$64","v":0},"#'T2-B(PP4)'!$F$64"]
["pp4_bl4_2_1_total_out",{"$f":"'T2-B(PP4)'!$I$64","v":0},"#'T2-B(PP4)'!$I$64"]
["pp4_bl4_2_1_unit",{"$f":"'T2-B(PP4)'!$C$64","v":0},"#'T2-B(PP4)'!$C$64"]
["pp4_bl4_2_1_unit_in",{"$f":"'T2-B(PP4)'!$D$64","v":0},"#'T2-B(PP4)'!$D$64"]
["pp4_bl4_2_1_units_out",{"$f":"'T2-B(PP4)'!$G$64","v":0},"#'T2-B(PP4)'!$G$64"]
["pp4_bl4_2_10_name",{"$f":"'T2-B(PP4)'!$B$73","v":0},"#'T2-B(PP4)'!$B$73"]
["pp4_bl4_2_10_rate_in",{"$f":"'T2-B(PP4)'!$E$73","v":0},"#'T2-B(PP4)'!$E$73"]
["pp4_bl4_2_10_rate_out",{"$f":"'T2-B(PP4)'!$H$73","v":0},"#'T2-B(PP4)'!$H$73"]
["pp4_bl4_2_10_total",{"$f":"'T2-B(PP4)'!$J$73","v":0},"#'T2-B(PP4)'!$J$73"]
["pp4_bl4_2_10_total_in",{"$f":"'T2-B(PP4)'!$F$73","v":0},"#'T2-B(PP4)'!$F$73"]
["pp4_bl4_2_10_total_out",{"$f":"'T2-B(PP4)'!$I$73","v":0},"#'T2-B(PP4)'!$I$73"]
["pp4_bl4_2_10_unit",{"$f":"'T2-B(PP4)'!$C$73","v":0},"#'T2-B(PP4)'!$C$73"]
["pp4_bl4_2_10_unit_in",{"$f":"'T2-B(PP4)'!$D$73","v":0},"#'T2-B(PP4)'!$D$73"]
["pp4_bl4_2_10_units_out",{"$f":"'T2-B(PP4)'!$G$73","v":0},"#'T2-B(PP4)'!$G$73"]
["pp4_bl4_2_2_name",{"$f":"'T2-B(PP4)'!$B$65","v":0},"#'T2-B(PP4)'!$B$65"]
["pp4_bl4_2_2_rate_in",{"$f":"'T2-B(PP4)'!$E$65","v":0},"#'T2-B(PP4)'!$E$65"]
["pp4_bl4_2_2_rate_out",{"$f":"'T2-B(PP4)'!$H$65","v":0},"#'T2-B(PP4)'!$H$65"]
["pp4_bl4_2_2_total",{"$f":"'T2-B(PP4)'!$J$65","v":0},"#'T2-B(PP4)'!$J$65"]
["pp4_bl4_2_2_total_in",{"$f":"'T2-B(PP4)'!$F$65","v":0},"#'T2-B(PP4)'!$F$65"]
["pp4_bl4_2_2_total_out",{"$f":"'T2-B(PP4)'!$I$65","v":0},"#'T2-B(PP4)'!$I$65"]
["pp4_bl4_2_2_unit",{"$f":"'T2-B(PP4)'!$C$65","v":0},"#'T2-B(PP4)'!$C$65"]
["pp4_bl4_2_2_unit_in",{"$f":"'T2-B(PP4)'!$D$65","v":0},"#'T2-B(PP4)'!$D$65"]
["pp4_bl4_2_2_units_out",{"$f":"'T2-B(PP4)'!$G$65","v":0},"#'T2-B(PP4)'!$G$65"]
["pp4_bl4_2_3_name",{"$f":"'T2-B(PP4)'!$B$66","v":0},"#'T2-B(PP4)'!$B$66"]
["pp4_bl4_2_3_rate_in",{"$f":"'T2-B(PP4)'!$E$66","v":0},"#'T2-B(PP4)'!$E$66"]
["pp4_bl4_2_3_rate_out",{"$f":"'T2-B(PP4)'!$H$66","v":0},"#'T2-B(PP4)'!$H$66"]
["pp4_bl4_2_3_total",{"$f":"'T2-B(PP4)'!$J$66","v":0},"#'T2-B(PP4)'!$J$66"]
["pp4_bl4_2_3_total_in",{"$f":"'T2-B(PP4)'!$F$66","v":0},"#'T2-B(PP4)'!$F$66"]
["pp4_bl4_2_3_total_out",{"$f":"'T2-B(PP4)'!$I$66","v":0},"#'T2-B(PP4)'!$I$66"]
["pp4_bl4_2_3_unit",{"$f":"'T2-B(PP4)'!$C$66","v":0},"#'T2-B(PP4)'!$C$66"]
["pp4_bl4_2_3_unit_in",{"$f":"'T2-B(PP4)'!$D$66","v":0},"#'T2-B(PP4)'!$D$66"]
["pp4_bl4_2_3_units_out",{"$f":"'T2-B(PP4)'!$G$66","v":0},"#'T2-B(PP4)'!$G$66"]
["pp4_bl4_2_4_name",{"$f":"'T2-B(PP4)'!$B$67","v":0},"#'T2-B(PP4)'!$B$67"]
["pp4_bl4_2_4_rate_in",{"$f":"'T2-B(PP4)'!$E$67","v":0},"#'T2-B(PP4)'!$E$67"]
["pp4_bl4_2_4_rate_out",{"$f":"'T2-B(PP4)'!$H$67","v":0},"#'T2-B(PP4)'!$H$67"]
["pp4_bl4_2_4_total",{"$f":"'T2-B(PP4)'!$J$67","v":0},"#'T2-B(PP4)'!$J$67"]
["pp4_bl4_2_4_total_in",{"$f":"'T2-B(PP4)'!$F$67","v":0},"#'T2-B(PP4)'!$F$67"]
["pp4_bl4_2_4_total_out",{"$f":"'T2-B(PP4)'!$I$67","v":0},"#'T2-B(PP4)'!$I$67"]
["pp4_bl4_2_4_unit",{"$f":"'T2-B(PP4)'!$C$67","v":0},"#'T2-B(PP4)'!$C$67"]
["pp4_bl4_2_4_unit_in",{"$f":"'T2-B(PP4)'!$D$67","v":0},"#'T2-B(PP4)'!$D$67"]
["pp4_bl4_2_4_units_out",{"$f":"'T2-B(PP4)'!$G$67","v":0},"#'T2-B(PP4)'!$G$67"]
["pp4_bl4_2_5_name",{"$f":"'T2-B(PP4)'!$B$68","v":0},"#'T2-B(PP4)'!$B$68"]
["pp4_bl4_2_5_rate_in",{"$f":"'T2-B(PP4)'!$E$68","v":0},"#'T2-B(PP4)'!$E$68"]
["pp4_bl4_2_5_rate_out",{"$f":"'T2-B(PP4)'!$H$68","v":0},"#'T2-B(PP4)'!$H$68"]
["pp4_bl4_2_5_total",{"$f":"'T2-B(PP4)'!$J$68","v":0},"#'T2-B(PP4)'!$J$68"]
["pp4_bl4_2_5_total_in",{"$f":"'T2-B(PP4)'!$F$68","v":0},"#'T2-B(PP4)'!$F$68"]
["pp4_bl4_2_5_total_out",{"$f":"'T2-B(PP4)'!$I$68","v":0},"#'T2-B(PP4)'!$I$68"]
["pp4_bl4_2_5_unit",{"$f":"'T2-B(PP4)'!$C$68","v":0},"#'T2-B(PP4)'!$C$68"]
["pp4_bl4_2_5_unit_in",{"$f":"'T2-B(PP4)'!$D$68","v":0},"#'T2-B(PP4)'!$D$68"]
["pp4_bl4_2_5_units_out",{"$f":"'T2-B(PP4)'!$G$68","v":0},"#'T2-B(PP4)'!$G$68"]
["pp4_bl4_2_6_name",{"$f":"'T2-B(PP4)'!$B$69","v":0},"#'T2-B(PP4)'!$B$69"]
["pp4_bl4_2_6_rate_in",{"$f":"'T2-B(PP4)'!$E$69","v":0},"#'T2-B(PP4)'!$E$69"]
["pp4_bl4_2_6_rate_out",{"$f":"'T2-B(PP4)'!$H$69","v":0},"#'T2-B(PP4)'!$H$69"]
["pp4_bl4_2_6_total",{"$f":"'T2-B(PP4)'!$J$69","v":0},"#'T2-B(PP4)'!$J$69"]
["pp4_bl4_2_6_total_in",{"$f":"'T2-B(PP4)'!$F$69","v":0},"#'T2-B(PP4)'!$F$69"]
["pp4_bl4_2_6_total_out",{"$f":"'T2-B(PP4)'!$I$69","v":0},"#'T2-B(PP4)'!$I$69"]
["pp4_bl4_2_6_unit",{"$f":"'T2-B(PP4)'!$C$69","v":0},"#'T2-B(PP4)'!$C$69"]
["pp4_bl4_2_6_unit_in",{"$f":"'T2-B(PP4)'!$D$69","v":0},"#'T2-B(PP4)'!$D$69"]
["pp4_bl4_2_6_units_out",{"$f":"'T2-B(PP4)'!$G$69","v":0},"#'T2-B(PP4)'!$G$69"]
["pp4_bl4_2_7_name",{"$f":"'T2-B(PP4)'!$B$70","v":0},"#'T2-B(PP4)'!$B$70"]
["pp4_bl4_2_7_rate_in",{"$f":"'T2-B(PP4)'!$E$70","v":0},"#'T2-B(PP4)'!$E$70"]
["pp4_bl4_2_7_rate_out",{"$f":"'T2-B(PP4)'!$H$70","v":0},"#'T2-B(PP4)'!$H$70"]
["pp4_bl4_2_7_total",{"$f":"'T2-B(PP4)'!$J$70","v":0},"#'T2-B(PP4)'!$J$70"]
["pp4_bl4_2_7_total_in",{"$f":"'T2-B(PP4)'!$F$70","v":0},"#'T2-B(PP4)'!$F$70"]
["pp4_bl4_2_7_total_out",{"$f":"'T2-B(PP4)'!$I$70","v":0},"#'T2-B(PP4)'!$I$70"]
["pp4_bl4_2_7_unit",{"$f":"'T2-B(PP4)'!$C$70","v":0},"#'T2-B(PP4)'!$C$70"]
["pp4_bl4_2_7_unit_in",{"$f":"'T2-B(PP4)'!$D$70","v":0},"#'T2-B(PP4)'!$D$70"]
["pp4_bl4_2_7_units_out",{"$f":"'T2-B(PP4)'!$G$70","v":0},"#'T2-B(PP4)'!$G$70"]
["pp4_bl4_2_8_name",{"$f":"'T2-B(PP4)'!$B$71","v":0},"#'T2-B(PP4)'!$B$71"]
["pp4_bl4_2_8_rate_in",{"$f":"'T2-B(PP4)'!$E$71","v":0},"#'T2-B(PP4)'!$E$71"]
["pp4_bl4_2_8_rate_out",{"$f":"'T2-B(PP4)'!$H$71","v":0},"#'T2-B(PP4)'!$H$71"]
["pp4_bl4_2_8_total",{"$f":"'T2-B(PP4)'!$J$71","v":0},"#'T2-B(PP4)'!$J$71"]
["pp4_bl4_2_8_total_in",{"$f":"'T2-B(PP4)'!$F$71","v":0},"#'T2-B(PP4)'!$F$71"]
["pp4_bl4_2_8_total_out",{"$f":"'T2-B(PP4)'!$I$71","v":0},"#'T2-B(PP4)'!$I$71"]
["pp4_bl4_2_8_unit",{"$f":"'T2-B(PP4)'!$C$71","v":0},"#'T2-B(PP4)'!$C$71"]
["pp4_bl4_2_8_unit_in",{"$f":"'T2-B(PP4)'!$D$71","v":0},"#'T2-B(PP4)'!$D$71"]
["pp4_bl4_2_8_units_out",{"$f":"'T2-B(PP4)'!$G$71","v":0},"#'T2-B(PP4)'!$G$71"]
["pp4_bl4_2_9_name",{"$f":"'T2-B(PP4)'!$B$72","v":0},"#'T2-B(PP4)'!$B$72"]
["pp4_bl4_2_9_rate_in",{"$f":"'T2-B(PP4)'!$E$72","v":0},"#'T2-B(PP4)'!$E$72"]
["pp4_bl4_2_9_rate_out",{"$f":"'T2-B(PP4)'!$H$72","v":0},"#'T2-B(PP4)'!$H$72"]
["pp4_bl4_2_9_total",{"$f":"'T2-B(PP4)'!$J$72","v":0},"#'T2-B(PP4)'!$J$72"]
["pp4_bl4_2_9_total_in",{"$f":"'T2-B(PP4)'!$F$72","v":0},"#'T2-B(PP4)'!$F$72"]
["pp4_bl4_2_9_total_out",{"$f":"'T2-B(PP4)'!$I$72","v":0},"#'T2-B(PP4)'!$I$72"]
["pp4_bl4_2_9_unit",{"$f":"'T2-B(PP4)'!$C$72","v":0},"#'T2-B(PP4)'!$C$72"]
["pp4_bl4_2_9_unit_in",{"$f":"'T2-B(PP4)'!$D$72","v":0},"#'T2-B(PP4)'!$D$72"]
["pp4_bl4_2_9_units_out",{"$f":"'T2-B(PP4)'!$G$72","v":0},"#'T2-B(PP4)'!$G$72"]
["pp4_bl4_2_total",{"$f":"'T2-B(PP4)'!$J$63","v":0},"#'T2-B(PP4)'!$J$63"]
["pp4_bl4_2_total_in",{"$f":"'T2-B(PP4)'!$F$63","v":0},"#'T2-B(PP4)'!$F$63"]
["pp4_bl4_2_total_out",{"$f":"'T2-B(PP4)'!$I$63","v":0},"#'T2-B(PP4)'!$I$63"]
["pp4_bl4_3_1_name",{"$f":"'T2-B(PP4)'!$B$75","v":0},"#'T2-B(PP4)'!$B$75"]
["pp4_bl4_3_1_rate_in",{"$f":"'T2-B(PP4)'!$E$75","v":0},"#'T2-B(PP4)'!$E$75"]
["pp4_bl4_3_1_rate_out",{"$f":"'T2-B(PP4)'!$H$75","v":0},"#'T2-B(PP4)'!$H$75"]
["pp4_bl4_3_1_total",{"$f":"'T2-B(PP4)'!$J$75","v":0},"#'T2-B(PP4)'!$J$75"]
["pp4_bl4_3_1_total_in",{"$f":"'T2-B(PP4)'!$F$75","v":0},"#'T2-B(PP4)'!$F$75"]
["pp4_bl4_3_1_total_out",{"$f":"'T2-B(PP4)'!$I$75","v":0},"#'T2-B(PP4)'!$I$75"]
["pp4_bl4_3_1_unit",{"$f":"'T2-B(PP4)'!$C$75","v":0},"#'T2-B(PP4)'!$C$75"]
["pp4_bl4_3_1_unit_in",{"$f":"'T2-B(PP4)'!$D$75","v":0},"#'T2-B(PP4)'!$D$75"]
["pp4_bl4_3_1_units_out",{"$f":"'T2-B(PP4)'!$G$75","v":0},"#'T2-B(PP4)'!$G$75"]
["pp4_bl4_3_10_name",{"$f":"'T2-B(PP4)'!$B$84","v":0},"#'T2-B(PP4)'!$B$84"]
["pp4_bl4_3_10_rate_in",{"$f":"'T2-B(PP4)'!$E$84","v":0},"#'T2-B(PP4)'!$E$84"]
["pp4_bl4_3_10_rate_out",{"$f":"'T2-B(PP4)'!$H$84","v":0},"#'T2-B(PP4)'!$H$84"]
["pp4_bl4_3_10_total",{"$f":"'T2-B(PP4)'!$J$84","v":0},"#'T2-B(PP4)'!$J$84"]
["pp4_bl4_3_10_total_in",{"$f":"'T2-B(PP4)'!$F$84","v":0},"#'T2-B(PP4)'!$F$84"]
["pp4_bl4_3_10_total_out",{"$f":"'T2-B(PP4)'!$I$84","v":0},"#'T2-B(PP4)'!$I$84"]
["pp4_bl4_3_10_unit",{"$f":"'T2-B(PP4)'!$C$84","v":0},"#'T2-B(PP4)'!$C$84"]
["pp4_bl4_3_10_unit_in",{"$f":"'T2-B(PP4)'!$D$84","v":0},"#'T2-B(PP4)'!$D$84"]
["pp4_bl4_3_10_units_out",{"$f":"'T2-B(PP4)'!$G$84","v":0},"#'T2-B(PP4)'!$G$84"]
["pp4_bl4_3_2_name",{"$f":"'T2-B(PP4)'!$B$76","v":0},"#'T2-B(PP4)'!$B$76"]
["pp4_bl4_3_2_rate_in",{"$f":"'T2-B(PP4)'!$E$76","v":0},"#'T2-B(PP4)'!$E$76"]
["pp4_bl4_3_2_rate_out",{"$f":"'T2-B(PP4)'!$H$76","v":0},"#'T2-B(PP4)'!$H$76"]
["pp4_bl4_3_2_total",{"$f":"'T2-B(PP4)'!$J$76","v":0},"#'T2-B(PP4)'!$J$76"]
["pp4_bl4_3_2_total_in",{"$f":"'T2-B(PP4)'!$F$76","v":0},"#'T2-B(PP4)'!$F$76"]
["pp4_bl4_3_2_total_out",{"$f":"'T2-B(PP4)'!$I$76","v":0},"#'T2-B(PP4)'!$I$76"]
["pp4_bl4_3_2_unit",{"$f":"'T2-B(PP4)'!$C$76","v":0},"#'T2-B(PP4)'!$C$76"]
["pp4_bl4_3_2_unit_in",{"$f":"'T2-B(PP4)'!$D$76","v":0},"#'T2-B(PP4)'!$D$76"]
["pp4_bl4_3_2_units_out",{"$f":"'T2-B(PP4)'!$G$76","v":0},"#'T2-B(PP4)'!$G$76"]
["pp4_bl4_3_3_name",{"$f":"'T2-B(PP4)'!$B$77","v":0},"#'T2-B(PP4)'!$B$77"]
["pp4_bl4_3_3_rate_in",{"$f":"'T2-B(PP4)'!$E$77","v":0},"#'T2-B(PP4)'!$E$77"]
["pp4_bl4_3_3_rate_out",{"$f":"'T2-B(PP4)'!$H$77","v":0},"#'T2-B(PP4)'!$H$77"]
["pp4_bl4_3_3_total",{"$f":"'T2-B(PP4)'!$J$77","v":0},"#'T2-B(PP4)'!$J$77"]
["pp4_bl4_3_3_total_in",{"$f":"'T2-B(PP4)'!$F$77","v":0},"#'T2-B(PP4)'!$F$77"]
["pp4_bl4_3_3_total_out",{"$f":"'T2-B(PP4)'!$I$77","v":0},"#'T2-B(PP4)'!$I$77"]
["pp4_bl4_3_3_unit",{"$f":"'T2-B(PP4)'!$C$77","v":0},"#'T2-B(PP4)'!$C$77"]
["pp4_bl4_3_3_unit_in",{"$f":"'T2-B(PP4)'!$D$77","v":0},"#'T2-B(PP4)'!$D$77"]
["pp4_bl4_3_3_units_out",{"$f":"'T2-B(PP4)'!$G$77","v":0},"#'T2-B(PP4)'!$G$77"]
["pp4_bl4_3_4_name",{"$f":"'T2-B(PP4)'!$B$78","v":0},"#'T2-B(PP4)'!$B$78"]
["pp4_bl4_3_4_rate_in",{"$f":"'T2-B(PP4)'!$E$78","v":0},"#'T2-B(PP4)'!$E$78"]
["pp4_bl4_3_4_rate_out",{"$f":"'T2-B(PP4)'!$H$78","v":0},"#'T2-B(PP4)'!$H$78"]
["pp4_bl4_3_4_total",{"$f":"'T2-B(PP4)'!$J$78","v":0},"#'T2-B(PP4)'!$J$78"]
["pp4_bl4_3_4_total_in",{"$f":"'T2-B(PP4)'!$F$78","v":0},"#'T2-B(PP4)'!$F$78"]
["pp4_bl4_3_4_total_out",{"$f":"'T2-B(PP4)'!$I$78","v":0},"#'T2-B(PP4)'!$I$78"]
["pp4_bl4_3_4_unit",{"$f":"'T2-B(PP4)'!$C$78","v":0},"#'T2-B(PP4)'!$C$78"]
["pp4_bl4_3_4_unit_in",{"$f":"'T2-B(PP4)'!$D$78","v":0},"#'T2-B(PP4)'!$D$78"]
["pp4_bl4_3_4_units_out",{"$f":"'T2-B(PP4)'!$G$78","v":0},"#'T2-B(PP4)'!$G$78"]
["pp4_bl4_3_5_name",{"$f":"'T2-B(PP4)'!$B$79","v":0},"#'T2-B(PP4)'!$B$79"]
["pp4_bl4_3_5_rate_in",{"$f":"'T2-B(PP4)'!$E$79","v":0},"#'T2-B(PP4)'!$E$79"]
["pp4_bl4_3_5_rate_out",{"$f":"'T2-B(PP4)'!$H$79","v":0},"#'T2-B(PP4)'!$H$79"]
["pp4_bl4_3_5_total",{"$f":"'T2-B(PP4)'!$J$79","v":0},"#'T2-B(PP4)'!$J$79"]
["pp4_bl4_3_5_total_in",{"$f":"'T2-B(PP4)'!$F$79","v":0},"#'T2-B(PP4)'!$F$79"]
["pp4_bl4_3_5_total_out",{"$f":"'T2-B(PP4)'!$I$79","v":0},"#'T2-B(PP4)'!$I$79"]
["pp4_bl4_3_5_unit",{"$f":"'T2-B(PP4)'!$C$79","v":0},"#'T2-B(PP4)'!$C$79"]
["pp4_bl4_3_5_unit_in",{"$f":"'T2-B(PP4)'!$D$79","v":0},"#'T2-B(PP4)'!$D$79"]
["pp4_bl4_3_5_units_out",{"$f":"'T2-B(PP4)'!$G$79","v":0},"#'T2-B(PP4)'!$G$79"]
["pp4_bl4_3_6_name",{"$f":"'T2-B(PP4)'!$B$80","v":0},"#'T2-B(PP4)'!$B$80"]
["pp4_bl4_3_6_rate_in",{"$f":"'T2-B(PP4)'!$E$80","v":0},"#'T2-B(PP4)'!$E$80"]
["pp4_bl4_3_6_rate_out",{"$f":"'T2-B(PP4)'!$H$80","v":0},"#'T2-B(PP4)'!$H$80"]
["pp4_bl4_3_6_total",{"$f":"'T2-B(PP4)'!$J$80","v":0},"#'T2-B(PP4)'!$J$80"]
["pp4_bl4_3_6_total_in",{"$f":"'T2-B(PP4)'!$F$80","v":0},"#'T2-B(PP4)'!$F$80"]
["pp4_bl4_3_6_total_out",{"$f":"'T2-B(PP4)'!$I$80","v":0},"#'T2-B(PP4)'!$I$80"]
["pp4_bl4_3_6_unit",{"$f":"'T2-B(PP4)'!$C$80","v":0},"#'T2-B(PP4)'!$C$80"]
["pp4_bl4_3_6_unit_in",{"$f":"'T2-B(PP4)'!$D$80","v":0},"#'T2-B(PP4)'!$D$80"]
["pp4_bl4_3_6_units_out",{"$f":"'T2-B(PP4)'!$G$80","v":0},"#'T2-B(PP4)'!$G$80"]
["pp4_bl4_3_7_name",{"$f":"'T2-B(PP4)'!$B$81","v":0},"#'T2-B(PP4)'!$B$81"]
["pp4_bl4_3_7_rate_in",{"$f":"'T2-B(PP4)'!$E$81","v":0},"#'T2-B(PP4)'!$E$81"]
["pp4_bl4_3_7_rate_out",{"$f":"'T2-B(PP4)'!$H$81","v":0},"#'T2-B(PP4)'!$H$81"]
["pp4_bl4_3_7_total",{"$f":"'T2-B(PP4)'!$J$81","v":0},"#'T2-B(PP4)'!$J$81"]
["pp4_bl4_3_7_total_in",{"$f":"'T2-B(PP4)'!$F$81","v":0},"#'T2-B(PP4)'!$F$81"]
["pp4_bl4_3_7_total_out",{"$f":"'T2-B(PP4)'!$I$81","v":0},"#'T2-B(PP4)'!$I$81"]
["pp4_bl4_3_7_unit",{"$f":"'T2-B(PP4)'!$C$81","v":0},"#'T2-B(PP4)'!$C$81"]
["pp4_bl4_3_7_unit_in",{"$f":"'T2-B(PP4)'!$D$81","v":0},"#'T2-B(PP4)'!$D$81"]
["pp4_bl4_3_7_units_out",{"$f":"'T2-B(PP4)'!$G$81","v":0},"#'T2-B(PP4)'!$G$81"]
["pp4_bl4_3_8_name",{"$f":"'T2-B(PP4)'!$B$82","v":0},"#'T2-B(PP4)'!$B$82"]
["pp4_bl4_3_8_rate_in",{"$f":"'T2-B(PP4)'!$E$82","v":0},"#'T2-B(PP4)'!$E$82"]
["pp4_bl4_3_8_rate_out",{"$f":"'T2-B(PP4)'!$H$82","v":0},"#'T2-B(PP4)'!$H$82"]
["pp4_bl4_3_8_total",{"$f":"'T2-B(PP4)'!$J$82","v":0},"#'T2-B(PP4)'!$J$82"]
["pp4_bl4_3_8_total_in",{"$f":"'T2-B(PP4)'!$F$82","v":0},"#'T2-B(PP4)'!$F$82"]
["pp4_bl4_3_8_total_out",{"$f":"'T2-B(PP4)'!$I$82","v":0},"#'T2-B(PP4)'!$I$82"]
["pp4_bl4_3_8_unit",{"$f":"'T2-B(PP4)'!$C$82","v":0},"#'T2-B(PP4)'!$C$82"]
["pp4_bl4_3_8_unit_in",{"$f":"'T2-B(PP4)'!$D$82","v":0},"#'T2-B(PP4)'!$D$82"]
["pp4_bl4_3_8_units_out",{"$f":"'T2-B(PP4)'!$G$82","v":0},"#'T2-B(PP4)'!$G$82"]
["pp4_bl4_3_9_name",{"$f":"'T2-B(PP4)'!$B$83","v":0},"#'T2-B(PP4)'!$B$83"]
["pp4_bl4_3_9_rate_in",{"$f":"'T2-B(PP4)'!$E$83","v":0},"#'T2-B(PP4)'!$E$83"]
["pp4_bl4_3_9_rate_out",{"$f":"'T2-B(PP4)'!$H$83","v":0},"#'T2-B(PP4)'!$H$83"]
["pp4_bl4_3_9_total",{"$f":"'T2-B(PP4)'!$J$83","v":0},"#'T2-B(PP4)'!$J$83"]
["pp4_bl4_3_9_total_in",{"$f":"'T2-B(PP4)'!$F$83","v":0},"#'T2-B(PP4)'!$F$83"]
["pp4_bl4_3_9_total_out",{"$f":"'T2-B(PP4)'!$I$83","v":0},"#'T2-B(PP4)'!$I$83"]
["pp4_bl4_3_9_unit",{"$f":"'T2-B(PP4)'!$C$83","v":0},"#'T2-B(PP4)'!$C$83"]
["pp4_bl4_3_9_unit_in",{"$f":"'T2-B(PP4)'!$D$83","v":0},"#'T2-B(PP4)'!$D$83"]
["pp4_bl4_3_9_units_out",{"$f":"'T2-B(PP4)'!$G$83","v":0},"#'T2-B(PP4)'!$G$83"]
["pp4_bl4_3_total",{"$f":"'T2-B(PP4)'!$J$74","v":0},"#'T2-B(PP4)'!$J$74"]
["pp4_bl4_3_total_in",{"$f":"'T2-B(PP4)'!$F$74","v":0},"#'T2-B(PP4)'!$F$74"]
["pp4_bl4_3_total_out",{"$f":"'T2-B(PP4)'!$I$74","v":0},"#'T2-B(PP4)'!$I$74"]
["pp4_bl4_4_1_name",{"$f":"'T2-B(PP4)'!$B$86","v":0},"#'T2-B(PP4)'!$B$86"]
["pp4_bl4_4_1_rate_in",{"$f":"'T2-B(PP4)'!$E$86","v":0},"#'T2-B(PP4)'!$E$86"]
["pp4_bl4_4_1_rate_out",{"$f":"'T2-B(PP4)'!$H$86","v":0},"#'T2-B(PP4)'!$H$86"]
["pp4_bl4_4_1_total",{"$f":"'T2-B(PP4)'!$J$86","v":0},"#'T2-B(PP4)'!$J$86"]
["pp4_bl4_4_1_total_in",{"$f":"'T2-B(PP4)'!$F$86","v":0},"#'T2-B(PP4)'!$F$86"]
["pp4_bl4_4_1_total_out",{"$f":"'T2-B(PP4)'!$I$86","v":0},"#'T2-B(PP4)'!$I$86"]
["pp4_bl4_4_1_unit",{"$f":"'T2-B(PP4)'!$C$86","v":0},"#'T2-B(PP4)'!$C$86"]
["pp4_bl4_4_1_unit_in",{"$f":"'T2-B(PP4)'!$D$86","v":0},"#'T2-B(PP4)'!$D$86"]
["pp4_bl4_4_1_units_out",{"$f":"'T2-B(PP4)'!$G$86","v":0},"#'T2-B(PP4)'!$G$86"]
["pp4_bl4_4_10_name",{"$f":"'T2-B(PP4)'!$B$95","v":0},"#'T2-B(PP4)'!$B$95"]
["pp4_bl4_4_10_rate_in",{"$f":"'T2-B(PP4)'!$E$95","v":0},"#'T2-B(PP4)'!$E$95"]
["pp4_bl4_4_10_rate_out",{"$f":"'T2-B(PP4)'!$H$95","v":0},"#'T2-B(PP4)'!$H$95"]
["pp4_bl4_4_10_total",{"$f":"'T2-B(PP4)'!$J$95","v":0},"#'T2-B(PP4)'!$J$95"]
["pp4_bl4_4_10_total_in",{"$f":"'T2-B(PP4)'!$F$95","v":0},"#'T2-B(PP4)'!$F$95"]
["pp4_bl4_4_10_total_out",{"$f":"'T2-B(PP4)'!$I$95","v":0},"#'T2-B(PP4)'!$I$95"]
["pp4_bl4_4_10_unit",{"$f":"'T2-B(PP4)'!$C$95","v":0},"#'T2-B(PP4)'!$C$95"]
["pp4_bl4_4_10_unit_in",{"$f":"'T2-B(PP4)'!$D$95","v":0},"#'T2-B(PP4)'!$D$95"]
["pp4_bl4_4_10_units_out",{"$f":"'T2-B(PP4)'!$G$95","v":0},"#'T2-B(PP4)'!$G$95"]
["pp4_bl4_4_2_name",{"$f":"'T2-B(PP4)'!$B$87","v":0},"#'T2-B(PP4)'!$B$87"]
["pp4_bl4_4_2_rate_in",{"$f":"'T2-B(PP4)'!$E$87","v":0},"#'T2-B(PP4)'!$E$87"]
["pp4_bl4_4_2_rate_out",{"$f":"'T2-B(PP4)'!$H$87","v":0},"#'T2-B(PP4)'!$H$87"]
["pp4_bl4_4_2_total",{"$f":"'T2-B(PP4)'!$J$87","v":0},"#'T2-B(PP4)'!$J$87"]
["pp4_bl4_4_2_total_in",{"$f":"'T2-B(PP4)'!$F$87","v":0},"#'T2-B(PP4)'!$F$87"]
["pp4_bl4_4_2_total_out",{"$f":"'T2-B(PP4)'!$I$87","v":0},"#'T2-B(PP4)'!$I$87"]
["pp4_bl4_4_2_unit",{"$f":"'T2-B(PP4)'!$C$87","v":0},"#'T2-B(PP4)'!$C$87"]
["pp4_bl4_4_2_unit_in",{"$f":"'T2-B(PP4)'!$D$87","v":0},"#'T2-B(PP4)'!$D$87"]
["pp4_bl4_4_2_units_out",{"$f":"'T2-B(PP4)'!$G$87","v":0},"#'T2-B(PP4)'!$G$87"]
["pp4_bl4_4_3_name",{"$f":"'T2-B(PP4)'!$B$88","v":0},"#'T2-B(PP4)'!$B$88"]
["pp4_bl4_4_3_rate_in",{"$f":"'T2-B(PP4)'!$E$88","v":0},"#'T2-B(PP4)'!$E$88"]
["pp4_bl4_4_3_rate_out",{"$f":"'T2-B(PP4)'!$H$88","v":0},"#'T2-B(PP4)'!$H$88"]
["pp4_bl4_4_3_total",{"$f":"'T2-B(PP4)'!$J$88","v":0},"#'T2-B(PP4)'!$J$88"]
["pp4_bl4_4_3_total_in",{"$f":"'T2-B(PP4)'!$F$88","v":0},"#'T2-B(PP4)'!$F$88"]
["pp4_bl4_4_3_total_out",{"$f":"'T2-B(PP4)'!$I$88","v":0},"#'T2-B(PP4)'!$I$88"]
["pp4_bl4_4_3_unit",{"$f":"'T2-B(PP4)'!$C$88","v":0},"#'T2-B(PP4)'!$C$88"]
["pp4_bl4_4_3_unit_in",{"$f":"'T2-B(PP4)'!$D$88","v":0},"#'T2-B(PP4)'!$D$88"]
["pp4_bl4_4_3_units_out",{"$f":"'T2-B(PP4)'!$G$88","v":0},"#'T2-B(PP4)'!$G$88"]
["pp4_bl4_4_4_name",{"$f":"'T2-B(PP4)'!$B$89","v":0},"#'T2-B(PP4)'!$B$89"]
["pp4_bl4_4_4_rate_in",{"$f":"'T2-B(PP4)'!$E$89","v":0},"#'T2-B(PP4)'!$E$89"]
["pp4_bl4_4_4_rate_out",{"$f":"'T2-B(PP4)'!$H$89","v":0},"#'T2-B(PP4)'!$H$89"]
["pp4_bl4_4_4_total",{"$f":"'T2-B(PP4)'!$J$89","v":0},"#'T2-B(PP4)'!$J$89"]
["pp4_bl4_4_4_total_in",{"$f":"'T2-B(PP4)'!$F$89","v":0},"#'T2-B(PP4)'!$F$89"]
["pp4_bl4_4_4_total_out",{"$f":"'T2-B(PP4)'!$I$89","v":0},"#'T2-B(PP4)'!$I$89"]
["pp4_bl4_4_4_unit",{"$f":"'T2-B(PP4)'!$C$89","v":0},"#'T2-B(PP4)'!$C$89"]
["pp4_bl4_4_4_unit_in",{"$f":"'T2-B(PP4)'!$D$89","v":0},"#'T2-B(PP4)'!$D$89"]
["pp4_bl4_4_4_units_out",{"$f":"'T2-B(PP4)'!$G$89","v":0},"#'T2-B(PP4)'!$G$89"]
["pp4_bl4_4_5_name",{"$f":"'T2-B(PP4)'!$B$90","v":0},"#'T2-B(PP4)'!$B$90"]
["pp4_bl4_4_5_rate_in",{"$f":"'T2-B(PP4)'!$E$90","v":0},"#'T2-B(PP4)'!$E$90"]
["pp4_bl4_4_5_rate_out",{"$f":"'T2-B(PP4)'!$H$90","v":0},"#'T2-B(PP4)'!$H$90"]
["pp4_bl4_4_5_total",{"$f":"'T2-B(PP4)'!$J$90","v":0},"#'T2-B(PP4)'!$J$90"]
["pp4_bl4_4_5_total_in",{"$f":"'T2-B(PP4)'!$F$90","v":0},"#'T2-B(PP4)'!$F$90"]
["pp4_bl4_4_5_total_out",{"$f":"'T2-B(PP4)'!$I$90","v":0},"#'T2-B(PP4)'!$I$90"]
["pp4_bl4_4_5_unit",{"$f":"'T2-B(PP4)'!$C$90","v":0},"#'T2-B(PP4)'!$C$90"]
["pp4_bl4_4_5_unit_in",{"$f":"'T2-B(PP4)'!$D$90","v":0},"#'T2-B(PP4)'!$D$90"]
["pp4_bl4_4_5_units_out",{"$f":"'T2-B(PP4)'!$G$90","v":0},"#'T2-B(PP4)'!$G$90"]
["pp4_bl4_4_6_name",{"$f":"'T2-B(PP4)'!$B$91","v":0},"#'T2-B(PP4)'!$B$91"]
["pp4_bl4_4_6_rate_in",{"$f":"'T2-B(PP4)'!$E$91","v":0},"#'T2-B(PP4)'!$E$91"]
["pp4_bl4_4_6_rate_out",{"$f":"'T2-B(PP4)'!$H$91","v":0},"#'T2-B(PP4)'!$H$91"]
["pp4_bl4_4_6_total",{"$f":"'T2-B(PP4)'!$J$91","v":0},"#'T2-B(PP4)'!$J$91"]
["pp4_bl4_4_6_total_in",{"$f":"'T2-B(PP4)'!$F$91","v":0},"#'T2-B(PP4)'!$F$91"]
["pp4_bl4_4_6_total_out",{"$f":"'T2-B(PP4)'!$I$91","v":0},"#'T2-B(PP4)'!$I$91"]
["pp4_bl4_4_6_unit",{"$f":"'T2-B(PP4)'!$C$91","v":0},"#'T2-B(PP4)'!$C$91"]
["pp4_bl4_4_6_unit_in",{"$f":"'T2-B(PP4)'!$D$91","v":0},"#'T2-B(PP4)'!$D$91"]
["pp4_bl4_4_6_units_out",{"$f":"'T2-B(PP4)'!$G$91","v":0},"#'T2-B(PP4)'!$G$91"]
["pp4_bl4_4_7_name",{"$f":"'T2-B(PP4)'!$B$92","v":0},"#'T2-B(PP4)'!$B$92"]
["pp4_bl4_4_7_rate_in",{"$f":"'T2-B(PP4)'!$E$92","v":0},"#'T2-B(PP4)'!$E$92"]
["pp4_bl4_4_7_rate_out",{"$f":"'T2-B(PP4)'!$H$92","v":0},"#'T2-B(PP4)'!$H$92"]
["pp4_bl4_4_7_total",{"$f":"'T2-B(PP4)'!$J$92","v":0},"#'T2-B(PP4)'!$J$92"]
["pp4_bl4_4_7_total_in",{"$f":"'T2-B(PP4)'!$F$92","v":0},"#'T2-B(PP4)'!$F$92"]
["pp4_bl4_4_7_total_out",{"$f":"'T2-B(PP4)'!$I$92","v":0},"#'T2-B(PP4)'!$I$92"]
["pp4_bl4_4_7_unit",{"$f":"'T2-B(PP4)'!$C$92","v":0},"#'T2-B(PP4)'!$C$92"]
["pp4_bl4_4_7_unit_in",{"$f":"'T2-B(PP4)'!$D$92","v":0},"#'T2-B(PP4)'!$D$92"]
["pp4_bl4_4_7_units_out",{"$f":"'T2-B(PP4)'!$G$92","v":0},"#'T2-B(PP4)'!$G$92"]
["pp4_bl4_4_8_name",{"$f":"'T2-B(PP4)'!$B$93","v":0},"#'T2-B(PP4)'!$B$93"]
["pp4_bl4_4_8_rate_in",{"$f":"'T2-B(PP4)'!$E$93","v":0},"#'T2-B(PP4)'!$E$93"]
["pp4_bl4_4_8_rate_out",{"$f":"'T2-B(PP4)'!$H$93","v":0},"#'T2-B(PP4)'!$H$93"]
["pp4_bl4_4_8_total",{"$f":"'T2-B(PP4)'!$J$93","v":0},"#'T2-B(PP4)'!$J$93"]
["pp4_bl4_4_8_total_in",{"$f":"'T2-B(PP4)'!$F$93","v":0},"#'T2-B(PP4)'!$F$93"]
["pp4_bl4_4_8_total_out",{"$f":"'T2-B(PP4)'!$I$93","v":0},"#'T2-B(PP4)'!$I$93"]
["pp4_bl4_4_8_unit",{"$f":"'T2-B(PP4)'!$C$93","v":0},"#'T2-B(PP4)'!$C$93"]
["pp4_bl4_4_8_unit_in",{"$f":"'T2-B(PP4)'!$D$93","v":0},"#'T2-B(PP4)'!$D$93"]
["pp4_bl4_4_8_units_out",{"$f":"'T2-B(PP4)'!$G$93","v":0},"#'T2-B(PP4)'!$G$93"]
["pp4_bl4_4_9_name",{"$f":"'T2-B(PP4)'!$B$94","v":0},"#'T2-B(PP4)'!$B$94"]
["pp4_bl4_4_9_rate_in",{"$f":"'T2-B(PP4)'!$E$94","v":0},"#'T2-B(PP4)'!$E$94"]
["pp4_bl4_4_9_rate_out",{"$f":"'T2-B(PP4)'!$H$94","v":0},"#'T2-B(PP4)'!$H$94"]
["pp4_bl4_4_9_total",{"$f":"'T2-B(PP4)'!$J$94","v":0},"#'T2-B(PP4)'!$J$94"]
["pp4_bl4_4_9_total_in",{"$f":"'T2-B(PP4)'!$F$94","v":0},"#'T2-B(PP4)'!$F$94"]
["pp4_bl4_4_9_total_out",{"$f":"'T2-B(PP4)'!$I$94","v":0},"#'T2-B(PP4)'!$I$94"]
["pp4_bl4_4_9_unit",{"$f":"'T2-B(PP4)'!$C$94","v":0},"#'T2-B(PP4)'!$C$94"]
["pp4_bl4_4_9_unit_in",{"$f":"'T2-B(PP4)'!$D$94","v":0},"#'T2-B(PP4)'!$D$94"]
["pp4_bl4_4_9_units_out",{"$f":"'T2-B(PP4)'!$G$94","v":0},"#'T2-B(PP4)'!$G$94"]
["pp4_bl4_4_total",{"$f":"'T2-B(PP4)'!$J$85","v":0},"#'T2-B(PP4)'!$J$85"]
["pp4_bl4_4_total_in",{"$f":"'T2-B(PP4)'!$F$85","v":0},"#'T2-B(PP4)'!$F$85"]
["pp4_bl4_4_total_out",{"$f":"'T2-B(PP4)'!$I$85","v":0},"#'T2-B(PP4)'!$I$85"]
["pp4_bl4_5_1_name",{"$f":"'T2-B(PP4)'!$B$97","v":0},"#'T2-B(PP4)'!$B$97"]
["pp4_bl4_5_1_rate_in",{"$f":"'T2-B(PP4)'!$E$97","v":0},"#'T2-B(PP4)'!$E$97"]
["pp4_bl4_5_1_rate_out",{"$f":"'T2-B(PP4)'!$H$97","v":0},"#'T2-B(PP4)'!$H$97"]
["pp4_bl4_5_1_total",{"$f":"'T2-B(PP4)'!$J$97","v":0},"#'T2-B(PP4)'!$J$97"]
["pp4_bl4_5_1_total_in",{"$f":"'T2-B(PP4)'!$F$97","v":0},"#'T2-B(PP4)'!$F$97"]
["pp4_bl4_5_1_total_out",{"$f":"'T2-B(PP4)'!$I$97","v":0},"#'T2-B(PP4)'!$I$97"]
["pp4_bl4_5_1_unit",{"$f":"'T2-B(PP4)'!$C$97","v":0},"#'T2-B(PP4)'!$C$97"]
["pp4_bl4_5_1_unit_in",{"$f":"'T2-B(PP4)'!$D$97","v":0},"#'T2-B(PP4)'!$D$97"]
["pp4_bl4_5_1_units_out",{"$f":"'T2-B(PP4)'!$G$97","v":0},"#'T2-B(PP4)'!$G$97"]
["pp4_bl4_5_10_name",{"$f":"'T2-B(PP4)'!$B$106","v":0},"#'T2-B(PP4)'!$B$106"]
["pp4_bl4_5_10_rate_in",{"$f":"'T2-B(PP4)'!$E$106","v":0},"#'T2-B(PP4)'!$E$106"]
["pp4_bl4_5_10_rate_out",{"$f":"'T2-B(PP4)'!$H$106","v":0},"#'T2-B(PP4)'!$H$106"]
["pp4_bl4_5_10_total",{"$f":"'T2-B(PP4)'!$J$106","v":0},"#'T2-B(PP4)'!$J$106"]
["pp4_bl4_5_10_total_in",{"$f":"'T2-B(PP4)'!$F$106","v":0},"#'T2-B(PP4)'!$F$106"]
["pp4_bl4_5_10_total_out",{"$f":"'T2-B(PP4)'!$I$106","v":0},"#'T2-B(PP4)'!$I$106"]
["pp4_bl4_5_10_unit",{"$f":"'T2-B(PP4)'!$C$106","v":0},"#'T2-B(PP4)'!$C$106"]
["pp4_bl4_5_10_unit_in",{"$f":"'T2-B(PP4)'!$D$106","v":0},"#'T2-B(PP4)'!$D$106"]
["pp4_bl4_5_10_units_out",{"$f":"'T2-B(PP4)'!$G$106","v":0},"#'T2-B(PP4)'!$G$106"]
["pp4_bl4_5_2_name",{"$f":"'T2-B(PP4)'!$B$98","v":0},"#'T2-B(PP4)'!$B$98"]
["pp4_bl4_5_2_rate_in",{"$f":"'T2-B(PP4)'!$E$98","v":0},"#'T2-B(PP4)'!$E$98"]
["pp4_bl4_5_2_rate_out",{"$f":"'T2-B(PP4)'!$H$98","v":0},"#'T2-B(PP4)'!$H$98"]
["pp4_bl4_5_2_total",{"$f":"'T2-B(PP4)'!$J$98","v":0},"#'T2-B(PP4)'!$J$98"]
["pp4_bl4_5_2_total_in",{"$f":"'T2-B(PP4)'!$F$98","v":0},"#'T2-B(PP4)'!$F$98"]
["pp4_bl4_5_2_total_out",{"$f":"'T2-B(PP4)'!$I$98","v":0},"#'T2-B(PP4)'!$I$98"]
["pp4_bl4_5_2_unit",{"$f":"'T2-B(PP4)'!$C$98","v":0},"#'T2-B(PP4)'!$C$98"]
["pp4_bl4_5_2_unit_in",{"$f":"'T2-B(PP4)'!$D$98","v":0},"#'T2-B(PP4)'!$D$98"]
["pp4_bl4_5_2_units_out",{"$f":"'T2-B(PP4)'!$G$98","v":0},"#'T2-B(PP4)'!$G$98"]
["pp4_bl4_5_3_name",{"$f":"'T2-B(PP4)'!$B$99","v":0},"#'T2-B(PP4)'!$B$99"]
["pp4_bl4_5_3_rate_in",{"$f":"'T2-B(PP4)'!$E$99","v":0},"#'T2-B(PP4)'!$E$99"]
["pp4_bl4_5_3_rate_out",{"$f":"'T2-B(PP4)'!$H$99","v":0},"#'T2-B(PP4)'!$H$99"]
["pp4_bl4_5_3_total",{"$f":"'T2-B(PP4)'!$J$99","v":0},"#'T2-B(PP4)'!$J$99"]
["pp4_bl4_5_3_total_in",{"$f":"'T2-B(PP4)'!$F$99","v":0},"#'T2-B(PP4)'!$F$99"]
["pp4_bl4_5_3_total_out",{"$f":"'T2-B(PP4)'!$I$99","v":0},"#'T2-B(PP4)'!$I$99"]
["pp4_bl4_5_3_unit",{"$f":"'T2-B(PP4)'!$C$99","v":0},"#'T2-B(PP4)'!$C$99"]
["pp4_bl4_5_3_unit_in",{"$f":"'T2-B(PP4)'!$D$99","v":0},"#'T2-B(PP4)'!$D$99"]
["pp4_bl4_5_3_units_out",{"$f":"'T2-B(PP4)'!$G$99","v":0},"#'T2-B(PP4)'!$G$99"]
["pp4_bl4_5_4_name",{"$f":"'T2-B(PP4)'!$B$100","v":0},"#'T2-B(PP4)'!$B$100"]
["pp4_bl4_5_4_rate_in",{"$f":"'T2-B(PP4)'!$E$100","v":0},"#'T2-B(PP4)'!$E$100"]
["pp4_bl4_5_4_rate_out",{"$f":"'T2-B(PP4)'!$H$100","v":0},"#'T2-B(PP4)'!$H$100"]
["pp4_bl4_5_4_total",{"$f":"'T2-B(PP4)'!$J$100","v":0},"#'T2-B(PP4)'!$J$100"]
["pp4_bl4_5_4_total_in",{"$f":"'T2-B(PP4)'!$F$100","v":0},"#'T2-B(PP4)'!$F$100"]
["pp4_bl4_5_4_total_out",{"$f":"'T2-B(PP4)'!$I$100","v":0},"#'T2-B(PP4)'!$I$100"]
["pp4_bl4_5_4_unit",{"$f":"'T2-B(PP4)'!$C$100","v":0},"#'T2-B(PP4)'!$C$100"]
["pp4_bl4_5_4_unit_in",{"$f":"'T2-B(PP4)'!$D$100","v":0},"#'T2-B(PP4)'!$D$100"]
["pp4_bl4_5_4_units_out",{"$f":"'T2-B(PP4)'!$G$100","v":0},"#'T2-B(PP4)'!$G$100"]
["pp4_bl4_5_5_name",{"$f":"'T2-B(PP4)'!$B$101","v":0},"#'T2-B(PP4)'!$B$101"]
["pp4_bl4_5_5_rate_in",{"$f":"'T2-B(PP4)'!$E$101","v":0},"#'T2-B(PP4)'!$E$101"]
["pp4_bl4_5_5_rate_out",{"$f":"'T2-B(PP4)'!$H$101","v":0},"#'T2-B(PP4)'!$H$101"]
["pp4_bl4_5_5_total",{"$f":"'T2-B(PP4)'!$J$101","v":0},"#'T2-B(PP4)'!$J$101"]
["pp4_bl4_5_5_total_in",{"$f":"'T2-B(PP4)'!$F$101","v":0},"#'T2-B(PP4)'!$F$101"]
["pp4_bl4_5_5_total_out",{"$f":"'T2-B(PP4)'!$I$101","v":0},"#'T2-B(PP4)'!$I$101"]
["pp4_bl4_5_5_unit",{"$f":"'T2-B(PP4)'!$C$101","v":0},"#'T2-B(PP4)'!$C$101"]
["pp4_bl4_5_5_unit_in",{"$f":"'T2-B(PP4)'!$D$101","v":0},"#'T2-B(PP4)'!$D$101"]
["pp4_bl4_5_5_units_out",{"$f":"'T2-B(PP4)'!$G$101","v":0},"#'T2-B(PP4)'!$G$101"]
["pp4_bl4_5_6_name",{"$f":"'T2-B(PP4)'!$B$102","v":0},"#'T2-B(PP4)'!$B$102"]
["pp4_bl4_5_6_rate_in",{"$f":"'T2-B(PP4)'!$E$102","v":0},"#'T2-B(PP4)'!$E$102"]
["pp4_bl4_5_6_rate_out",{"$f":"'T2-B(PP4)'!$H$102","v":0},"#'T2-B(PP4)'!$H$102"]
["pp4_bl4_5_6_total",{"$f":"'T2-B(PP4)'!$J$102","v":0},"#'T2-B(PP4)'!$J$102"]
["pp4_bl4_5_6_total_in",{"$f":"'T2-B(PP4)'!$F$102","v":0},"#'T2-B(PP4)'!$F$102"]
["pp4_bl4_5_6_total_out",{"$f":"'T2-B(PP4)'!$I$102","v":0},"#'T2-B(PP4)'!$I$102"]
["pp4_bl4_5_6_unit",{"$f":"'T2-B(PP4)'!$C$102","v":0},"#'T2-B(PP4)'!$C$102"]
["pp4_bl4_5_6_unit_in",{"$f":"'T2-B(PP4)'!$D$102","v":0},"#'T2-B(PP4)'!$D$102"]
["pp4_bl4_5_6_units_out",{"$f":"'T2-B(PP4)'!$G$102","v":0},"#'T2-B(PP4)'!$G$102"]
["pp4_bl4_5_7_name",{"$f":"'T2-B(PP4)'!$B$103","v":0},"#'T2-B(PP4)'!$B$103"]
["pp4_bl4_5_7_rate_in",{"$f":"'T2-B(PP4)'!$E$103","v":0},"#'T2-B(PP4)'!$E$103"]
["pp4_bl4_5_7_rate_out",{"$f":"'T2-B(PP4)'!$H$103","v":0},"#'T2-B(PP4)'!$H$103"]
["pp4_bl4_5_7_total",{"$f":"'T2-B(PP4)'!$J$103","v":0},"#'T2-B(PP4)'!$J$103"]
["pp4_bl4_5_7_total_in",{"$f":"'T2-B(PP4)'!$F$103","v":0},"#'T2-B(PP4)'!$F$103"]
["pp4_bl4_5_7_total_out",{"$f":"'T2-B(PP4)'!$I$103","v":0},"#'T2-B(PP4)'!$I$103"]
["pp4_bl4_5_7_unit",{"$f":"'T2-B(PP4)'!$C$103","v":0},"#'T2-B(PP4)'!$C$103"]
["pp4_bl4_5_7_unit_in",{"$f":"'T2-B(PP4)'!$D$103","v":0},"#'T2-B(PP4)'!$D$103"]
["pp4_bl4_5_7_units_out",{"$f":"'T2-B(PP4)'!$G$103","v":0},"#'T2-B(PP4)'!$G$103"]
["pp4_bl4_5_8_name",{"$f":"'T2-B(PP4)'!$B$104","v":0},"#'T2-B(PP4)'!$B$104"]
["pp4_bl4_5_8_rate_in",{"$f":"'T2-B(PP4)'!$E$104","v":0},"#'T2-B(PP4)'!$E$104"]
["pp4_bl4_5_8_rate_out",{"$f":"'T2-B(PP4)'!$H$104","v":0},"#'T2-B(PP4)'!$H$104"]
["pp4_bl4_5_8_total",{"$f":"'T2-B(PP4)'!$J$104","v":0},"#'T2-B(PP4)'!$J$104"]
["pp4_bl4_5_8_total_in",{"$f":"'T2-B(PP4)'!$F$104","v":0},"#'T2-B(PP4)'!$F$104"]
["pp4_bl4_5_8_total_out",{"$f":"'T2-B(PP4)'!$I$104","v":0},"#'T2-B(PP4)'!$I$104"]
["pp4_bl4_5_8_unit",{"$f":"'T2-B(PP4)'!$C$104","v":0},"#'T2-B(PP4)'!$C$104"]
["pp4_bl4_5_8_unit_in",{"$f":"'T2-B(PP4)'!$D$104","v":0},"#'T2-B(PP4)'!$D$104"]
["pp4_bl4_5_8_units_out",{"$f":"'T2-B(PP4)'!$G$104","v":0},"#'T2-B(PP4)'!$G$104"]
["pp4_bl4_5_9_name",{"$f":"'T2-B(PP4)'!$B$105","v":0},"#'T2-B(PP4)'!$B$105"]
["pp4_bl4_5_9_rate_in",{"$f":"'T2-B(PP4)'!$E$105","v":0},"#'T2-B(PP4)'!$E$105"]
["pp4_bl4_5_9_rate_out",{"$f":"'T2-B(PP4)'!$H$105","v":0},"#'T2-B(PP4)'!$H$105"]
["pp4_bl4_5_9_total",{"$f":"'T2-B(PP4)'!$J$105","v":0},"#'T2-B(PP4)'!$J$105"]
["pp4_bl4_5_9_total_in",{"$f":"'T2-B(PP4)'!$F$105","v":0},"#'T2-B(PP4)'!$F$105"]
["pp4_bl4_5_9_total_out",{"$f":"'T2-B(PP4)'!$I$105","v":0},"#'T2-B(PP4)'!$I$105"]
["pp4_bl4_5_9_unit",{"$f":"'T2-B(PP4)'!$C$105","v":0},"#'T2-B(PP4)'!$C$105"]
["pp4_bl4_5_9_unit_in",{"$f":"'T2-B(PP4)'!$D$105","v":0},"#'T2-B(PP4)'!$D$105"]
["pp4_bl4_5_9_units_out",{"$f":"'T2-B(PP4)'!$G$105","v":0},"#'T2-B(PP4)'!$G$105"]
["pp4_bl4_5_total",{"$f":"'T2-B(PP4)'!$J$96","v":0},"#'T2-B(PP4)'!$J$96"]
["pp4_bl4_5_total_in",{"$f":"'T2-B(PP4)'!$F$96","v":0},"#'T2-B(PP4)'!$F$96"]
["pp4_bl4_5_total_out",{"$f":"'T2-B(PP4)'!$I$96","v":0},"#'T2-B(PP4)'!$I$96"]
["pp4_bl4_6_1_name",{"$f":"'T2-B(PP4)'!$B$108","v":0},"#'T2-B(PP4)'!$B$108"]
["pp4_bl4_6_1_rate_in",{"$f":"'T2-B(PP4)'!$E$108","v":0},"#'T2-B(PP4)'!$E$108"]
["pp4_bl4_6_1_rate_out",{"$f":"'T2-B(PP4)'!$H$108","v":0},"#'T2-B(PP4)'!$H$108"]
["pp4_bl4_6_1_total",{"$f":"'T2-B(PP4)'!$J$108","v":0},"#'T2-B(PP4)'!$J$108"]
["pp4_bl4_6_1_total_in",{"$f":"'T2-B(PP4)'!$F$108","v":0},"#'T2-B(PP4)'!$F$108"]
["pp4_bl4_6_1_total_out",{"$f":"'T2-B(PP4)'!$I$108","v":0},"#'T2-B(PP4)'!$I$108"]
["pp4_bl4_6_1_unit",{"$f":"'T2-B(PP4)'!$C$108","v":0},"#'T2-B(PP4)'!$C$108"]
["pp4_bl4_6_1_unit_in",{"$f":"'T2-B(PP4)'!$D$108","v":0},"#'T2-B(PP4)'!$D$108"]
["pp4_bl4_6_1_units_out",{"$f":"'T2-B(PP4)'!$G$108","v":0},"#'T2-B(PP4)'!$G$108"]
["pp4_bl4_6_10_name",{"$f":"'T2-B(PP4)'!$B$117","v":0},"#'T2-B(PP4)'!$B$117"]
["pp4_bl4_6_10_rate_in",{"$f":"'T2-B(PP4)'!$E$117","v":0},"#'T2-B(PP4)'!$E$117"]
["pp4_bl4_6_10_rate_out",{"$f":"'T2-B(PP4)'!$H$117","v":0},"#'T2-B(PP4)'!$H$117"]
["pp4_bl4_6_10_total",{"$f":"'T2-B(PP4)'!$J$117","v":0},"#'T2-B(PP4)'!$J$117"]
["pp4_bl4_6_10_total_in",{"$f":"'T2-B(PP4)'!$F$117","v":0},"#'T2-B(PP4)'!$F$117"]
["pp4_bl4_6_10_total_out",{"$f":"'T2-B(PP4)'!$I$117","v":0},"#'T2-B(PP4)'!$I$117"]
["pp4_bl4_6_10_unit",{"$f":"'T2-B(PP4)'!$C$117","v":0},"#'T2-B(PP4)'!$C$117"]
["pp4_bl4_6_10_unit_in",{"$f":"'T2-B(PP4)'!$D$117","v":0},"#'T2-B(PP4)'!$D$117"]
["pp4_bl4_6_10_units_out",{"$f":"'T2-B(PP4)'!$G$117","v":0},"#'T2-B(PP4)'!$G$117"]
["pp4_bl4_6_2_name",{"$f":"'T2-B(PP4)'!$B$109","v":0},"#'T2-B(PP4)'!$B$109"]
["pp4_bl4_6_2_rate_in",{"$f":"'T2-B(PP4)'!$E$109","v":0},"#'T2-B(PP4)'!$E$109"]
["pp4_bl4_6_2_rate_out",{"$f":"'T2-B(PP4)'!$H$109","v":0},"#'T2-B(PP4)'!$H$109"]
["pp4_bl4_6_2_total",{"$f":"'T2-B(PP4)'!$J$109","v":0},"#'T2-B(PP4)'!$J$109"]
["pp4_bl4_6_2_total_in",{"$f":"'T2-B(PP4)'!$F$109","v":0},"#'T2-B(PP4)'!$F$109"]
["pp4_bl4_6_2_total_out",{"$f":"'T2-B(PP4)'!$I$109","v":0},"#'T2-B(PP4)'!$I$109"]
["pp4_bl4_6_2_unit",{"$f":"'T2-B(PP4)'!$C$109","v":0},"#'T2-B(PP4)'!$C$109"]
["pp4_bl4_6_2_unit_in",{"$f":"'T2-B(PP4)'!$D$109","v":0},"#'T2-B(PP4)'!$D$109"]
["pp4_bl4_6_2_units_out",{"$f":"'T2-B(PP4)'!$G$109","v":0},"#'T2-B(PP4)'!$G$109"]
["pp4_bl4_6_3_name",{"$f":"'T2-B(PP4)'!$B$110","v":0},"#'T2-B(PP4)'!$B$110"]
["pp4_bl4_6_3_rate_in",{"$f":"'T2-B(PP4)'!$E$110","v":0},"#'T2-B(PP4)'!$E$110"]
["pp4_bl4_6_3_rate_out",{"$f":"'T2-B(PP4)'!$H$110","v":0},"#'T2-B(PP4)'!$H$110"]
["pp4_bl4_6_3_total",{"$f":"'T2-B(PP4)'!$J$110","v":0},"#'T2-B(PP4)'!$J$110"]
["pp4_bl4_6_3_total_in",{"$f":"'T2-B(PP4)'!$F$110","v":0},"#'T2-B(PP4)'!$F$110"]
["pp4_bl4_6_3_total_out",{"$f":"'T2-B(PP4)'!$I$110","v":0},"#'T2-B(PP4)'!$I$110"]
["pp4_bl4_6_3_unit",{"$f":"'T2-B(PP4)'!$C$110","v":0},"#'T2-B(PP4)'!$C$110"]
["pp4_bl4_6_3_unit_in",{"$f":"'T2-B(PP4)'!$D$110","v":0},"#'T2-B(PP4)'!$D$110"]
["pp4_bl4_6_3_units_out",{"$f":"'T2-B(PP4)'!$G$110","v":0},"#'T2-B(PP4)'!$G$110"]
["pp4_bl4_6_4_name",{"$f":"'T2-B(PP4)'!$B$111","v":0},"#'T2-B(PP4)'!$B$111"]
["pp4_bl4_6_4_rate_in",{"$f":"'T2-B(PP4)'!$E$111","v":0},"#'T2-B(PP4)'!$E$111"]
["pp4_bl4_6_4_rate_out",{"$f":"'T2-B(PP4)'!$H$111","v":0},"#'T2-B(PP4)'!$H$111"]
["pp4_bl4_6_4_total",{"$f":"'T2-B(PP4)'!$J$111","v":0},"#'T2-B(PP4)'!$J$111"]
["pp4_bl4_6_4_total_in",{"$f":"'T2-B(PP4)'!$F$111","v":0},"#'T2-B(PP4)'!$F$111"]
["pp4_bl4_6_4_total_out",{"$f":"'T2-B(PP4)'!$I$111","v":0},"#'T2-B(PP4)'!$I$111"]
["pp4_bl4_6_4_unit",{"$f":"'T2-B(PP4)'!$C$111","v":0},"#'T2-B(PP4)'!$C$111"]
["pp4_bl4_6_4_unit_in",{"$f":"'T2-B(PP4)'!$D$111","v":0},"#'T2-B(PP4)'!$D$111"]
["pp4_bl4_6_4_units_out",{"$f":"'T2-B(PP4)'!$G$111","v":0},"#'T2-B(PP4)'!$G$111"]
["pp4_bl4_6_5_name",{"$f":"'T2-B(PP4)'!$B$112","v":0},"#'T2-B(PP4)'!$B$112"]
["pp4_bl4_6_5_rate_in",{"$f":"'T2-B(PP4)'!$E$112","v":0},"#'T2-B(PP4)'!$E$112"]
["pp4_bl4_6_5_rate_out",{"$f":"'T2-B(PP4)'!$H$112","v":0},"#'T2-B(PP4)'!$H$112"]
["pp4_bl4_6_5_total",{"$f":"'T2-B(PP4)'!$J$112","v":0},"#'T2-B(PP4)'!$J$112"]
["pp4_bl4_6_5_total_in",{"$f":"'T2-B(PP4)'!$F$112","v":0},"#'T2-B(PP4)'!$F$112"]
["pp4_bl4_6_5_total_out",{"$f":"'T2-B(PP4)'!$I$112","v":0},"#'T2-B(PP4)'!$I$112"]
["pp4_bl4_6_5_unit",{"$f":"'T2-B(PP4)'!$C$112","v":0},"#'T2-B(PP4)'!$C$112"]
["pp4_bl4_6_5_unit_in",{"$f":"'T2-B(PP4)'!$D$112","v":0},"#'T2-B(PP4)'!$D$112"]
["pp4_bl4_6_5_units_out",{"$f":"'T2-B(PP4)'!$G$112","v":0},"#'T2-B(PP4)'!$G$112"]
["pp4_bl4_6_6_name",{"$f":"'T2-B(PP4)'!$B$113","v":0},"#'T2-B(PP4)'!$B$113"]
["pp4_bl4_6_6_rate_in",{"$f":"'T2-B(PP4)'!$E$113","v":0},"#'T2-B(PP4)'!$E$113"]
["pp4_bl4_6_6_rate_out",{"$f":"'T2-B(PP4)'!$H$113","v":0},"#'T2-B(PP4)'!$H$113"]
["pp4_bl4_6_6_total",{"$f":"'T2-B(PP4)'!$J$113","v":0},"#'T2-B(PP4)'!$J$113"]
["pp4_bl4_6_6_total_in",{"$f":"'T2-B(PP4)'!$F$113","v":0},"#'T2-B(PP4)'!$F$113"]
["pp4_bl4_6_6_total_out",{"$f":"'T2-B(PP4)'!$I$113","v":0},"#'T2-B(PP4)'!$I$113"]
["pp4_bl4_6_6_unit",{"$f":"'T2-B(PP4)'!$C$113","v":0},"#'T2-B(PP4)'!$C$113"]
["pp4_bl4_6_6_unit_in",{"$f":"'T2-B(PP4)'!$D$113","v":0},"#'T2-B(PP4)'!$D$113"]
["pp4_bl4_6_6_units_out",{"$f":"'T2-B(PP4)'!$G$113","v":0},"#'T2-B(PP4)'!$G$113"]
["pp4_bl4_6_7_name",{"$f":"'T2-B(PP4)'!$B$114","v":0},"#'T2-B(PP4)'!$B$114"]
["pp4_bl4_6_7_rate_in",{"$f":"'T2-B(PP4)'!$E$114","v":0},"#'T2-B(PP4)'!$E$114"]
["pp4_bl4_6_7_rate_out",{"$f":"'T2-B(PP4)'!$H$114","v":0},"#'T2-B(PP4)'!$H$114"]
["pp4_bl4_6_7_total",{"$f":"'T2-B(PP4)'!$J$114","v":0},"#'T2-B(PP4)'!$J$114"]
["pp4_bl4_6_7_total_in",{"$f":"'T2-B(PP4)'!$F$114","v":0},"#'T2-B(PP4)'!$F$114"]
["pp4_bl4_6_7_total_out",{"$f":"'T2-B(PP4)'!$I$114","v":0},"#'T2-B(PP4)'!$I$114"]
["pp4_bl4_6_7_unit",{"$f":"'T2-B(PP4)'!$C$114","v":0},"#'T2-B(PP4)'!$C$114"]
["pp4_bl4_6_7_unit_in",{"$f":"'T2-B(PP4)'!$D$114","v":0},"#'T2-B(PP4)'!$D$114"]
["pp4_bl4_6_7_units_out",{"$f":"'T2-B(PP4)'!$G$114","v":0},"#'T2-B(PP4)'!$G$114"]
["pp4_bl4_6_8_name",{"$f":"'T2-B(PP4)'!$B$115","v":0},"#'T2-B(PP4)'!$B$115"]
["pp4_bl4_6_8_rate_in",{"$f":"'T2-B(PP4)'!$E$115","v":0},"#'T2-B(PP4)'!$E$115"]
["pp4_bl4_6_8_rate_out",{"$f":"'T2-B(PP4)'!$H$115","v":0},"#'T2-B(PP4)'!$H$115"]
["pp4_bl4_6_8_total",{"$f":"'T2-B(PP4)'!$J$115","v":0},"#'T2-B(PP4)'!$J$115"]
["pp4_bl4_6_8_total_in",{"$f":"'T2-B(PP4)'!$F$115","v":0},"#'T2-B(PP4)'!$F$115"]
["pp4_bl4_6_8_total_out",{"$f":"'T2-B(PP4)'!$I$115","v":0},"#'T2-B(PP4)'!$I$115"]
["pp4_bl4_6_8_unit",{"$f":"'T2-B(PP4)'!$C$115","v":0},"#'T2-B(PP4)'!$C$115"]
["pp4_bl4_6_8_unit_in",{"$f":"'T2-B(PP4)'!$D$115","v":0},"#'T2-B(PP4)'!$D$115"]
["pp4_bl4_6_8_units_out",{"$f":"'T2-B(PP4)'!$G$115","v":0},"#'T2-B(PP4)'!$G$115"]
["pp4_bl4_6_9_name",{"$f":"'T2-B(PP4)'!$B$116","v":0},"#'T2-B(PP4)'!$B$116"]
["pp4_bl4_6_9_rate_in",{"$f":"'T2-B(PP4)'!$E$116","v":0},"#'T2-B(PP4)'!$E$116"]
["pp4_bl4_6_9_rate_out",{"$f":"'T2-B(PP4)'!$H$116","v":0},"#'T2-B(PP4)'!$H$116"]
["pp4_bl4_6_9_total",{"$f":"'T2-B(PP4)'!$J$116","v":0},"#'T2-B(PP4)'!$J$116"]
["pp4_bl4_6_9_total_in",{"$f":"'T2-B(PP4)'!$F$116","v":0},"#'T2-B(PP4)'!$F$116"]
["pp4_bl4_6_9_total_out",{"$f":"'T2-B(PP4)'!$I$116","v":0},"#'T2-B(PP4)'!$I$116"]
["pp4_bl4_6_9_unit",{"$f":"'T2-B(PP4)'!$C$116","v":0},"#'T2-B(PP4)'!$C$116"]
["pp4_bl4_6_9_unit_in",{"$f":"'T2-B(PP4)'!$D$116","v":0},"#'T2-B(PP4)'!$D$116"]
["pp4_bl4_6_9_units_out",{"$f":"'T2-B(PP4)'!$G$116","v":0},"#'T2-B(PP4)'!$G$116"]
["pp4_bl4_6_total",{"$f":"'T2-B(PP4)'!$J$107","v":0},"#'T2-B(PP4)'!$J$107"]
["pp4_bl4_6_total_in",{"$f":"'T2-B(PP4)'!$F$107","v":0},"#'T2-B(PP4)'!$F$107"]
["pp4_bl4_6_total_out",{"$f":"'T2-B(PP4)'!$I$107","v":0},"#'T2-B(PP4)'!$I$107"]
["pp4_bl4_7_1_name",{"$f":"'T2-B(PP4)'!$B$119","v":0},"#'T2-B(PP4)'!$B$119"]
["pp4_bl4_7_1_rate_in",{"$f":"'T2-B(PP4)'!$E$119","v":0},"#'T2-B(PP4)'!$E$119"]
["pp4_bl4_7_1_rate_out",{"$f":"'T2-B(PP4)'!$H$119","v":0},"#'T2-B(PP4)'!$H$119"]
["pp4_bl4_7_1_total",{"$f":"'T2-B(PP4)'!$J$119","v":0},"#'T2-B(PP4)'!$J$119"]
["pp4_bl4_7_1_total_in",{"$f":"'T2-B(PP4)'!$F$119","v":0},"#'T2-B(PP4)'!$F$119"]
["pp4_bl4_7_1_total_out",{"$f":"'T2-B(PP4)'!$I$119","v":0},"#'T2-B(PP4)'!$I$119"]
["pp4_bl4_7_1_unit",{"$f":"'T2-B(PP4)'!$C$119","v":0},"#'T2-B(PP4)'!$C$119"]
["pp4_bl4_7_1_unit_in",{"$f":"'T2-B(PP4)'!$D$119","v":0},"#'T2-B(PP4)'!$D$119"]
["pp4_bl4_7_1_units_out",{"$f":"'T2-B(PP4)'!$G$119","v":0},"#'T2-B(PP4)'!$G$119"]
["pp4_bl4_7_10_name",{"$f":"'T2-B(PP4)'!$B$128","v":0},"#'T2-B(PP4)'!$B$128"]
["pp4_bl4_7_10_rate_in",{"$f":"'T2-B(PP4)'!$E$128","v":0},"#'T2-B(PP4)'!$E$128"]
["pp4_bl4_7_10_rate_out",{"$f":"'T2-B(PP4)'!$H$128","v":0},"#'T2-B(PP4)'!$H$128"]
["pp4_bl4_7_10_total",{"$f":"'T2-B(PP4)'!$J$128","v":0},"#'T2-B(PP4)'!$J$128"]
["pp4_bl4_7_10_total_in",{"$f":"'T2-B(PP4)'!$F$128","v":0},"#'T2-B(PP4)'!$F$128"]
["pp4_bl4_7_10_total_out",{"$f":"'T2-B(PP4)'!$I$128","v":0},"#'T2-B(PP4)'!$I$128"]
["pp4_bl4_7_10_unit",{"$f":"'T2-B(PP4)'!$C$128","v":0},"#'T2-B(PP4)'!$C$128"]
["pp4_bl4_7_10_unit_in",{"$f":"'T2-B(PP4)'!$D$128","v":0},"#'T2-B(PP4)'!$D$128"]
["pp4_bl4_7_10_units_out",{"$f":"'T2-B(PP4)'!$G$128","v":0},"#'T2-B(PP4)'!$G$128"]
["pp4_bl4_7_2_name",{"$f":"'T2-B(PP4)'!$B$120","v":0},"#'T2-B(PP4)'!$B$120"]
["pp4_bl4_7_2_rate_in",{"$f":"'T2-B(PP4)'!$E$120","v":0},"#'T2-B(PP4)'!$E$120"]
["pp4_bl4_7_2_rate_out",{"$f":"'T2-B(PP4)'!$H$120","v":0},"#'T2-B(PP4)'!$H$120"]
["pp4_bl4_7_2_total",{"$f":"'T2-B(PP4)'!$J$120","v":0},"#'T2-B(PP4)'!$J$120"]
["pp4_bl4_7_2_total_in",{"$f":"'T2-B(PP4)'!$F$120","v":0},"#'T2-B(PP4)'!$F$120"]
["pp4_bl4_7_2_total_out",{"$f":"'T2-B(PP4)'!$I$120","v":0},"#'T2-B(PP4)'!$I$120"]
["pp4_bl4_7_2_unit",{"$f":"'T2-B(PP4)'!$C$120","v":0},"#'T2-B(PP4)'!$C$120"]
["pp4_bl4_7_2_unit_in",{"$f":"'T2-B(PP4)'!$D$120","v":0},"#'T2-B(PP4)'!$D$120"]
["pp4_bl4_7_2_units_out",{"$f":"'T2-B(PP4)'!$G$120","v":0},"#'T2-B(PP4)'!$G$120"]
["pp4_bl4_7_3_name",{"$f":"'T2-B(PP4)'!$B$121","v":0},"#'T2-B(PP4)'!$B$121"]
["pp4_bl4_7_3_rate_in",{"$f":"'T2-B(PP4)'!$E$121","v":0},"#'T2-B(PP4)'!$E$121"]
["pp4_bl4_7_3_rate_out",{"$f":"'T2-B(PP4)'!$H$121","v":0},"#'T2-B(PP4)'!$H$121"]
["pp4_bl4_7_3_total",{"$f":"'T2-B(PP4)'!$J$121","v":0},"#'T2-B(PP4)'!$J$121"]
["pp4_bl4_7_3_total_in",{"$f":"'T2-B(PP4)'!$F$121","v":0},"#'T2-B(PP4)'!$F$121"]
["pp4_bl4_7_3_total_out",{"$f":"'T2-B(PP4)'!$I$121","v":0},"#'T2-B(PP4)'!$I$121"]
["pp4_bl4_7_3_unit",{"$f":"'T2-B(PP4)'!$C$121","v":0},"#'T2-B(PP4)'!$C$121"]
["pp4_bl4_7_3_unit_in",{"$f":"'T2-B(PP4)'!$D$121","v":0},"#'T2-B(PP4)'!$D$121"]
["pp4_bl4_7_3_units_out",{"$f":"'T2-B(PP4)'!$G$121","v":0},"#'T2-B(PP4)'!$G$121"]
["pp4_bl4_7_4_name",{"$f":"'T2-B(PP4)'!$B$122","v":0},"#'T2-B(PP4)'!$B$122"]
["pp4_bl4_7_4_rate_in",{"$f":"'T2-B(PP4)'!$E$122","v":0},"#'T2-B(PP4)'!$E$122"]
["pp4_bl4_7_4_rate_out",{"$f":"'T2-B(PP4)'!$H$122","v":0},"#'T2-B(PP4)'!$H$122"]
["pp4_bl4_7_4_total",{"$f":"'T2-B(PP4)'!$J$122","v":0},"#'T2-B(PP4)'!$J$122"]
["pp4_bl4_7_4_total_in",{"$f":"'T2-B(PP4)'!$F$122","v":0},"#'T2-B(PP4)'!$F$122"]
["pp4_bl4_7_4_total_out",{"$f":"'T2-B(PP4)'!$I$122","v":0},"#'T2-B(PP4)'!$I$122"]
["pp4_bl4_7_4_unit",{"$f":"'T2-B(PP4)'!$C$122","v":0},"#'T2-B(PP4)'!$C$122"]
["pp4_bl4_7_4_unit_in",{"$f":"'T2-B(PP4)'!$D$122","v":0},"#'T2-B(PP4)'!$D$122"]
["pp4_bl4_7_4_units_out",{"$f":"'T2-B(PP4)'!$G$122","v":0},"#'T2-B(PP4)'!$G$122"]
["pp4_bl4_7_5_name",{"$f":"'T2-B(PP4)'!$B$123","v":0},"#'T2-B(PP4)'!$B$123"]
["pp4_bl4_7_5_rate_in",{"$f":"'T2-B(PP4)'!$E$123","v":0},"#'T2-B(PP4)'!$E$123"]
["pp4_bl4_7_5_rate_out",{"$f":"'T2-B(PP4)'!$H$123","v":0},"#'T2-B(PP4)'!$H$123"]
["pp4_bl4_7_5_total",{"$f":"'T2-B(PP4)'!$J$123","v":0},"#'T2-B(PP4)'!$J$123"]
["pp4_bl4_7_5_total_in",{"$f":"'T2-B(PP4)'!$F$123","v":0},"#'T2-B(PP4)'!$F$123"]
["pp4_bl4_7_5_total_out",{"$f":"'T2-B(PP4)'!$I$123","v":0},"#'T2-B(PP4)'!$I$123"]
["pp4_bl4_7_5_unit",{"$f":"'T2-B(PP4)'!$C$123","v":0},"#'T2-B(PP4)'!$C$123"]
["pp4_bl4_7_5_unit_in",{"$f":"'T2-B(PP4)'!$D$123","v":0},"#'T2-B(PP4)'!$D$123"]
["pp4_bl4_7_5_units_out",{"$f":"'T2-B(PP4)'!$G$123","v":0},"#'T2-B(PP4)'!$G$123"]
["pp4_bl4_7_6_name",{"$f":"'T2-B(PP4)'!$B$124","v":0},"#'T2-B(PP4)'!$B$124"]
["pp4_bl4_7_6_rate_in",{"$f":"'T2-B(PP4)'!$E$124","v":0},"#'T2-B(PP4)'!$E$124"]
["pp4_bl4_7_6_rate_out",{"$f":"'T2-B(PP4)'!$H$124","v":0},"#'T2-B(PP4)'!$H$124"]
["pp4_bl4_7_6_total",{"$f":"'T2-B(PP4)'!$J$124","v":0},"#'T2-B(PP4)'!$J$124"]
["pp4_bl4_7_6_total_in",{"$f":"'T2-B(PP4)'!$F$124","v":0},"#'T2-B(PP4)'!$F$124"]
["pp4_bl4_7_6_total_out",{"$f":"'T2-B(PP4)'!$I$124","v":0},"#'T2-B(PP4)'!$I$124"]
["pp4_bl4_7_6_unit",{"$f":"'T2-B(PP4)'!$C$124","v":0},"#'T2-B(PP4)'!$C$124"]
["pp4_bl4_7_6_unit_in",{"$f":"'T2-B(PP4)'!$D$124","v":0},"#'T2-B(PP4)'!$D$124"]
["pp4_bl4_7_6_units_out",{"$f":"'T2-B(PP4)'!$G$124","v":0},"#'T2-B(PP4)'!$G$124"]
["pp4_bl4_7_7_name",{"$f":"'T2-B(PP4)'!$B$125","v":0},"#'T2-B(PP4)'!$B$125"]
["pp4_bl4_7_7_rate_in",{"$f":"'T2-B(PP4)'!$E$125","v":0},"#'T2-B(PP4)'!$E$125"]
["pp4_bl4_7_7_rate_out",{"$f":"'T2-B(PP4)'!$H$125","v":0},"#'T2-B(PP4)'!$H$125"]
["pp4_bl4_7_7_total",{"$f":"'T2-B(PP4)'!$J$125","v":0},"#'T2-B(PP4)'!$J$125"]
["pp4_bl4_7_7_total_in",{"$f":"'T2-B(PP4)'!$F$125","v":0},"#'T2-B(PP4)'!$F$125"]
["pp4_bl4_7_7_total_out",{"$f":"'T2-B(PP4)'!$I$125","v":0},"#'T2-B(PP4)'!$I$125"]
["pp4_bl4_7_7_unit",{"$f":"'T2-B(PP4)'!$C$125","v":0},"#'T2-B(PP4)'!$C$125"]
["pp4_bl4_7_7_unit_in",{"$f":"'T2-B(PP4)'!$D$125","v":0},"#'T2-B(PP4)'!$D$125"]
["pp4_bl4_7_7_units_out",{"$f":"'T2-B(PP4)'!$G$125","v":0},"#'T2-B(PP4)'!$G$125"]
["pp4_bl4_7_8_name",{"$f":"'T2-B(PP4)'!$B$126","v":0},"#'T2-B(PP4)'!$B$126"]
["pp4_bl4_7_8_rate_in",{"$f":"'T2-B(PP4)'!$E$126","v":0},"#'T2-B(PP4)'!$E$126"]
["pp4_bl4_7_8_rate_out",{"$f":"'T2-B(PP4)'!$H$126","v":0},"#'T2-B(PP4)'!$H$126"]
["pp4_bl4_7_8_total",{"$f":"'T2-B(PP4)'!$J$126","v":0},"#'T2-B(PP4)'!$J$126"]
["pp4_bl4_7_8_total_in",{"$f":"'T2-B(PP4)'!$F$126","v":0},"#'T2-B(PP4)'!$F$126"]
["pp4_bl4_7_8_total_out",{"$f":"'T2-B(PP4)'!$I$126","v":0},"#'T2-B(PP4)'!$I$126"]
["pp4_bl4_7_8_unit",{"$f":"'T2-B(PP4)'!$C$126","v":0},"#'T2-B(PP4)'!$C$126"]
["pp4_bl4_7_8_unit_in",{"$f":"'T2-B(PP4)'!$D$126","v":0},"#'T2-B(PP4)'!$D$126"]
["pp4_bl4_7_8_units_out",{"$f":"'T2-B(PP4)'!$G$126","v":0},"#'T2-B(PP4)'!$G$126"]
["pp4_bl4_7_9_name",{"$f":"'T2-B(PP4)'!$B$127","v":0},"#'T2-B(PP4)'!$B$127"]
["pp4_bl4_7_9_rate_in",{"$f":"'T2-B(PP4)'!$E$127","v":0},"#'T2-B(PP4)'!$E$127"]
["pp4_bl4_7_9_rate_out",{"$f":"'T2-B(PP4)'!$H$127","v":0},"#'T2-B(PP4)'!$H$127"]
["pp4_bl4_7_9_total",{"$f":"'T2-B(PP4)'!$J$127","v":0},"#'T2-B(PP4)'!$J$127"]
["pp4_bl4_7_9_total_in",{"$f":"'T2-B(PP4)'!$F$127","v":0},"#'T2-B(PP4)'!$F$127"]
["pp4_bl4_7_9_total_out",{"$f":"'T2-B(PP4)'!$I$127","v":0},"#'T2-B(PP4)'!$I$127"]
["pp4_bl4_7_9_unit",{"$f":"'T2-B(PP4)'!$C$127","v":0},"#'T2-B(PP4)'!$C$127"]
["pp4_bl4_7_9_unit_in",{"$f":"'T2-B(PP4)'!$D$127","v":0},"#'T2-B(PP4)'!$D$127"]
["pp4_bl4_7_9_units_out",{"$f":"'T2-B(PP4)'!$G$127","v":0},"#'T2-B(PP4)'!$G$127"]
["pp4_bl4_7_total",{"$f":"'T2-B(PP4)'!$J$118","v":0},"#'T2-B(PP4)'!$J$118"]
["pp4_bl4_7_total_in",{"$f":"'T2-B(PP4)'!$F$118","v":0},"#'T2-B(PP4)'!$F$118"]
["pp4_bl4_7_total_out",{"$f":"'T2-B(PP4)'!$I$118","v":0},"#'T2-B(PP4)'!$I$118"]
["pp4_bl4_8_1_name",{"$f":"'T2-B(PP4)'!$B$130","v":0},"#'T2-B(PP4)'!$B$130"]
["pp4_bl4_8_1_rate_in",{"$f":"'T2-B(PP4)'!$E$130","v":0},"#'T2-B(PP4)'!$E$130"]
["pp4_bl4_8_1_rate_out",{"$f":"'T2-B(PP4)'!$H$130","v":0},"#'T2-B(PP4)'!$H$130"]
["pp4_bl4_8_1_total",{"$f":"'T2-B(PP4)'!$J$130","v":0},"#'T2-B(PP4)'!$J$130"]
["pp4_bl4_8_1_total_in",{"$f":"'T2-B(PP4)'!$F$130","v":0},"#'T2-B(PP4)'!$F$130"]
["pp4_bl4_8_1_total_out",{"$f":"'T2-B(PP4)'!$I$130","v":0},"#'T2-B(PP4)'!$I$130"]
["pp4_bl4_8_1_unit",{"$f":"'T2-B(PP4)'!$C$130","v":0},"#'T2-B(PP4)'!$C$130"]
["pp4_bl4_8_1_unit_in",{"$f":"'T2-B(PP4)'!$D$130","v":0},"#'T2-B(PP4)'!$D$130"]
["pp4_bl4_8_1_units_out",{"$f":"'T2-B(PP4)'!$G$130","v":0},"#'T2-B(PP4)'!$G$130"]
["pp4_bl4_8_10_name",{"$f":"'T2-B(PP4)'!$B$139","v":0},"#'T2-B(PP4)'!$B$139"]
["pp4_bl4_8_10_rate_in",{"$f":"'T2-B(PP4)'!$E$139","v":0},"#'T2-B(PP4)'!$E$139"]
["pp4_bl4_8_10_rate_out",{"$f":"'T2-B(PP4)'!$H$139","v":0},"#'T2-B(PP4)'!$H$139"]
["pp4_bl4_8_10_total",{"$f":"'T2-B(PP4)'!$J$139","v":0},"#'T2-B(PP4)'!$J$139"]
["pp4_bl4_8_10_total_in",{"$f":"'T2-B(PP4)'!$F$139","v":0},"#'T2-B(PP4)'!$F$139"]
["pp4_bl4_8_10_total_out",{"$f":"'T2-B(PP4)'!$I$139","v":0},"#'T2-B(PP4)'!$I$139"]
["pp4_bl4_8_10_unit",{"$f":"'T2-B(PP4)'!$C$139","v":0},"#'T2-B(PP4)'!$C$139"]
["pp4_bl4_8_10_unit_in",{"$f":"'T2-B(PP4)'!$D$139","v":0},"#'T2-B(PP4)'!$D$139"]
["pp4_bl4_8_10_units_out",{"$f":"'T2-B(PP4)'!$G$139","v":0},"#'T2-B(PP4)'!$G$139"]
["pp4_bl4_8_2_name",{"$f":"'T2-B(PP4)'!$B$131","v":0},"#'T2-B(PP4)'!$B$131"]
["pp4_bl4_8_2_rate_in",{"$f":"'T2-B(PP4)'!$E$131","v":0},"#'T2-B(PP4)'!$E$131"]
["pp4_bl4_8_2_rate_out",{"$f":"'T2-B(PP4)'!$H$131","v":0},"#'T2-B(PP4)'!$H$131"]
["pp4_bl4_8_2_total",{"$f":"'T2-B(PP4)'!$J$131","v":0},"#'T2-B(PP4)'!$J$131"]
["pp4_bl4_8_2_total_in",{"$f":"'T2-B(PP4)'!$F$131","v":0},"#'T2-B(PP4)'!$F$131"]
["pp4_bl4_8_2_total_out",{"$f":"'T2-B(PP4)'!$I$131","v":0},"#'T2-B(PP4)'!$I$131"]
["pp4_bl4_8_2_unit",{"$f":"'T2-B(PP4)'!$C$131","v":0},"#'T2-B(PP4)'!$C$131"]
["pp4_bl4_8_2_unit_in",{"$f":"'T2-B(PP4)'!$D$131","v":0},"#'T2-B(PP4)'!$D$131"]
["pp4_bl4_8_2_units_out",{"$f":"'T2-B(PP4)'!$G$131","v":0},"#'T2-B(PP4)'!$G$131"]
["pp4_bl4_8_3_name",{"$f":"'T2-B(PP4)'!$B$132","v":0},"#'T2-B(PP4)'!$B$132"]
["pp4_bl4_8_3_rate_in",{"$f":"'T2-B(PP4)'!$E$132","v":0},"#'T2-B(PP4)'!$E$132"]
["pp4_bl4_8_3_rate_out",{"$f":"'T2-B(PP4)'!$H$132","v":0},"#'T2-B(PP4)'!$H$132"]
["pp4_bl4_8_3_total",{"$f":"'T2-B(PP4)'!$J$132","v":0},"#'T2-B(PP4)'!$J$132"]
["pp4_bl4_8_3_total_in",{"$f":"'T2-B(PP4)'!$F$132","v":0},"#'T2-B(PP4)'!$F$132"]
["pp4_bl4_8_3_total_out",{"$f":"'T2-B(PP4)'!$I$132","v":0},"#'T2-B(PP4)'!$I$132"]
["pp4_bl4_8_3_unit",{"$f":"'T2-B(PP4)'!$C$132","v":0},"#'T2-B(PP4)'!$C$132"]
["pp4_bl4_8_3_unit_in",{"$f":"'T2-B(PP4)'!$D$132","v":0},"#'T2-B(PP4)'!$D$132"]
["pp4_bl4_8_3_units_out",{"$f":"'T2-B(PP4)'!$G$132","v":0},"#'T2-B(PP4)'!$G$132"]
["pp4_bl4_8_4_name",{"$f":"'T2-B(PP4)'!$B$133","v":0},"#'T2-B(PP4)'!$B$133"]
["pp4_bl4_8_4_rate_in",{"$f":"'T2-B(PP4)'!$E$133","v":0},"#'T2-B(PP4)'!$E$133"]
["pp4_bl4_8_4_rate_out",{"$f":"'T2-B(PP4)'!$H$133","v":0},"#'T2-B(PP4)'!$H$133"]
["pp4_bl4_8_4_total",{"$f":"'T2-B(PP4)'!$J$133","v":0},"#'T2-B(PP4)'!$J$133"]
["pp4_bl4_8_4_total_in",{"$f":"'T2-B(PP4)'!$F$133","v":0},"#'T2-B(PP4)'!$F$133"]
["pp4_bl4_8_4_total_out",{"$f":"'T2-B(PP4)'!$I$133","v":0},"#'T2-B(PP4)'!$I$133"]
["pp4_bl4_8_4_unit",{"$f":"'T2-B(PP4)'!$C$133","v":0},"#'T2-B(PP4)'!$C$133"]
["pp4_bl4_8_4_unit_in",{"$f":"'T2-B(PP4)'!$D$133","v":0},"#'T2-B(PP4)'!$D$133"]
["pp4_bl4_8_4_units_out",{"$f":"'T2-B(PP4)'!$G$133","v":0},"#'T2-B(PP4)'!$G$133"]
["pp4_bl4_8_5_name",{"$f":"'T2-B(PP4)'!$B$134","v":0},"#'T2-B(PP4)'!$B$134"]
["pp4_bl4_8_5_rate_in",{"$f":"'T2-B(PP4)'!$E$134","v":0},"#'T2-B(PP4)'!$E$134"]
["pp4_bl4_8_5_rate_out",{"$f":"'T2-B(PP4)'!$H$134","v":0},"#'T2-B(PP4)'!$H$134"]
["pp4_bl4_8_5_total",{"$f":"'T2-B(PP4)'!$J$134","v":0},"#'T2-B(PP4)'!$J$134"]
["pp4_bl4_8_5_total_in",{"$f":"'T2-B(PP4)'!$F$134","v":0},"#'T2-B(PP4)'!$F$134"]
["pp4_bl4_8_5_total_out",{"$f":"'T2-B(PP4)'!$I$134","v":0},"#'T2-B(PP4)'!$I$134"]
["pp4_bl4_8_5_unit",{"$f":"'T2-B(PP4)'!$C$134","v":0},"#'T2-B(PP4)'!$C$134"]
["pp4_bl4_8_5_unit_in",{"$f":"'T2-B(PP4)'!$D$134","v":0},"#'T2-B(PP4)'!$D$134"]
["pp4_bl4_8_5_units_out",{"$f":"'T2-B(PP4)'!$G$134","v":0},"#'T2-B(PP4)'!$G$134"]
["pp4_bl4_8_6_name",{"$f":"'T2-B(PP4)'!$B$135","v":0},"#'T2-B(PP4)'!$B$135"]
["pp4_bl4_8_6_rate_in",{"$f":"'T2-B(PP4)'!$E$135","v":0},"#'T2-B(PP4)'!$E$135"]
["pp4_bl4_8_6_rate_out",{"$f":"'T2-B(PP4)'!$H$135","v":0},"#'T2-B(PP4)'!$H$135"]
["pp4_bl4_8_6_total",{"$f":"'T2-B(PP4)'!$J$135","v":0},"#'T2-B(PP4)'!$J$135"]
["pp4_bl4_8_6_total_in",{"$f":"'T2-B(PP4)'!$F$135","v":0},"#'T2-B(PP4)'!$F$135"]
["pp4_bl4_8_6_total_out",{"$f":"'T2-B(PP4)'!$I$135","v":0},"#'T2-B(PP4)'!$I$135"]
["pp4_bl4_8_6_unit",{"$f":"'T2-B(PP4)'!$C$135","v":0},"#'T2-B(PP4)'!$C$135"]
["pp4_bl4_8_6_unit_in",{"$f":"'T2-B(PP4)'!$D$135","v":0},"#'T2-B(PP4)'!$D$135"]
["pp4_bl4_8_6_units_out",{"$f":"'T2-B(PP4)'!$G$135","v":0},"#'T2-B(PP4)'!$G$135"]
["pp4_bl4_8_7_name",{"$f":"'T2-B(PP4)'!$B$136","v":0},"#'T2-B(PP4)'!$B$136"]
["pp4_bl4_8_7_rate_in",{"$f":"'T2-B(PP4)'!$E$136","v":0},"#'T2-B(PP4)'!$E$136"]
["pp4_bl4_8_7_rate_out",{"$f":"'T2-B(PP4)'!$H$136","v":0},"#'T2-B(PP4)'!$H$136"]
["pp4_bl4_8_7_total",{"$f":"'T2-B(PP4)'!$J$136","v":0},"#'T2-B(PP4)'!$J$136"]
["pp4_bl4_8_7_total_in",{"$f":"'T2-B(PP4)'!$F$136","v":0},"#'T2-B(PP4)'!$F$136"]
["pp4_bl4_8_7_total_out",{"$f":"'T2-B(PP4)'!$I$136","v":0},"#'T2-B(PP4)'!$I$136"]
["pp4_bl4_8_7_unit",{"$f":"'T2-B(PP4)'!$C$136","v":0},"#'T2-B(PP4)'!$C$136"]
["pp4_bl4_8_7_unit_in",{"$f":"'T2-B(PP4)'!$D$136","v":0},"#'T2-B(PP4)'!$D$136"]
["pp4_bl4_8_7_units_out",{"$f":"'T2-B(PP4)'!$G$136","v":0},"#'T2-B(PP4)'!$G$136"]
["pp4_bl4_8_8_name",{"$f":"'T2-B(PP4)'!$B$137","v":0},"#'T2-B(PP4)'!$B$137"]
["pp4_bl4_8_8_rate_in",{"$f":"'T2-B(PP4)'!$E$137","v":0},"#'T2-B(PP4)'!$E$137"]
["pp4_bl4_8_8_rate_out",{"$f":"'T2-B(PP4)'!$H$137","v":0},"#'T2-B(PP4)'!$H$137"]
["pp4_bl4_8_8_total",{"$f":"'T2-B(PP4)'!$J$137","v":0},"#'T2-B(PP4)'!$J$137"]
["pp4_bl4_8_8_total_in",{"$f":"'T2-B(PP4)'!$F$137","v":0},"#'T2-B(PP4)'!$F$137"]
["pp4_bl4_8_8_total_out",{"$f":"'T2-B(PP4)'!$I$137","v":0},"#'T2-B(PP4)'!$I$137"]
["pp4_bl4_8_8_unit",{"$f":"'T2-B(PP4)'!$C$137","v":0},"#'T2-B(PP4)'!$C$137"]
["pp4_bl4_8_8_unit_in",{"$f":"'T2-B(PP4)'!$D$137","v":0},"#'T2-B(PP4)'!$D$137"]
["pp4_bl4_8_8_units_out",{"$f":"'T2-B(PP4)'!$G$137","v":0},"#'T2-B(PP4)'!$G$137"]
["pp4_bl4_8_9_name",{"$f":"'T2-B(PP4)'!$B$138","v":0},"#'T2-B(PP4)'!$B$138"]
["pp4_bl4_8_9_rate_in",{"$f":"'T2-B(PP4)'!$E$138","v":0},"#'T2-B(PP4)'!$E$138"]
["pp4_bl4_8_9_rate_out",{"$f":"'T2-B(PP4)'!$H$138","v":0},"#'T2-B(PP4)'!$H$138"]
["pp4_bl4_8_9_total",{"$f":"'T2-B(PP4)'!$J$138","v":0},"#'T2-B(PP4)'!$J$138"]
["pp4_bl4_8_9_total_in",{"$f":"'T2-B(PP4)'!$F$138","v":0},"#'T2-B(PP4)'!$F$138"]
["pp4_bl4_8_9_total_out",{"$f":"'T2-B(PP4)'!$I$138","v":0},"#'T2-B(PP4)'!$I$138"]
["pp4_bl4_8_9_unit",{"$f":"'T2-B(PP4)'!$C$138","v":0},"#'T2-B(PP4)'!$C$138"]
["pp4_bl4_8_9_unit_in",{"$f":"'T2-B(PP4)'!$D$138","v":0},"#'T2-B(PP4)'!$D$138"]
["pp4_bl4_8_9_units_out",{"$f":"'T2-B(PP4)'!$G$138","v":0},"#'T2-B(PP4)'!$G$138"]
["pp4_bl4_8_total",{"$f":"'T2-B(PP4)'!$J$129","v":0},"#'T2-B(PP4)'!$J$129"]
["pp4_bl4_8_total_in",{"$f":"'T2-B(PP4)'!$F$129","v":0},"#'T2-B(PP4)'!$F$129"]
["pp4_bl4_8_total_out",{"$f":"'T2-B(PP4)'!$I$129","v":0},"#'T2-B(PP4)'!$I$129"]
["pp4_bl4_9_1_name",{"$f":"'T2-B(PP4)'!$B$141","v":0},"#'T2-B(PP4)'!$B$141"]
["pp4_bl4_9_1_rate_in",{"$f":"'T2-B(PP4)'!$E$141","v":0},"#'T2-B(PP4)'!$E$141"]
["pp4_bl4_9_1_rate_out",{"$f":"'T2-B(PP4)'!$H$141","v":0},"#'T2-B(PP4)'!$H$141"]
["pp4_bl4_9_1_total",{"$f":"'T2-B(PP4)'!$J$141","v":0},"#'T2-B(PP4)'!$J$141"]
["pp4_bl4_9_1_total_in",{"$f":"'T2-B(PP4)'!$F$141","v":0},"#'T2-B(PP4)'!$F$141"]
["pp4_bl4_9_1_total_out",{"$f":"'T2-B(PP4)'!$I$141","v":0},"#'T2-B(PP4)'!$I$141"]
["pp4_bl4_9_1_unit",{"$f":"'T2-B(PP4)'!$C$141","v":0},"#'T2-B(PP4)'!$C$141"]
["pp4_bl4_9_1_unit_in",{"$f":"'T2-B(PP4)'!$D$141","v":0},"#'T2-B(PP4)'!$D$141"]
["pp4_bl4_9_1_units_out",{"$f":"'T2-B(PP4)'!$G$141","v":0},"#'T2-B(PP4)'!$G$141"]
["pp4_bl4_9_10_name",{"$f":"'T2-B(PP4)'!$B$150","v":0},"#'T2-B(PP4)'!$B$150"]
["pp4_bl4_9_10_rate_in",{"$f":"'T2-B(PP4)'!$E$150","v":0},"#'T2-B(PP4)'!$E$150"]
["pp4_bl4_9_10_rate_out",{"$f":"'T2-B(PP4)'!$H$150","v":0},"#'T2-B(PP4)'!$H$150"]
["pp4_bl4_9_10_total",{"$f":"'T2-B(PP4)'!$J$150","v":0},"#'T2-B(PP4)'!$J$150"]
["pp4_bl4_9_10_total_in",{"$f":"'T2-B(PP4)'!$F$150","v":0},"#'T2-B(PP4)'!$F$150"]
["pp4_bl4_9_10_total_out",{"$f":"'T2-B(PP4)'!$I$150","v":0},"#'T2-B(PP4)'!$I$150"]
["pp4_bl4_9_10_unit",{"$f":"'T2-B(PP4)'!$C$150","v":0},"#'T2-B(PP4)'!$C$150"]
["pp4_bl4_9_10_unit_in",{"$f":"'T2-B(PP4)'!$D$150","v":0},"#'T2-B(PP4)'!$D$150"]
["pp4_bl4_9_10_units_out",{"$f":"'T2-B(PP4)'!$G$150","v":0},"#'T2-B(PP4)'!$G$150"]
["pp4_bl4_9_2_name",{"$f":"'T2-B(PP4)'!$B$142","v":0},"#'T2-B(PP4)'!$B$142"]
["pp4_bl4_9_2_rate_in",{"$f":"'T2-B(PP4)'!$E$142","v":0},"#'T2-B(PP4)'!$E$142"]
["pp4_bl4_9_2_rate_out",{"$f":"'T2-B(PP4)'!$H$142","v":0},"#'T2-B(PP4)'!$H$142"]
["pp4_bl4_9_2_total",{"$f":"'T2-B(PP4)'!$J$142","v":0},"#'T2-B(PP4)'!$J$142"]
["pp4_bl4_9_2_total_in",{"$f":"'T2-B(PP4)'!$F$142","v":0},"#'T2-B(PP4)'!$F$142"]
["pp4_bl4_9_2_total_out",{"$f":"'T2-B(PP4)'!$I$142","v":0},"#'T2-B(PP4)'!$I$142"]
["pp4_bl4_9_2_unit",{"$f":"'T2-B(PP4)'!$C$142","v":0},"#'T2-B(PP4)'!$C$142"]
["pp4_bl4_9_2_unit_in",{"$f":"'T2-B(PP4)'!$D$142","v":0},"#'T2-B(PP4)'!$D$142"]
["pp4_bl4_9_2_units_out",{"$f":"'T2-B(PP4)'!$G$142","v":0},"#'T2-B(PP4)'!$G$142"]
["pp4_bl4_9_3_name",{"$f":"'T2-B(PP4)'!$B$143","v":0},"#'T2-B(PP4)'!$B$143"]
["pp4_bl4_9_3_rate_in",{"$f":"'T2-B(PP4)'!$E$143","v":0},"#'T2-B(PP4)'!$E$143"]
["pp4_bl4_9_3_rate_out",{"$f":"'T2-B(PP4)'!$H$143","v":0},"#'T2-B(PP4)'!$H$143"]
["pp4_bl4_9_3_total",{"$f":"'T2-B(PP4)'!$J$143","v":0},"#'T2-B(PP4)'!$J$143"]
["pp4_bl4_9_3_total_in",{"$f":"'T2-B(PP4)'!$F$143","v":0},"#'T2-B(PP4)'!$F$143"]
["pp4_bl4_9_3_total_out",{"$f":"'T2-B(PP4)'!$I$143","v":0},"#'T2-B(PP4)'!$I$143"]
["pp4_bl4_9_3_unit",{"$f":"'T2-B(PP4)'!$C$143","v":0},"#'T2-B(PP4)'!$C$143"]
["pp4_bl4_9_3_unit_in",{"$f":"'T2-B(PP4)'!$D$143","v":0},"#'T2-B(PP4)'!$D$143"]
["pp4_bl4_9_3_units_out",{"$f":"'T2-B(PP4)'!$G$143","v":0},"#'T2-B(PP4)'!$G$143"]
["pp4_bl4_9_4_name",{"$f":"'T2-B(PP4)'!$B$144","v":0},"#'T2-B(PP4)'!$B$144"]
["pp4_bl4_9_4_rate_in",{"$f":"'T2-B(PP4)'!$E$144","v":0},"#'T2-B(PP4)'!$E$144"]
["pp4_bl4_9_4_rate_out",{"$f":"'T2-B(PP4)'!$H$144","v":0},"#'T2-B(PP4)'!$H$144"]
["pp4_bl4_9_4_total",{"$f":"'T2-B(PP4)'!$J$144","v":0},"#'T2-B(PP4)'!$J$144"]
["pp4_bl4_9_4_total_in",{"$f":"'T2-B(PP4)'!$F$144","v":0},"#'T2-B(PP4)'!$F$144"]
["pp4_bl4_9_4_total_out",{"$f":"'T2-B(PP4)'!$I$144","v":0},"#'T2-B(PP4)'!$I$144"]
["pp4_bl4_9_4_unit",{"$f":"'T2-B(PP4)'!$C$144","v":0},"#'T2-B(PP4)'!$C$144"]
["pp4_bl4_9_4_unit_in",{"$f":"'T2-B(PP4)'!$D$144","v":0},"#'T2-B(PP4)'!$D$144"]
["pp4_bl4_9_4_units_out",{"$f":"'T2-B(PP4)'!$G$144","v":0},"#'T2-B(PP4)'!$G$144"]
["pp4_bl4_9_5_name",{"$f":"'T2-B(PP4)'!$B$145","v":0},"#'T2-B(PP4)'!$B$145"]
["pp4_bl4_9_5_rate_in",{"$f":"'T2-B(PP4)'!$E$145","v":0},"#'T2-B(PP4)'!$E$145"]
["pp4_bl4_9_5_rate_out",{"$f":"'T2-B(PP4)'!$H$145","v":0},"#'T2-B(PP4)'!$H$145"]
["pp4_bl4_9_5_total",{"$f":"'T2-B(PP4)'!$J$145","v":0},"#'T2-B(PP4)'!$J$145"]
["pp4_bl4_9_5_total_in",{"$f":"'T2-B(PP4)'!$F$145","v":0},"#'T2-B(PP4)'!$F$145"]
["pp4_bl4_9_5_total_out",{"$f":"'T2-B(PP4)'!$I$145","v":0},"#'T2-B(PP4)'!$I$145"]
["pp4_bl4_9_5_unit",{"$f":"'T2-B(PP4)'!$C$145","v":0},"#'T2-B(PP4)'!$C$145"]
["pp4_bl4_9_5_unit_in",{"$f":"'T2-B(PP4)'!$D$145","v":0},"#'T2-B(PP4)'!$D$145"]
["pp4_bl4_9_5_units_out",{"$f":"'T2-B(PP4)'!$G$145","v":0},"#'T2-B(PP4)'!$G$145"]
["pp4_bl4_9_6_name",{"$f":"'T2-B(PP4)'!$B$146","v":0},"#'T2-B(PP4)'!$B$146"]
["pp4_bl4_9_6_rate_in",{"$f":"'T2-B(PP4)'!$E$146","v":0},"#'T2-B(PP4)'!$E$146"]
["pp4_bl4_9_6_rate_out",{"$f":"'T2-B(PP4)'!$H$146","v":0},"#'T2-B(PP4)'!$H$146"]
["pp4_bl4_9_6_total",{"$f":"'T2-B(PP4)'!$J$146","v":0},"#'T2-B(PP4)'!$J$146"]
["pp4_bl4_9_6_total_in",{"$f":"'T2-B(PP4)'!$F$146","v":0},"#'T2-B(PP4)'!$F$146"]
["pp4_bl4_9_6_total_out",{"$f":"'T2-B(PP4)'!$I$146","v":0},"#'T2-B(PP4)'!$I$146"]
["pp4_bl4_9_6_unit",{"$f":"'T2-B(PP4)'!$C$146","v":0},"#'T2-B(PP4)'!$C$146"]
["pp4_bl4_9_6_unit_in",{"$f":"'T2-B(PP4)'!$D$146","v":0},"#'T2-B(PP4)'!$D$146"]
["pp4_bl4_9_6_units_out",{"$f":"'T2-B(PP4)'!$G$146","v":0},"#'T2-B(PP4)'!$G$146"]
["pp4_bl4_9_7_name",{"$f":"'T2-B(PP4)'!$B$147","v":0},"#'T2-B(PP4)'!$B$147"]
["pp4_bl4_9_7_rate_in",{"$f":"'T2-B(PP4)'!$E$147","v":0},"#'T2-B(PP4)'!$E$147"]
["pp4_bl4_9_7_rate_out",{"$f":"'T2-B(PP4)'!$H$147","v":0},"#'T2-B(PP4)'!$H$147"]
["pp4_bl4_9_7_total",{"$f":"'T2-B(PP4)'!$J$147","v":0},"#'T2-B(PP4)'!$J$147"]
["pp4_bl4_9_7_total_in",{"$f":"'T2-B(PP4)'!$F$147","v":0},"#'T2-B(PP4)'!$F$147"]
["pp4_bl4_9_7_total_out",{"$f":"'T2-B(PP4)'!$I$147","v":0},"#'T2-B(PP4)'!$I$147"]
["pp4_bl4_9_7_unit",{"$f":"'T2-B(PP4)'!$C$147","v":0},"#'T2-B(PP4)'!$C$147"]
["pp4_bl4_9_7_unit_in",{"$f":"'T2-B(PP4)'!$D$147","v":0},"#'T2-B(PP4)'!$D$147"]
["pp4_bl4_9_7_units_out",{"$f":"'T2-B(PP4)'!$G$147","v":0},"#'T2-B(PP4)'!$G$147"]
["pp4_bl4_9_8_name",{"$f":"'T2-B(PP4)'!$B$148","v":0},"#'T2-B(PP4)'!$B$148"]
["pp4_bl4_9_8_rate_in",{"$f":"'T2-B(PP4)'!$E$148","v":0},"#'T2-B(PP4)'!$E$148"]
["pp4_bl4_9_8_rate_out",{"$f":"'T2-B(PP4)'!$H$148","v":0},"#'T2-B(PP4)'!$H$148"]
["pp4_bl4_9_8_total",{"$f":"'T2-B(PP4)'!$J$148","v":0},"#'T2-B(PP4)'!$J$148"]
["pp4_bl4_9_8_total_in",{"$f":"'T2-B(PP4)'!$F$148","v":0},"#'T2-B(PP4)'!$F$148"]
["pp4_bl4_9_8_total_out",{"$f":"'T2-B(PP4)'!$I$148","v":0},"#'T2-B(PP4)'!$I$148"]
["pp4_bl4_9_8_unit",{"$f":"'T2-B(PP4)'!$C$148","v":0},"#'T2-B(PP4)'!$C$148"]
["pp4_bl4_9_8_unit_in",{"$f":"'T2-B(PP4)'!$D$148","v":0},"#'T2-B(PP4)'!$D$148"]
["pp4_bl4_9_8_units_out",{"$f":"'T2-B(PP4)'!$G$148","v":0},"#'T2-B(PP4)'!$G$148"]
["pp4_bl4_9_9_name",{"$f":"'T2-B(PP4)'!$B$149","v":0},"#'T2-B(PP4)'!$B$149"]
["pp4_bl4_9_9_rate_in",{"$f":"'T2-B(PP4)'!$E$149","v":0},"#'T2-B(PP4)'!$E$149"]
["pp4_bl4_9_9_rate_out",{"$f":"'T2-B(PP4)'!$H$149","v":0},"#'T2-B(PP4)'!$H$149"]
["pp4_bl4_9_9_total",{"$f":"'T2-B(PP4)'!$J$149","v":0},"#'T2-B(PP4)'!$J$149"]
["pp4_bl4_9_9_total_in",{"$f":"'T2-B(PP4)'!$F$149","v":0},"#'T2-B(PP4)'!$F$149"]
["pp4_bl4_9_9_total_out",{"$f":"'T2-B(PP4)'!$I$149","v":0},"#'T2-B(PP4)'!$I$149"]
["pp4_bl4_9_9_unit",{"$f":"'T2-B(PP4)'!$C$149","v":0},"#'T2-B(PP4)'!$C$149"]
["pp4_bl4_9_9_unit_in",{"$f":"'T2-B(PP4)'!$D$149","v":0},"#'T2-B(PP4)'!$D$149"]
["pp4_bl4_9_9_units_out",{"$f":"'T2-B(PP4)'!$G$149","v":0},"#'T2-B(PP4)'!$G$149"]
["pp4_bl4_9_total",{"$f":"'T2-B(PP4)'!$J$140","v":0},"#'T2-B(PP4)'!$J$140"]
["pp4_bl4_9_total_in",{"$f":"'T2-B(PP4)'!$F$140","v":0},"#'T2-B(PP4)'!$F$140"]
["pp4_bl4_9_total_out",{"$f":"'T2-B(PP4)'!$I$140","v":0},"#'T2-B(PP4)'!$I$140"]
["pp4_bl4_total",{"$f":"'T2-B(PP4)'!$J$195","v":0},"#'T2-B(PP4)'!$J$195"]
["pp4_bl4_total_in",{"$f":"'T2-B(PP4)'!$F$195","v":0},"#'T2-B(PP4)'!$F$195"]
["pp4_bl4_total_out",{"$f":"'T2-B(PP4)'!$I$195","v":0},"#'T2-B(PP4)'!$I$195"]
["pp4_bl5_1_1_name",{"$f":"'T2-B(PP4)'!$B$200","v":0},"#'T2-B(PP4)'!$B$200"]
["pp4_bl5_1_1_rate_in",{"$f":"'T2-B(PP4)'!$E$200","v":0},"#'T2-B(PP4)'!$E$200"]
["pp4_bl5_1_1_rate_out",{"$f":"'T2-B(PP4)'!$H$200","v":0},"#'T2-B(PP4)'!$H$200"]
["pp4_bl5_1_1_total",{"$f":"'T2-B(PP4)'!$J$200","v":0},"#'T2-B(PP4)'!$J$200"]
["pp4_bl5_1_1_total_in",{"$f":"'T2-B(PP4)'!$F$200","v":0},"#'T2-B(PP4)'!$F$200"]
["pp4_bl5_1_1_total_out",{"$f":"'T2-B(PP4)'!$I$200","v":0},"#'T2-B(PP4)'!$I$200"]
["pp4_bl5_1_1_unit",{"$f":"'T2-B(PP4)'!$C$200","v":0},"#'T2-B(PP4)'!$C$200"]
["pp4_bl5_1_1_unit_in",{"$f":"'T2-B(PP4)'!$D$200","v":0},"#'T2-B(PP4)'!$D$200"]
["pp4_bl5_1_1_units_out",{"$f":"'T2-B(PP4)'!$G$200","v":0},"#'T2-B(PP4)'!$G$200"]
["pp4_bl5_1_10_name",{"$f":"'T2-B(PP4)'!$B$209","v":0},"#'T2-B(PP4)'!$B$209"]
["pp4_bl5_1_10_rate_in",{"$f":"'T2-B(PP4)'!$E$209","v":0},"#'T2-B(PP4)'!$E$209"]
["pp4_bl5_1_10_rate_out",{"$f":"'T2-B(PP4)'!$H$209","v":0},"#'T2-B(PP4)'!$H$209"]
["pp4_bl5_1_10_total",{"$f":"'T2-B(PP4)'!$J$209","v":0},"#'T2-B(PP4)'!$J$209"]
["pp4_bl5_1_10_total_in",{"$f":"'T2-B(PP4)'!$F$209","v":0},"#'T2-B(PP4)'!$F$209"]
["pp4_bl5_1_10_total_out",{"$f":"'T2-B(PP4)'!$I$209","v":0},"#'T2-B(PP4)'!$I$209"]
["pp4_bl5_1_10_unit",{"$f":"'T2-B(PP4)'!$C$209","v":0},"#'T2-B(PP4)'!$C$209"]
["pp4_bl5_1_10_unit_in",{"$f":"'T2-B(PP4)'!$D$209","v":0},"#'T2-B(PP4)'!$D$209"]
["pp4_bl5_1_10_units_out",{"$f":"'T2-B(PP4)'!$G$209","v":0},"#'T2-B(PP4)'!$G$209"]
["pp4_bl5_1_2_name",{"$f":"'T2-B(PP4)'!$B$201","v":"BL6 - PROJECT PREPARATION"},"#'T2-B(PP4)'!$B$201"]
["pp4_bl5_1_2_rate_in",{"$f":"'T2-B(PP4)'!$E$201","v":0},"#'T2-B(PP4)'!$E$201"]
["pp4_bl5_1_2_rate_out",{"$f":"'T2-B(PP4)'!$H$201","v":0},"#'T2-B(PP4)'!$H$201"]
["pp4_bl5_1_2_total",{"$f":"'T2-B(PP4)'!$J$201","v":"TOTAL"},"#'T2-B(PP4)'!$J$201"]
["pp4_bl5_1_2_total_in",{"$f":"'T2-B(PP4)'!$F$201","v":0},"#'T2-B(PP4)'!$F$201"]
["pp4_bl5_1_2_total_out",{"$f":"'T2-B(PP4)'!$I$201","v":0},"#'T2-B(PP4)'!$I$201"]
["pp4_bl5_1_2_unit",{"$f":"'T2-B(PP4)'!$C$201","v":"Unit"},"#'T2-B(PP4)'!$C$201"]
["pp4_bl5_1_2_unit_in",{"$f":"'T2-B(PP4)'!$D$201","v":"Expenditures in the eligible area"},"#'T2-B(PP4)'!$D$201"]
["pp4_bl5_1_2_units_out",{"$f":"'T2-B(PP4)'!$G$201","v":"Expenditures outside the eligible area"},"#'T2-B(PP4)'!$G$201"]
["pp4_bl5_1_3_name",{"$f":"'T2-B(PP4)'!$B$202","v":0},"#'T2-B(PP4)'!$B$202"]
["pp4_bl5_1_3_rate_in",{"$f":"'T2-B(PP4)'!$E$202","v":"Unit rate"},"#'T2-B(PP4)'!$E$202"]
["pp4_bl5_1_3_rate_out",{"$f":"'T2-B(PP4)'!$H$202","v":"Unit rate"},"#'T2-B(PP4)'!$H$202"]
["pp4_bl5_1_3_total",{"$f":"'T2-B(PP4)'!$J$202","v":0},"#'T2-B(PP4)'!$J$202"]
["pp4_bl5_1_3_total_in",{"$f":"'T2-B(PP4)'!$F$202","v":"Total"},"#'T2-B(PP4)'!$F$202"]
["pp4_bl5_1_3_total_out",{"$f":"'T2-B(PP4)'!$I$202","v":"Total"},"#'T2-B(PP4)'!$I$202"]
["pp4_bl5_1_3_unit",{"$f":"'T2-B(PP4)'!$C$202","v":0},"#'T2-B(PP4)'!$C$202"]
["pp4_bl5_1_3_unit_in",{"$f":"'T2-B(PP4)'!$D$202","v":"Units"},"#'T2-B(PP4)'!$D$202"]
["pp4_bl5_1_3_units_out",{"$f":"'T2-B(PP4)'!$G$202","v":"Units"},"#'T2-B(PP4)'!$G$202"]
["pp4_bl5_1_4_name",{"$f":"'T2-B(PP4)'!$B$203","v":"6.1. Preparation of Application package "},"#'T2-B(PP4)'!$B$203"]
["pp4_bl5_1_4_rate_in",{"$f":"'T2-B(PP4)'!$E$203","v":0},"#'T2-B(PP4)'!$E$203"]
["pp4_bl5_1_4_rate_out",{"$f":"'T2-B(PP4)'!$H$203","v":0},"#'T2-B(PP4)'!$H$203"]
["pp4_bl5_1_4_total",{"$f":"'T2-B(PP4)'!$J$203","v":0},"#'T2-B(PP4)'!$J$203"]
["pp4_bl5_1_4_total_in",{"$f":"'T2-B(PP4)'!$F$203","v":0},"#'T2-B(PP4)'!$F$203"]
["pp4_bl5_1_4_total_out",{"$f":"'T2-B(PP4)'!$I$203","v":0},"#'T2-B(PP4)'!$I$203"]
["pp4_bl5_1_4_unit",{"$f":"'T2-B(PP4)'!$C$203","v":0},"#'T2-B(PP4)'!$C$203"]
["pp4_bl5_1_4_unit_in",{"$f":"'T2-B(PP4)'!$D$203","v":0},"#'T2-B(PP4)'!$D$203"]
["pp4_bl5_1_4_units_out",{"$f":"'T2-B(PP4)'!$G$203","v":0},"#'T2-B(PP4)'!$G$203"]
["pp4_bl5_1_5_name",{"$f":"'T2-B(PP4)'!$B$204","v":0},"#'T2-B(PP4)'!$B$204"]
["pp4_bl5_1_5_rate_in",{"$f":"'T2-B(PP4)'!$E$204","v":0},"#'T2-B(PP4)'!$E$204"]
["pp4_bl5_1_5_rate_out",{"$f":"'T2-B(PP4)'!$H$204","v":0},"#'T2-B(PP4)'!$H$204"]
["pp4_bl5_1_5_total",{"$f":"'T2-B(PP4)'!$J$204","v":0},"#'T2-B(PP4)'!$J$204"]
["pp4_bl5_1_5_total_in",{"$f":"'T2-B(PP4)'!$F$204","v":0},"#'T2-B(PP4)'!$F$204"]
["pp4_bl5_1_5_total_out",{"$f":"'T2-B(PP4)'!$I$204","v":0},"#'T2-B(PP4)'!$I$204"]
["pp4_bl5_1_5_unit",{"$f":"'T2-B(PP4)'!$C$204","v":0},"#'T2-B(PP4)'!$C$204"]
["pp4_bl5_1_5_unit_in",{"$f":"'T2-B(PP4)'!$D$204","v":0},"#'T2-B(PP4)'!$D$204"]
["pp4_bl5_1_5_units_out",{"$f":"'T2-B(PP4)'!$G$204","v":0},"#'T2-B(PP4)'!$G$204"]
["pp4_bl5_1_6_name",{"$f":"'T2-B(PP4)'!$B$205","v":0},"#'T2-B(PP4)'!$B$205"]
["pp4_bl5_1_6_rate_in",{"$f":"'T2-B(PP4)'!$E$205","v":0},"#'T2-B(PP4)'!$E$205"]
["pp4_bl5_1_6_rate_out",{"$f":"'T2-B(PP4)'!$H$205","v":0},"#'T2-B(PP4)'!$H$205"]
["pp4_bl5_1_6_total",{"$f":"'T2-B(PP4)'!$J$205","v":0},"#'T2-B(PP4)'!$J$205"]
["pp4_bl5_1_6_total_in",{"$f":"'T2-B(PP4)'!$F$205","v":0},"#'T2-B(PP4)'!$F$205"]
["pp4_bl5_1_6_total_out",{"$f":"'T2-B(PP4)'!$I$205","v":0},"#'T2-B(PP4)'!$I$205"]
["pp4_bl5_1_6_unit",{"$f":"'T2-B(PP4)'!$C$205","v":0},"#'T2-B(PP4)'!$C$205"]
["pp4_bl5_1_6_unit_in",{"$f":"'T2-B(PP4)'!$D$205","v":0},"#'T2-B(PP4)'!$D$205"]
["pp4_bl5_1_6_units_out",{"$f":"'T2-B(PP4)'!$G$205","v":0},"#'T2-B(PP4)'!$G$205"]
["pp4_bl5_1_7_name",{"$f":"'T2-B(PP4)'!$B$206","v":0},"#'T2-B(PP4)'!$B$206"]
["pp4_bl5_1_7_rate_in",{"$f":"'T2-B(PP4)'!$E$206","v":0},"#'T2-B(PP4)'!$E$206"]
["pp4_bl5_1_7_rate_out",{"$f":"'T2-B(PP4)'!$H$206","v":0},"#'T2-B(PP4)'!$H$206"]
["pp4_bl5_1_7_total",{"$f":"'T2-B(PP4)'!$J$206","v":0},"#'T2-B(PP4)'!$J$206"]
["pp4_bl5_1_7_total_in",{"$f":"'T2-B(PP4)'!$F$206","v":0},"#'T2-B(PP4)'!$F$206"]
["pp4_bl5_1_7_total_out",{"$f":"'T2-B(PP4)'!$I$206","v":0},"#'T2-B(PP4)'!$I$206"]
["pp4_bl5_1_7_unit",{"$f":"'T2-B(PP4)'!$C$206","v":0},"#'T2-B(PP4)'!$C$206"]
["pp4_bl5_1_7_unit_in",{"$f":"'T2-B(PP4)'!$D$206","v":0},"#'T2-B(PP4)'!$D$206"]
["pp4_bl5_1_7_units_out",{"$f":"'T2-B(PP4)'!$G$206","v":0},"#'T2-B(PP4)'!$G$206"]
["pp4_bl5_1_8_name",{"$f":"'T2-B(PP4)'!$B$207","v":0},"#'T2-B(PP4)'!$B$207"]
["pp4_bl5_1_8_rate_in",{"$f":"'T2-B(PP4)'!$E$207","v":0},"#'T2-B(PP4)'!$E$207"]
["pp4_bl5_1_8_rate_out",{"$f":"'T2-B(PP4)'!$H$207","v":0},"#'T2-B(PP4)'!$H$207"]
["pp4_bl5_1_8_total",{"$f":"'T2-B(PP4)'!$J$207","v":0},"#'T2-B(PP4)'!$J$207"]
["pp4_bl5_1_8_total_in",{"$f":"'T2-B(PP4)'!$F$207","v":0},"#'T2-B(PP4)'!$F$207"]
["pp4_bl5_1_8_total_out",{"$f":"'T2-B(PP4)'!$I$207","v":0},"#'T2-B(PP4)'!$I$207"]
["pp4_bl5_1_8_unit",{"$f":"'T2-B(PP4)'!$C$207","v":0},"#'T2-B(PP4)'!$C$207"]
["pp4_bl5_1_8_unit_in",{"$f":"'T2-B(PP4)'!$D$207","v":0},"#'T2-B(PP4)'!$D$207"]
["pp4_bl5_1_8_units_out",{"$f":"'T2-B(PP4)'!$G$207","v":0},"#'T2-B(PP4)'!$G$207"]
["pp4_bl5_1_9_name",{"$f":"'T2-B(PP4)'!$B$208","v":0},"#'T2-B(PP4)'!$B$208"]
["pp4_bl5_1_9_rate_in",{"$f":"'T2-B(PP4)'!$E$208","v":0},"#'T2-B(PP4)'!$E$208"]
["pp4_bl5_1_9_rate_out",{"$f":"'T2-B(PP4)'!$H$208","v":0},"#'T2-B(PP4)'!$H$208"]
["pp4_bl5_1_9_total",{"$f":"'T2-B(PP4)'!$J$208","v":0},"#'T2-B(PP4)'!$J$208"]
["pp4_bl5_1_9_total_in",{"$f":"'T2-B(PP4)'!$F$208","v":0},"#'T2-B(PP4)'!$F$208"]
["pp4_bl5_1_9_total_out",{"$f":"'T2-B(PP4)'!$I$208","v":0},"#'T2-B(PP4)'!$I$208"]
["pp4_bl5_1_9_unit",{"$f":"'T2-B(PP4)'!$C$208","v":0},"#'T2-B(PP4)'!$C$208"]
["pp4_bl5_1_9_unit_in",{"$f":"'T2-B(PP4)'!$D$208","v":0},"#'T2-B(PP4)'!$D$208"]
["pp4_bl5_1_9_units_out",{"$f":"'T2-B(PP4)'!$G$208","v":0},"#'T2-B(PP4)'!$G$208"]
["pp4_bl5_1_total",{"$f":"'T2-B(PP4)'!$J$199","v":0},"#'T2-B(PP4)'!$J$199"]
["pp4_bl5_1_total_in",{"$f":"'T2-B(PP4)'!$F$199","v":0},"#'T2-B(PP4)'!$F$199"]
["pp4_bl5_1_total_out",{"$f":"'T2-B(PP4)'!$I$199","v":0},"#'T2-B(PP4)'!$I$199"]
["pp4_bl5_2_1_name",{"$f":"'T2-B(PP4)'!$B$211","v":0},"#'T2-B(PP4)'!$B$211"]
["pp4_bl5_2_1_rate_in",{"$f":"'T2-B(PP4)'!$E$211","v":0},"#'T2-B(PP4)'!$E$211"]
["pp4_bl5_2_1_rate_out",{"$f":"'T2-B(PP4)'!$H$211","v":0},"#'T2-B(PP4)'!$H$211"]
["pp4_bl5_2_1_total",{"$f":"'T2-B(PP4)'!$J$211","v":0},"#'T2-B(PP4)'!$J$211"]
["pp4_bl5_2_1_total_in",{"$f":"'T2-B(PP4)'!$F$211","v":0},"#'T2-B(PP4)'!$F$211"]
["pp4_bl5_2_1_total_out",{"$f":"'T2-B(PP4)'!$I$211","v":0},"#'T2-B(PP4)'!$I$211"]
["pp4_bl5_2_1_unit",{"$f":"'T2-B(PP4)'!$C$211","v":0},"#'T2-B(PP4)'!$C$211"]
["pp4_bl5_2_1_unit_in",{"$f":"'T2-B(PP4)'!$D$211","v":0},"#'T2-B(PP4)'!$D$211"]
["pp4_bl5_2_1_units_out",{"$f":"'T2-B(PP4)'!$G$211","v":0},"#'T2-B(PP4)'!$G$211"]
["pp4_bl5_2_10_name",{"$f":"'T2-B(PP4)'!$B$220","v":0},"#'T2-B(PP4)'!$B$220"]
["pp4_bl5_2_10_rate_in",{"$f":"'T2-B(PP4)'!$E$220","v":0},"#'T2-B(PP4)'!$E$220"]
["pp4_bl5_2_10_rate_out",{"$f":"'T2-B(PP4)'!$H$220","v":0},"#'T2-B(PP4)'!$H$220"]
["pp4_bl5_2_10_total",{"$f":"'T2-B(PP4)'!$J$220","v":0},"#'T2-B(PP4)'!$J$220"]
["pp4_bl5_2_10_total_in",{"$f":"'T2-B(PP4)'!$F$220","v":0},"#'T2-B(PP4)'!$F$220"]
["pp4_bl5_2_10_total_out",{"$f":"'T2-B(PP4)'!$I$220","v":0},"#'T2-B(PP4)'!$I$220"]
["pp4_bl5_2_10_unit",{"$f":"'T2-B(PP4)'!$C$220","v":0},"#'T2-B(PP4)'!$C$220"]
["pp4_bl5_2_10_unit_in",{"$f":"'T2-B(PP4)'!$D$220","v":0},"#'T2-B(PP4)'!$D$220"]
["pp4_bl5_2_10_units_out",{"$f":"'T2-B(PP4)'!$G$220","v":0},"#'T2-B(PP4)'!$G$220"]
["pp4_bl5_2_2_name",{"$f":"'T2-B(PP4)'!$B$212","v":0},"#'T2-B(PP4)'!$B$212"]
["pp4_bl5_2_2_rate_in",{"$f":"'T2-B(PP4)'!$E$212","v":0},"#'T2-B(PP4)'!$E$212"]
["pp4_bl5_2_2_rate_out",{"$f":"'T2-B(PP4)'!$H$212","v":0},"#'T2-B(PP4)'!$H$212"]
["pp4_bl5_2_2_total",{"$f":"'T2-B(PP4)'!$J$212","v":0},"#'T2-B(PP4)'!$J$212"]
["pp4_bl5_2_2_total_in",{"$f":"'T2-B(PP4)'!$F$212","v":0},"#'T2-B(PP4)'!$F$212"]
["pp4_bl5_2_2_total_out",{"$f":"'T2-B(PP4)'!$I$212","v":0},"#'T2-B(PP4)'!$I$212"]
["pp4_bl5_2_2_unit",{"$f":"'T2-B(PP4)'!$C$212","v":0},"#'T2-B(PP4)'!$C$212"]
["pp4_bl5_2_2_unit_in",{"$f":"'T2-B(PP4)'!$D$212","v":0},"#'T2-B(PP4)'!$D$212"]
["pp4_bl5_2_2_units_out",{"$f":"'T2-B(PP4)'!$G$212","v":0},"#'T2-B(PP4)'!$G$212"]
["pp4_bl5_2_3_name",{"$f":"'T2-B(PP4)'!$B$213","v":0},"#'T2-B(PP4)'!$B$213"]
["pp4_bl5_2_3_rate_in",{"$f":"'T2-B(PP4)'!$E$213","v":0},"#'T2-B(PP4)'!$E$213"]
["pp4_bl5_2_3_rate_out",{"$f":"'T2-B(PP4)'!$H$213","v":0},"#'T2-B(PP4)'!$H$213"]
["pp4_bl5_2_3_total",{"$f":"'T2-B(PP4)'!$J$213","v":0},"#'T2-B(PP4)'!$J$213"]
["pp4_bl5_2_3_total_in",{"$f":"'T2-B(PP4)'!$F$213","v":0},"#'T2-B(PP4)'!$F$213"]
["pp4_bl5_2_3_total_out",{"$f":"'T2-B(PP4)'!$I$213","v":0},"#'T2-B(PP4)'!$I$213"]
["pp4_bl5_2_3_unit",{"$f":"'T2-B(PP4)'!$C$213","v":0},"#'T2-B(PP4)'!$C$213"]
["pp4_bl5_2_3_unit_in",{"$f":"'T2-B(PP4)'!$D$213","v":0},"#'T2-B(PP4)'!$D$213"]
["pp4_bl5_2_3_units_out",{"$f":"'T2-B(PP4)'!$G$213","v":0},"#'T2-B(PP4)'!$G$213"]
["pp4_bl5_2_4_name",{"$f":"'T2-B(PP4)'!$B$214","v":"6.2. Preparation of technical documentation"},"#'T2-B(PP4)'!$B$214"]
["pp4_bl5_2_4_rate_in",{"$f":"'T2-B(PP4)'!$E$214","v":0},"#'T2-B(PP4)'!$E$214"]
["pp4_bl5_2_4_rate_out",{"$f":"'T2-B(PP4)'!$H$214","v":0},"#'T2-B(PP4)'!$H$214"]
["pp4_bl5_2_4_total",{"$f":"'T2-B(PP4)'!$J$214","v":0},"#'T2-B(PP4)'!$J$214"]
["pp4_bl5_2_4_total_in",{"$f":"'T2-B(PP4)'!$F$214","v":0},"#'T2-B(PP4)'!$F$214"]
["pp4_bl5_2_4_total_out",{"$f":"'T2-B(PP4)'!$I$214","v":0},"#'T2-B(PP4)'!$I$214"]
["pp4_bl5_2_4_unit",{"$f":"'T2-B(PP4)'!$C$214","v":0},"#'T2-B(PP4)'!$C$214"]
["pp4_bl5_2_4_unit_in",{"$f":"'T2-B(PP4)'!$D$214","v":0},"#'T2-B(PP4)'!$D$214"]
["pp4_bl5_2_4_units_out",{"$f":"'T2-B(PP4)'!$G$214","v":0},"#'T2-B(PP4)'!$G$214"]
["pp4_bl5_2_5_name",{"$f":"'T2-B(PP4)'!$B$215","v":0},"#'T2-B(PP4)'!$B$215"]
["pp4_bl5_2_5_rate_in",{"$f":"'T2-B(PP4)'!$E$215","v":0},"#'T2-B(PP4)'!$E$215"]
["pp4_bl5_2_5_rate_out",{"$f":"'T2-B(PP4)'!$H$215","v":0},"#'T2-B(PP4)'!$H$215"]
["pp4_bl5_2_5_total",{"$f":"'T2-B(PP4)'!$J$215","v":0},"#'T2-B(PP4)'!$J$215"]
["pp4_bl5_2_5_total_in",{"$f":"'T2-B(PP4)'!$F$215","v":0},"#'T2-B(PP4)'!$F$215"]
["pp4_bl5_2_5_total_out",{"$f":"'T2-B(PP4)'!$I$215","v":0},"#'T2-B(PP4)'!$I$215"]
["pp4_bl5_2_5_unit",{"$f":"'T2-B(PP4)'!$C$215","v":0},"#'T2-B(PP4)'!$C$215"]
["pp4_bl5_2_5_unit_in",{"$f":"'T2-B(PP4)'!$D$215","v":0},"#'T2-B(PP4)'!$D$215"]
["pp4_bl5_2_5_units_out",{"$f":"'T2-B(PP4)'!$G$215","v":0},"#'T2-B(PP4)'!$G$215"]
["pp4_bl5_2_6_name",{"$f":"'T2-B(PP4)'!$B$216","v":0},"#'T2-B(PP4)'!$B$216"]
["pp4_bl5_2_6_rate_in",{"$f":"'T2-B(PP4)'!$E$216","v":0},"#'T2-B(PP4)'!$E$216"]
["pp4_bl5_2_6_rate_out",{"$f":"'T2-B(PP4)'!$H$216","v":0},"#'T2-B(PP4)'!$H$216"]
["pp4_bl5_2_6_total",{"$f":"'T2-B(PP4)'!$J$216","v":0},"#'T2-B(PP4)'!$J$216"]
["pp4_bl5_2_6_total_in",{"$f":"'T2-B(PP4)'!$F$216","v":0},"#'T2-B(PP4)'!$F$216"]
["pp4_bl5_2_6_total_out",{"$f":"'T2-B(PP4)'!$I$216","v":0},"#'T2-B(PP4)'!$I$216"]
["pp4_bl5_2_6_unit",{"$f":"'T2-B(PP4)'!$C$216","v":0},"#'T2-B(PP4)'!$C$216"]
["pp4_bl5_2_6_unit_in",{"$f":"'T2-B(PP4)'!$D$216","v":0},"#'T2-B(PP4)'!$D$216"]
["pp4_bl5_2_6_units_out",{"$f":"'T2-B(PP4)'!$G$216","v":0},"#'T2-B(PP4)'!$G$216"]
["pp4_bl5_2_7_name",{"$f":"'T2-B(PP4)'!$B$217","v":0},"#'T2-B(PP4)'!$B$217"]
["pp4_bl5_2_7_rate_in",{"$f":"'T2-B(PP4)'!$E$217","v":0},"#'T2-B(PP4)'!$E$217"]
["pp4_bl5_2_7_rate_out",{"$f":"'T2-B(PP4)'!$H$217","v":0},"#'T2-B(PP4)'!$H$217"]
["pp4_bl5_2_7_total",{"$f":"'T2-B(PP4)'!$J$217","v":0},"#'T2-B(PP4)'!$J$217"]
["pp4_bl5_2_7_total_in",{"$f":"'T2-B(PP4)'!$F$217","v":0},"#'T2-B(PP4)'!$F$217"]
["pp4_bl5_2_7_total_out",{"$f":"'T2-B(PP4)'!$I$217","v":0},"#'T2-B(PP4)'!$I$217"]
["pp4_bl5_2_7_unit",{"$f":"'T2-B(PP4)'!$C$217","v":0},"#'T2-B(PP4)'!$C$217"]
["pp4_bl5_2_7_unit_in",{"$f":"'T2-B(PP4)'!$D$217","v":0},"#'T2-B(PP4)'!$D$217"]
["pp4_bl5_2_7_units_out",{"$f":"'T2-B(PP4)'!$G$217","v":0},"#'T2-B(PP4)'!$G$217"]
["pp4_bl5_2_8_name",{"$f":"'T2-B(PP4)'!$B$218","v":0},"#'T2-B(PP4)'!$B$218"]
["pp4_bl5_2_8_rate_in",{"$f":"'T2-B(PP4)'!$E$218","v":0},"#'T2-B(PP4)'!$E$218"]
["pp4_bl5_2_8_rate_out",{"$f":"'T2-B(PP4)'!$H$218","v":0},"#'T2-B(PP4)'!$H$218"]
["pp4_bl5_2_8_total",{"$f":"'T2-B(PP4)'!$J$218","v":0},"#'T2-B(PP4)'!$J$218"]
["pp4_bl5_2_8_total_in",{"$f":"'T2-B(PP4)'!$F$218","v":0},"#'T2-B(PP4)'!$F$218"]
["pp4_bl5_2_8_total_out",{"$f":"'T2-B(PP4)'!$I$218","v":0},"#'T2-B(PP4)'!$I$218"]
["pp4_bl5_2_8_unit",{"$f":"'T2-B(PP4)'!$C$218","v":0},"#'T2-B(PP4)'!$C$218"]
["pp4_bl5_2_8_unit_in",{"$f":"'T2-B(PP4)'!$D$218","v":0},"#'T2-B(PP4)'!$D$218"]
["pp4_bl5_2_8_units_out",{"$f":"'T2-B(PP4)'!$G$218","v":0},"#'T2-B(PP4)'!$G$218"]
["pp4_bl5_2_9_name",{"$f":"'T2-B(PP4)'!$B$219","v":0},"#'T2-B(PP4)'!$B$219"]
["pp4_bl5_2_9_rate_in",{"$f":"'T2-B(PP4)'!$E$219","v":0},"#'T2-B(PP4)'!$E$219"]
["pp4_bl5_2_9_rate_out",{"$f":"'T2-B(PP4)'!$H$219","v":0},"#'T2-B(PP4)'!$H$219"]
["pp4_bl5_2_9_total",{"$f":"'T2-B(PP4)'!$J$219","v":0},"#'T2-B(PP4)'!$J$219"]
["pp4_bl5_2_9_total_in",{"$f":"'T2-B(PP4)'!$F$219","v":0},"#'T2-B(PP4)'!$F$219"]
["pp4_bl5_2_9_total_out",{"$f":"'T2-B(PP4)'!$I$219","v":0},"#'T2-B(PP4)'!$I$219"]
["pp4_bl5_2_9_unit",{"$f":"'T2-B(PP4)'!$C$219","v":0},"#'T2-B(PP4)'!$C$219"]
["pp4_bl5_2_9_unit_in",{"$f":"'T2-B(PP4)'!$D$219","v":0},"#'T2-B(PP4)'!$D$219"]
["pp4_bl5_2_9_units_out",{"$f":"'T2-B(PP4)'!$G$219","v":0},"#'T2-B(PP4)'!$G$219"]
["pp4_bl5_2_total",{"$f":"'T2-B(PP4)'!$J$210","v":0},"#'T2-B(PP4)'!$J$210"]
["pp4_bl5_2_total_in",{"$f":"'T2-B(PP4)'!$F$210","v":0},"#'T2-B(PP4)'!$F$210"]
["pp4_bl5_2_total_out",{"$f":"'T2-B(PP4)'!$I$210","v":0},"#'T2-B(PP4)'!$I$210"]
["pp4_bl5_total",{"$f":"'T2-B(PP4)'!$J$221","v":0},"#'T2-B(PP4)'!$J$221"]
["pp4_bl5_total_in",{"$f":"'T2-B(PP4)'!$F$221","v":0},"#'T2-B(PP4)'!$F$221"]
["pp4_bl5_total_out",{"$f":"'T2-B(PP4)'!$I$221","v":0},"#'T2-B(PP4)'!$I$221"]
["pp4_bl6_1_1_name",{"$f":"'T2-B(PP4)'!$B$225","v":"TOTAL"},"#'T2-B(PP4)'!$B$225"]
["pp4_bl6_1_1_rate_in",{"$f":"'T2-B(PP4)'!$E$225","v":0},"#'T2-B(PP4)'!$E$225"]
["pp4_bl6_1_1_rate_out",{"$f":"'T2-B(PP4)'!$H$225","v":0},"#'T2-B(PP4)'!$H$225"]
["pp4_bl6_1_1_total",{"$f":"'T2-B(PP4)'!$J$225","v":0},"#'T2-B(PP4)'!$J$225"]
["pp4_bl6_1_1_total_in",{"$f":"'T2-B(PP4)'!$F$225","v":0},"#'T2-B(PP4)'!$F$225"]
["pp4_bl6_1_1_total_out",{"$f":"'T2-B(PP4)'!$I$225","v":0},"#'T2-B(PP4)'!$I$225"]
["pp4_bl6_1_1_unit",{"$f":"'T2-B(PP4)'!$C$225","v":0},"#'T2-B(PP4)'!$C$225"]
["pp4_bl6_1_1_unit_in",{"$f":"'T2-B(PP4)'!$D$225","v":0},"#'T2-B(PP4)'!$D$225"]
["pp4_bl6_1_1_units_out",{"$f":"'T2-B(PP4)'!$G$225","v":0},"#'T2-B(PP4)'!$G$225"]
["pp4_bl6_1_10_name",{"$f":"'T2-B(PP4)'!$B$234","v":0},"#'T2-B(PP4)'!$B$234"]
["pp4_bl6_1_10_rate_in",{"$f":"'T2-B(PP4)'!$E$234","v":0},"#'T2-B(PP4)'!$E$234"]
["pp4_bl6_1_10_rate_out",{"$f":"'T2-B(PP4)'!$H$234","v":0},"#'T2-B(PP4)'!$H$234"]
["pp4_bl6_1_10_total",{"$f":"'T2-B(PP4)'!$J$234","v":0},"#'T2-B(PP4)'!$J$234"]
["pp4_bl6_1_10_total_in",{"$f":"'T2-B(PP4)'!$F$234","v":0},"#'T2-B(PP4)'!$F$234"]
["pp4_bl6_1_10_total_out",{"$f":"'T2-B(PP4)'!$I$234","v":0},"#'T2-B(PP4)'!$I$234"]
["pp4_bl6_1_10_unit",{"$f":"'T2-B(PP4)'!$C$234","v":0},"#'T2-B(PP4)'!$C$234"]
["pp4_bl6_1_10_unit_in",{"$f":"'T2-B(PP4)'!$D$234","v":0},"#'T2-B(PP4)'!$D$234"]
["pp4_bl6_1_10_units_out",{"$f":"'T2-B(PP4)'!$G$234","v":0},"#'T2-B(PP4)'!$G$234"]
["pp4_bl6_1_2_name",{"$f":"'T2-B(PP4)'!$B$226","v":0},"#'T2-B(PP4)'!$B$226"]
["pp4_bl6_1_2_rate_in",{"$f":"'T2-B(PP4)'!$E$226","v":0},"#'T2-B(PP4)'!$E$226"]
["pp4_bl6_1_2_rate_out",{"$f":"'T2-B(PP4)'!$H$226","v":0},"#'T2-B(PP4)'!$H$226"]
["pp4_bl6_1_2_total",{"$f":"'T2-B(PP4)'!$J$226","v":0},"#'T2-B(PP4)'!$J$226"]
["pp4_bl6_1_2_total_in",{"$f":"'T2-B(PP4)'!$F$226","v":0},"#'T2-B(PP4)'!$F$226"]
["pp4_bl6_1_2_total_out",{"$f":"'T2-B(PP4)'!$I$226","v":0},"#'T2-B(PP4)'!$I$226"]
["pp4_bl6_1_2_unit",{"$f":"'T2-B(PP4)'!$C$226","v":0},"#'T2-B(PP4)'!$C$226"]
["pp4_bl6_1_2_unit_in",{"$f":"'T2-B(PP4)'!$D$226","v":0},"#'T2-B(PP4)'!$D$226"]
["pp4_bl6_1_2_units_out",{"$f":"'T2-B(PP4)'!$G$226","v":0},"#'T2-B(PP4)'!$G$226"]
["pp4_bl6_1_3_name",{"$f":"'T2-B(PP4)'!$B$227","v":"Own Contribution"},"#'T2-B(PP4)'!$B$227"]
["pp4_bl6_1_3_rate_in",{"$f":"'T2-B(PP4)'!$E$227","v":0},"#'T2-B(PP4)'!$E$227"]
["pp4_bl6_1_3_rate_out",{"$f":"'T2-B(PP4)'!$H$227","v":0},"#'T2-B(PP4)'!$H$227"]
["pp4_bl6_1_3_total",{"$f":"'T2-B(PP4)'!$J$227","v":"TOTAL"},"#'T2-B(PP4)'!$J$227"]
["pp4_bl6_1_3_total_in",{"$f":"'T2-B(PP4)'!$F$227","v":0},"#'T2-B(PP4)'!$F$227"]
["pp4_bl6_1_3_total_out",{"$f":"'T2-B(PP4)'!$I$227","v":0},"#'T2-B(PP4)'!$I$227"]
["pp4_bl6_1_3_unit",{"$f":"'T2-B(PP4)'!$C$227","v":"Unit"},"#'T2-B(PP4)'!$C$227"]
["pp4_bl6_1_3_unit_in",{"$f":"'T2-B(PP4)'!$D$227","v":"Expenditures in the eligible area"},"#'T2-B(PP4)'!$D$227"]
["pp4_bl6_1_3_units_out",{"$f":"'T2-B(PP4)'!$G$227","v":"Expenditures outside the eligible area"},"#'T2-B(PP4)'!$G$227"]
["pp4_bl6_1_4_name",{"$f":"'T2-B(PP4)'!$B$228","v":0},"#'T2-B(PP4)'!$B$228"]
["pp4_bl6_1_4_rate_in",{"$f":"'T2-B(PP4)'!$E$228","v":"Unit rate"},"#'T2-B(PP4)'!$E$228"]
["pp4_bl6_1_4_rate_out",{"$f":"'T2-B(PP4)'!$H$228","v":"Unit rate"},"#'T2-B(PP4)'!$H$228"]
["pp4_bl6_1_4_total",{"$f":"'T2-B(PP4)'!$J$228","v":0},"#'T2-B(PP4)'!$J$228"]
["pp4_bl6_1_4_total_in",{"$f":"'T2-B(PP4)'!$F$228","v":"Total"},"#'T2-B(PP4)'!$F$228"]
["pp4_bl6_1_4_total_out",{"$f":"'T2-B(PP4)'!$I$228","v":"Total"},"#'T2-B(PP4)'!$I$228"]
["pp4_bl6_1_4_unit",{"$f":"'T2-B(PP4)'!$C$228","v":0},"#'T2-B(PP4)'!$C$228"]
["pp4_bl6_1_4_unit_in",{"$f":"'T2-B(PP4)'!$D$228","v":"Units"},"#'T2-B(PP4)'!$D$228"]
["pp4_bl6_1_4_units_out",{"$f":"'T2-B(PP4)'!$G$228","v":"Units"},"#'T2-B(PP4)'!$G$228"]
["pp4_bl6_1_5_name",{"$f":"'T2-B(PP4)'!$B$229","v":0},"#'T2-B(PP4)'!$B$229"]
["pp4_bl6_1_5_rate_in",{"$f":"'T2-B(PP4)'!$E$229","v":0},"#'T2-B(PP4)'!$E$229"]
["pp4_bl6_1_5_rate_out",{"$f":"'T2-B(PP4)'!$H$229","v":0},"#'T2-B(PP4)'!$H$229"]
["pp4_bl6_1_5_total",{"$f":"'T2-B(PP4)'!$J$229","v":0},"#'T2-B(PP4)'!$J$229"]
["pp4_bl6_1_5_total_in",{"$f":"'T2-B(PP4)'!$F$229","v":0},"#'T2-B(PP4)'!$F$229"]
["pp4_bl6_1_5_total_out",{"$f":"'T2-B(PP4)'!$I$229","v":0},"#'T2-B(PP4)'!$I$229"]
["pp4_bl6_1_5_unit",{"$f":"'T2-B(PP4)'!$C$229","v":0},"#'T2-B(PP4)'!$C$229"]
["pp4_bl6_1_5_unit_in",{"$f":"'T2-B(PP4)'!$D$229","v":0},"#'T2-B(PP4)'!$D$229"]
["pp4_bl6_1_5_units_out",{"$f":"'T2-B(PP4)'!$G$229","v":0},"#'T2-B(PP4)'!$G$229"]
["pp4_bl6_1_6_name",{"$f":"'T2-B(PP4)'!$B$230","v":0},"#'T2-B(PP4)'!$B$230"]
["pp4_bl6_1_6_rate_in",{"$f":"'T2-B(PP4)'!$E$230","v":0},"#'T2-B(PP4)'!$E$230"]
["pp4_bl6_1_6_rate_out",{"$f":"'T2-B(PP4)'!$H$230","v":0},"#'T2-B(PP4)'!$H$230"]
["pp4_bl6_1_6_total",{"$f":"'T2-B(PP4)'!$J$230","v":0},"#'T2-B(PP4)'!$J$230"]
["pp4_bl6_1_6_total_in",{"$f":"'T2-B(PP4)'!$F$230","v":0},"#'T2-B(PP4)'!$F$230"]
["pp4_bl6_1_6_total_out",{"$f":"'T2-B(PP4)'!$I$230","v":0},"#'T2-B(PP4)'!$I$230"]
["pp4_bl6_1_6_unit",{"$f":"'T2-B(PP4)'!$C$230","v":0},"#'T2-B(PP4)'!$C$230"]
["pp4_bl6_1_6_unit_in",{"$f":"'T2-B(PP4)'!$D$230","v":0},"#'T2-B(PP4)'!$D$230"]
["pp4_bl6_1_6_units_out",{"$f":"'T2-B(PP4)'!$G$230","v":0},"#'T2-B(PP4)'!$G$230"]
["pp4_bl6_1_7_name",{"$f":"'T2-B(PP4)'!$B$231","v":"Total direct project costs (BL3+BL4+BL5)"},"#'T2-B(PP4)'!$B$231"]
["pp4_bl6_1_7_rate_in",{"$f":"'T2-B(PP4)'!$E$231","v":0},"#'T2-B(PP4)'!$E$231"]
["pp4_bl6_1_7_rate_out",{"$f":"'T2-B(PP4)'!$H$231","v":0},"#'T2-B(PP4)'!$H$231"]
["pp4_bl6_1_7_total",{"$f":"'T2-B(PP4)'!$J$231","v":0},"#'T2-B(PP4)'!$J$231"]
["pp4_bl6_1_7_total_in",{"$f":"'T2-B(PP4)'!$F$231","v":0},"#'T2-B(PP4)'!$F$231"]
["pp4_bl6_1_7_total_out",{"$f":"'T2-B(PP4)'!$I$231","v":0},"#'T2-B(PP4)'!$I$231"]
["pp4_bl6_1_7_unit",{"$f":"'T2-B(PP4)'!$C$231","v":0},"#'T2-B(PP4)'!$C$231"]
["pp4_bl6_1_7_unit_in",{"$f":"'T2-B(PP4)'!$D$231","v":0},"#'T2-B(PP4)'!$D$231"]
["pp4_bl6_1_7_units_out",{"$f":"'T2-B(PP4)'!$G$231","v":0},"#'T2-B(PP4)'!$G$231"]
["pp4_bl6_1_8_name",{"$f":"'T2-B(PP4)'!$B$232","v":"TOTAL PROJECT COSTS"},"#'T2-B(PP4)'!$B$232"]
["pp4_bl6_1_8_rate_in",{"$f":"'T2-B(PP4)'!$E$232","v":0},"#'T2-B(PP4)'!$E$232"]
["pp4_bl6_1_8_rate_out",{"$f":"'T2-B(PP4)'!$H$232","v":0},"#'T2-B(PP4)'!$H$232"]
["pp4_bl6_1_8_total",{"$f":"'T2-B(PP4)'!$J$232","v":0},"#'T2-B(PP4)'!$J$232"]
["pp4_bl6_1_8_total_in",{"$f":"'T2-B(PP4)'!$F$232","v":0},"#'T2-B(PP4)'!$F$232"]
["pp4_bl6_1_8_total_out",{"$f":"'T2-B(PP4)'!$I$232","v":0},"#'T2-B(PP4)'!$I$232"]
["pp4_bl6_1_8_unit",{"$f":"'T2-B(PP4)'!$C$232","v":0},"#'T2-B(PP4)'!$C$232"]
["pp4_bl6_1_8_unit_in",{"$f":"'T2-B(PP4)'!$D$232","v":0},"#'T2-B(PP4)'!$D$232"]
["pp4_bl6_1_8_units_out",{"$f":"'T2-B(PP4)'!$G$232","v":0},"#'T2-B(PP4)'!$G$232"]
["pp4_bl6_1_9_name",{"$f":"'T2-B(PP4)'!$B$233","v":0},"#'T2-B(PP4)'!$B$233"]
["pp4_bl6_1_9_rate_in",{"$f":"'T2-B(PP4)'!$E$233","v":0},"#'T2-B(PP4)'!$E$233"]
["pp4_bl6_1_9_rate_out",{"$f":"'T2-B(PP4)'!$H$233","v":0},"#'T2-B(PP4)'!$H$233"]
["pp4_bl6_1_9_total",{"$f":"'T2-B(PP4)'!$J$233","v":0},"#'T2-B(PP4)'!$J$233"]
["pp4_bl6_1_9_total_in",{"$f":"'T2-B(PP4)'!$F$233","v":0},"#'T2-B(PP4)'!$F$233"]
["pp4_bl6_1_9_total_out",{"$f":"'T2-B(PP4)'!$I$233","v":0},"#'T2-B(PP4)'!$I$233"]
["pp4_bl6_1_9_unit",{"$f":"'T2-B(PP4)'!$C$233","v":0},"#'T2-B(PP4)'!$C$233"]
["pp4_bl6_1_9_unit_in",{"$f":"'T2-B(PP4)'!$D$233","v":0},"#'T2-B(PP4)'!$D$233"]
["pp4_bl6_1_9_units_out",{"$f":"'T2-B(PP4)'!$G$233","v":0},"#'T2-B(PP4)'!$G$233"]
["pp4_bl6_1_total",{"$f":"'T2-B(PP4)'!$J$224","v":0},"#'T2-B(PP4)'!$J$224"]
["pp4_bl6_1_total_in",{"$f":"'T2-B(PP4)'!$F$224","v":0},"#'T2-B(PP4)'!$F$224"]
["pp4_bl6_1_total_out",{"$f":"'T2-B(PP4)'!$I$224","v":0},"#'T2-B(PP4)'!$I$224"]
["pp4_bl6_total",{"$f":"'T2-B(PP4)'!$J$235","v":0},"#'T2-B(PP4)'!$J$235"]
["pp4_bl6_total_in",{"$f":"'T2-B(PP4)'!$F$235","v":0},"#'T2-B(PP4)'!$F$235"]
["pp4_bl6_total_out",{"$f":"'T2-B(PP4)'!$I$235","v":0},"#'T2-B(PP4)'!$I$235"]
["pp4_country",{"$f":"'PP4'!$K$14","v":2},"#'PP4'!$K$14"]
["pp4_fax",{"$f":"'PP4'!$C$29","v":0},"#'PP4'!$C$29"]
["pp4_is_bg",{"$f":"'PP4'!$D$13","v":0},"#'PP4'!$D$13"]
["pp4_is_pc",{"$f":"'PP4'!$F$13","v":0},"#'PP4'!$F$13"]
["pp4_legal_representative",{"$f":"'PP4'!$C$23","v":0},"#'PP4'!$C$23"]
["pp4_legal_representative_position",{"$f":"'PP4'!$C$25","v":0},"#'PP4'!$C$25"]
["pp4_mail",{"$f":"'PP4'!$C$31","v":0},"#'PP4'!$C$31"]
["pp4_nat_code",{"$f":"'PP4'!$C$75","v":0},"#'PP4'!$C$75"]
["pp4_nuts3",{"$f":"'PP4'!$C$15","v":0},"#'PP4'!$C$15"]
["pp4_organisation_en",{"$f":"'PP4'!$C$7","v":0},"#'PP4'!$C$7"]
["pp4_organisation_native",{"$f":"'PP4'!$C$9","v":0},"#'PP4'!$C$9"]
["pp4_pe_date1",{"$f":"'PP4'!$G$51","v":0},"#'PP4'!$G$51"]
["pp4_pe_date2",{"$f":"'PP4'!$G$59","v":0},"#'PP4'!$G$59"]
["pp4_pe_date3",{"$f":"'PP4'!$G$67","v":0},"#'PP4'!$G$67"]
["pp4_pe_ga1",{"$f":"'PP4'!$G$50","v":0},"#'PP4'!$G$50"]
["pp4_pe_ga2",{"$f":"'PP4'!$G$58","v":0},"#'PP4'!$G$58"]
["pp4_pe_ga3",{"$f":"'PP4'!$G$66","v":0},"#'PP4'!$G$66"]
["pp4_pe_ip1",{"$f":"'PP4'!$C$47","v":0},"#'PP4'!$C$47"]
["pp4_pe_ip2",{"$f":"'PP4'!$C$55","v":0},"#'PP4'!$C$55"]
["pp4_pe_ip3",{"$f":"'PP4'!$C$63","v":0},"#'PP4'!$C$63"]
["pp4_pe_or1",{"$f":"'PP4'!$C$51","v":0},"#'PP4'!$C$51"]
["pp4_pe_or2",{"$f":"'PP4'!$C$59","v":0},"#'PP4'!$C$59"]
["pp4_pe_or3",{"$f":"'PP4'!$C$67","v":0},"#'PP4'!$C$67"]
["pp4_pe_pt1",{"$f":"'PP4'!$C$48","v":0},"#'PP4'!$C$48"]
["pp4_pe_pt2",{"$f":"'PP4'!$C$56","v":0},"#'PP4'!$C$56"]
["pp4_pe_pt3",{"$f":"'PP4'!$C$64","v":0},"#'PP4'!$C$64"]
["pp4_pe_sd1",{"$f":"'PP4'!$C$49","v":0},"#'PP4'!$C$49"]
["pp4_pe_sd2",{"$f":"'PP4'!$C$57","v":0},"#'PP4'!$C$57"]
["pp4_pe_sd3",{"$f":"'PP4'!$C$65","v":0},"#'PP4'!$C$65"]
["pp4_pe_tev1",{"$f":"'PP4'!$C$50","v":0},"#'PP4'!$C$50"]
["pp4_pe_tev2",{"$f":"'PP4'!$C$58","v":0},"#'PP4'!$C$58"]
["pp4_pe_tev3",{"$f":"'PP4'!$C$66","v":0},"#'PP4'!$C$66"]
["pp4_phone",{"$f":"'PP4'!$C$27","v":0},"#'PP4'!$C$27"]
["pp4_post_code",{"$f":"'PP4'!$C$21","v":0},"#'PP4'!$C$21"]
["pp4_profile",{"$f":"'PP4'!$B$41","v":0},"#'PP4'!$B$41"]
["pp4_town",{"$f":"'PP4'!$C$17","v":0},"#'PP4'!$C$17"]
["pp4_type_org",{"$f":"'PP4'!$C$11","v":0},"#'PP4'!$C$11"]
["pp4_vat_code",{"$f":"'PP4'!$C$77","v":0},"#'PP4'!$C$77"]
["pp4_website",{"$f":"'PP4'!$C$33","v":0},"#'PP4'!$C$33"]
["pp5_2012_fulltime_staff",{"$f":"'PP5'!$D$84","v":0},"#'PP5'!$D$84"]
["pp5_2012_offices",{"$f":"'PP5'!$F$84","v":0},"#'PP5'!$F$84"]
["pp5_2012_parttime_staff",{"$f":"'PP5'!$E$84","v":0},"#'PP5'!$E$84"]
["pp5_2012_turnover",{"$f":"'PP5'!$C$84","v":0},"#'PP5'!$C$84"]
["pp5_2013_fulltime_staff",{"$f":"'PP5'!$D$83","v":0},"#'PP5'!$D$83"]
["pp5_2013_offices",{"$f":"'PP5'!$F$83","v":0},"#'PP5'!$F$83"]
["pp5_2013_parttime_staff",{"$f":"'PP5'!$E$83","v":0},"#'PP5'!$E$83"]
["pp5_2013_turnover",{"$f":"'PP5'!$C$83","v":0},"#'PP5'!$C$83"]
["pp5_2014_fulltime_staff",{"$f":"'PP5'!$D$82","v":0},"#'PP5'!$D$82"]
["pp5_2014_offices",{"$f":"'PP5'!$F$82","v":0},"#'PP5'!$F$82"]
["pp5_2014_parttime_staff",{"$f":"'PP5'!$E$82","v":0},"#'PP5'!$E$82"]
["pp5_2014_turnover",{"$f":"'PP5'!$C$82","v":0},"#'PP5'!$C$82"]
["pp5_address",{"$f":"'PP5'!$C$19","v":0},"#'PP5'!$C$19"]
["pp5_bl3_1_1_name",{"$f":"'T2-B(PP5)'!$B$16","v":0},"#'T2-B(PP5)'!$B$16"]
["pp5_bl3_1_1_rate_in",{"$f":"'T2-B(PP5)'!$E$16","v":0},"#'T2-B(PP5)'!$E$16"]
["pp5_bl3_1_1_rate_out",{"$f":"'T2-B(PP5)'!$H$16","v":0},"#'T2-B(PP5)'!$H$16"]
["pp5_bl3_1_1_total",{"$f":"'T2-B(PP5)'!$J$16","v":0},"#'T2-B(PP5)'!$J$16"]
["pp5_bl3_1_1_total_in",{"$f":"'T2-B(PP5)'!$F$16","v":0},"#'T2-B(PP5)'!$F$16"]
["pp5_bl3_1_1_total_out",{"$f":"'T2-B(PP5)'!$I$16","v":0},"#'T2-B(PP5)'!$I$16"]
["pp5_bl3_1_1_unit",{"$f":"'T2-B(PP5)'!$C$16","v":0},"#'T2-B(PP5)'!$C$16"]
["pp5_bl3_1_1_unit_in",{"$f":"'T2-B(PP5)'!$D$16","v":0},"#'T2-B(PP5)'!$D$16"]
["pp5_bl3_1_1_units_out",{"$f":"'T2-B(PP5)'!$G$16","v":0},"#'T2-B(PP5)'!$G$16"]
["pp5_bl3_1_10_name",{"$f":"'T2-B(PP5)'!$B$25","v":0},"#'T2-B(PP5)'!$B$25"]
["pp5_bl3_1_10_rate_in",{"$f":"'T2-B(PP5)'!$E$25","v":0},"#'T2-B(PP5)'!$E$25"]
["pp5_bl3_1_10_rate_out",{"$f":"'T2-B(PP5)'!$H$25","v":0},"#'T2-B(PP5)'!$H$25"]
["pp5_bl3_1_10_total",{"$f":"'T2-B(PP5)'!$J$25","v":0},"#'T2-B(PP5)'!$J$25"]
["pp5_bl3_1_10_total_in",{"$f":"'T2-B(PP5)'!$F$25","v":0},"#'T2-B(PP5)'!$F$25"]
["pp5_bl3_1_10_total_out",{"$f":"'T2-B(PP5)'!$I$25","v":0},"#'T2-B(PP5)'!$I$25"]
["pp5_bl3_1_10_unit",{"$f":"'T2-B(PP5)'!$C$25","v":0},"#'T2-B(PP5)'!$C$25"]
["pp5_bl3_1_10_unit_in",{"$f":"'T2-B(PP5)'!$D$25","v":0},"#'T2-B(PP5)'!$D$25"]
["pp5_bl3_1_10_units_out",{"$f":"'T2-B(PP5)'!$G$25","v":0},"#'T2-B(PP5)'!$G$25"]
["pp5_bl3_1_2_name",{"$f":"'T2-B(PP5)'!$B$17","v":0},"#'T2-B(PP5)'!$B$17"]
["pp5_bl3_1_2_rate_in",{"$f":"'T2-B(PP5)'!$E$17","v":0},"#'T2-B(PP5)'!$E$17"]
["pp5_bl3_1_2_rate_out",{"$f":"'T2-B(PP5)'!$H$17","v":0},"#'T2-B(PP5)'!$H$17"]
["pp5_bl3_1_2_total",{"$f":"'T2-B(PP5)'!$J$17","v":0},"#'T2-B(PP5)'!$J$17"]
["pp5_bl3_1_2_total_in",{"$f":"'T2-B(PP5)'!$F$17","v":0},"#'T2-B(PP5)'!$F$17"]
["pp5_bl3_1_2_total_out",{"$f":"'T2-B(PP5)'!$I$17","v":0},"#'T2-B(PP5)'!$I$17"]
["pp5_bl3_1_2_unit",{"$f":"'T2-B(PP5)'!$C$17","v":0},"#'T2-B(PP5)'!$C$17"]
["pp5_bl3_1_2_unit_in",{"$f":"'T2-B(PP5)'!$D$17","v":0},"#'T2-B(PP5)'!$D$17"]
["pp5_bl3_1_2_units_out",{"$f":"'T2-B(PP5)'!$G$17","v":0},"#'T2-B(PP5)'!$G$17"]
["pp5_bl3_1_3_name",{"$f":"'T2-B(PP5)'!$B$18","v":0},"#'T2-B(PP5)'!$B$18"]
["pp5_bl3_1_3_rate_in",{"$f":"'T2-B(PP5)'!$E$18","v":0},"#'T2-B(PP5)'!$E$18"]
["pp5_bl3_1_3_rate_out",{"$f":"'T2-B(PP5)'!$H$18","v":0},"#'T2-B(PP5)'!$H$18"]
["pp5_bl3_1_3_total",{"$f":"'T2-B(PP5)'!$J$18","v":0},"#'T2-B(PP5)'!$J$18"]
["pp5_bl3_1_3_total_in",{"$f":"'T2-B(PP5)'!$F$18","v":0},"#'T2-B(PP5)'!$F$18"]
["pp5_bl3_1_3_total_out",{"$f":"'T2-B(PP5)'!$I$18","v":0},"#'T2-B(PP5)'!$I$18"]
["pp5_bl3_1_3_unit",{"$f":"'T2-B(PP5)'!$C$18","v":0},"#'T2-B(PP5)'!$C$18"]
["pp5_bl3_1_3_unit_in",{"$f":"'T2-B(PP5)'!$D$18","v":0},"#'T2-B(PP5)'!$D$18"]
["pp5_bl3_1_3_units_out",{"$f":"'T2-B(PP5)'!$G$18","v":0},"#'T2-B(PP5)'!$G$18"]
["pp5_bl3_1_4_name",{"$f":"'T2-B(PP5)'!$B$19","v":0},"#'T2-B(PP5)'!$B$19"]
["pp5_bl3_1_4_rate_in",{"$f":"'T2-B(PP5)'!$E$19","v":0},"#'T2-B(PP5)'!$E$19"]
["pp5_bl3_1_4_rate_out",{"$f":"'T2-B(PP5)'!$H$19","v":0},"#'T2-B(PP5)'!$H$19"]
["pp5_bl3_1_4_total",{"$f":"'T2-B(PP5)'!$J$19","v":0},"#'T2-B(PP5)'!$J$19"]
["pp5_bl3_1_4_total_in",{"$f":"'T2-B(PP5)'!$F$19","v":0},"#'T2-B(PP5)'!$F$19"]
["pp5_bl3_1_4_total_out",{"$f":"'T2-B(PP5)'!$I$19","v":0},"#'T2-B(PP5)'!$I$19"]
["pp5_bl3_1_4_unit",{"$f":"'T2-B(PP5)'!$C$19","v":0},"#'T2-B(PP5)'!$C$19"]
["pp5_bl3_1_4_unit_in",{"$f":"'T2-B(PP5)'!$D$19","v":0},"#'T2-B(PP5)'!$D$19"]
["pp5_bl3_1_4_units_out",{"$f":"'T2-B(PP5)'!$G$19","v":0},"#'T2-B(PP5)'!$G$19"]
["pp5_bl3_1_5_name",{"$f":"'T2-B(PP5)'!$B$20","v":0},"#'T2-B(PP5)'!$B$20"]
["pp5_bl3_1_5_rate_in",{"$f":"'T2-B(PP5)'!$E$20","v":0},"#'T2-B(PP5)'!$E$20"]
["pp5_bl3_1_5_rate_out",{"$f":"'T2-B(PP5)'!$H$20","v":0},"#'T2-B(PP5)'!$H$20"]
["pp5_bl3_1_5_total",{"$f":"'T2-B(PP5)'!$J$20","v":0},"#'T2-B(PP5)'!$J$20"]
["pp5_bl3_1_5_total_in",{"$f":"'T2-B(PP5)'!$F$20","v":0},"#'T2-B(PP5)'!$F$20"]
["pp5_bl3_1_5_total_out",{"$f":"'T2-B(PP5)'!$I$20","v":0},"#'T2-B(PP5)'!$I$20"]
["pp5_bl3_1_5_unit",{"$f":"'T2-B(PP5)'!$C$20","v":0},"#'T2-B(PP5)'!$C$20"]
["pp5_bl3_1_5_unit_in",{"$f":"'T2-B(PP5)'!$D$20","v":0},"#'T2-B(PP5)'!$D$20"]
["pp5_bl3_1_5_units_out",{"$f":"'T2-B(PP5)'!$G$20","v":0},"#'T2-B(PP5)'!$G$20"]
["pp5_bl3_1_6_name",{"$f":"'T2-B(PP5)'!$B$21","v":0},"#'T2-B(PP5)'!$B$21"]
["pp5_bl3_1_6_rate_in",{"$f":"'T2-B(PP5)'!$E$21","v":0},"#'T2-B(PP5)'!$E$21"]
["pp5_bl3_1_6_rate_out",{"$f":"'T2-B(PP5)'!$H$21","v":0},"#'T2-B(PP5)'!$H$21"]
["pp5_bl3_1_6_total",{"$f":"'T2-B(PP5)'!$J$21","v":0},"#'T2-B(PP5)'!$J$21"]
["pp5_bl3_1_6_total_in",{"$f":"'T2-B(PP5)'!$F$21","v":0},"#'T2-B(PP5)'!$F$21"]
["pp5_bl3_1_6_total_out",{"$f":"'T2-B(PP5)'!$I$21","v":0},"#'T2-B(PP5)'!$I$21"]
["pp5_bl3_1_6_unit",{"$f":"'T2-B(PP5)'!$C$21","v":0},"#'T2-B(PP5)'!$C$21"]
["pp5_bl3_1_6_unit_in",{"$f":"'T2-B(PP5)'!$D$21","v":0},"#'T2-B(PP5)'!$D$21"]
["pp5_bl3_1_6_units_out",{"$f":"'T2-B(PP5)'!$G$21","v":0},"#'T2-B(PP5)'!$G$21"]
["pp5_bl3_1_7_name",{"$f":"'T2-B(PP5)'!$B$22","v":0},"#'T2-B(PP5)'!$B$22"]
["pp5_bl3_1_7_rate_in",{"$f":"'T2-B(PP5)'!$E$22","v":0},"#'T2-B(PP5)'!$E$22"]
["pp5_bl3_1_7_rate_out",{"$f":"'T2-B(PP5)'!$H$22","v":0},"#'T2-B(PP5)'!$H$22"]
["pp5_bl3_1_7_total",{"$f":"'T2-B(PP5)'!$J$22","v":0},"#'T2-B(PP5)'!$J$22"]
["pp5_bl3_1_7_total_in",{"$f":"'T2-B(PP5)'!$F$22","v":0},"#'T2-B(PP5)'!$F$22"]
["pp5_bl3_1_7_total_out",{"$f":"'T2-B(PP5)'!$I$22","v":0},"#'T2-B(PP5)'!$I$22"]
["pp5_bl3_1_7_unit",{"$f":"'T2-B(PP5)'!$C$22","v":0},"#'T2-B(PP5)'!$C$22"]
["pp5_bl3_1_7_unit_in",{"$f":"'T2-B(PP5)'!$D$22","v":0},"#'T2-B(PP5)'!$D$22"]
["pp5_bl3_1_7_units_out",{"$f":"'T2-B(PP5)'!$G$22","v":0},"#'T2-B(PP5)'!$G$22"]
["pp5_bl3_1_8_name",{"$f":"'T2-B(PP5)'!$B$23","v":0},"#'T2-B(PP5)'!$B$23"]
["pp5_bl3_1_8_rate_in",{"$f":"'T2-B(PP5)'!$E$23","v":0},"#'T2-B(PP5)'!$E$23"]
["pp5_bl3_1_8_rate_out",{"$f":"'T2-B(PP5)'!$H$23","v":0},"#'T2-B(PP5)'!$H$23"]
["pp5_bl3_1_8_total",{"$f":"'T2-B(PP5)'!$J$23","v":0},"#'T2-B(PP5)'!$J$23"]
["pp5_bl3_1_8_total_in",{"$f":"'T2-B(PP5)'!$F$23","v":0},"#'T2-B(PP5)'!$F$23"]
["pp5_bl3_1_8_total_out",{"$f":"'T2-B(PP5)'!$I$23","v":0},"#'T2-B(PP5)'!$I$23"]
["pp5_bl3_1_8_unit",{"$f":"'T2-B(PP5)'!$C$23","v":0},"#'T2-B(PP5)'!$C$23"]
["pp5_bl3_1_8_unit_in",{"$f":"'T2-B(PP5)'!$D$23","v":0},"#'T2-B(PP5)'!$D$23"]
["pp5_bl3_1_8_units_out",{"$f":"'T2-B(PP5)'!$G$23","v":0},"#'T2-B(PP5)'!$G$23"]
["pp5_bl3_1_9_name",{"$f":"'T2-B(PP5)'!$B$24","v":0},"#'T2-B(PP5)'!$B$24"]
["pp5_bl3_1_9_rate_in",{"$f":"'T2-B(PP5)'!$E$24","v":0},"#'T2-B(PP5)'!$E$24"]
["pp5_bl3_1_9_rate_out",{"$f":"'T2-B(PP5)'!$H$24","v":0},"#'T2-B(PP5)'!$H$24"]
["pp5_bl3_1_9_total",{"$f":"'T2-B(PP5)'!$J$24","v":0},"#'T2-B(PP5)'!$J$24"]
["pp5_bl3_1_9_total_in",{"$f":"'T2-B(PP5)'!$F$24","v":0},"#'T2-B(PP5)'!$F$24"]
["pp5_bl3_1_9_total_out",{"$f":"'T2-B(PP5)'!$I$24","v":0},"#'T2-B(PP5)'!$I$24"]
["pp5_bl3_1_9_unit",{"$f":"'T2-B(PP5)'!$C$24","v":0},"#'T2-B(PP5)'!$C$24"]
["pp5_bl3_1_9_unit_in",{"$f":"'T2-B(PP5)'!$D$24","v":0},"#'T2-B(PP5)'!$D$24"]
["pp5_bl3_1_9_units_out",{"$f":"'T2-B(PP5)'!$G$24","v":0},"#'T2-B(PP5)'!$G$24"]
["pp5_bl3_1_total",{"$f":"'T2-B(PP5)'!$J$15","v":0},"#'T2-B(PP5)'!$J$15"]
["pp5_bl3_1_total_in",{"$f":"'T2-B(PP5)'!$F$15","v":0},"#'T2-B(PP5)'!$F$15"]
["pp5_bl3_1_total_out",{"$f":"'T2-B(PP5)'!$I$15","v":0},"#'T2-B(PP5)'!$I$15"]
["pp5_bl3_2_1_name",{"$f":"'T2-B(PP5)'!$B$27","v":0},"#'T2-B(PP5)'!$B$27"]
["pp5_bl3_2_1_rate_in",{"$f":"'T2-B(PP5)'!$E$27","v":0},"#'T2-B(PP5)'!$E$27"]
["pp5_bl3_2_1_rate_out",{"$f":"'T2-B(PP5)'!$H$27","v":0},"#'T2-B(PP5)'!$H$27"]
["pp5_bl3_2_1_total",{"$f":"'T2-B(PP5)'!$J$27","v":0},"#'T2-B(PP5)'!$J$27"]
["pp5_bl3_2_1_total_in",{"$f":"'T2-B(PP5)'!$F$27","v":0},"#'T2-B(PP5)'!$F$27"]
["pp5_bl3_2_1_total_out",{"$f":"'T2-B(PP5)'!$I$27","v":0},"#'T2-B(PP5)'!$I$27"]
["pp5_bl3_2_1_unit",{"$f":"'T2-B(PP5)'!$C$27","v":0},"#'T2-B(PP5)'!$C$27"]
["pp5_bl3_2_1_unit_in",{"$f":"'T2-B(PP5)'!$D$27","v":0},"#'T2-B(PP5)'!$D$27"]
["pp5_bl3_2_1_units_out",{"$f":"'T2-B(PP5)'!$G$27","v":0},"#'T2-B(PP5)'!$G$27"]
["pp5_bl3_2_10_name",{"$f":"'T2-B(PP5)'!$B$36","v":0},"#'T2-B(PP5)'!$B$36"]
["pp5_bl3_2_10_rate_in",{"$f":"'T2-B(PP5)'!$E$36","v":0},"#'T2-B(PP5)'!$E$36"]
["pp5_bl3_2_10_rate_out",{"$f":"'T2-B(PP5)'!$H$36","v":0},"#'T2-B(PP5)'!$H$36"]
["pp5_bl3_2_10_total",{"$f":"'T2-B(PP5)'!$J$36","v":0},"#'T2-B(PP5)'!$J$36"]
["pp5_bl3_2_10_total_in",{"$f":"'T2-B(PP5)'!$F$36","v":0},"#'T2-B(PP5)'!$F$36"]
["pp5_bl3_2_10_total_out",{"$f":"'T2-B(PP5)'!$I$36","v":0},"#'T2-B(PP5)'!$I$36"]
["pp5_bl3_2_10_unit",{"$f":"'T2-B(PP5)'!$C$36","v":0},"#'T2-B(PP5)'!$C$36"]
["pp5_bl3_2_10_unit_in",{"$f":"'T2-B(PP5)'!$D$36","v":0},"#'T2-B(PP5)'!$D$36"]
["pp5_bl3_2_10_units_out",{"$f":"'T2-B(PP5)'!$G$36","v":0},"#'T2-B(PP5)'!$G$36"]
["pp5_bl3_2_2_name",{"$f":"'T2-B(PP5)'!$B$28","v":0},"#'T2-B(PP5)'!$B$28"]
["pp5_bl3_2_2_rate_in",{"$f":"'T2-B(PP5)'!$E$28","v":0},"#'T2-B(PP5)'!$E$28"]
["pp5_bl3_2_2_rate_out",{"$f":"'T2-B(PP5)'!$H$28","v":0},"#'T2-B(PP5)'!$H$28"]
["pp5_bl3_2_2_total",{"$f":"'T2-B(PP5)'!$J$28","v":0},"#'T2-B(PP5)'!$J$28"]
["pp5_bl3_2_2_total_in",{"$f":"'T2-B(PP5)'!$F$28","v":0},"#'T2-B(PP5)'!$F$28"]
["pp5_bl3_2_2_total_out",{"$f":"'T2-B(PP5)'!$I$28","v":0},"#'T2-B(PP5)'!$I$28"]
["pp5_bl3_2_2_unit",{"$f":"'T2-B(PP5)'!$C$28","v":0},"#'T2-B(PP5)'!$C$28"]
["pp5_bl3_2_2_unit_in",{"$f":"'T2-B(PP5)'!$D$28","v":0},"#'T2-B(PP5)'!$D$28"]
["pp5_bl3_2_2_units_out",{"$f":"'T2-B(PP5)'!$G$28","v":0},"#'T2-B(PP5)'!$G$28"]
["pp5_bl3_2_3_name",{"$f":"'T2-B(PP5)'!$B$29","v":0},"#'T2-B(PP5)'!$B$29"]
["pp5_bl3_2_3_rate_in",{"$f":"'T2-B(PP5)'!$E$29","v":0},"#'T2-B(PP5)'!$E$29"]
["pp5_bl3_2_3_rate_out",{"$f":"'T2-B(PP5)'!$H$29","v":0},"#'T2-B(PP5)'!$H$29"]
["pp5_bl3_2_3_total",{"$f":"'T2-B(PP5)'!$J$29","v":0},"#'T2-B(PP5)'!$J$29"]
["pp5_bl3_2_3_total_in",{"$f":"'T2-B(PP5)'!$F$29","v":0},"#'T2-B(PP5)'!$F$29"]
["pp5_bl3_2_3_total_out",{"$f":"'T2-B(PP5)'!$I$29","v":0},"#'T2-B(PP5)'!$I$29"]
["pp5_bl3_2_3_unit",{"$f":"'T2-B(PP5)'!$C$29","v":0},"#'T2-B(PP5)'!$C$29"]
["pp5_bl3_2_3_unit_in",{"$f":"'T2-B(PP5)'!$D$29","v":0},"#'T2-B(PP5)'!$D$29"]
["pp5_bl3_2_3_units_out",{"$f":"'T2-B(PP5)'!$G$29","v":0},"#'T2-B(PP5)'!$G$29"]
["pp5_bl3_2_4_name",{"$f":"'T2-B(PP5)'!$B$30","v":0},"#'T2-B(PP5)'!$B$30"]
["pp5_bl3_2_4_rate_in",{"$f":"'T2-B(PP5)'!$E$30","v":0},"#'T2-B(PP5)'!$E$30"]
["pp5_bl3_2_4_rate_out",{"$f":"'T2-B(PP5)'!$H$30","v":0},"#'T2-B(PP5)'!$H$30"]
["pp5_bl3_2_4_total",{"$f":"'T2-B(PP5)'!$J$30","v":0},"#'T2-B(PP5)'!$J$30"]
["pp5_bl3_2_4_total_in",{"$f":"'T2-B(PP5)'!$F$30","v":0},"#'T2-B(PP5)'!$F$30"]
["pp5_bl3_2_4_total_out",{"$f":"'T2-B(PP5)'!$I$30","v":0},"#'T2-B(PP5)'!$I$30"]
["pp5_bl3_2_4_unit",{"$f":"'T2-B(PP5)'!$C$30","v":0},"#'T2-B(PP5)'!$C$30"]
["pp5_bl3_2_4_unit_in",{"$f":"'T2-B(PP5)'!$D$30","v":0},"#'T2-B(PP5)'!$D$30"]
["pp5_bl3_2_4_units_out",{"$f":"'T2-B(PP5)'!$G$30","v":0},"#'T2-B(PP5)'!$G$30"]
["pp5_bl3_2_5_name",{"$f":"'T2-B(PP5)'!$B$31","v":0},"#'T2-B(PP5)'!$B$31"]
["pp5_bl3_2_5_rate_in",{"$f":"'T2-B(PP5)'!$E$31","v":0},"#'T2-B(PP5)'!$E$31"]
["pp5_bl3_2_5_rate_out",{"$f":"'T2-B(PP5)'!$H$31","v":0},"#'T2-B(PP5)'!$H$31"]
["pp5_bl3_2_5_total",{"$f":"'T2-B(PP5)'!$J$31","v":0},"#'T2-B(PP5)'!$J$31"]
["pp5_bl3_2_5_total_in",{"$f":"'T2-B(PP5)'!$F$31","v":0},"#'T2-B(PP5)'!$F$31"]
["pp5_bl3_2_5_total_out",{"$f":"'T2-B(PP5)'!$I$31","v":0},"#'T2-B(PP5)'!$I$31"]
["pp5_bl3_2_5_unit",{"$f":"'T2-B(PP5)'!$C$31","v":0},"#'T2-B(PP5)'!$C$31"]
["pp5_bl3_2_5_unit_in",{"$f":"'T2-B(PP5)'!$D$31","v":0},"#'T2-B(PP5)'!$D$31"]
["pp5_bl3_2_5_units_out",{"$f":"'T2-B(PP5)'!$G$31","v":0},"#'T2-B(PP5)'!$G$31"]
["pp5_bl3_2_6_name",{"$f":"'T2-B(PP5)'!$B$32","v":0},"#'T2-B(PP5)'!$B$32"]
["pp5_bl3_2_6_rate_in",{"$f":"'T2-B(PP5)'!$E$32","v":0},"#'T2-B(PP5)'!$E$32"]
["pp5_bl3_2_6_rate_out",{"$f":"'T2-B(PP5)'!$H$32","v":0},"#'T2-B(PP5)'!$H$32"]
["pp5_bl3_2_6_total",{"$f":"'T2-B(PP5)'!$J$32","v":0},"#'T2-B(PP5)'!$J$32"]
["pp5_bl3_2_6_total_in",{"$f":"'T2-B(PP5)'!$F$32","v":0},"#'T2-B(PP5)'!$F$32"]
["pp5_bl3_2_6_total_out",{"$f":"'T2-B(PP5)'!$I$32","v":0},"#'T2-B(PP5)'!$I$32"]
["pp5_bl3_2_6_unit",{"$f":"'T2-B(PP5)'!$C$32","v":0},"#'T2-B(PP5)'!$C$32"]
["pp5_bl3_2_6_unit_in",{"$f":"'T2-B(PP5)'!$D$32","v":0},"#'T2-B(PP5)'!$D$32"]
["pp5_bl3_2_6_units_out",{"$f":"'T2-B(PP5)'!$G$32","v":0},"#'T2-B(PP5)'!$G$32"]
["pp5_bl3_2_7_name",{"$f":"'T2-B(PP5)'!$B$33","v":0},"#'T2-B(PP5)'!$B$33"]
["pp5_bl3_2_7_rate_in",{"$f":"'T2-B(PP5)'!$E$33","v":0},"#'T2-B(PP5)'!$E$33"]
["pp5_bl3_2_7_rate_out",{"$f":"'T2-B(PP5)'!$H$33","v":0},"#'T2-B(PP5)'!$H$33"]
["pp5_bl3_2_7_total",{"$f":"'T2-B(PP5)'!$J$33","v":0},"#'T2-B(PP5)'!$J$33"]
["pp5_bl3_2_7_total_in",{"$f":"'T2-B(PP5)'!$F$33","v":0},"#'T2-B(PP5)'!$F$33"]
["pp5_bl3_2_7_total_out",{"$f":"'T2-B(PP5)'!$I$33","v":0},"#'T2-B(PP5)'!$I$33"]
["pp5_bl3_2_7_unit",{"$f":"'T2-B(PP5)'!$C$33","v":0},"#'T2-B(PP5)'!$C$33"]
["pp5_bl3_2_7_unit_in",{"$f":"'T2-B(PP5)'!$D$33","v":0},"#'T2-B(PP5)'!$D$33"]
["pp5_bl3_2_7_units_out",{"$f":"'T2-B(PP5)'!$G$33","v":0},"#'T2-B(PP5)'!$G$33"]
["pp5_bl3_2_8_name",{"$f":"'T2-B(PP5)'!$B$34","v":0},"#'T2-B(PP5)'!$B$34"]
["pp5_bl3_2_8_rate_in",{"$f":"'T2-B(PP5)'!$E$34","v":0},"#'T2-B(PP5)'!$E$34"]
["pp5_bl3_2_8_rate_out",{"$f":"'T2-B(PP5)'!$H$34","v":0},"#'T2-B(PP5)'!$H$34"]
["pp5_bl3_2_8_total",{"$f":"'T2-B(PP5)'!$J$34","v":0},"#'T2-B(PP5)'!$J$34"]
["pp5_bl3_2_8_total_in",{"$f":"'T2-B(PP5)'!$F$34","v":0},"#'T2-B(PP5)'!$F$34"]
["pp5_bl3_2_8_total_out",{"$f":"'T2-B(PP5)'!$I$34","v":0},"#'T2-B(PP5)'!$I$34"]
["pp5_bl3_2_8_unit",{"$f":"'T2-B(PP5)'!$C$34","v":0},"#'T2-B(PP5)'!$C$34"]
["pp5_bl3_2_8_unit_in",{"$f":"'T2-B(PP5)'!$D$34","v":0},"#'T2-B(PP5)'!$D$34"]
["pp5_bl3_2_8_units_out",{"$f":"'T2-B(PP5)'!$G$34","v":0},"#'T2-B(PP5)'!$G$34"]
["pp5_bl3_2_9_name",{"$f":"'T2-B(PP5)'!$B$35","v":0},"#'T2-B(PP5)'!$B$35"]
["pp5_bl3_2_9_rate_in",{"$f":"'T2-B(PP5)'!$E$35","v":0},"#'T2-B(PP5)'!$E$35"]
["pp5_bl3_2_9_rate_out",{"$f":"'T2-B(PP5)'!$H$35","v":0},"#'T2-B(PP5)'!$H$35"]
["pp5_bl3_2_9_total",{"$f":"'T2-B(PP5)'!$J$35","v":0},"#'T2-B(PP5)'!$J$35"]
["pp5_bl3_2_9_total_in",{"$f":"'T2-B(PP5)'!$F$35","v":0},"#'T2-B(PP5)'!$F$35"]
["pp5_bl3_2_9_total_out",{"$f":"'T2-B(PP5)'!$I$35","v":0},"#'T2-B(PP5)'!$I$35"]
["pp5_bl3_2_9_unit",{"$f":"'T2-B(PP5)'!$C$35","v":0},"#'T2-B(PP5)'!$C$35"]
["pp5_bl3_2_9_unit_in",{"$f":"'T2-B(PP5)'!$D$35","v":0},"#'T2-B(PP5)'!$D$35"]
["pp5_bl3_2_9_units_out",{"$f":"'T2-B(PP5)'!$G$35","v":0},"#'T2-B(PP5)'!$G$35"]
["pp5_bl3_2_total",{"$f":"'T2-B(PP5)'!$J$26","v":0},"#'T2-B(PP5)'!$J$26"]
["pp5_bl3_2_total_in",{"$f":"'T2-B(PP5)'!$F$26","v":0},"#'T2-B(PP5)'!$F$26"]
["pp5_bl3_2_total_out",{"$f":"'T2-B(PP5)'!$I$26","v":0},"#'T2-B(PP5)'!$I$26"]
["pp5_bl3_3_1_name",{"$f":"'T2-B(PP5)'!$B$38","v":0},"#'T2-B(PP5)'!$B$38"]
["pp5_bl3_3_1_rate_in",{"$f":"'T2-B(PP5)'!$E$38","v":0},"#'T2-B(PP5)'!$E$38"]
["pp5_bl3_3_1_rate_out",{"$f":"'T2-B(PP5)'!$H$38","v":0},"#'T2-B(PP5)'!$H$38"]
["pp5_bl3_3_1_total",{"$f":"'T2-B(PP5)'!$J$38","v":0},"#'T2-B(PP5)'!$J$38"]
["pp5_bl3_3_1_total_in",{"$f":"'T2-B(PP5)'!$F$38","v":0},"#'T2-B(PP5)'!$F$38"]
["pp5_bl3_3_1_total_out",{"$f":"'T2-B(PP5)'!$I$38","v":0},"#'T2-B(PP5)'!$I$38"]
["pp5_bl3_3_1_unit",{"$f":"'T2-B(PP5)'!$C$38","v":0},"#'T2-B(PP5)'!$C$38"]
["pp5_bl3_3_1_unit_in",{"$f":"'T2-B(PP5)'!$D$38","v":0},"#'T2-B(PP5)'!$D$38"]
["pp5_bl3_3_1_units_out",{"$f":"'T2-B(PP5)'!$G$38","v":0},"#'T2-B(PP5)'!$G$38"]
["pp5_bl3_3_10_name",{"$f":"'T2-B(PP5)'!$B$47","v":0},"#'T2-B(PP5)'!$B$47"]
["pp5_bl3_3_10_rate_in",{"$f":"'T2-B(PP5)'!$E$47","v":0},"#'T2-B(PP5)'!$E$47"]
["pp5_bl3_3_10_rate_out",{"$f":"'T2-B(PP5)'!$H$47","v":0},"#'T2-B(PP5)'!$H$47"]
["pp5_bl3_3_10_total",{"$f":"'T2-B(PP5)'!$J$47","v":0},"#'T2-B(PP5)'!$J$47"]
["pp5_bl3_3_10_total_in",{"$f":"'T2-B(PP5)'!$F$47","v":0},"#'T2-B(PP5)'!$F$47"]
["pp5_bl3_3_10_total_out",{"$f":"'T2-B(PP5)'!$I$47","v":0},"#'T2-B(PP5)'!$I$47"]
["pp5_bl3_3_10_unit",{"$f":"'T2-B(PP5)'!$C$47","v":0},"#'T2-B(PP5)'!$C$47"]
["pp5_bl3_3_10_unit_in",{"$f":"'T2-B(PP5)'!$D$47","v":0},"#'T2-B(PP5)'!$D$47"]
["pp5_bl3_3_10_units_out",{"$f":"'T2-B(PP5)'!$G$47","v":0},"#'T2-B(PP5)'!$G$47"]
["pp5_bl3_3_2_name",{"$f":"'T2-B(PP5)'!$B$39","v":0},"#'T2-B(PP5)'!$B$39"]
["pp5_bl3_3_2_rate_in",{"$f":"'T2-B(PP5)'!$E$39","v":0},"#'T2-B(PP5)'!$E$39"]
["pp5_bl3_3_2_rate_out",{"$f":"'T2-B(PP5)'!$H$39","v":0},"#'T2-B(PP5)'!$H$39"]
["pp5_bl3_3_2_total",{"$f":"'T2-B(PP5)'!$J$39","v":0},"#'T2-B(PP5)'!$J$39"]
["pp5_bl3_3_2_total_in",{"$f":"'T2-B(PP5)'!$F$39","v":0},"#'T2-B(PP5)'!$F$39"]
["pp5_bl3_3_2_total_out",{"$f":"'T2-B(PP5)'!$I$39","v":0},"#'T2-B(PP5)'!$I$39"]
["pp5_bl3_3_2_unit",{"$f":"'T2-B(PP5)'!$C$39","v":0},"#'T2-B(PP5)'!$C$39"]
["pp5_bl3_3_2_unit_in",{"$f":"'T2-B(PP5)'!$D$39","v":0},"#'T2-B(PP5)'!$D$39"]
["pp5_bl3_3_2_units_out",{"$f":"'T2-B(PP5)'!$G$39","v":0},"#'T2-B(PP5)'!$G$39"]
["pp5_bl3_3_3_name",{"$f":"'T2-B(PP5)'!$B$40","v":0},"#'T2-B(PP5)'!$B$40"]
["pp5_bl3_3_3_rate_in",{"$f":"'T2-B(PP5)'!$E$40","v":0},"#'T2-B(PP5)'!$E$40"]
["pp5_bl3_3_3_rate_out",{"$f":"'T2-B(PP5)'!$H$40","v":0},"#'T2-B(PP5)'!$H$40"]
["pp5_bl3_3_3_total",{"$f":"'T2-B(PP5)'!$J$40","v":0},"#'T2-B(PP5)'!$J$40"]
["pp5_bl3_3_3_total_in",{"$f":"'T2-B(PP5)'!$F$40","v":0},"#'T2-B(PP5)'!$F$40"]
["pp5_bl3_3_3_total_out",{"$f":"'T2-B(PP5)'!$I$40","v":0},"#'T2-B(PP5)'!$I$40"]
["pp5_bl3_3_3_unit",{"$f":"'T2-B(PP5)'!$C$40","v":0},"#'T2-B(PP5)'!$C$40"]
["pp5_bl3_3_3_unit_in",{"$f":"'T2-B(PP5)'!$D$40","v":0},"#'T2-B(PP5)'!$D$40"]
["pp5_bl3_3_3_units_out",{"$f":"'T2-B(PP5)'!$G$40","v":0},"#'T2-B(PP5)'!$G$40"]
["pp5_bl3_3_4_name",{"$f":"'T2-B(PP5)'!$B$41","v":0},"#'T2-B(PP5)'!$B$41"]
["pp5_bl3_3_4_rate_in",{"$f":"'T2-B(PP5)'!$E$41","v":0},"#'T2-B(PP5)'!$E$41"]
["pp5_bl3_3_4_rate_out",{"$f":"'T2-B(PP5)'!$H$41","v":0},"#'T2-B(PP5)'!$H$41"]
["pp5_bl3_3_4_total",{"$f":"'T2-B(PP5)'!$J$41","v":0},"#'T2-B(PP5)'!$J$41"]
["pp5_bl3_3_4_total_in",{"$f":"'T2-B(PP5)'!$F$41","v":0},"#'T2-B(PP5)'!$F$41"]
["pp5_bl3_3_4_total_out",{"$f":"'T2-B(PP5)'!$I$41","v":0},"#'T2-B(PP5)'!$I$41"]
["pp5_bl3_3_4_unit",{"$f":"'T2-B(PP5)'!$C$41","v":0},"#'T2-B(PP5)'!$C$41"]
["pp5_bl3_3_4_unit_in",{"$f":"'T2-B(PP5)'!$D$41","v":0},"#'T2-B(PP5)'!$D$41"]
["pp5_bl3_3_4_units_out",{"$f":"'T2-B(PP5)'!$G$41","v":0},"#'T2-B(PP5)'!$G$41"]
["pp5_bl3_3_5_name",{"$f":"'T2-B(PP5)'!$B$42","v":0},"#'T2-B(PP5)'!$B$42"]
["pp5_bl3_3_5_rate_in",{"$f":"'T2-B(PP5)'!$E$42","v":0},"#'T2-B(PP5)'!$E$42"]
["pp5_bl3_3_5_rate_out",{"$f":"'T2-B(PP5)'!$H$42","v":0},"#'T2-B(PP5)'!$H$42"]
["pp5_bl3_3_5_total",{"$f":"'T2-B(PP5)'!$J$42","v":0},"#'T2-B(PP5)'!$J$42"]
["pp5_bl3_3_5_total_in",{"$f":"'T2-B(PP5)'!$F$42","v":0},"#'T2-B(PP5)'!$F$42"]
["pp5_bl3_3_5_total_out",{"$f":"'T2-B(PP5)'!$I$42","v":0},"#'T2-B(PP5)'!$I$42"]
["pp5_bl3_3_5_unit",{"$f":"'T2-B(PP5)'!$C$42","v":0},"#'T2-B(PP5)'!$C$42"]
["pp5_bl3_3_5_unit_in",{"$f":"'T2-B(PP5)'!$D$42","v":0},"#'T2-B(PP5)'!$D$42"]
["pp5_bl3_3_5_units_out",{"$f":"'T2-B(PP5)'!$G$42","v":0},"#'T2-B(PP5)'!$G$42"]
["pp5_bl3_3_6_name",{"$f":"'T2-B(PP5)'!$B$43","v":0},"#'T2-B(PP5)'!$B$43"]
["pp5_bl3_3_6_rate_in",{"$f":"'T2-B(PP5)'!$E$43","v":0},"#'T2-B(PP5)'!$E$43"]
["pp5_bl3_3_6_rate_out",{"$f":"'T2-B(PP5)'!$H$43","v":0},"#'T2-B(PP5)'!$H$43"]
["pp5_bl3_3_6_total",{"$f":"'T2-B(PP5)'!$J$43","v":0},"#'T2-B(PP5)'!$J$43"]
["pp5_bl3_3_6_total_in",{"$f":"'T2-B(PP5)'!$F$43","v":0},"#'T2-B(PP5)'!$F$43"]
["pp5_bl3_3_6_total_out",{"$f":"'T2-B(PP5)'!$I$43","v":0},"#'T2-B(PP5)'!$I$43"]
["pp5_bl3_3_6_unit",{"$f":"'T2-B(PP5)'!$C$43","v":0},"#'T2-B(PP5)'!$C$43"]
["pp5_bl3_3_6_unit_in",{"$f":"'T2-B(PP5)'!$D$43","v":0},"#'T2-B(PP5)'!$D$43"]
["pp5_bl3_3_6_units_out",{"$f":"'T2-B(PP5)'!$G$43","v":0},"#'T2-B(PP5)'!$G$43"]
["pp5_bl3_3_7_name",{"$f":"'T2-B(PP5)'!$B$44","v":0},"#'T2-B(PP5)'!$B$44"]
["pp5_bl3_3_7_rate_in",{"$f":"'T2-B(PP5)'!$E$44","v":0},"#'T2-B(PP5)'!$E$44"]
["pp5_bl3_3_7_rate_out",{"$f":"'T2-B(PP5)'!$H$44","v":0},"#'T2-B(PP5)'!$H$44"]
["pp5_bl3_3_7_total",{"$f":"'T2-B(PP5)'!$J$44","v":0},"#'T2-B(PP5)'!$J$44"]
["pp5_bl3_3_7_total_in",{"$f":"'T2-B(PP5)'!$F$44","v":0},"#'T2-B(PP5)'!$F$44"]
["pp5_bl3_3_7_total_out",{"$f":"'T2-B(PP5)'!$I$44","v":0},"#'T2-B(PP5)'!$I$44"]
["pp5_bl3_3_7_unit",{"$f":"'T2-B(PP5)'!$C$44","v":0},"#'T2-B(PP5)'!$C$44"]
["pp5_bl3_3_7_unit_in",{"$f":"'T2-B(PP5)'!$D$44","v":0},"#'T2-B(PP5)'!$D$44"]
["pp5_bl3_3_7_units_out",{"$f":"'T2-B(PP5)'!$G$44","v":0},"#'T2-B(PP5)'!$G$44"]
["pp5_bl3_3_8_name",{"$f":"'T2-B(PP5)'!$B$45","v":0},"#'T2-B(PP5)'!$B$45"]
["pp5_bl3_3_8_rate_in",{"$f":"'T2-B(PP5)'!$E$45","v":0},"#'T2-B(PP5)'!$E$45"]
["pp5_bl3_3_8_rate_out",{"$f":"'T2-B(PP5)'!$H$45","v":0},"#'T2-B(PP5)'!$H$45"]
["pp5_bl3_3_8_total",{"$f":"'T2-B(PP5)'!$J$45","v":0},"#'T2-B(PP5)'!$J$45"]
["pp5_bl3_3_8_total_in",{"$f":"'T2-B(PP5)'!$F$45","v":0},"#'T2-B(PP5)'!$F$45"]
["pp5_bl3_3_8_total_out",{"$f":"'T2-B(PP5)'!$I$45","v":0},"#'T2-B(PP5)'!$I$45"]
["pp5_bl3_3_8_unit",{"$f":"'T2-B(PP5)'!$C$45","v":0},"#'T2-B(PP5)'!$C$45"]
["pp5_bl3_3_8_unit_in",{"$f":"'T2-B(PP5)'!$D$45","v":0},"#'T2-B(PP5)'!$D$45"]
["pp5_bl3_3_8_units_out",{"$f":"'T2-B(PP5)'!$G$45","v":0},"#'T2-B(PP5)'!$G$45"]
["pp5_bl3_3_9_name",{"$f":"'T2-B(PP5)'!$B$46","v":0},"#'T2-B(PP5)'!$B$46"]
["pp5_bl3_3_9_rate_in",{"$f":"'T2-B(PP5)'!$E$46","v":0},"#'T2-B(PP5)'!$E$46"]
["pp5_bl3_3_9_rate_out",{"$f":"'T2-B(PP5)'!$H$46","v":0},"#'T2-B(PP5)'!$H$46"]
["pp5_bl3_3_9_total",{"$f":"'T2-B(PP5)'!$J$46","v":0},"#'T2-B(PP5)'!$J$46"]
["pp5_bl3_3_9_total_in",{"$f":"'T2-B(PP5)'!$F$46","v":0},"#'T2-B(PP5)'!$F$46"]
["pp5_bl3_3_9_total_out",{"$f":"'T2-B(PP5)'!$I$46","v":0},"#'T2-B(PP5)'!$I$46"]
["pp5_bl3_3_9_unit",{"$f":"'T2-B(PP5)'!$C$46","v":0},"#'T2-B(PP5)'!$C$46"]
["pp5_bl3_3_9_unit_in",{"$f":"'T2-B(PP5)'!$D$46","v":0},"#'T2-B(PP5)'!$D$46"]
["pp5_bl3_3_9_units_out",{"$f":"'T2-B(PP5)'!$G$46","v":0},"#'T2-B(PP5)'!$G$46"]
["pp5_bl3_3_total",{"$f":"'T2-B(PP5)'!$J$37","v":0},"#'T2-B(PP5)'!$J$37"]
["pp5_bl3_3_total_in",{"$f":"'T2-B(PP5)'!$F$37","v":0},"#'T2-B(PP5)'!$F$37"]
["pp5_bl3_3_total_out",{"$f":"'T2-B(PP5)'!$I$37","v":0},"#'T2-B(PP5)'!$I$37"]
["pp5_bl3_total",{"$f":"'T2-B(PP5)'!$J$48","v":0},"#'T2-B(PP5)'!$J$48"]
["pp5_bl3_total_in",{"$f":"'T2-B(PP5)'!$F$48","v":0},"#'T2-B(PP5)'!$F$48"]
["pp5_bl3_total_out",{"$f":"'T2-B(PP5)'!$I$48","v":0},"#'T2-B(PP5)'!$I$48"]
["pp5_bl4_1_1_name",{"$f":"'T2-B(PP5)'!$B$53","v":0},"#'T2-B(PP5)'!$B$53"]
["pp5_bl4_1_1_rate_in",{"$f":"'T2-B(PP5)'!$E$53","v":0},"#'T2-B(PP5)'!$E$53"]
["pp5_bl4_1_1_rate_out",{"$f":"'T2-B(PP5)'!$H$53","v":0},"#'T2-B(PP5)'!$H$53"]
["pp5_bl4_1_1_total",{"$f":"'T2-B(PP5)'!$J$53","v":0},"#'T2-B(PP5)'!$J$53"]
["pp5_bl4_1_1_total_in",{"$f":"'T2-B(PP5)'!$F$53","v":0},"#'T2-B(PP5)'!$F$53"]
["pp5_bl4_1_1_total_out",{"$f":"'T2-B(PP5)'!$I$53","v":0},"#'T2-B(PP5)'!$I$53"]
["pp5_bl4_1_1_unit",{"$f":"'T2-B(PP5)'!$C$53","v":0},"#'T2-B(PP5)'!$C$53"]
["pp5_bl4_1_1_unit_in",{"$f":"'T2-B(PP5)'!$D$53","v":0},"#'T2-B(PP5)'!$D$53"]
["pp5_bl4_1_1_units_out",{"$f":"'T2-B(PP5)'!$G$53","v":0},"#'T2-B(PP5)'!$G$53"]
["pp5_bl4_1_10_name",{"$f":"'T2-B(PP5)'!$B$62","v":0},"#'T2-B(PP5)'!$B$62"]
["pp5_bl4_1_10_rate_in",{"$f":"'T2-B(PP5)'!$E$62","v":0},"#'T2-B(PP5)'!$E$62"]
["pp5_bl4_1_10_rate_out",{"$f":"'T2-B(PP5)'!$H$62","v":0},"#'T2-B(PP5)'!$H$62"]
["pp5_bl4_1_10_total",{"$f":"'T2-B(PP5)'!$J$62","v":0},"#'T2-B(PP5)'!$J$62"]
["pp5_bl4_1_10_total_in",{"$f":"'T2-B(PP5)'!$F$62","v":0},"#'T2-B(PP5)'!$F$62"]
["pp5_bl4_1_10_total_out",{"$f":"'T2-B(PP5)'!$I$62","v":0},"#'T2-B(PP5)'!$I$62"]
["pp5_bl4_1_10_unit",{"$f":"'T2-B(PP5)'!$C$62","v":0},"#'T2-B(PP5)'!$C$62"]
["pp5_bl4_1_10_unit_in",{"$f":"'T2-B(PP5)'!$D$62","v":0},"#'T2-B(PP5)'!$D$62"]
["pp5_bl4_1_10_units_out",{"$f":"'T2-B(PP5)'!$G$62","v":0},"#'T2-B(PP5)'!$G$62"]
["pp5_bl4_1_2_name",{"$f":"'T2-B(PP5)'!$B$54","v":0},"#'T2-B(PP5)'!$B$54"]
["pp5_bl4_1_2_rate_in",{"$f":"'T2-B(PP5)'!$E$54","v":0},"#'T2-B(PP5)'!$E$54"]
["pp5_bl4_1_2_rate_out",{"$f":"'T2-B(PP5)'!$H$54","v":0},"#'T2-B(PP5)'!$H$54"]
["pp5_bl4_1_2_total",{"$f":"'T2-B(PP5)'!$J$54","v":0},"#'T2-B(PP5)'!$J$54"]
["pp5_bl4_1_2_total_in",{"$f":"'T2-B(PP5)'!$F$54","v":0},"#'T2-B(PP5)'!$F$54"]
["pp5_bl4_1_2_total_out",{"$f":"'T2-B(PP5)'!$I$54","v":0},"#'T2-B(PP5)'!$I$54"]
["pp5_bl4_1_2_unit",{"$f":"'T2-B(PP5)'!$C$54","v":0},"#'T2-B(PP5)'!$C$54"]
["pp5_bl4_1_2_unit_in",{"$f":"'T2-B(PP5)'!$D$54","v":0},"#'T2-B(PP5)'!$D$54"]
["pp5_bl4_1_2_units_out",{"$f":"'T2-B(PP5)'!$G$54","v":0},"#'T2-B(PP5)'!$G$54"]
["pp5_bl4_1_3_name",{"$f":"'T2-B(PP5)'!$B$55","v":0},"#'T2-B(PP5)'!$B$55"]
["pp5_bl4_1_3_rate_in",{"$f":"'T2-B(PP5)'!$E$55","v":0},"#'T2-B(PP5)'!$E$55"]
["pp5_bl4_1_3_rate_out",{"$f":"'T2-B(PP5)'!$H$55","v":0},"#'T2-B(PP5)'!$H$55"]
["pp5_bl4_1_3_total",{"$f":"'T2-B(PP5)'!$J$55","v":0},"#'T2-B(PP5)'!$J$55"]
["pp5_bl4_1_3_total_in",{"$f":"'T2-B(PP5)'!$F$55","v":0},"#'T2-B(PP5)'!$F$55"]
["pp5_bl4_1_3_total_out",{"$f":"'T2-B(PP5)'!$I$55","v":0},"#'T2-B(PP5)'!$I$55"]
["pp5_bl4_1_3_unit",{"$f":"'T2-B(PP5)'!$C$55","v":0},"#'T2-B(PP5)'!$C$55"]
["pp5_bl4_1_3_unit_in",{"$f":"'T2-B(PP5)'!$D$55","v":0},"#'T2-B(PP5)'!$D$55"]
["pp5_bl4_1_3_units_out",{"$f":"'T2-B(PP5)'!$G$55","v":0},"#'T2-B(PP5)'!$G$55"]
["pp5_bl4_1_4_name",{"$f":"'T2-B(PP5)'!$B$56","v":0},"#'T2-B(PP5)'!$B$56"]
["pp5_bl4_1_4_rate_in",{"$f":"'T2-B(PP5)'!$E$56","v":0},"#'T2-B(PP5)'!$E$56"]
["pp5_bl4_1_4_rate_out",{"$f":"'T2-B(PP5)'!$H$56","v":0},"#'T2-B(PP5)'!$H$56"]
["pp5_bl4_1_4_total",{"$f":"'T2-B(PP5)'!$J$56","v":0},"#'T2-B(PP5)'!$J$56"]
["pp5_bl4_1_4_total_in",{"$f":"'T2-B(PP5)'!$F$56","v":0},"#'T2-B(PP5)'!$F$56"]
["pp5_bl4_1_4_total_out",{"$f":"'T2-B(PP5)'!$I$56","v":0},"#'T2-B(PP5)'!$I$56"]
["pp5_bl4_1_4_unit",{"$f":"'T2-B(PP5)'!$C$56","v":0},"#'T2-B(PP5)'!$C$56"]
["pp5_bl4_1_4_unit_in",{"$f":"'T2-B(PP5)'!$D$56","v":0},"#'T2-B(PP5)'!$D$56"]
["pp5_bl4_1_4_units_out",{"$f":"'T2-B(PP5)'!$G$56","v":0},"#'T2-B(PP5)'!$G$56"]
["pp5_bl4_1_5_name",{"$f":"'T2-B(PP5)'!$B$57","v":0},"#'T2-B(PP5)'!$B$57"]
["pp5_bl4_1_5_rate_in",{"$f":"'T2-B(PP5)'!$E$57","v":0},"#'T2-B(PP5)'!$E$57"]
["pp5_bl4_1_5_rate_out",{"$f":"'T2-B(PP5)'!$H$57","v":0},"#'T2-B(PP5)'!$H$57"]
["pp5_bl4_1_5_total",{"$f":"'T2-B(PP5)'!$J$57","v":0},"#'T2-B(PP5)'!$J$57"]
["pp5_bl4_1_5_total_in",{"$f":"'T2-B(PP5)'!$F$57","v":0},"#'T2-B(PP5)'!$F$57"]
["pp5_bl4_1_5_total_out",{"$f":"'T2-B(PP5)'!$I$57","v":0},"#'T2-B(PP5)'!$I$57"]
["pp5_bl4_1_5_unit",{"$f":"'T2-B(PP5)'!$C$57","v":0},"#'T2-B(PP5)'!$C$57"]
["pp5_bl4_1_5_unit_in",{"$f":"'T2-B(PP5)'!$D$57","v":0},"#'T2-B(PP5)'!$D$57"]
["pp5_bl4_1_5_units_out",{"$f":"'T2-B(PP5)'!$G$57","v":0},"#'T2-B(PP5)'!$G$57"]
["pp5_bl4_1_6_name",{"$f":"'T2-B(PP5)'!$B$58","v":0},"#'T2-B(PP5)'!$B$58"]
["pp5_bl4_1_6_rate_in",{"$f":"'T2-B(PP5)'!$E$58","v":0},"#'T2-B(PP5)'!$E$58"]
["pp5_bl4_1_6_rate_out",{"$f":"'T2-B(PP5)'!$H$58","v":0},"#'T2-B(PP5)'!$H$58"]
["pp5_bl4_1_6_total",{"$f":"'T2-B(PP5)'!$J$58","v":0},"#'T2-B(PP5)'!$J$58"]
["pp5_bl4_1_6_total_in",{"$f":"'T2-B(PP5)'!$F$58","v":0},"#'T2-B(PP5)'!$F$58"]
["pp5_bl4_1_6_total_out",{"$f":"'T2-B(PP5)'!$I$58","v":0},"#'T2-B(PP5)'!$I$58"]
["pp5_bl4_1_6_unit",{"$f":"'T2-B(PP5)'!$C$58","v":0},"#'T2-B(PP5)'!$C$58"]
["pp5_bl4_1_6_unit_in",{"$f":"'T2-B(PP5)'!$D$58","v":0},"#'T2-B(PP5)'!$D$58"]
["pp5_bl4_1_6_units_out",{"$f":"'T2-B(PP5)'!$G$58","v":0},"#'T2-B(PP5)'!$G$58"]
["pp5_bl4_1_7_name",{"$f":"'T2-B(PP5)'!$B$59","v":0},"#'T2-B(PP5)'!$B$59"]
["pp5_bl4_1_7_rate_in",{"$f":"'T2-B(PP5)'!$E$59","v":0},"#'T2-B(PP5)'!$E$59"]
["pp5_bl4_1_7_rate_out",{"$f":"'T2-B(PP5)'!$H$59","v":0},"#'T2-B(PP5)'!$H$59"]
["pp5_bl4_1_7_total",{"$f":"'T2-B(PP5)'!$J$59","v":0},"#'T2-B(PP5)'!$J$59"]
["pp5_bl4_1_7_total_in",{"$f":"'T2-B(PP5)'!$F$59","v":0},"#'T2-B(PP5)'!$F$59"]
["pp5_bl4_1_7_total_out",{"$f":"'T2-B(PP5)'!$I$59","v":0},"#'T2-B(PP5)'!$I$59"]
["pp5_bl4_1_7_unit",{"$f":"'T2-B(PP5)'!$C$59","v":0},"#'T2-B(PP5)'!$C$59"]
["pp5_bl4_1_7_unit_in",{"$f":"'T2-B(PP5)'!$D$59","v":0},"#'T2-B(PP5)'!$D$59"]
["pp5_bl4_1_7_units_out",{"$f":"'T2-B(PP5)'!$G$59","v":0},"#'T2-B(PP5)'!$G$59"]
["pp5_bl4_1_8_name",{"$f":"'T2-B(PP5)'!$B$60","v":0},"#'T2-B(PP5)'!$B$60"]
["pp5_bl4_1_8_rate_in",{"$f":"'T2-B(PP5)'!$E$60","v":0},"#'T2-B(PP5)'!$E$60"]
["pp5_bl4_1_8_rate_out",{"$f":"'T2-B(PP5)'!$H$60","v":0},"#'T2-B(PP5)'!$H$60"]
["pp5_bl4_1_8_total",{"$f":"'T2-B(PP5)'!$J$60","v":0},"#'T2-B(PP5)'!$J$60"]
["pp5_bl4_1_8_total_in",{"$f":"'T2-B(PP5)'!$F$60","v":0},"#'T2-B(PP5)'!$F$60"]
["pp5_bl4_1_8_total_out",{"$f":"'T2-B(PP5)'!$I$60","v":0},"#'T2-B(PP5)'!$I$60"]
["pp5_bl4_1_8_unit",{"$f":"'T2-B(PP5)'!$C$60","v":0},"#'T2-B(PP5)'!$C$60"]
["pp5_bl4_1_8_unit_in",{"$f":"'T2-B(PP5)'!$D$60","v":0},"#'T2-B(PP5)'!$D$60"]
["pp5_bl4_1_8_units_out",{"$f":"'T2-B(PP5)'!$G$60","v":0},"#'T2-B(PP5)'!$G$60"]
["pp5_bl4_1_9_name",{"$f":"'T2-B(PP5)'!$B$61","v":0},"#'T2-B(PP5)'!$B$61"]
["pp5_bl4_1_9_rate_in",{"$f":"'T2-B(PP5)'!$E$61","v":0},"#'T2-B(PP5)'!$E$61"]
["pp5_bl4_1_9_rate_out",{"$f":"'T2-B(PP5)'!$H$61","v":0},"#'T2-B(PP5)'!$H$61"]
["pp5_bl4_1_9_total",{"$f":"'T2-B(PP5)'!$J$61","v":0},"#'T2-B(PP5)'!$J$61"]
["pp5_bl4_1_9_total_in",{"$f":"'T2-B(PP5)'!$F$61","v":0},"#'T2-B(PP5)'!$F$61"]
["pp5_bl4_1_9_total_out",{"$f":"'T2-B(PP5)'!$I$61","v":0},"#'T2-B(PP5)'!$I$61"]
["pp5_bl4_1_9_unit",{"$f":"'T2-B(PP5)'!$C$61","v":0},"#'T2-B(PP5)'!$C$61"]
["pp5_bl4_1_9_unit_in",{"$f":"'T2-B(PP5)'!$D$61","v":0},"#'T2-B(PP5)'!$D$61"]
["pp5_bl4_1_9_units_out",{"$f":"'T2-B(PP5)'!$G$61","v":0},"#'T2-B(PP5)'!$G$61"]
["pp5_bl4_1_total",{"$f":"'T2-B(PP5)'!$J$52","v":0},"#'T2-B(PP5)'!$J$52"]
["pp5_bl4_1_total_in",{"$f":"'T2-B(PP5)'!$F$52","v":0},"#'T2-B(PP5)'!$F$52"]
["pp5_bl4_1_total_out",{"$f":"'T2-B(PP5)'!$I$52","v":0},"#'T2-B(PP5)'!$I$52"]
["pp5_bl4_10_1_name",{"$f":"'T2-B(PP5)'!$B$152","v":0},"#'T2-B(PP5)'!$B$152"]
["pp5_bl4_10_1_rate_in",{"$f":"'T2-B(PP5)'!$E$152","v":0},"#'T2-B(PP5)'!$E$152"]
["pp5_bl4_10_1_rate_out",{"$f":"'T2-B(PP5)'!$H$152","v":0},"#'T2-B(PP5)'!$H$152"]
["pp5_bl4_10_1_total",{"$f":"'T2-B(PP5)'!$J$152","v":0},"#'T2-B(PP5)'!$J$152"]
["pp5_bl4_10_1_total_in",{"$f":"'T2-B(PP5)'!$F$152","v":0},"#'T2-B(PP5)'!$F$152"]
["pp5_bl4_10_1_total_out",{"$f":"'T2-B(PP5)'!$I$152","v":0},"#'T2-B(PP5)'!$I$152"]
["pp5_bl4_10_1_unit",{"$f":"'T2-B(PP5)'!$C$152","v":0},"#'T2-B(PP5)'!$C$152"]
["pp5_bl4_10_1_unit_in",{"$f":"'T2-B(PP5)'!$D$152","v":0},"#'T2-B(PP5)'!$D$152"]
["pp5_bl4_10_1_units_out",{"$f":"'T2-B(PP5)'!$G$152","v":0},"#'T2-B(PP5)'!$G$152"]
["pp5_bl4_10_10_name",{"$f":"'T2-B(PP5)'!$B$161","v":0},"#'T2-B(PP5)'!$B$161"]
["pp5_bl4_10_10_rate_in",{"$f":"'T2-B(PP5)'!$E$161","v":0},"#'T2-B(PP5)'!$E$161"]
["pp5_bl4_10_10_rate_out",{"$f":"'T2-B(PP5)'!$H$161","v":0},"#'T2-B(PP5)'!$H$161"]
["pp5_bl4_10_10_total",{"$f":"'T2-B(PP5)'!$J$161","v":0},"#'T2-B(PP5)'!$J$161"]
["pp5_bl4_10_10_total_in",{"$f":"'T2-B(PP5)'!$F$161","v":0},"#'T2-B(PP5)'!$F$161"]
["pp5_bl4_10_10_total_out",{"$f":"'T2-B(PP5)'!$I$161","v":0},"#'T2-B(PP5)'!$I$161"]
["pp5_bl4_10_10_unit",{"$f":"'T2-B(PP5)'!$C$161","v":0},"#'T2-B(PP5)'!$C$161"]
["pp5_bl4_10_10_unit_in",{"$f":"'T2-B(PP5)'!$D$161","v":0},"#'T2-B(PP5)'!$D$161"]
["pp5_bl4_10_10_units_out",{"$f":"'T2-B(PP5)'!$G$161","v":0},"#'T2-B(PP5)'!$G$161"]
["pp5_bl4_10_2_name",{"$f":"'T2-B(PP5)'!$B$153","v":0},"#'T2-B(PP5)'!$B$153"]
["pp5_bl4_10_2_rate_in",{"$f":"'T2-B(PP5)'!$E$153","v":0},"#'T2-B(PP5)'!$E$153"]
["pp5_bl4_10_2_rate_out",{"$f":"'T2-B(PP5)'!$H$153","v":0},"#'T2-B(PP5)'!$H$153"]
["pp5_bl4_10_2_total",{"$f":"'T2-B(PP5)'!$J$153","v":0},"#'T2-B(PP5)'!$J$153"]
["pp5_bl4_10_2_total_in",{"$f":"'T2-B(PP5)'!$F$153","v":0},"#'T2-B(PP5)'!$F$153"]
["pp5_bl4_10_2_total_out",{"$f":"'T2-B(PP5)'!$I$153","v":0},"#'T2-B(PP5)'!$I$153"]
["pp5_bl4_10_2_unit",{"$f":"'T2-B(PP5)'!$C$153","v":0},"#'T2-B(PP5)'!$C$153"]
["pp5_bl4_10_2_unit_in",{"$f":"'T2-B(PP5)'!$D$153","v":0},"#'T2-B(PP5)'!$D$153"]
["pp5_bl4_10_2_units_out",{"$f":"'T2-B(PP5)'!$G$153","v":0},"#'T2-B(PP5)'!$G$153"]
["pp5_bl4_10_3_name",{"$f":"'T2-B(PP5)'!$B$154","v":0},"#'T2-B(PP5)'!$B$154"]
["pp5_bl4_10_3_rate_in",{"$f":"'T2-B(PP5)'!$E$154","v":0},"#'T2-B(PP5)'!$E$154"]
["pp5_bl4_10_3_rate_out",{"$f":"'T2-B(PP5)'!$H$154","v":0},"#'T2-B(PP5)'!$H$154"]
["pp5_bl4_10_3_total",{"$f":"'T2-B(PP5)'!$J$154","v":0},"#'T2-B(PP5)'!$J$154"]
["pp5_bl4_10_3_total_in",{"$f":"'T2-B(PP5)'!$F$154","v":0},"#'T2-B(PP5)'!$F$154"]
["pp5_bl4_10_3_total_out",{"$f":"'T2-B(PP5)'!$I$154","v":0},"#'T2-B(PP5)'!$I$154"]
["pp5_bl4_10_3_unit",{"$f":"'T2-B(PP5)'!$C$154","v":0},"#'T2-B(PP5)'!$C$154"]
["pp5_bl4_10_3_unit_in",{"$f":"'T2-B(PP5)'!$D$154","v":0},"#'T2-B(PP5)'!$D$154"]
["pp5_bl4_10_3_units_out",{"$f":"'T2-B(PP5)'!$G$154","v":0},"#'T2-B(PP5)'!$G$154"]
["pp5_bl4_10_4_name",{"$f":"'T2-B(PP5)'!$B$155","v":0},"#'T2-B(PP5)'!$B$155"]
["pp5_bl4_10_4_rate_in",{"$f":"'T2-B(PP5)'!$E$155","v":0},"#'T2-B(PP5)'!$E$155"]
["pp5_bl4_10_4_rate_out",{"$f":"'T2-B(PP5)'!$H$155","v":0},"#'T2-B(PP5)'!$H$155"]
["pp5_bl4_10_4_total",{"$f":"'T2-B(PP5)'!$J$155","v":0},"#'T2-B(PP5)'!$J$155"]
["pp5_bl4_10_4_total_in",{"$f":"'T2-B(PP5)'!$F$155","v":0},"#'T2-B(PP5)'!$F$155"]
["pp5_bl4_10_4_total_out",{"$f":"'T2-B(PP5)'!$I$155","v":0},"#'T2-B(PP5)'!$I$155"]
["pp5_bl4_10_4_unit",{"$f":"'T2-B(PP5)'!$C$155","v":0},"#'T2-B(PP5)'!$C$155"]
["pp5_bl4_10_4_unit_in",{"$f":"'T2-B(PP5)'!$D$155","v":0},"#'T2-B(PP5)'!$D$155"]
["pp5_bl4_10_4_units_out",{"$f":"'T2-B(PP5)'!$G$155","v":0},"#'T2-B(PP5)'!$G$155"]
["pp5_bl4_10_5_name",{"$f":"'T2-B(PP5)'!$B$156","v":0},"#'T2-B(PP5)'!$B$156"]
["pp5_bl4_10_5_rate_in",{"$f":"'T2-B(PP5)'!$E$156","v":0},"#'T2-B(PP5)'!$E$156"]
["pp5_bl4_10_5_rate_out",{"$f":"'T2-B(PP5)'!$H$156","v":0},"#'T2-B(PP5)'!$H$156"]
["pp5_bl4_10_5_total",{"$f":"'T2-B(PP5)'!$J$156","v":0},"#'T2-B(PP5)'!$J$156"]
["pp5_bl4_10_5_total_in",{"$f":"'T2-B(PP5)'!$F$156","v":0},"#'T2-B(PP5)'!$F$156"]
["pp5_bl4_10_5_total_out",{"$f":"'T2-B(PP5)'!$I$156","v":0},"#'T2-B(PP5)'!$I$156"]
["pp5_bl4_10_5_unit",{"$f":"'T2-B(PP5)'!$C$156","v":0},"#'T2-B(PP5)'!$C$156"]
["pp5_bl4_10_5_unit_in",{"$f":"'T2-B(PP5)'!$D$156","v":0},"#'T2-B(PP5)'!$D$156"]
["pp5_bl4_10_5_units_out",{"$f":"'T2-B(PP5)'!$G$156","v":0},"#'T2-B(PP5)'!$G$156"]
["pp5_bl4_10_6_name",{"$f":"'T2-B(PP5)'!$B$157","v":0},"#'T2-B(PP5)'!$B$157"]
["pp5_bl4_10_6_rate_in",{"$f":"'T2-B(PP5)'!$E$157","v":0},"#'T2-B(PP5)'!$E$157"]
["pp5_bl4_10_6_rate_out",{"$f":"'T2-B(PP5)'!$H$157","v":0},"#'T2-B(PP5)'!$H$157"]
["pp5_bl4_10_6_total",{"$f":"'T2-B(PP5)'!$J$157","v":0},"#'T2-B(PP5)'!$J$157"]
["pp5_bl4_10_6_total_in",{"$f":"'T2-B(PP5)'!$F$157","v":0},"#'T2-B(PP5)'!$F$157"]
["pp5_bl4_10_6_total_out",{"$f":"'T2-B(PP5)'!$I$157","v":0},"#'T2-B(PP5)'!$I$157"]
["pp5_bl4_10_6_unit",{"$f":"'T2-B(PP5)'!$C$157","v":0},"#'T2-B(PP5)'!$C$157"]
["pp5_bl4_10_6_unit_in",{"$f":"'T2-B(PP5)'!$D$157","v":0},"#'T2-B(PP5)'!$D$157"]
["pp5_bl4_10_6_units_out",{"$f":"'T2-B(PP5)'!$G$157","v":0},"#'T2-B(PP5)'!$G$157"]
["pp5_bl4_10_7_name",{"$f":"'T2-B(PP5)'!$B$158","v":0},"#'T2-B(PP5)'!$B$158"]
["pp5_bl4_10_7_rate_in",{"$f":"'T2-B(PP5)'!$E$158","v":0},"#'T2-B(PP5)'!$E$158"]
["pp5_bl4_10_7_rate_out",{"$f":"'T2-B(PP5)'!$H$158","v":0},"#'T2-B(PP5)'!$H$158"]
["pp5_bl4_10_7_total",{"$f":"'T2-B(PP5)'!$J$158","v":0},"#'T2-B(PP5)'!$J$158"]
["pp5_bl4_10_7_total_in",{"$f":"'T2-B(PP5)'!$F$158","v":0},"#'T2-B(PP5)'!$F$158"]
["pp5_bl4_10_7_total_out",{"$f":"'T2-B(PP5)'!$I$158","v":0},"#'T2-B(PP5)'!$I$158"]
["pp5_bl4_10_7_unit",{"$f":"'T2-B(PP5)'!$C$158","v":0},"#'T2-B(PP5)'!$C$158"]
["pp5_bl4_10_7_unit_in",{"$f":"'T2-B(PP5)'!$D$158","v":0},"#'T2-B(PP5)'!$D$158"]
["pp5_bl4_10_7_units_out",{"$f":"'T2-B(PP5)'!$G$158","v":0},"#'T2-B(PP5)'!$G$158"]
["pp5_bl4_10_8_name",{"$f":"'T2-B(PP5)'!$B$159","v":0},"#'T2-B(PP5)'!$B$159"]
["pp5_bl4_10_8_rate_in",{"$f":"'T2-B(PP5)'!$E$159","v":0},"#'T2-B(PP5)'!$E$159"]
["pp5_bl4_10_8_rate_out",{"$f":"'T2-B(PP5)'!$H$159","v":0},"#'T2-B(PP5)'!$H$159"]
["pp5_bl4_10_8_total",{"$f":"'T2-B(PP5)'!$J$159","v":0},"#'T2-B(PP5)'!$J$159"]
["pp5_bl4_10_8_total_in",{"$f":"'T2-B(PP5)'!$F$159","v":0},"#'T2-B(PP5)'!$F$159"]
["pp5_bl4_10_8_total_out",{"$f":"'T2-B(PP5)'!$I$159","v":0},"#'T2-B(PP5)'!$I$159"]
["pp5_bl4_10_8_unit",{"$f":"'T2-B(PP5)'!$C$159","v":0},"#'T2-B(PP5)'!$C$159"]
["pp5_bl4_10_8_unit_in",{"$f":"'T2-B(PP5)'!$D$159","v":0},"#'T2-B(PP5)'!$D$159"]
["pp5_bl4_10_8_units_out",{"$f":"'T2-B(PP5)'!$G$159","v":0},"#'T2-B(PP5)'!$G$159"]
["pp5_bl4_10_9_name",{"$f":"'T2-B(PP5)'!$B$160","v":0},"#'T2-B(PP5)'!$B$160"]
["pp5_bl4_10_9_rate_in",{"$f":"'T2-B(PP5)'!$E$160","v":0},"#'T2-B(PP5)'!$E$160"]
["pp5_bl4_10_9_rate_out",{"$f":"'T2-B(PP5)'!$H$160","v":0},"#'T2-B(PP5)'!$H$160"]
["pp5_bl4_10_9_total",{"$f":"'T2-B(PP5)'!$J$160","v":0},"#'T2-B(PP5)'!$J$160"]
["pp5_bl4_10_9_total_in",{"$f":"'T2-B(PP5)'!$F$160","v":0},"#'T2-B(PP5)'!$F$160"]
["pp5_bl4_10_9_total_out",{"$f":"'T2-B(PP5)'!$I$160","v":0},"#'T2-B(PP5)'!$I$160"]
["pp5_bl4_10_9_unit",{"$f":"'T2-B(PP5)'!$C$160","v":0},"#'T2-B(PP5)'!$C$160"]
["pp5_bl4_10_9_unit_in",{"$f":"'T2-B(PP5)'!$D$160","v":0},"#'T2-B(PP5)'!$D$160"]
["pp5_bl4_10_9_units_out",{"$f":"'T2-B(PP5)'!$G$160","v":0},"#'T2-B(PP5)'!$G$160"]
["pp5_bl4_10_total",{"$f":"'T2-B(PP5)'!$J$151","v":0},"#'T2-B(PP5)'!$J$151"]
["pp5_bl4_10_total_in",{"$f":"'T2-B(PP5)'!$F$151","v":0},"#'T2-B(PP5)'!$F$151"]
["pp5_bl4_10_total_out",{"$f":"'T2-B(PP5)'!$I$151","v":0},"#'T2-B(PP5)'!$I$151"]
["pp5_bl4_11_1_name",{"$f":"'T2-B(PP5)'!$B$163","v":0},"#'T2-B(PP5)'!$B$163"]
["pp5_bl4_11_1_rate_in",{"$f":"'T2-B(PP5)'!$E$163","v":0},"#'T2-B(PP5)'!$E$163"]
["pp5_bl4_11_1_rate_out",{"$f":"'T2-B(PP5)'!$H$163","v":0},"#'T2-B(PP5)'!$H$163"]
["pp5_bl4_11_1_total",{"$f":"'T2-B(PP5)'!$J$163","v":0},"#'T2-B(PP5)'!$J$163"]
["pp5_bl4_11_1_total_in",{"$f":"'T2-B(PP5)'!$F$163","v":0},"#'T2-B(PP5)'!$F$163"]
["pp5_bl4_11_1_total_out",{"$f":"'T2-B(PP5)'!$I$163","v":0},"#'T2-B(PP5)'!$I$163"]
["pp5_bl4_11_1_unit",{"$f":"'T2-B(PP5)'!$C$163","v":0},"#'T2-B(PP5)'!$C$163"]
["pp5_bl4_11_1_unit_in",{"$f":"'T2-B(PP5)'!$D$163","v":0},"#'T2-B(PP5)'!$D$163"]
["pp5_bl4_11_1_units_out",{"$f":"'T2-B(PP5)'!$G$163","v":0},"#'T2-B(PP5)'!$G$163"]
["pp5_bl4_11_10_name",{"$f":"'T2-B(PP5)'!$B$172","v":0},"#'T2-B(PP5)'!$B$172"]
["pp5_bl4_11_10_rate_in",{"$f":"'T2-B(PP5)'!$E$172","v":0},"#'T2-B(PP5)'!$E$172"]
["pp5_bl4_11_10_rate_out",{"$f":"'T2-B(PP5)'!$H$172","v":0},"#'T2-B(PP5)'!$H$172"]
["pp5_bl4_11_10_total",{"$f":"'T2-B(PP5)'!$J$172","v":0},"#'T2-B(PP5)'!$J$172"]
["pp5_bl4_11_10_total_in",{"$f":"'T2-B(PP5)'!$F$172","v":0},"#'T2-B(PP5)'!$F$172"]
["pp5_bl4_11_10_total_out",{"$f":"'T2-B(PP5)'!$I$172","v":0},"#'T2-B(PP5)'!$I$172"]
["pp5_bl4_11_10_unit",{"$f":"'T2-B(PP5)'!$C$172","v":0},"#'T2-B(PP5)'!$C$172"]
["pp5_bl4_11_10_unit_in",{"$f":"'T2-B(PP5)'!$D$172","v":0},"#'T2-B(PP5)'!$D$172"]
["pp5_bl4_11_10_units_out",{"$f":"'T2-B(PP5)'!$G$172","v":0},"#'T2-B(PP5)'!$G$172"]
["pp5_bl4_11_2_name",{"$f":"'T2-B(PP5)'!$B$164","v":0},"#'T2-B(PP5)'!$B$164"]
["pp5_bl4_11_2_rate_in",{"$f":"'T2-B(PP5)'!$E$164","v":0},"#'T2-B(PP5)'!$E$164"]
["pp5_bl4_11_2_rate_out",{"$f":"'T2-B(PP5)'!$H$164","v":0},"#'T2-B(PP5)'!$H$164"]
["pp5_bl4_11_2_total",{"$f":"'T2-B(PP5)'!$J$164","v":0},"#'T2-B(PP5)'!$J$164"]
["pp5_bl4_11_2_total_in",{"$f":"'T2-B(PP5)'!$F$164","v":0},"#'T2-B(PP5)'!$F$164"]
["pp5_bl4_11_2_total_out",{"$f":"'T2-B(PP5)'!$I$164","v":0},"#'T2-B(PP5)'!$I$164"]
["pp5_bl4_11_2_unit",{"$f":"'T2-B(PP5)'!$C$164","v":0},"#'T2-B(PP5)'!$C$164"]
["pp5_bl4_11_2_unit_in",{"$f":"'T2-B(PP5)'!$D$164","v":0},"#'T2-B(PP5)'!$D$164"]
["pp5_bl4_11_2_units_out",{"$f":"'T2-B(PP5)'!$G$164","v":0},"#'T2-B(PP5)'!$G$164"]
["pp5_bl4_11_3_name",{"$f":"'T2-B(PP5)'!$B$165","v":0},"#'T2-B(PP5)'!$B$165"]
["pp5_bl4_11_3_rate_in",{"$f":"'T2-B(PP5)'!$E$165","v":0},"#'T2-B(PP5)'!$E$165"]
["pp5_bl4_11_3_rate_out",{"$f":"'T2-B(PP5)'!$H$165","v":0},"#'T2-B(PP5)'!$H$165"]
["pp5_bl4_11_3_total",{"$f":"'T2-B(PP5)'!$J$165","v":0},"#'T2-B(PP5)'!$J$165"]
["pp5_bl4_11_3_total_in",{"$f":"'T2-B(PP5)'!$F$165","v":0},"#'T2-B(PP5)'!$F$165"]
["pp5_bl4_11_3_total_out",{"$f":"'T2-B(PP5)'!$I$165","v":0},"#'T2-B(PP5)'!$I$165"]
["pp5_bl4_11_3_unit",{"$f":"'T2-B(PP5)'!$C$165","v":0},"#'T2-B(PP5)'!$C$165"]
["pp5_bl4_11_3_unit_in",{"$f":"'T2-B(PP5)'!$D$165","v":0},"#'T2-B(PP5)'!$D$165"]
["pp5_bl4_11_3_units_out",{"$f":"'T2-B(PP5)'!$G$165","v":0},"#'T2-B(PP5)'!$G$165"]
["pp5_bl4_11_4_name",{"$f":"'T2-B(PP5)'!$B$166","v":0},"#'T2-B(PP5)'!$B$166"]
["pp5_bl4_11_4_rate_in",{"$f":"'T2-B(PP5)'!$E$166","v":0},"#'T2-B(PP5)'!$E$166"]
["pp5_bl4_11_4_rate_out",{"$f":"'T2-B(PP5)'!$H$166","v":0},"#'T2-B(PP5)'!$H$166"]
["pp5_bl4_11_4_total",{"$f":"'T2-B(PP5)'!$J$166","v":0},"#'T2-B(PP5)'!$J$166"]
["pp5_bl4_11_4_total_in",{"$f":"'T2-B(PP5)'!$F$166","v":0},"#'T2-B(PP5)'!$F$166"]
["pp5_bl4_11_4_total_out",{"$f":"'T2-B(PP5)'!$I$166","v":0},"#'T2-B(PP5)'!$I$166"]
["pp5_bl4_11_4_unit",{"$f":"'T2-B(PP5)'!$C$166","v":0},"#'T2-B(PP5)'!$C$166"]
["pp5_bl4_11_4_unit_in",{"$f":"'T2-B(PP5)'!$D$166","v":0},"#'T2-B(PP5)'!$D$166"]
["pp5_bl4_11_4_units_out",{"$f":"'T2-B(PP5)'!$G$166","v":0},"#'T2-B(PP5)'!$G$166"]
["pp5_bl4_11_5_name",{"$f":"'T2-B(PP5)'!$B$167","v":0},"#'T2-B(PP5)'!$B$167"]
["pp5_bl4_11_5_rate_in",{"$f":"'T2-B(PP5)'!$E$167","v":0},"#'T2-B(PP5)'!$E$167"]
["pp5_bl4_11_5_rate_out",{"$f":"'T2-B(PP5)'!$H$167","v":0},"#'T2-B(PP5)'!$H$167"]
["pp5_bl4_11_5_total",{"$f":"'T2-B(PP5)'!$J$167","v":0},"#'T2-B(PP5)'!$J$167"]
["pp5_bl4_11_5_total_in",{"$f":"'T2-B(PP5)'!$F$167","v":0},"#'T2-B(PP5)'!$F$167"]
["pp5_bl4_11_5_total_out",{"$f":"'T2-B(PP5)'!$I$167","v":0},"#'T2-B(PP5)'!$I$167"]
["pp5_bl4_11_5_unit",{"$f":"'T2-B(PP5)'!$C$167","v":0},"#'T2-B(PP5)'!$C$167"]
["pp5_bl4_11_5_unit_in",{"$f":"'T2-B(PP5)'!$D$167","v":0},"#'T2-B(PP5)'!$D$167"]
["pp5_bl4_11_5_units_out",{"$f":"'T2-B(PP5)'!$G$167","v":0},"#'T2-B(PP5)'!$G$167"]
["pp5_bl4_11_6_name",{"$f":"'T2-B(PP5)'!$B$168","v":0},"#'T2-B(PP5)'!$B$168"]
["pp5_bl4_11_6_rate_in",{"$f":"'T2-B(PP5)'!$E$168","v":0},"#'T2-B(PP5)'!$E$168"]
["pp5_bl4_11_6_rate_out",{"$f":"'T2-B(PP5)'!$H$168","v":0},"#'T2-B(PP5)'!$H$168"]
["pp5_bl4_11_6_total",{"$f":"'T2-B(PP5)'!$J$168","v":0},"#'T2-B(PP5)'!$J$168"]
["pp5_bl4_11_6_total_in",{"$f":"'T2-B(PP5)'!$F$168","v":0},"#'T2-B(PP5)'!$F$168"]
["pp5_bl4_11_6_total_out",{"$f":"'T2-B(PP5)'!$I$168","v":0},"#'T2-B(PP5)'!$I$168"]
["pp5_bl4_11_6_unit",{"$f":"'T2-B(PP5)'!$C$168","v":0},"#'T2-B(PP5)'!$C$168"]
["pp5_bl4_11_6_unit_in",{"$f":"'T2-B(PP5)'!$D$168","v":0},"#'T2-B(PP5)'!$D$168"]
["pp5_bl4_11_6_units_out",{"$f":"'T2-B(PP5)'!$G$168","v":0},"#'T2-B(PP5)'!$G$168"]
["pp5_bl4_11_7_name",{"$f":"'T2-B(PP5)'!$B$169","v":0},"#'T2-B(PP5)'!$B$169"]
["pp5_bl4_11_7_rate_in",{"$f":"'T2-B(PP5)'!$E$169","v":0},"#'T2-B(PP5)'!$E$169"]
["pp5_bl4_11_7_rate_out",{"$f":"'T2-B(PP5)'!$H$169","v":0},"#'T2-B(PP5)'!$H$169"]
["pp5_bl4_11_7_total",{"$f":"'T2-B(PP5)'!$J$169","v":0},"#'T2-B(PP5)'!$J$169"]
["pp5_bl4_11_7_total_in",{"$f":"'T2-B(PP5)'!$F$169","v":0},"#'T2-B(PP5)'!$F$169"]
["pp5_bl4_11_7_total_out",{"$f":"'T2-B(PP5)'!$I$169","v":0},"#'T2-B(PP5)'!$I$169"]
["pp5_bl4_11_7_unit",{"$f":"'T2-B(PP5)'!$C$169","v":0},"#'T2-B(PP5)'!$C$169"]
["pp5_bl4_11_7_unit_in",{"$f":"'T2-B(PP5)'!$D$169","v":0},"#'T2-B(PP5)'!$D$169"]
["pp5_bl4_11_7_units_out",{"$f":"'T2-B(PP5)'!$G$169","v":0},"#'T2-B(PP5)'!$G$169"]
["pp5_bl4_11_8_name",{"$f":"'T2-B(PP5)'!$B$170","v":0},"#'T2-B(PP5)'!$B$170"]
["pp5_bl4_11_8_rate_in",{"$f":"'T2-B(PP5)'!$E$170","v":0},"#'T2-B(PP5)'!$E$170"]
["pp5_bl4_11_8_rate_out",{"$f":"'T2-B(PP5)'!$H$170","v":0},"#'T2-B(PP5)'!$H$170"]
["pp5_bl4_11_8_total",{"$f":"'T2-B(PP5)'!$J$170","v":0},"#'T2-B(PP5)'!$J$170"]
["pp5_bl4_11_8_total_in",{"$f":"'T2-B(PP5)'!$F$170","v":0},"#'T2-B(PP5)'!$F$170"]
["pp5_bl4_11_8_total_out",{"$f":"'T2-B(PP5)'!$I$170","v":0},"#'T2-B(PP5)'!$I$170"]
["pp5_bl4_11_8_unit",{"$f":"'T2-B(PP5)'!$C$170","v":0},"#'T2-B(PP5)'!$C$170"]
["pp5_bl4_11_8_unit_in",{"$f":"'T2-B(PP5)'!$D$170","v":0},"#'T2-B(PP5)'!$D$170"]
["pp5_bl4_11_8_units_out",{"$f":"'T2-B(PP5)'!$G$170","v":0},"#'T2-B(PP5)'!$G$170"]
["pp5_bl4_11_9_name",{"$f":"'T2-B(PP5)'!$B$171","v":0},"#'T2-B(PP5)'!$B$171"]
["pp5_bl4_11_9_rate_in",{"$f":"'T2-B(PP5)'!$E$171","v":0},"#'T2-B(PP5)'!$E$171"]
["pp5_bl4_11_9_rate_out",{"$f":"'T2-B(PP5)'!$H$171","v":0},"#'T2-B(PP5)'!$H$171"]
["pp5_bl4_11_9_total",{"$f":"'T2-B(PP5)'!$J$171","v":0},"#'T2-B(PP5)'!$J$171"]
["pp5_bl4_11_9_total_in",{"$f":"'T2-B(PP5)'!$F$171","v":0},"#'T2-B(PP5)'!$F$171"]
["pp5_bl4_11_9_total_out",{"$f":"'T2-B(PP5)'!$I$171","v":0},"#'T2-B(PP5)'!$I$171"]
["pp5_bl4_11_9_unit",{"$f":"'T2-B(PP5)'!$C$171","v":0},"#'T2-B(PP5)'!$C$171"]
["pp5_bl4_11_9_unit_in",{"$f":"'T2-B(PP5)'!$D$171","v":0},"#'T2-B(PP5)'!$D$171"]
["pp5_bl4_11_9_units_out",{"$f":"'T2-B(PP5)'!$G$171","v":0},"#'T2-B(PP5)'!$G$171"]
["pp5_bl4_11_total",{"$f":"'T2-B(PP5)'!$J$162","v":0},"#'T2-B(PP5)'!$J$162"]
["pp5_bl4_11_total_in",{"$f":"'T2-B(PP5)'!$F$162","v":0},"#'T2-B(PP5)'!$F$162"]
["pp5_bl4_11_total_out",{"$f":"'T2-B(PP5)'!$I$162","v":0},"#'T2-B(PP5)'!$I$162"]
["pp5_bl4_12_1_name",{"$f":"'T2-B(PP5)'!$B$174","v":0},"#'T2-B(PP5)'!$B$174"]
["pp5_bl4_12_1_rate_in",{"$f":"'T2-B(PP5)'!$E$174","v":0},"#'T2-B(PP5)'!$E$174"]
["pp5_bl4_12_1_rate_out",{"$f":"'T2-B(PP5)'!$H$174","v":0},"#'T2-B(PP5)'!$H$174"]
["pp5_bl4_12_1_total",{"$f":"'T2-B(PP5)'!$J$174","v":0},"#'T2-B(PP5)'!$J$174"]
["pp5_bl4_12_1_total_in",{"$f":"'T2-B(PP5)'!$F$174","v":0},"#'T2-B(PP5)'!$F$174"]
["pp5_bl4_12_1_total_out",{"$f":"'T2-B(PP5)'!$I$174","v":0},"#'T2-B(PP5)'!$I$174"]
["pp5_bl4_12_1_unit",{"$f":"'T2-B(PP5)'!$C$174","v":0},"#'T2-B(PP5)'!$C$174"]
["pp5_bl4_12_1_unit_in",{"$f":"'T2-B(PP5)'!$D$174","v":0},"#'T2-B(PP5)'!$D$174"]
["pp5_bl4_12_1_units_out",{"$f":"'T2-B(PP5)'!$G$174","v":0},"#'T2-B(PP5)'!$G$174"]
["pp5_bl4_12_10_name",{"$f":"'T2-B(PP5)'!$B$183","v":0},"#'T2-B(PP5)'!$B$183"]
["pp5_bl4_12_10_rate_in",{"$f":"'T2-B(PP5)'!$E$183","v":0},"#'T2-B(PP5)'!$E$183"]
["pp5_bl4_12_10_rate_out",{"$f":"'T2-B(PP5)'!$H$183","v":0},"#'T2-B(PP5)'!$H$183"]
["pp5_bl4_12_10_total",{"$f":"'T2-B(PP5)'!$J$183","v":0},"#'T2-B(PP5)'!$J$183"]
["pp5_bl4_12_10_total_in",{"$f":"'T2-B(PP5)'!$F$183","v":0},"#'T2-B(PP5)'!$F$183"]
["pp5_bl4_12_10_total_out",{"$f":"'T2-B(PP5)'!$I$183","v":0},"#'T2-B(PP5)'!$I$183"]
["pp5_bl4_12_10_unit",{"$f":"'T2-B(PP5)'!$C$183","v":0},"#'T2-B(PP5)'!$C$183"]
["pp5_bl4_12_10_unit_in",{"$f":"'T2-B(PP5)'!$D$183","v":0},"#'T2-B(PP5)'!$D$183"]
["pp5_bl4_12_10_units_out",{"$f":"'T2-B(PP5)'!$G$183","v":0},"#'T2-B(PP5)'!$G$183"]
["pp5_bl4_12_2_name",{"$f":"'T2-B(PP5)'!$B$175","v":"BL5 - EQUIPMENT AND WORKS"},"#'T2-B(PP5)'!$B$175"]
["pp5_bl4_12_2_rate_in",{"$f":"'T2-B(PP5)'!$E$175","v":0},"#'T2-B(PP5)'!$E$175"]
["pp5_bl4_12_2_rate_out",{"$f":"'T2-B(PP5)'!$H$175","v":0},"#'T2-B(PP5)'!$H$175"]
["pp5_bl4_12_2_total",{"$f":"'T2-B(PP5)'!$J$175","v":"TOTAL"},"#'T2-B(PP5)'!$J$175"]
["pp5_bl4_12_2_total_in",{"$f":"'T2-B(PP5)'!$F$175","v":0},"#'T2-B(PP5)'!$F$175"]
["pp5_bl4_12_2_total_out",{"$f":"'T2-B(PP5)'!$I$175","v":0},"#'T2-B(PP5)'!$I$175"]
["pp5_bl4_12_2_unit",{"$f":"'T2-B(PP5)'!$C$175","v":"Unit"},"#'T2-B(PP5)'!$C$175"]
["pp5_bl4_12_2_unit_in",{"$f":"'T2-B(PP5)'!$D$175","v":"Expenditures in the eligible area"},"#'T2-B(PP5)'!$D$175"]
["pp5_bl4_12_2_units_out",{"$f":"'T2-B(PP5)'!$G$175","v":"Expenditures outside the eligible area"},"#'T2-B(PP5)'!$G$175"]
["pp5_bl4_12_3_name",{"$f":"'T2-B(PP5)'!$B$176","v":0},"#'T2-B(PP5)'!$B$176"]
["pp5_bl4_12_3_rate_in",{"$f":"'T2-B(PP5)'!$E$176","v":"Unit rate"},"#'T2-B(PP5)'!$E$176"]
["pp5_bl4_12_3_rate_out",{"$f":"'T2-B(PP5)'!$H$176","v":"Unit rate"},"#'T2-B(PP5)'!$H$176"]
["pp5_bl4_12_3_total",{"$f":"'T2-B(PP5)'!$J$176","v":0},"#'T2-B(PP5)'!$J$176"]
["pp5_bl4_12_3_total_in",{"$f":"'T2-B(PP5)'!$F$176","v":"Total"},"#'T2-B(PP5)'!$F$176"]
["pp5_bl4_12_3_total_out",{"$f":"'T2-B(PP5)'!$I$176","v":"Total"},"#'T2-B(PP5)'!$I$176"]
["pp5_bl4_12_3_unit",{"$f":"'T2-B(PP5)'!$C$176","v":0},"#'T2-B(PP5)'!$C$176"]
["pp5_bl4_12_3_unit_in",{"$f":"'T2-B(PP5)'!$D$176","v":"Units"},"#'T2-B(PP5)'!$D$176"]
["pp5_bl4_12_3_units_out",{"$f":"'T2-B(PP5)'!$G$176","v":"Units"},"#'T2-B(PP5)'!$G$176"]
["pp5_bl4_12_4_name",{"$f":"'T2-B(PP5)'!$B$177","v":"Small scale construction"},"#'T2-B(PP5)'!$B$177"]
["pp5_bl4_12_4_rate_in",{"$f":"'T2-B(PP5)'!$E$177","v":0},"#'T2-B(PP5)'!$E$177"]
["pp5_bl4_12_4_rate_out",{"$f":"'T2-B(PP5)'!$H$177","v":0},"#'T2-B(PP5)'!$H$177"]
["pp5_bl4_12_4_total",{"$f":"'T2-B(PP5)'!$J$177","v":0},"#'T2-B(PP5)'!$J$177"]
["pp5_bl4_12_4_total_in",{"$f":"'T2-B(PP5)'!$F$177","v":0},"#'T2-B(PP5)'!$F$177"]
["pp5_bl4_12_4_total_out",{"$f":"'T2-B(PP5)'!$I$177","v":0},"#'T2-B(PP5)'!$I$177"]
["pp5_bl4_12_4_unit",{"$f":"'T2-B(PP5)'!$C$177","v":0},"#'T2-B(PP5)'!$C$177"]
["pp5_bl4_12_4_unit_in",{"$f":"'T2-B(PP5)'!$D$177","v":0},"#'T2-B(PP5)'!$D$177"]
["pp5_bl4_12_4_units_out",{"$f":"'T2-B(PP5)'!$G$177","v":0},"#'T2-B(PP5)'!$G$177"]
["pp5_bl4_12_5_name",{"$f":"'T2-B(PP5)'!$B$178","v":0},"#'T2-B(PP5)'!$B$178"]
["pp5_bl4_12_5_rate_in",{"$f":"'T2-B(PP5)'!$E$178","v":0},"#'T2-B(PP5)'!$E$178"]
["pp5_bl4_12_5_rate_out",{"$f":"'T2-B(PP5)'!$H$178","v":0},"#'T2-B(PP5)'!$H$178"]
["pp5_bl4_12_5_total",{"$f":"'T2-B(PP5)'!$J$178","v":0},"#'T2-B(PP5)'!$J$178"]
["pp5_bl4_12_5_total_in",{"$f":"'T2-B(PP5)'!$F$178","v":0},"#'T2-B(PP5)'!$F$178"]
["pp5_bl4_12_5_total_out",{"$f":"'T2-B(PP5)'!$I$178","v":0},"#'T2-B(PP5)'!$I$178"]
["pp5_bl4_12_5_unit",{"$f":"'T2-B(PP5)'!$C$178","v":0},"#'T2-B(PP5)'!$C$178"]
["pp5_bl4_12_5_unit_in",{"$f":"'T2-B(PP5)'!$D$178","v":0},"#'T2-B(PP5)'!$D$178"]
["pp5_bl4_12_5_units_out",{"$f":"'T2-B(PP5)'!$G$178","v":0},"#'T2-B(PP5)'!$G$178"]
["pp5_bl4_12_6_name",{"$f":"'T2-B(PP5)'!$B$179","v":0},"#'T2-B(PP5)'!$B$179"]
["pp5_bl4_12_6_rate_in",{"$f":"'T2-B(PP5)'!$E$179","v":0},"#'T2-B(PP5)'!$E$179"]
["pp5_bl4_12_6_rate_out",{"$f":"'T2-B(PP5)'!$H$179","v":0},"#'T2-B(PP5)'!$H$179"]
["pp5_bl4_12_6_total",{"$f":"'T2-B(PP5)'!$J$179","v":0},"#'T2-B(PP5)'!$J$179"]
["pp5_bl4_12_6_total_in",{"$f":"'T2-B(PP5)'!$F$179","v":0},"#'T2-B(PP5)'!$F$179"]
["pp5_bl4_12_6_total_out",{"$f":"'T2-B(PP5)'!$I$179","v":0},"#'T2-B(PP5)'!$I$179"]
["pp5_bl4_12_6_unit",{"$f":"'T2-B(PP5)'!$C$179","v":0},"#'T2-B(PP5)'!$C$179"]
["pp5_bl4_12_6_unit_in",{"$f":"'T2-B(PP5)'!$D$179","v":0},"#'T2-B(PP5)'!$D$179"]
["pp5_bl4_12_6_units_out",{"$f":"'T2-B(PP5)'!$G$179","v":0},"#'T2-B(PP5)'!$G$179"]
["pp5_bl4_12_7_name",{"$f":"'T2-B(PP5)'!$B$180","v":0},"#'T2-B(PP5)'!$B$180"]
["pp5_bl4_12_7_rate_in",{"$f":"'T2-B(PP5)'!$E$180","v":0},"#'T2-B(PP5)'!$E$180"]
["pp5_bl4_12_7_rate_out",{"$f":"'T2-B(PP5)'!$H$180","v":0},"#'T2-B(PP5)'!$H$180"]
["pp5_bl4_12_7_total",{"$f":"'T2-B(PP5)'!$J$180","v":0},"#'T2-B(PP5)'!$J$180"]
["pp5_bl4_12_7_total_in",{"$f":"'T2-B(PP5)'!$F$180","v":0},"#'T2-B(PP5)'!$F$180"]
["pp5_bl4_12_7_total_out",{"$f":"'T2-B(PP5)'!$I$180","v":0},"#'T2-B(PP5)'!$I$180"]
["pp5_bl4_12_7_unit",{"$f":"'T2-B(PP5)'!$C$180","v":0},"#'T2-B(PP5)'!$C$180"]
["pp5_bl4_12_7_unit_in",{"$f":"'T2-B(PP5)'!$D$180","v":0},"#'T2-B(PP5)'!$D$180"]
["pp5_bl4_12_7_units_out",{"$f":"'T2-B(PP5)'!$G$180","v":0},"#'T2-B(PP5)'!$G$180"]
["pp5_bl4_12_8_name",{"$f":"'T2-B(PP5)'!$B$181","v":0},"#'T2-B(PP5)'!$B$181"]
["pp5_bl4_12_8_rate_in",{"$f":"'T2-B(PP5)'!$E$181","v":0},"#'T2-B(PP5)'!$E$181"]
["pp5_bl4_12_8_rate_out",{"$f":"'T2-B(PP5)'!$H$181","v":0},"#'T2-B(PP5)'!$H$181"]
["pp5_bl4_12_8_total",{"$f":"'T2-B(PP5)'!$J$181","v":0},"#'T2-B(PP5)'!$J$181"]
["pp5_bl4_12_8_total_in",{"$f":"'T2-B(PP5)'!$F$181","v":0},"#'T2-B(PP5)'!$F$181"]
["pp5_bl4_12_8_total_out",{"$f":"'T2-B(PP5)'!$I$181","v":0},"#'T2-B(PP5)'!$I$181"]
["pp5_bl4_12_8_unit",{"$f":"'T2-B(PP5)'!$C$181","v":0},"#'T2-B(PP5)'!$C$181"]
["pp5_bl4_12_8_unit_in",{"$f":"'T2-B(PP5)'!$D$181","v":0},"#'T2-B(PP5)'!$D$181"]
["pp5_bl4_12_8_units_out",{"$f":"'T2-B(PP5)'!$G$181","v":0},"#'T2-B(PP5)'!$G$181"]
["pp5_bl4_12_9_name",{"$f":"'T2-B(PP5)'!$B$182","v":0},"#'T2-B(PP5)'!$B$182"]
["pp5_bl4_12_9_rate_in",{"$f":"'T2-B(PP5)'!$E$182","v":0},"#'T2-B(PP5)'!$E$182"]
["pp5_bl4_12_9_rate_out",{"$f":"'T2-B(PP5)'!$H$182","v":0},"#'T2-B(PP5)'!$H$182"]
["pp5_bl4_12_9_total",{"$f":"'T2-B(PP5)'!$J$182","v":0},"#'T2-B(PP5)'!$J$182"]
["pp5_bl4_12_9_total_in",{"$f":"'T2-B(PP5)'!$F$182","v":0},"#'T2-B(PP5)'!$F$182"]
["pp5_bl4_12_9_total_out",{"$f":"'T2-B(PP5)'!$I$182","v":0},"#'T2-B(PP5)'!$I$182"]
["pp5_bl4_12_9_unit",{"$f":"'T2-B(PP5)'!$C$182","v":0},"#'T2-B(PP5)'!$C$182"]
["pp5_bl4_12_9_unit_in",{"$f":"'T2-B(PP5)'!$D$182","v":0},"#'T2-B(PP5)'!$D$182"]
["pp5_bl4_12_9_units_out",{"$f":"'T2-B(PP5)'!$G$182","v":0},"#'T2-B(PP5)'!$G$182"]
["pp5_bl4_12_total",{"$f":"'T2-B(PP5)'!$J$173","v":0},"#'T2-B(PP5)'!$J$173"]
["pp5_bl4_12_total_in",{"$f":"'T2-B(PP5)'!$F$173","v":0},"#'T2-B(PP5)'!$F$173"]
["pp5_bl4_12_total_out",{"$f":"'T2-B(PP5)'!$I$173","v":0},"#'T2-B(PP5)'!$I$173"]
["pp5_bl4_13_1_name",{"$f":"'T2-B(PP5)'!$B$185","v":0},"#'T2-B(PP5)'!$B$185"]
["pp5_bl4_13_1_rate_in",{"$f":"'T2-B(PP5)'!$E$185","v":0},"#'T2-B(PP5)'!$E$185"]
["pp5_bl4_13_1_rate_out",{"$f":"'T2-B(PP5)'!$H$185","v":0},"#'T2-B(PP5)'!$H$185"]
["pp5_bl4_13_1_total",{"$f":"'T2-B(PP5)'!$J$185","v":0},"#'T2-B(PP5)'!$J$185"]
["pp5_bl4_13_1_total_in",{"$f":"'T2-B(PP5)'!$F$185","v":0},"#'T2-B(PP5)'!$F$185"]
["pp5_bl4_13_1_total_out",{"$f":"'T2-B(PP5)'!$I$185","v":0},"#'T2-B(PP5)'!$I$185"]
["pp5_bl4_13_1_unit",{"$f":"'T2-B(PP5)'!$C$185","v":0},"#'T2-B(PP5)'!$C$185"]
["pp5_bl4_13_1_unit_in",{"$f":"'T2-B(PP5)'!$D$185","v":0},"#'T2-B(PP5)'!$D$185"]
["pp5_bl4_13_1_units_out",{"$f":"'T2-B(PP5)'!$G$185","v":0},"#'T2-B(PP5)'!$G$185"]
["pp5_bl4_13_10_name",{"$f":"'T2-B(PP5)'!$B$194","v":0},"#'T2-B(PP5)'!$B$194"]
["pp5_bl4_13_10_rate_in",{"$f":"'T2-B(PP5)'!$E$194","v":0},"#'T2-B(PP5)'!$E$194"]
["pp5_bl4_13_10_rate_out",{"$f":"'T2-B(PP5)'!$H$194","v":0},"#'T2-B(PP5)'!$H$194"]
["pp5_bl4_13_10_total",{"$f":"'T2-B(PP5)'!$J$194","v":0},"#'T2-B(PP5)'!$J$194"]
["pp5_bl4_13_10_total_in",{"$f":"'T2-B(PP5)'!$F$194","v":0},"#'T2-B(PP5)'!$F$194"]
["pp5_bl4_13_10_total_out",{"$f":"'T2-B(PP5)'!$I$194","v":0},"#'T2-B(PP5)'!$I$194"]
["pp5_bl4_13_10_unit",{"$f":"'T2-B(PP5)'!$C$194","v":0},"#'T2-B(PP5)'!$C$194"]
["pp5_bl4_13_10_unit_in",{"$f":"'T2-B(PP5)'!$D$194","v":0},"#'T2-B(PP5)'!$D$194"]
["pp5_bl4_13_10_units_out",{"$f":"'T2-B(PP5)'!$G$194","v":0},"#'T2-B(PP5)'!$G$194"]
["pp5_bl4_13_2_name",{"$f":"'T2-B(PP5)'!$B$186","v":0},"#'T2-B(PP5)'!$B$186"]
["pp5_bl4_13_2_rate_in",{"$f":"'T2-B(PP5)'!$E$186","v":0},"#'T2-B(PP5)'!$E$186"]
["pp5_bl4_13_2_rate_out",{"$f":"'T2-B(PP5)'!$H$186","v":0},"#'T2-B(PP5)'!$H$186"]
["pp5_bl4_13_2_total",{"$f":"'T2-B(PP5)'!$J$186","v":0},"#'T2-B(PP5)'!$J$186"]
["pp5_bl4_13_2_total_in",{"$f":"'T2-B(PP5)'!$F$186","v":0},"#'T2-B(PP5)'!$F$186"]
["pp5_bl4_13_2_total_out",{"$f":"'T2-B(PP5)'!$I$186","v":0},"#'T2-B(PP5)'!$I$186"]
["pp5_bl4_13_2_unit",{"$f":"'T2-B(PP5)'!$C$186","v":0},"#'T2-B(PP5)'!$C$186"]
["pp5_bl4_13_2_unit_in",{"$f":"'T2-B(PP5)'!$D$186","v":0},"#'T2-B(PP5)'!$D$186"]
["pp5_bl4_13_2_units_out",{"$f":"'T2-B(PP5)'!$G$186","v":0},"#'T2-B(PP5)'!$G$186"]
["pp5_bl4_13_3_name",{"$f":"'T2-B(PP5)'!$B$187","v":0},"#'T2-B(PP5)'!$B$187"]
["pp5_bl4_13_3_rate_in",{"$f":"'T2-B(PP5)'!$E$187","v":0},"#'T2-B(PP5)'!$E$187"]
["pp5_bl4_13_3_rate_out",{"$f":"'T2-B(PP5)'!$H$187","v":0},"#'T2-B(PP5)'!$H$187"]
["pp5_bl4_13_3_total",{"$f":"'T2-B(PP5)'!$J$187","v":0},"#'T2-B(PP5)'!$J$187"]
["pp5_bl4_13_3_total_in",{"$f":"'T2-B(PP5)'!$F$187","v":0},"#'T2-B(PP5)'!$F$187"]
["pp5_bl4_13_3_total_out",{"$f":"'T2-B(PP5)'!$I$187","v":0},"#'T2-B(PP5)'!$I$187"]
["pp5_bl4_13_3_unit",{"$f":"'T2-B(PP5)'!$C$187","v":0},"#'T2-B(PP5)'!$C$187"]
["pp5_bl4_13_3_unit_in",{"$f":"'T2-B(PP5)'!$D$187","v":0},"#'T2-B(PP5)'!$D$187"]
["pp5_bl4_13_3_units_out",{"$f":"'T2-B(PP5)'!$G$187","v":0},"#'T2-B(PP5)'!$G$187"]
["pp5_bl4_13_4_name",{"$f":"'T2-B(PP5)'!$B$188","v":"Supply"},"#'T2-B(PP5)'!$B$188"]
["pp5_bl4_13_4_rate_in",{"$f":"'T2-B(PP5)'!$E$188","v":0},"#'T2-B(PP5)'!$E$188"]
["pp5_bl4_13_4_rate_out",{"$f":"'T2-B(PP5)'!$H$188","v":0},"#'T2-B(PP5)'!$H$188"]
["pp5_bl4_13_4_total",{"$f":"'T2-B(PP5)'!$J$188","v":0},"#'T2-B(PP5)'!$J$188"]
["pp5_bl4_13_4_total_in",{"$f":"'T2-B(PP5)'!$F$188","v":0},"#'T2-B(PP5)'!$F$188"]
["pp5_bl4_13_4_total_out",{"$f":"'T2-B(PP5)'!$I$188","v":0},"#'T2-B(PP5)'!$I$188"]
["pp5_bl4_13_4_unit",{"$f":"'T2-B(PP5)'!$C$188","v":0},"#'T2-B(PP5)'!$C$188"]
["pp5_bl4_13_4_unit_in",{"$f":"'T2-B(PP5)'!$D$188","v":0},"#'T2-B(PP5)'!$D$188"]
["pp5_bl4_13_4_units_out",{"$f":"'T2-B(PP5)'!$G$188","v":0},"#'T2-B(PP5)'!$G$188"]
["pp5_bl4_13_5_name",{"$f":"'T2-B(PP5)'!$B$189","v":0},"#'T2-B(PP5)'!$B$189"]
["pp5_bl4_13_5_rate_in",{"$f":"'T2-B(PP5)'!$E$189","v":0},"#'T2-B(PP5)'!$E$189"]
["pp5_bl4_13_5_rate_out",{"$f":"'T2-B(PP5)'!$H$189","v":0},"#'T2-B(PP5)'!$H$189"]
["pp5_bl4_13_5_total",{"$f":"'T2-B(PP5)'!$J$189","v":0},"#'T2-B(PP5)'!$J$189"]
["pp5_bl4_13_5_total_in",{"$f":"'T2-B(PP5)'!$F$189","v":0},"#'T2-B(PP5)'!$F$189"]
["pp5_bl4_13_5_total_out",{"$f":"'T2-B(PP5)'!$I$189","v":0},"#'T2-B(PP5)'!$I$189"]
["pp5_bl4_13_5_unit",{"$f":"'T2-B(PP5)'!$C$189","v":0},"#'T2-B(PP5)'!$C$189"]
["pp5_bl4_13_5_unit_in",{"$f":"'T2-B(PP5)'!$D$189","v":0},"#'T2-B(PP5)'!$D$189"]
["pp5_bl4_13_5_units_out",{"$f":"'T2-B(PP5)'!$G$189","v":0},"#'T2-B(PP5)'!$G$189"]
["pp5_bl4_13_6_name",{"$f":"'T2-B(PP5)'!$B$190","v":0},"#'T2-B(PP5)'!$B$190"]
["pp5_bl4_13_6_rate_in",{"$f":"'T2-B(PP5)'!$E$190","v":0},"#'T2-B(PP5)'!$E$190"]
["pp5_bl4_13_6_rate_out",{"$f":"'T2-B(PP5)'!$H$190","v":0},"#'T2-B(PP5)'!$H$190"]
["pp5_bl4_13_6_total",{"$f":"'T2-B(PP5)'!$J$190","v":0},"#'T2-B(PP5)'!$J$190"]
["pp5_bl4_13_6_total_in",{"$f":"'T2-B(PP5)'!$F$190","v":0},"#'T2-B(PP5)'!$F$190"]
["pp5_bl4_13_6_total_out",{"$f":"'T2-B(PP5)'!$I$190","v":0},"#'T2-B(PP5)'!$I$190"]
["pp5_bl4_13_6_unit",{"$f":"'T2-B(PP5)'!$C$190","v":0},"#'T2-B(PP5)'!$C$190"]
["pp5_bl4_13_6_unit_in",{"$f":"'T2-B(PP5)'!$D$190","v":0},"#'T2-B(PP5)'!$D$190"]
["pp5_bl4_13_6_units_out",{"$f":"'T2-B(PP5)'!$G$190","v":0},"#'T2-B(PP5)'!$G$190"]
["pp5_bl4_13_7_name",{"$f":"'T2-B(PP5)'!$B$191","v":0},"#'T2-B(PP5)'!$B$191"]
["pp5_bl4_13_7_rate_in",{"$f":"'T2-B(PP5)'!$E$191","v":0},"#'T2-B(PP5)'!$E$191"]
["pp5_bl4_13_7_rate_out",{"$f":"'T2-B(PP5)'!$H$191","v":0},"#'T2-B(PP5)'!$H$191"]
["pp5_bl4_13_7_total",{"$f":"'T2-B(PP5)'!$J$191","v":0},"#'T2-B(PP5)'!$J$191"]
["pp5_bl4_13_7_total_in",{"$f":"'T2-B(PP5)'!$F$191","v":0},"#'T2-B(PP5)'!$F$191"]
["pp5_bl4_13_7_total_out",{"$f":"'T2-B(PP5)'!$I$191","v":0},"#'T2-B(PP5)'!$I$191"]
["pp5_bl4_13_7_unit",{"$f":"'T2-B(PP5)'!$C$191","v":0},"#'T2-B(PP5)'!$C$191"]
["pp5_bl4_13_7_unit_in",{"$f":"'T2-B(PP5)'!$D$191","v":0},"#'T2-B(PP5)'!$D$191"]
["pp5_bl4_13_7_units_out",{"$f":"'T2-B(PP5)'!$G$191","v":0},"#'T2-B(PP5)'!$G$191"]
["pp5_bl4_13_8_name",{"$f":"'T2-B(PP5)'!$B$192","v":0},"#'T2-B(PP5)'!$B$192"]
["pp5_bl4_13_8_rate_in",{"$f":"'T2-B(PP5)'!$E$192","v":0},"#'T2-B(PP5)'!$E$192"]
["pp5_bl4_13_8_rate_out",{"$f":"'T2-B(PP5)'!$H$192","v":0},"#'T2-B(PP5)'!$H$192"]
["pp5_bl4_13_8_total",{"$f":"'T2-B(PP5)'!$J$192","v":0},"#'T2-B(PP5)'!$J$192"]
["pp5_bl4_13_8_total_in",{"$f":"'T2-B(PP5)'!$F$192","v":0},"#'T2-B(PP5)'!$F$192"]
["pp5_bl4_13_8_total_out",{"$f":"'T2-B(PP5)'!$I$192","v":0},"#'T2-B(PP5)'!$I$192"]
["pp5_bl4_13_8_unit",{"$f":"'T2-B(PP5)'!$C$192","v":0},"#'T2-B(PP5)'!$C$192"]
["pp5_bl4_13_8_unit_in",{"$f":"'T2-B(PP5)'!$D$192","v":0},"#'T2-B(PP5)'!$D$192"]
["pp5_bl4_13_8_units_out",{"$f":"'T2-B(PP5)'!$G$192","v":0},"#'T2-B(PP5)'!$G$192"]
["pp5_bl4_13_9_name",{"$f":"'T2-B(PP5)'!$B$193","v":0},"#'T2-B(PP5)'!$B$193"]
["pp5_bl4_13_9_rate_in",{"$f":"'T2-B(PP5)'!$E$193","v":0},"#'T2-B(PP5)'!$E$193"]
["pp5_bl4_13_9_rate_out",{"$f":"'T2-B(PP5)'!$H$193","v":0},"#'T2-B(PP5)'!$H$193"]
["pp5_bl4_13_9_total",{"$f":"'T2-B(PP5)'!$J$193","v":0},"#'T2-B(PP5)'!$J$193"]
["pp5_bl4_13_9_total_in",{"$f":"'T2-B(PP5)'!$F$193","v":0},"#'T2-B(PP5)'!$F$193"]
["pp5_bl4_13_9_total_out",{"$f":"'T2-B(PP5)'!$I$193","v":0},"#'T2-B(PP5)'!$I$193"]
["pp5_bl4_13_9_unit",{"$f":"'T2-B(PP5)'!$C$193","v":0},"#'T2-B(PP5)'!$C$193"]
["pp5_bl4_13_9_unit_in",{"$f":"'T2-B(PP5)'!$D$193","v":0},"#'T2-B(PP5)'!$D$193"]
["pp5_bl4_13_9_units_out",{"$f":"'T2-B(PP5)'!$G$193","v":0},"#'T2-B(PP5)'!$G$193"]
["pp5_bl4_13_total",{"$f":"'T2-B(PP5)'!$J$184","v":0},"#'T2-B(PP5)'!$J$184"]
["pp5_bl4_13_total_in",{"$f":"'T2-B(PP5)'!$F$184","v":0},"#'T2-B(PP5)'!$F$184"]
["pp5_bl4_13_total_out",{"$f":"'T2-B(PP5)'!$I$184","v":0},"#'T2-B(PP5)'!$I$184"]
["pp5_bl4_2_1_name",{"$f":"'T2-B(PP5)'!$B$64","v":0},"#'T2-B(PP5)'!$B$64"]
["pp5_bl4_2_1_rate_in",{"$f":"'T2-B(PP5)'!$E$64","v":0},"#'T2-B(PP5)'!$E$64"]
["pp5_bl4_2_1_rate_out",{"$f":"'T2-B(PP5)'!$H$64","v":0},"#'T2-B(PP5)'!$H$64"]
["pp5_bl4_2_1_total",{"$f":"'T2-B(PP5)'!$J$64","v":0},"#'T2-B(PP5)'!$J$64"]
["pp5_bl4_2_1_total_in",{"$f":"'T2-B(PP5)'!$F$64","v":0},"#'T2-B(PP5)'!$F$64"]
["pp5_bl4_2_1_total_out",{"$f":"'T2-B(PP5)'!$I$64","v":0},"#'T2-B(PP5)'!$I$64"]
["pp5_bl4_2_1_unit",{"$f":"'T2-B(PP5)'!$C$64","v":0},"#'T2-B(PP5)'!$C$64"]
["pp5_bl4_2_1_unit_in",{"$f":"'T2-B(PP5)'!$D$64","v":0},"#'T2-B(PP5)'!$D$64"]
["pp5_bl4_2_1_units_out",{"$f":"'T2-B(PP5)'!$G$64","v":0},"#'T2-B(PP5)'!$G$64"]
["pp5_bl4_2_10_name",{"$f":"'T2-B(PP5)'!$B$73","v":0},"#'T2-B(PP5)'!$B$73"]
["pp5_bl4_2_10_rate_in",{"$f":"'T2-B(PP5)'!$E$73","v":0},"#'T2-B(PP5)'!$E$73"]
["pp5_bl4_2_10_rate_out",{"$f":"'T2-B(PP5)'!$H$73","v":0},"#'T2-B(PP5)'!$H$73"]
["pp5_bl4_2_10_total",{"$f":"'T2-B(PP5)'!$J$73","v":0},"#'T2-B(PP5)'!$J$73"]
["pp5_bl4_2_10_total_in",{"$f":"'T2-B(PP5)'!$F$73","v":0},"#'T2-B(PP5)'!$F$73"]
["pp5_bl4_2_10_total_out",{"$f":"'T2-B(PP5)'!$I$73","v":0},"#'T2-B(PP5)'!$I$73"]
["pp5_bl4_2_10_unit",{"$f":"'T2-B(PP5)'!$C$73","v":0},"#'T2-B(PP5)'!$C$73"]
["pp5_bl4_2_10_unit_in",{"$f":"'T2-B(PP5)'!$D$73","v":0},"#'T2-B(PP5)'!$D$73"]
["pp5_bl4_2_10_units_out",{"$f":"'T2-B(PP5)'!$G$73","v":0},"#'T2-B(PP5)'!$G$73"]
["pp5_bl4_2_2_name",{"$f":"'T2-B(PP5)'!$B$65","v":0},"#'T2-B(PP5)'!$B$65"]
["pp5_bl4_2_2_rate_in",{"$f":"'T2-B(PP5)'!$E$65","v":0},"#'T2-B(PP5)'!$E$65"]
["pp5_bl4_2_2_rate_out",{"$f":"'T2-B(PP5)'!$H$65","v":0},"#'T2-B(PP5)'!$H$65"]
["pp5_bl4_2_2_total",{"$f":"'T2-B(PP5)'!$J$65","v":0},"#'T2-B(PP5)'!$J$65"]
["pp5_bl4_2_2_total_in",{"$f":"'T2-B(PP5)'!$F$65","v":0},"#'T2-B(PP5)'!$F$65"]
["pp5_bl4_2_2_total_out",{"$f":"'T2-B(PP5)'!$I$65","v":0},"#'T2-B(PP5)'!$I$65"]
["pp5_bl4_2_2_unit",{"$f":"'T2-B(PP5)'!$C$65","v":0},"#'T2-B(PP5)'!$C$65"]
["pp5_bl4_2_2_unit_in",{"$f":"'T2-B(PP5)'!$D$65","v":0},"#'T2-B(PP5)'!$D$65"]
["pp5_bl4_2_2_units_out",{"$f":"'T2-B(PP5)'!$G$65","v":0},"#'T2-B(PP5)'!$G$65"]
["pp5_bl4_2_3_name",{"$f":"'T2-B(PP5)'!$B$66","v":0},"#'T2-B(PP5)'!$B$66"]
["pp5_bl4_2_3_rate_in",{"$f":"'T2-B(PP5)'!$E$66","v":0},"#'T2-B(PP5)'!$E$66"]
["pp5_bl4_2_3_rate_out",{"$f":"'T2-B(PP5)'!$H$66","v":0},"#'T2-B(PP5)'!$H$66"]
["pp5_bl4_2_3_total",{"$f":"'T2-B(PP5)'!$J$66","v":0},"#'T2-B(PP5)'!$J$66"]
["pp5_bl4_2_3_total_in",{"$f":"'T2-B(PP5)'!$F$66","v":0},"#'T2-B(PP5)'!$F$66"]
["pp5_bl4_2_3_total_out",{"$f":"'T2-B(PP5)'!$I$66","v":0},"#'T2-B(PP5)'!$I$66"]
["pp5_bl4_2_3_unit",{"$f":"'T2-B(PP5)'!$C$66","v":0},"#'T2-B(PP5)'!$C$66"]
["pp5_bl4_2_3_unit_in",{"$f":"'T2-B(PP5)'!$D$66","v":0},"#'T2-B(PP5)'!$D$66"]
["pp5_bl4_2_3_units_out",{"$f":"'T2-B(PP5)'!$G$66","v":0},"#'T2-B(PP5)'!$G$66"]
["pp5_bl4_2_4_name",{"$f":"'T2-B(PP5)'!$B$67","v":0},"#'T2-B(PP5)'!$B$67"]
["pp5_bl4_2_4_rate_in",{"$f":"'T2-B(PP5)'!$E$67","v":0},"#'T2-B(PP5)'!$E$67"]
["pp5_bl4_2_4_rate_out",{"$f":"'T2-B(PP5)'!$H$67","v":0},"#'T2-B(PP5)'!$H$67"]
["pp5_bl4_2_4_total",{"$f":"'T2-B(PP5)'!$J$67","v":0},"#'T2-B(PP5)'!$J$67"]
["pp5_bl4_2_4_total_in",{"$f":"'T2-B(PP5)'!$F$67","v":0},"#'T2-B(PP5)'!$F$67"]
["pp5_bl4_2_4_total_out",{"$f":"'T2-B(PP5)'!$I$67","v":0},"#'T2-B(PP5)'!$I$67"]
["pp5_bl4_2_4_unit",{"$f":"'T2-B(PP5)'!$C$67","v":0},"#'T2-B(PP5)'!$C$67"]
["pp5_bl4_2_4_unit_in",{"$f":"'T2-B(PP5)'!$D$67","v":0},"#'T2-B(PP5)'!$D$67"]
["pp5_bl4_2_4_units_out",{"$f":"'T2-B(PP5)'!$G$67","v":0},"#'T2-B(PP5)'!$G$67"]
["pp5_bl4_2_5_name",{"$f":"'T2-B(PP5)'!$B$68","v":0},"#'T2-B(PP5)'!$B$68"]
["pp5_bl4_2_5_rate_in",{"$f":"'T2-B(PP5)'!$E$68","v":0},"#'T2-B(PP5)'!$E$68"]
["pp5_bl4_2_5_rate_out",{"$f":"'T2-B(PP5)'!$H$68","v":0},"#'T2-B(PP5)'!$H$68"]
["pp5_bl4_2_5_total",{"$f":"'T2-B(PP5)'!$J$68","v":0},"#'T2-B(PP5)'!$J$68"]
["pp5_bl4_2_5_total_in",{"$f":"'T2-B(PP5)'!$F$68","v":0},"#'T2-B(PP5)'!$F$68"]
["pp5_bl4_2_5_total_out",{"$f":"'T2-B(PP5)'!$I$68","v":0},"#'T2-B(PP5)'!$I$68"]
["pp5_bl4_2_5_unit",{"$f":"'T2-B(PP5)'!$C$68","v":0},"#'T2-B(PP5)'!$C$68"]
["pp5_bl4_2_5_unit_in",{"$f":"'T2-B(PP5)'!$D$68","v":0},"#'T2-B(PP5)'!$D$68"]
["pp5_bl4_2_5_units_out",{"$f":"'T2-B(PP5)'!$G$68","v":0},"#'T2-B(PP5)'!$G$68"]
["pp5_bl4_2_6_name",{"$f":"'T2-B(PP5)'!$B$69","v":0},"#'T2-B(PP5)'!$B$69"]
["pp5_bl4_2_6_rate_in",{"$f":"'T2-B(PP5)'!$E$69","v":0},"#'T2-B(PP5)'!$E$69"]
["pp5_bl4_2_6_rate_out",{"$f":"'T2-B(PP5)'!$H$69","v":0},"#'T2-B(PP5)'!$H$69"]
["pp5_bl4_2_6_total",{"$f":"'T2-B(PP5)'!$J$69","v":0},"#'T2-B(PP5)'!$J$69"]
["pp5_bl4_2_6_total_in",{"$f":"'T2-B(PP5)'!$F$69","v":0},"#'T2-B(PP5)'!$F$69"]
["pp5_bl4_2_6_total_out",{"$f":"'T2-B(PP5)'!$I$69","v":0},"#'T2-B(PP5)'!$I$69"]
["pp5_bl4_2_6_unit",{"$f":"'T2-B(PP5)'!$C$69","v":0},"#'T2-B(PP5)'!$C$69"]
["pp5_bl4_2_6_unit_in",{"$f":"'T2-B(PP5)'!$D$69","v":0},"#'T2-B(PP5)'!$D$69"]
["pp5_bl4_2_6_units_out",{"$f":"'T2-B(PP5)'!$G$69","v":0},"#'T2-B(PP5)'!$G$69"]
["pp5_bl4_2_7_name",{"$f":"'T2-B(PP5)'!$B$70","v":0},"#'T2-B(PP5)'!$B$70"]
["pp5_bl4_2_7_rate_in",{"$f":"'T2-B(PP5)'!$E$70","v":0},"#'T2-B(PP5)'!$E$70"]
["pp5_bl4_2_7_rate_out",{"$f":"'T2-B(PP5)'!$H$70","v":0},"#'T2-B(PP5)'!$H$70"]
["pp5_bl4_2_7_total",{"$f":"'T2-B(PP5)'!$J$70","v":0},"#'T2-B(PP5)'!$J$70"]
["pp5_bl4_2_7_total_in",{"$f":"'T2-B(PP5)'!$F$70","v":0},"#'T2-B(PP5)'!$F$70"]
["pp5_bl4_2_7_total_out",{"$f":"'T2-B(PP5)'!$I$70","v":0},"#'T2-B(PP5)'!$I$70"]
["pp5_bl4_2_7_unit",{"$f":"'T2-B(PP5)'!$C$70","v":0},"#'T2-B(PP5)'!$C$70"]
["pp5_bl4_2_7_unit_in",{"$f":"'T2-B(PP5)'!$D$70","v":0},"#'T2-B(PP5)'!$D$70"]
["pp5_bl4_2_7_units_out",{"$f":"'T2-B(PP5)'!$G$70","v":0},"#'T2-B(PP5)'!$G$70"]
["pp5_bl4_2_8_name",{"$f":"'T2-B(PP5)'!$B$71","v":0},"#'T2-B(PP5)'!$B$71"]
["pp5_bl4_2_8_rate_in",{"$f":"'T2-B(PP5)'!$E$71","v":0},"#'T2-B(PP5)'!$E$71"]
["pp5_bl4_2_8_rate_out",{"$f":"'T2-B(PP5)'!$H$71","v":0},"#'T2-B(PP5)'!$H$71"]
["pp5_bl4_2_8_total",{"$f":"'T2-B(PP5)'!$J$71","v":0},"#'T2-B(PP5)'!$J$71"]
["pp5_bl4_2_8_total_in",{"$f":"'T2-B(PP5)'!$F$71","v":0},"#'T2-B(PP5)'!$F$71"]
["pp5_bl4_2_8_total_out",{"$f":"'T2-B(PP5)'!$I$71","v":0},"#'T2-B(PP5)'!$I$71"]
["pp5_bl4_2_8_unit",{"$f":"'T2-B(PP5)'!$C$71","v":0},"#'T2-B(PP5)'!$C$71"]
["pp5_bl4_2_8_unit_in",{"$f":"'T2-B(PP5)'!$D$71","v":0},"#'T2-B(PP5)'!$D$71"]
["pp5_bl4_2_8_units_out",{"$f":"'T2-B(PP5)'!$G$71","v":0},"#'T2-B(PP5)'!$G$71"]
["pp5_bl4_2_9_name",{"$f":"'T2-B(PP5)'!$B$72","v":0},"#'T2-B(PP5)'!$B$72"]
["pp5_bl4_2_9_rate_in",{"$f":"'T2-B(PP5)'!$E$72","v":0},"#'T2-B(PP5)'!$E$72"]
["pp5_bl4_2_9_rate_out",{"$f":"'T2-B(PP5)'!$H$72","v":0},"#'T2-B(PP5)'!$H$72"]
["pp5_bl4_2_9_total",{"$f":"'T2-B(PP5)'!$J$72","v":0},"#'T2-B(PP5)'!$J$72"]
["pp5_bl4_2_9_total_in",{"$f":"'T2-B(PP5)'!$F$72","v":0},"#'T2-B(PP5)'!$F$72"]
["pp5_bl4_2_9_total_out",{"$f":"'T2-B(PP5)'!$I$72","v":0},"#'T2-B(PP5)'!$I$72"]
["pp5_bl4_2_9_unit",{"$f":"'T2-B(PP5)'!$C$72","v":0},"#'T2-B(PP5)'!$C$72"]
["pp5_bl4_2_9_unit_in",{"$f":"'T2-B(PP5)'!$D$72","v":0},"#'T2-B(PP5)'!$D$72"]
["pp5_bl4_2_9_units_out",{"$f":"'T2-B(PP5)'!$G$72","v":0},"#'T2-B(PP5)'!$G$72"]
["pp5_bl4_2_total",{"$f":"'T2-B(PP5)'!$J$63","v":0},"#'T2-B(PP5)'!$J$63"]
["pp5_bl4_2_total_in",{"$f":"'T2-B(PP5)'!$F$63","v":0},"#'T2-B(PP5)'!$F$63"]
["pp5_bl4_2_total_out",{"$f":"'T2-B(PP5)'!$I$63","v":0},"#'T2-B(PP5)'!$I$63"]
["pp5_bl4_3_1_name",{"$f":"'T2-B(PP5)'!$B$75","v":0},"#'T2-B(PP5)'!$B$75"]
["pp5_bl4_3_1_rate_in",{"$f":"'T2-B(PP5)'!$E$75","v":0},"#'T2-B(PP5)'!$E$75"]
["pp5_bl4_3_1_rate_out",{"$f":"'T2-B(PP5)'!$H$75","v":0},"#'T2-B(PP5)'!$H$75"]
["pp5_bl4_3_1_total",{"$f":"'T2-B(PP5)'!$J$75","v":0},"#'T2-B(PP5)'!$J$75"]
["pp5_bl4_3_1_total_in",{"$f":"'T2-B(PP5)'!$F$75","v":0},"#'T2-B(PP5)'!$F$75"]
["pp5_bl4_3_1_total_out",{"$f":"'T2-B(PP5)'!$I$75","v":0},"#'T2-B(PP5)'!$I$75"]
["pp5_bl4_3_1_unit",{"$f":"'T2-B(PP5)'!$C$75","v":0},"#'T2-B(PP5)'!$C$75"]
["pp5_bl4_3_1_unit_in",{"$f":"'T2-B(PP5)'!$D$75","v":0},"#'T2-B(PP5)'!$D$75"]
["pp5_bl4_3_1_units_out",{"$f":"'T2-B(PP5)'!$G$75","v":0},"#'T2-B(PP5)'!$G$75"]
["pp5_bl4_3_10_name",{"$f":"'T2-B(PP5)'!$B$84","v":0},"#'T2-B(PP5)'!$B$84"]
["pp5_bl4_3_10_rate_in",{"$f":"'T2-B(PP5)'!$E$84","v":0},"#'T2-B(PP5)'!$E$84"]
["pp5_bl4_3_10_rate_out",{"$f":"'T2-B(PP5)'!$H$84","v":0},"#'T2-B(PP5)'!$H$84"]
["pp5_bl4_3_10_total",{"$f":"'T2-B(PP5)'!$J$84","v":0},"#'T2-B(PP5)'!$J$84"]
["pp5_bl4_3_10_total_in",{"$f":"'T2-B(PP5)'!$F$84","v":0},"#'T2-B(PP5)'!$F$84"]
["pp5_bl4_3_10_total_out",{"$f":"'T2-B(PP5)'!$I$84","v":0},"#'T2-B(PP5)'!$I$84"]
["pp5_bl4_3_10_unit",{"$f":"'T2-B(PP5)'!$C$84","v":0},"#'T2-B(PP5)'!$C$84"]
["pp5_bl4_3_10_unit_in",{"$f":"'T2-B(PP5)'!$D$84","v":0},"#'T2-B(PP5)'!$D$84"]
["pp5_bl4_3_10_units_out",{"$f":"'T2-B(PP5)'!$G$84","v":0},"#'T2-B(PP5)'!$G$84"]
["pp5_bl4_3_2_name",{"$f":"'T2-B(PP5)'!$B$76","v":0},"#'T2-B(PP5)'!$B$76"]
["pp5_bl4_3_2_rate_in",{"$f":"'T2-B(PP5)'!$E$76","v":0},"#'T2-B(PP5)'!$E$76"]
["pp5_bl4_3_2_rate_out",{"$f":"'T2-B(PP5)'!$H$76","v":0},"#'T2-B(PP5)'!$H$76"]
["pp5_bl4_3_2_total",{"$f":"'T2-B(PP5)'!$J$76","v":0},"#'T2-B(PP5)'!$J$76"]
["pp5_bl4_3_2_total_in",{"$f":"'T2-B(PP5)'!$F$76","v":0},"#'T2-B(PP5)'!$F$76"]
["pp5_bl4_3_2_total_out",{"$f":"'T2-B(PP5)'!$I$76","v":0},"#'T2-B(PP5)'!$I$76"]
["pp5_bl4_3_2_unit",{"$f":"'T2-B(PP5)'!$C$76","v":0},"#'T2-B(PP5)'!$C$76"]
["pp5_bl4_3_2_unit_in",{"$f":"'T2-B(PP5)'!$D$76","v":0},"#'T2-B(PP5)'!$D$76"]
["pp5_bl4_3_2_units_out",{"$f":"'T2-B(PP5)'!$G$76","v":0},"#'T2-B(PP5)'!$G$76"]
["pp5_bl4_3_3_name",{"$f":"'T2-B(PP5)'!$B$77","v":0},"#'T2-B(PP5)'!$B$77"]
["pp5_bl4_3_3_rate_in",{"$f":"'T2-B(PP5)'!$E$77","v":0},"#'T2-B(PP5)'!$E$77"]
["pp5_bl4_3_3_rate_out",{"$f":"'T2-B(PP5)'!$H$77","v":0},"#'T2-B(PP5)'!$H$77"]
["pp5_bl4_3_3_total",{"$f":"'T2-B(PP5)'!$J$77","v":0},"#'T2-B(PP5)'!$J$77"]
["pp5_bl4_3_3_total_in",{"$f":"'T2-B(PP5)'!$F$77","v":0},"#'T2-B(PP5)'!$F$77"]
["pp5_bl4_3_3_total_out",{"$f":"'T2-B(PP5)'!$I$77","v":0},"#'T2-B(PP5)'!$I$77"]
["pp5_bl4_3_3_unit",{"$f":"'T2-B(PP5)'!$C$77","v":0},"#'T2-B(PP5)'!$C$77"]
["pp5_bl4_3_3_unit_in",{"$f":"'T2-B(PP5)'!$D$77","v":0},"#'T2-B(PP5)'!$D$77"]
["pp5_bl4_3_3_units_out",{"$f":"'T2-B(PP5)'!$G$77","v":0},"#'T2-B(PP5)'!$G$77"]
["pp5_bl4_3_4_name",{"$f":"'T2-B(PP5)'!$B$78","v":0},"#'T2-B(PP5)'!$B$78"]
["pp5_bl4_3_4_rate_in",{"$f":"'T2-B(PP5)'!$E$78","v":0},"#'T2-B(PP5)'!$E$78"]
["pp5_bl4_3_4_rate_out",{"$f":"'T2-B(PP5)'!$H$78","v":0},"#'T2-B(PP5)'!$H$78"]
["pp5_bl4_3_4_total",{"$f":"'T2-B(PP5)'!$J$78","v":0},"#'T2-B(PP5)'!$J$78"]
["pp5_bl4_3_4_total_in",{"$f":"'T2-B(PP5)'!$F$78","v":0},"#'T2-B(PP5)'!$F$78"]
["pp5_bl4_3_4_total_out",{"$f":"'T2-B(PP5)'!$I$78","v":0},"#'T2-B(PP5)'!$I$78"]
["pp5_bl4_3_4_unit",{"$f":"'T2-B(PP5)'!$C$78","v":0},"#'T2-B(PP5)'!$C$78"]
["pp5_bl4_3_4_unit_in",{"$f":"'T2-B(PP5)'!$D$78","v":0},"#'T2-B(PP5)'!$D$78"]
["pp5_bl4_3_4_units_out",{"$f":"'T2-B(PP5)'!$G$78","v":0},"#'T2-B(PP5)'!$G$78"]
["pp5_bl4_3_5_name",{"$f":"'T2-B(PP5)'!$B$79","v":0},"#'T2-B(PP5)'!$B$79"]
["pp5_bl4_3_5_rate_in",{"$f":"'T2-B(PP5)'!$E$79","v":0},"#'T2-B(PP5)'!$E$79"]
["pp5_bl4_3_5_rate_out",{"$f":"'T2-B(PP5)'!$H$79","v":0},"#'T2-B(PP5)'!$H$79"]
["pp5_bl4_3_5_total",{"$f":"'T2-B(PP5)'!$J$79","v":0},"#'T2-B(PP5)'!$J$79"]
["pp5_bl4_3_5_total_in",{"$f":"'T2-B(PP5)'!$F$79","v":0},"#'T2-B(PP5)'!$F$79"]
["pp5_bl4_3_5_total_out",{"$f":"'T2-B(PP5)'!$I$79","v":0},"#'T2-B(PP5)'!$I$79"]
["pp5_bl4_3_5_unit",{"$f":"'T2-B(PP5)'!$C$79","v":0},"#'T2-B(PP5)'!$C$79"]
["pp5_bl4_3_5_unit_in",{"$f":"'T2-B(PP5)'!$D$79","v":0},"#'T2-B(PP5)'!$D$79"]
["pp5_bl4_3_5_units_out",{"$f":"'T2-B(PP5)'!$G$79","v":0},"#'T2-B(PP5)'!$G$79"]
["pp5_bl4_3_6_name",{"$f":"'T2-B(PP5)'!$B$80","v":0},"#'T2-B(PP5)'!$B$80"]
["pp5_bl4_3_6_rate_in",{"$f":"'T2-B(PP5)'!$E$80","v":0},"#'T2-B(PP5)'!$E$80"]
["pp5_bl4_3_6_rate_out",{"$f":"'T2-B(PP5)'!$H$80","v":0},"#'T2-B(PP5)'!$H$80"]
["pp5_bl4_3_6_total",{"$f":"'T2-B(PP5)'!$J$80","v":0},"#'T2-B(PP5)'!$J$80"]
["pp5_bl4_3_6_total_in",{"$f":"'T2-B(PP5)'!$F$80","v":0},"#'T2-B(PP5)'!$F$80"]
["pp5_bl4_3_6_total_out",{"$f":"'T2-B(PP5)'!$I$80","v":0},"#'T2-B(PP5)'!$I$80"]
["pp5_bl4_3_6_unit",{"$f":"'T2-B(PP5)'!$C$80","v":0},"#'T2-B(PP5)'!$C$80"]
["pp5_bl4_3_6_unit_in",{"$f":"'T2-B(PP5)'!$D$80","v":0},"#'T2-B(PP5)'!$D$80"]
["pp5_bl4_3_6_units_out",{"$f":"'T2-B(PP5)'!$G$80","v":0},"#'T2-B(PP5)'!$G$80"]
["pp5_bl4_3_7_name",{"$f":"'T2-B(PP5)'!$B$81","v":0},"#'T2-B(PP5)'!$B$81"]
["pp5_bl4_3_7_rate_in",{"$f":"'T2-B(PP5)'!$E$81","v":0},"#'T2-B(PP5)'!$E$81"]
["pp5_bl4_3_7_rate_out",{"$f":"'T2-B(PP5)'!$H$81","v":0},"#'T2-B(PP5)'!$H$81"]
["pp5_bl4_3_7_total",{"$f":"'T2-B(PP5)'!$J$81","v":0},"#'T2-B(PP5)'!$J$81"]
["pp5_bl4_3_7_total_in",{"$f":"'T2-B(PP5)'!$F$81","v":0},"#'T2-B(PP5)'!$F$81"]
["pp5_bl4_3_7_total_out",{"$f":"'T2-B(PP5)'!$I$81","v":0},"#'T2-B(PP5)'!$I$81"]
["pp5_bl4_3_7_unit",{"$f":"'T2-B(PP5)'!$C$81","v":0},"#'T2-B(PP5)'!$C$81"]
["pp5_bl4_3_7_unit_in",{"$f":"'T2-B(PP5)'!$D$81","v":0},"#'T2-B(PP5)'!$D$81"]
["pp5_bl4_3_7_units_out",{"$f":"'T2-B(PP5)'!$G$81","v":0},"#'T2-B(PP5)'!$G$81"]
["pp5_bl4_3_8_name",{"$f":"'T2-B(PP5)'!$B$82","v":0},"#'T2-B(PP5)'!$B$82"]
["pp5_bl4_3_8_rate_in",{"$f":"'T2-B(PP5)'!$E$82","v":0},"#'T2-B(PP5)'!$E$82"]
["pp5_bl4_3_8_rate_out",{"$f":"'T2-B(PP5)'!$H$82","v":0},"#'T2-B(PP5)'!$H$82"]
["pp5_bl4_3_8_total",{"$f":"'T2-B(PP5)'!$J$82","v":0},"#'T2-B(PP5)'!$J$82"]
["pp5_bl4_3_8_total_in",{"$f":"'T2-B(PP5)'!$F$82","v":0},"#'T2-B(PP5)'!$F$82"]
["pp5_bl4_3_8_total_out",{"$f":"'T2-B(PP5)'!$I$82","v":0},"#'T2-B(PP5)'!$I$82"]
["pp5_bl4_3_8_unit",{"$f":"'T2-B(PP5)'!$C$82","v":0},"#'T2-B(PP5)'!$C$82"]
["pp5_bl4_3_8_unit_in",{"$f":"'T2-B(PP5)'!$D$82","v":0},"#'T2-B(PP5)'!$D$82"]
["pp5_bl4_3_8_units_out",{"$f":"'T2-B(PP5)'!$G$82","v":0},"#'T2-B(PP5)'!$G$82"]
["pp5_bl4_3_9_name",{"$f":"'T2-B(PP5)'!$B$83","v":0},"#'T2-B(PP5)'!$B$83"]
["pp5_bl4_3_9_rate_in",{"$f":"'T2-B(PP5)'!$E$83","v":0},"#'T2-B(PP5)'!$E$83"]
["pp5_bl4_3_9_rate_out",{"$f":"'T2-B(PP5)'!$H$83","v":0},"#'T2-B(PP5)'!$H$83"]
["pp5_bl4_3_9_total",{"$f":"'T2-B(PP5)'!$J$83","v":0},"#'T2-B(PP5)'!$J$83"]
["pp5_bl4_3_9_total_in",{"$f":"'T2-B(PP5)'!$F$83","v":0},"#'T2-B(PP5)'!$F$83"]
["pp5_bl4_3_9_total_out",{"$f":"'T2-B(PP5)'!$I$83","v":0},"#'T2-B(PP5)'!$I$83"]
["pp5_bl4_3_9_unit",{"$f":"'T2-B(PP5)'!$C$83","v":0},"#'T2-B(PP5)'!$C$83"]
["pp5_bl4_3_9_unit_in",{"$f":"'T2-B(PP5)'!$D$83","v":0},"#'T2-B(PP5)'!$D$83"]
["pp5_bl4_3_9_units_out",{"$f":"'T2-B(PP5)'!$G$83","v":0},"#'T2-B(PP5)'!$G$83"]
["pp5_bl4_3_total",{"$f":"'T2-B(PP5)'!$J$74","v":0},"#'T2-B(PP5)'!$J$74"]
["pp5_bl4_3_total_in",{"$f":"'T2-B(PP5)'!$F$74","v":0},"#'T2-B(PP5)'!$F$74"]
["pp5_bl4_3_total_out",{"$f":"'T2-B(PP5)'!$I$74","v":0},"#'T2-B(PP5)'!$I$74"]
["pp5_bl4_4_1_name",{"$f":"'T2-B(PP5)'!$B$86","v":0},"#'T2-B(PP5)'!$B$86"]
["pp5_bl4_4_1_rate_in",{"$f":"'T2-B(PP5)'!$E$86","v":0},"#'T2-B(PP5)'!$E$86"]
["pp5_bl4_4_1_rate_out",{"$f":"'T2-B(PP5)'!$H$86","v":0},"#'T2-B(PP5)'!$H$86"]
["pp5_bl4_4_1_total",{"$f":"'T2-B(PP5)'!$J$86","v":0},"#'T2-B(PP5)'!$J$86"]
["pp5_bl4_4_1_total_in",{"$f":"'T2-B(PP5)'!$F$86","v":0},"#'T2-B(PP5)'!$F$86"]
["pp5_bl4_4_1_total_out",{"$f":"'T2-B(PP5)'!$I$86","v":0},"#'T2-B(PP5)'!$I$86"]
["pp5_bl4_4_1_unit",{"$f":"'T2-B(PP5)'!$C$86","v":0},"#'T2-B(PP5)'!$C$86"]
["pp5_bl4_4_1_unit_in",{"$f":"'T2-B(PP5)'!$D$86","v":0},"#'T2-B(PP5)'!$D$86"]
["pp5_bl4_4_1_units_out",{"$f":"'T2-B(PP5)'!$G$86","v":0},"#'T2-B(PP5)'!$G$86"]
["pp5_bl4_4_10_name",{"$f":"'T2-B(PP5)'!$B$95","v":0},"#'T2-B(PP5)'!$B$95"]
["pp5_bl4_4_10_rate_in",{"$f":"'T2-B(PP5)'!$E$95","v":0},"#'T2-B(PP5)'!$E$95"]
["pp5_bl4_4_10_rate_out",{"$f":"'T2-B(PP5)'!$H$95","v":0},"#'T2-B(PP5)'!$H$95"]
["pp5_bl4_4_10_total",{"$f":"'T2-B(PP5)'!$J$95","v":0},"#'T2-B(PP5)'!$J$95"]
["pp5_bl4_4_10_total_in",{"$f":"'T2-B(PP5)'!$F$95","v":0},"#'T2-B(PP5)'!$F$95"]
["pp5_bl4_4_10_total_out",{"$f":"'T2-B(PP5)'!$I$95","v":0},"#'T2-B(PP5)'!$I$95"]
["pp5_bl4_4_10_unit",{"$f":"'T2-B(PP5)'!$C$95","v":0},"#'T2-B(PP5)'!$C$95"]
["pp5_bl4_4_10_unit_in",{"$f":"'T2-B(PP5)'!$D$95","v":0},"#'T2-B(PP5)'!$D$95"]
["pp5_bl4_4_10_units_out",{"$f":"'T2-B(PP5)'!$G$95","v":0},"#'T2-B(PP5)'!$G$95"]
["pp5_bl4_4_2_name",{"$f":"'T2-B(PP5)'!$B$87","v":0},"#'T2-B(PP5)'!$B$87"]
["pp5_bl4_4_2_rate_in",{"$f":"'T2-B(PP5)'!$E$87","v":0},"#'T2-B(PP5)'!$E$87"]
["pp5_bl4_4_2_rate_out",{"$f":"'T2-B(PP5)'!$H$87","v":0},"#'T2-B(PP5)'!$H$87"]
["pp5_bl4_4_2_total",{"$f":"'T2-B(PP5)'!$J$87","v":0},"#'T2-B(PP5)'!$J$87"]
["pp5_bl4_4_2_total_in",{"$f":"'T2-B(PP5)'!$F$87","v":0},"#'T2-B(PP5)'!$F$87"]
["pp5_bl4_4_2_total_out",{"$f":"'T2-B(PP5)'!$I$87","v":0},"#'T2-B(PP5)'!$I$87"]
["pp5_bl4_4_2_unit",{"$f":"'T2-B(PP5)'!$C$87","v":0},"#'T2-B(PP5)'!$C$87"]
["pp5_bl4_4_2_unit_in",{"$f":"'T2-B(PP5)'!$D$87","v":0},"#'T2-B(PP5)'!$D$87"]
["pp5_bl4_4_2_units_out",{"$f":"'T2-B(PP5)'!$G$87","v":0},"#'T2-B(PP5)'!$G$87"]
["pp5_bl4_4_3_name",{"$f":"'T2-B(PP5)'!$B$88","v":0},"#'T2-B(PP5)'!$B$88"]
["pp5_bl4_4_3_rate_in",{"$f":"'T2-B(PP5)'!$E$88","v":0},"#'T2-B(PP5)'!$E$88"]
["pp5_bl4_4_3_rate_out",{"$f":"'T2-B(PP5)'!$H$88","v":0},"#'T2-B(PP5)'!$H$88"]
["pp5_bl4_4_3_total",{"$f":"'T2-B(PP5)'!$J$88","v":0},"#'T2-B(PP5)'!$J$88"]
["pp5_bl4_4_3_total_in",{"$f":"'T2-B(PP5)'!$F$88","v":0},"#'T2-B(PP5)'!$F$88"]
["pp5_bl4_4_3_total_out",{"$f":"'T2-B(PP5)'!$I$88","v":0},"#'T2-B(PP5)'!$I$88"]
["pp5_bl4_4_3_unit",{"$f":"'T2-B(PP5)'!$C$88","v":0},"#'T2-B(PP5)'!$C$88"]
["pp5_bl4_4_3_unit_in",{"$f":"'T2-B(PP5)'!$D$88","v":0},"#'T2-B(PP5)'!$D$88"]
["pp5_bl4_4_3_units_out",{"$f":"'T2-B(PP5)'!$G$88","v":0},"#'T2-B(PP5)'!$G$88"]
["pp5_bl4_4_4_name",{"$f":"'T2-B(PP5)'!$B$89","v":0},"#'T2-B(PP5)'!$B$89"]
["pp5_bl4_4_4_rate_in",{"$f":"'T2-B(PP5)'!$E$89","v":0},"#'T2-B(PP5)'!$E$89"]
["pp5_bl4_4_4_rate_out",{"$f":"'T2-B(PP5)'!$H$89","v":0},"#'T2-B(PP5)'!$H$89"]
["pp5_bl4_4_4_total",{"$f":"'T2-B(PP5)'!$J$89","v":0},"#'T2-B(PP5)'!$J$89"]
["pp5_bl4_4_4_total_in",{"$f":"'T2-B(PP5)'!$F$89","v":0},"#'T2-B(PP5)'!$F$89"]
["pp5_bl4_4_4_total_out",{"$f":"'T2-B(PP5)'!$I$89","v":0},"#'T2-B(PP5)'!$I$89"]
["pp5_bl4_4_4_unit",{"$f":"'T2-B(PP5)'!$C$89","v":0},"#'T2-B(PP5)'!$C$89"]
["pp5_bl4_4_4_unit_in",{"$f":"'T2-B(PP5)'!$D$89","v":0},"#'T2-B(PP5)'!$D$89"]
["pp5_bl4_4_4_units_out",{"$f":"'T2-B(PP5)'!$G$89","v":0},"#'T2-B(PP5)'!$G$89"]
["pp5_bl4_4_5_name",{"$f":"'T2-B(PP5)'!$B$90","v":0},"#'T2-B(PP5)'!$B$90"]
["pp5_bl4_4_5_rate_in",{"$f":"'T2-B(PP5)'!$E$90","v":0},"#'T2-B(PP5)'!$E$90"]
["pp5_bl4_4_5_rate_out",{"$f":"'T2-B(PP5)'!$H$90","v":0},"#'T2-B(PP5)'!$H$90"]
["pp5_bl4_4_5_total",{"$f":"'T2-B(PP5)'!$J$90","v":0},"#'T2-B(PP5)'!$J$90"]
["pp5_bl4_4_5_total_in",{"$f":"'T2-B(PP5)'!$F$90","v":0},"#'T2-B(PP5)'!$F$90"]
["pp5_bl4_4_5_total_out",{"$f":"'T2-B(PP5)'!$I$90","v":0},"#'T2-B(PP5)'!$I$90"]
["pp5_bl4_4_5_unit",{"$f":"'T2-B(PP5)'!$C$90","v":0},"#'T2-B(PP5)'!$C$90"]
["pp5_bl4_4_5_unit_in",{"$f":"'T2-B(PP5)'!$D$90","v":0},"#'T2-B(PP5)'!$D$90"]
["pp5_bl4_4_5_units_out",{"$f":"'T2-B(PP5)'!$G$90","v":0},"#'T2-B(PP5)'!$G$90"]
["pp5_bl4_4_6_name",{"$f":"'T2-B(PP5)'!$B$91","v":0},"#'T2-B(PP5)'!$B$91"]
["pp5_bl4_4_6_rate_in",{"$f":"'T2-B(PP5)'!$E$91","v":0},"#'T2-B(PP5)'!$E$91"]
["pp5_bl4_4_6_rate_out",{"$f":"'T2-B(PP5)'!$H$91","v":0},"#'T2-B(PP5)'!$H$91"]
["pp5_bl4_4_6_total",{"$f":"'T2-B(PP5)'!$J$91","v":0},"#'T2-B(PP5)'!$J$91"]
["pp5_bl4_4_6_total_in",{"$f":"'T2-B(PP5)'!$F$91","v":0},"#'T2-B(PP5)'!$F$91"]
["pp5_bl4_4_6_total_out",{"$f":"'T2-B(PP5)'!$I$91","v":0},"#'T2-B(PP5)'!$I$91"]
["pp5_bl4_4_6_unit",{"$f":"'T2-B(PP5)'!$C$91","v":0},"#'T2-B(PP5)'!$C$91"]
["pp5_bl4_4_6_unit_in",{"$f":"'T2-B(PP5)'!$D$91","v":0},"#'T2-B(PP5)'!$D$91"]
["pp5_bl4_4_6_units_out",{"$f":"'T2-B(PP5)'!$G$91","v":0},"#'T2-B(PP5)'!$G$91"]
["pp5_bl4_4_7_name",{"$f":"'T2-B(PP5)'!$B$92","v":0},"#'T2-B(PP5)'!$B$92"]
["pp5_bl4_4_7_rate_in",{"$f":"'T2-B(PP5)'!$E$92","v":0},"#'T2-B(PP5)'!$E$92"]
["pp5_bl4_4_7_rate_out",{"$f":"'T2-B(PP5)'!$H$92","v":0},"#'T2-B(PP5)'!$H$92"]
["pp5_bl4_4_7_total",{"$f":"'T2-B(PP5)'!$J$92","v":0},"#'T2-B(PP5)'!$J$92"]
["pp5_bl4_4_7_total_in",{"$f":"'T2-B(PP5)'!$F$92","v":0},"#'T2-B(PP5)'!$F$92"]
["pp5_bl4_4_7_total_out",{"$f":"'T2-B(PP5)'!$I$92","v":0},"#'T2-B(PP5)'!$I$92"]
["pp5_bl4_4_7_unit",{"$f":"'T2-B(PP5)'!$C$92","v":0},"#'T2-B(PP5)'!$C$92"]
["pp5_bl4_4_7_unit_in",{"$f":"'T2-B(PP5)'!$D$92","v":0},"#'T2-B(PP5)'!$D$92"]
["pp5_bl4_4_7_units_out",{"$f":"'T2-B(PP5)'!$G$92","v":0},"#'T2-B(PP5)'!$G$92"]
["pp5_bl4_4_8_name",{"$f":"'T2-B(PP5)'!$B$93","v":0},"#'T2-B(PP5)'!$B$93"]
["pp5_bl4_4_8_rate_in",{"$f":"'T2-B(PP5)'!$E$93","v":0},"#'T2-B(PP5)'!$E$93"]
["pp5_bl4_4_8_rate_out",{"$f":"'T2-B(PP5)'!$H$93","v":0},"#'T2-B(PP5)'!$H$93"]
["pp5_bl4_4_8_total",{"$f":"'T2-B(PP5)'!$J$93","v":0},"#'T2-B(PP5)'!$J$93"]
["pp5_bl4_4_8_total_in",{"$f":"'T2-B(PP5)'!$F$93","v":0},"#'T2-B(PP5)'!$F$93"]
["pp5_bl4_4_8_total_out",{"$f":"'T2-B(PP5)'!$I$93","v":0},"#'T2-B(PP5)'!$I$93"]
["pp5_bl4_4_8_unit",{"$f":"'T2-B(PP5)'!$C$93","v":0},"#'T2-B(PP5)'!$C$93"]
["pp5_bl4_4_8_unit_in",{"$f":"'T2-B(PP5)'!$D$93","v":0},"#'T2-B(PP5)'!$D$93"]
["pp5_bl4_4_8_units_out",{"$f":"'T2-B(PP5)'!$G$93","v":0},"#'T2-B(PP5)'!$G$93"]
["pp5_bl4_4_9_name",{"$f":"'T2-B(PP5)'!$B$94","v":0},"#'T2-B(PP5)'!$B$94"]
["pp5_bl4_4_9_rate_in",{"$f":"'T2-B(PP5)'!$E$94","v":0},"#'T2-B(PP5)'!$E$94"]
["pp5_bl4_4_9_rate_out",{"$f":"'T2-B(PP5)'!$H$94","v":0},"#'T2-B(PP5)'!$H$94"]
["pp5_bl4_4_9_total",{"$f":"'T2-B(PP5)'!$J$94","v":0},"#'T2-B(PP5)'!$J$94"]
["pp5_bl4_4_9_total_in",{"$f":"'T2-B(PP5)'!$F$94","v":0},"#'T2-B(PP5)'!$F$94"]
["pp5_bl4_4_9_total_out",{"$f":"'T2-B(PP5)'!$I$94","v":0},"#'T2-B(PP5)'!$I$94"]
["pp5_bl4_4_9_unit",{"$f":"'T2-B(PP5)'!$C$94","v":0},"#'T2-B(PP5)'!$C$94"]
["pp5_bl4_4_9_unit_in",{"$f":"'T2-B(PP5)'!$D$94","v":0},"#'T2-B(PP5)'!$D$94"]
["pp5_bl4_4_9_units_out",{"$f":"'T2-B(PP5)'!$G$94","v":0},"#'T2-B(PP5)'!$G$94"]
["pp5_bl4_4_total",{"$f":"'T2-B(PP5)'!$J$85","v":0},"#'T2-B(PP5)'!$J$85"]
["pp5_bl4_4_total_in",{"$f":"'T2-B(PP5)'!$F$85","v":0},"#'T2-B(PP5)'!$F$85"]
["pp5_bl4_4_total_out",{"$f":"'T2-B(PP5)'!$I$85","v":0},"#'T2-B(PP5)'!$I$85"]
["pp5_bl4_5_1_name",{"$f":"'T2-B(PP5)'!$B$97","v":0},"#'T2-B(PP5)'!$B$97"]
["pp5_bl4_5_1_rate_in",{"$f":"'T2-B(PP5)'!$E$97","v":0},"#'T2-B(PP5)'!$E$97"]
["pp5_bl4_5_1_rate_out",{"$f":"'T2-B(PP5)'!$H$97","v":0},"#'T2-B(PP5)'!$H$97"]
["pp5_bl4_5_1_total",{"$f":"'T2-B(PP5)'!$J$97","v":0},"#'T2-B(PP5)'!$J$97"]
["pp5_bl4_5_1_total_in",{"$f":"'T2-B(PP5)'!$F$97","v":0},"#'T2-B(PP5)'!$F$97"]
["pp5_bl4_5_1_total_out",{"$f":"'T2-B(PP5)'!$I$97","v":0},"#'T2-B(PP5)'!$I$97"]
["pp5_bl4_5_1_unit",{"$f":"'T2-B(PP5)'!$C$97","v":0},"#'T2-B(PP5)'!$C$97"]
["pp5_bl4_5_1_unit_in",{"$f":"'T2-B(PP5)'!$D$97","v":0},"#'T2-B(PP5)'!$D$97"]
["pp5_bl4_5_1_units_out",{"$f":"'T2-B(PP5)'!$G$97","v":0},"#'T2-B(PP5)'!$G$97"]
["pp5_bl4_5_10_name",{"$f":"'T2-B(PP5)'!$B$106","v":0},"#'T2-B(PP5)'!$B$106"]
["pp5_bl4_5_10_rate_in",{"$f":"'T2-B(PP5)'!$E$106","v":0},"#'T2-B(PP5)'!$E$106"]
["pp5_bl4_5_10_rate_out",{"$f":"'T2-B(PP5)'!$H$106","v":0},"#'T2-B(PP5)'!$H$106"]
["pp5_bl4_5_10_total",{"$f":"'T2-B(PP5)'!$J$106","v":0},"#'T2-B(PP5)'!$J$106"]
["pp5_bl4_5_10_total_in",{"$f":"'T2-B(PP5)'!$F$106","v":0},"#'T2-B(PP5)'!$F$106"]
["pp5_bl4_5_10_total_out",{"$f":"'T2-B(PP5)'!$I$106","v":0},"#'T2-B(PP5)'!$I$106"]
["pp5_bl4_5_10_unit",{"$f":"'T2-B(PP5)'!$C$106","v":0},"#'T2-B(PP5)'!$C$106"]
["pp5_bl4_5_10_unit_in",{"$f":"'T2-B(PP5)'!$D$106","v":0},"#'T2-B(PP5)'!$D$106"]
["pp5_bl4_5_10_units_out",{"$f":"'T2-B(PP5)'!$G$106","v":0},"#'T2-B(PP5)'!$G$106"]
["pp5_bl4_5_2_name",{"$f":"'T2-B(PP5)'!$B$98","v":0},"#'T2-B(PP5)'!$B$98"]
["pp5_bl4_5_2_rate_in",{"$f":"'T2-B(PP5)'!$E$98","v":0},"#'T2-B(PP5)'!$E$98"]
["pp5_bl4_5_2_rate_out",{"$f":"'T2-B(PP5)'!$H$98","v":0},"#'T2-B(PP5)'!$H$98"]
["pp5_bl4_5_2_total",{"$f":"'T2-B(PP5)'!$J$98","v":0},"#'T2-B(PP5)'!$J$98"]
["pp5_bl4_5_2_total_in",{"$f":"'T2-B(PP5)'!$F$98","v":0},"#'T2-B(PP5)'!$F$98"]
["pp5_bl4_5_2_total_out",{"$f":"'T2-B(PP5)'!$I$98","v":0},"#'T2-B(PP5)'!$I$98"]
["pp5_bl4_5_2_unit",{"$f":"'T2-B(PP5)'!$C$98","v":0},"#'T2-B(PP5)'!$C$98"]
["pp5_bl4_5_2_unit_in",{"$f":"'T2-B(PP5)'!$D$98","v":0},"#'T2-B(PP5)'!$D$98"]
["pp5_bl4_5_2_units_out",{"$f":"'T2-B(PP5)'!$G$98","v":0},"#'T2-B(PP5)'!$G$98"]
["pp5_bl4_5_3_name",{"$f":"'T2-B(PP5)'!$B$99","v":0},"#'T2-B(PP5)'!$B$99"]
["pp5_bl4_5_3_rate_in",{"$f":"'T2-B(PP5)'!$E$99","v":0},"#'T2-B(PP5)'!$E$99"]
["pp5_bl4_5_3_rate_out",{"$f":"'T2-B(PP5)'!$H$99","v":0},"#'T2-B(PP5)'!$H$99"]
["pp5_bl4_5_3_total",{"$f":"'T2-B(PP5)'!$J$99","v":0},"#'T2-B(PP5)'!$J$99"]
["pp5_bl4_5_3_total_in",{"$f":"'T2-B(PP5)'!$F$99","v":0},"#'T2-B(PP5)'!$F$99"]
["pp5_bl4_5_3_total_out",{"$f":"'T2-B(PP5)'!$I$99","v":0},"#'T2-B(PP5)'!$I$99"]
["pp5_bl4_5_3_unit",{"$f":"'T2-B(PP5)'!$C$99","v":0},"#'T2-B(PP5)'!$C$99"]
["pp5_bl4_5_3_unit_in",{"$f":"'T2-B(PP5)'!$D$99","v":0},"#'T2-B(PP5)'!$D$99"]
["pp5_bl4_5_3_units_out",{"$f":"'T2-B(PP5)'!$G$99","v":0},"#'T2-B(PP5)'!$G$99"]
["pp5_bl4_5_4_name",{"$f":"'T2-B(PP5)'!$B$100","v":0},"#'T2-B(PP5)'!$B$100"]
["pp5_bl4_5_4_rate_in",{"$f":"'T2-B(PP5)'!$E$100","v":0},"#'T2-B(PP5)'!$E$100"]
["pp5_bl4_5_4_rate_out",{"$f":"'T2-B(PP5)'!$H$100","v":0},"#'T2-B(PP5)'!$H$100"]
["pp5_bl4_5_4_total",{"$f":"'T2-B(PP5)'!$J$100","v":0},"#'T2-B(PP5)'!$J$100"]
["pp5_bl4_5_4_total_in",{"$f":"'T2-B(PP5)'!$F$100","v":0},"#'T2-B(PP5)'!$F$100"]
["pp5_bl4_5_4_total_out",{"$f":"'T2-B(PP5)'!$I$100","v":0},"#'T2-B(PP5)'!$I$100"]
["pp5_bl4_5_4_unit",{"$f":"'T2-B(PP5)'!$C$100","v":0},"#'T2-B(PP5)'!$C$100"]
["pp5_bl4_5_4_unit_in",{"$f":"'T2-B(PP5)'!$D$100","v":0},"#'T2-B(PP5)'!$D$100"]
["pp5_bl4_5_4_units_out",{"$f":"'T2-B(PP5)'!$G$100","v":0},"#'T2-B(PP5)'!$G$100"]
["pp5_bl4_5_5_name",{"$f":"'T2-B(PP5)'!$B$101","v":0},"#'T2-B(PP5)'!$B$101"]
["pp5_bl4_5_5_rate_in",{"$f":"'T2-B(PP5)'!$E$101","v":0},"#'T2-B(PP5)'!$E$101"]
["pp5_bl4_5_5_rate_out",{"$f":"'T2-B(PP5)'!$H$101","v":0},"#'T2-B(PP5)'!$H$101"]
["pp5_bl4_5_5_total",{"$f":"'T2-B(PP5)'!$J$101","v":0},"#'T2-B(PP5)'!$J$101"]
["pp5_bl4_5_5_total_in",{"$f":"'T2-B(PP5)'!$F$101","v":0},"#'T2-B(PP5)'!$F$101"]
["pp5_bl4_5_5_total_out",{"$f":"'T2-B(PP5)'!$I$101","v":0},"#'T2-B(PP5)'!$I$101"]
["pp5_bl4_5_5_unit",{"$f":"'T2-B(PP5)'!$C$101","v":0},"#'T2-B(PP5)'!$C$101"]
["pp5_bl4_5_5_unit_in",{"$f":"'T2-B(PP5)'!$D$101","v":0},"#'T2-B(PP5)'!$D$101"]
["pp5_bl4_5_5_units_out",{"$f":"'T2-B(PP5)'!$G$101","v":0},"#'T2-B(PP5)'!$G$101"]
["pp5_bl4_5_6_name",{"$f":"'T2-B(PP5)'!$B$102","v":0},"#'T2-B(PP5)'!$B$102"]
["pp5_bl4_5_6_rate_in",{"$f":"'T2-B(PP5)'!$E$102","v":0},"#'T2-B(PP5)'!$E$102"]
["pp5_bl4_5_6_rate_out",{"$f":"'T2-B(PP5)'!$H$102","v":0},"#'T2-B(PP5)'!$H$102"]
["pp5_bl4_5_6_total",{"$f":"'T2-B(PP5)'!$J$102","v":0},"#'T2-B(PP5)'!$J$102"]
["pp5_bl4_5_6_total_in",{"$f":"'T2-B(PP5)'!$F$102","v":0},"#'T2-B(PP5)'!$F$102"]
["pp5_bl4_5_6_total_out",{"$f":"'T2-B(PP5)'!$I$102","v":0},"#'T2-B(PP5)'!$I$102"]
["pp5_bl4_5_6_unit",{"$f":"'T2-B(PP5)'!$C$102","v":0},"#'T2-B(PP5)'!$C$102"]
["pp5_bl4_5_6_unit_in",{"$f":"'T2-B(PP5)'!$D$102","v":0},"#'T2-B(PP5)'!$D$102"]
["pp5_bl4_5_6_units_out",{"$f":"'T2-B(PP5)'!$G$102","v":0},"#'T2-B(PP5)'!$G$102"]
["pp5_bl4_5_7_name",{"$f":"'T2-B(PP5)'!$B$103","v":0},"#'T2-B(PP5)'!$B$103"]
["pp5_bl4_5_7_rate_in",{"$f":"'T2-B(PP5)'!$E$103","v":0},"#'T2-B(PP5)'!$E$103"]
["pp5_bl4_5_7_rate_out",{"$f":"'T2-B(PP5)'!$H$103","v":0},"#'T2-B(PP5)'!$H$103"]
["pp5_bl4_5_7_total",{"$f":"'T2-B(PP5)'!$J$103","v":0},"#'T2-B(PP5)'!$J$103"]
["pp5_bl4_5_7_total_in",{"$f":"'T2-B(PP5)'!$F$103","v":0},"#'T2-B(PP5)'!$F$103"]
["pp5_bl4_5_7_total_out",{"$f":"'T2-B(PP5)'!$I$103","v":0},"#'T2-B(PP5)'!$I$103"]
["pp5_bl4_5_7_unit",{"$f":"'T2-B(PP5)'!$C$103","v":0},"#'T2-B(PP5)'!$C$103"]
["pp5_bl4_5_7_unit_in",{"$f":"'T2-B(PP5)'!$D$103","v":0},"#'T2-B(PP5)'!$D$103"]
["pp5_bl4_5_7_units_out",{"$f":"'T2-B(PP5)'!$G$103","v":0},"#'T2-B(PP5)'!$G$103"]
["pp5_bl4_5_8_name",{"$f":"'T2-B(PP5)'!$B$104","v":0},"#'T2-B(PP5)'!$B$104"]
["pp5_bl4_5_8_rate_in",{"$f":"'T2-B(PP5)'!$E$104","v":0},"#'T2-B(PP5)'!$E$104"]
["pp5_bl4_5_8_rate_out",{"$f":"'T2-B(PP5)'!$H$104","v":0},"#'T2-B(PP5)'!$H$104"]
["pp5_bl4_5_8_total",{"$f":"'T2-B(PP5)'!$J$104","v":0},"#'T2-B(PP5)'!$J$104"]
["pp5_bl4_5_8_total_in",{"$f":"'T2-B(PP5)'!$F$104","v":0},"#'T2-B(PP5)'!$F$104"]
["pp5_bl4_5_8_total_out",{"$f":"'T2-B(PP5)'!$I$104","v":0},"#'T2-B(PP5)'!$I$104"]
["pp5_bl4_5_8_unit",{"$f":"'T2-B(PP5)'!$C$104","v":0},"#'T2-B(PP5)'!$C$104"]
["pp5_bl4_5_8_unit_in",{"$f":"'T2-B(PP5)'!$D$104","v":0},"#'T2-B(PP5)'!$D$104"]
["pp5_bl4_5_8_units_out",{"$f":"'T2-B(PP5)'!$G$104","v":0},"#'T2-B(PP5)'!$G$104"]
["pp5_bl4_5_9_name",{"$f":"'T2-B(PP5)'!$B$105","v":0},"#'T2-B(PP5)'!$B$105"]
["pp5_bl4_5_9_rate_in",{"$f":"'T2-B(PP5)'!$E$105","v":0},"#'T2-B(PP5)'!$E$105"]
["pp5_bl4_5_9_rate_out",{"$f":"'T2-B(PP5)'!$H$105","v":0},"#'T2-B(PP5)'!$H$105"]
["pp5_bl4_5_9_total",{"$f":"'T2-B(PP5)'!$J$105","v":0},"#'T2-B(PP5)'!$J$105"]
["pp5_bl4_5_9_total_in",{"$f":"'T2-B(PP5)'!$F$105","v":0},"#'T2-B(PP5)'!$F$105"]
["pp5_bl4_5_9_total_out",{"$f":"'T2-B(PP5)'!$I$105","v":0},"#'T2-B(PP5)'!$I$105"]
["pp5_bl4_5_9_unit",{"$f":"'T2-B(PP5)'!$C$105","v":0},"#'T2-B(PP5)'!$C$105"]
["pp5_bl4_5_9_unit_in",{"$f":"'T2-B(PP5)'!$D$105","v":0},"#'T2-B(PP5)'!$D$105"]
["pp5_bl4_5_9_units_out",{"$f":"'T2-B(PP5)'!$G$105","v":0},"#'T2-B(PP5)'!$G$105"]
["pp5_bl4_5_total",{"$f":"'T2-B(PP5)'!$J$96","v":0},"#'T2-B(PP5)'!$J$96"]
["pp5_bl4_5_total_in",{"$f":"'T2-B(PP5)'!$F$96","v":0},"#'T2-B(PP5)'!$F$96"]
["pp5_bl4_5_total_out",{"$f":"'T2-B(PP5)'!$I$96","v":0},"#'T2-B(PP5)'!$I$96"]
["pp5_bl4_6_1_name",{"$f":"'T2-B(PP5)'!$B$108","v":0},"#'T2-B(PP5)'!$B$108"]
["pp5_bl4_6_1_rate_in",{"$f":"'T2-B(PP5)'!$E$108","v":0},"#'T2-B(PP5)'!$E$108"]
["pp5_bl4_6_1_rate_out",{"$f":"'T2-B(PP5)'!$H$108","v":0},"#'T2-B(PP5)'!$H$108"]
["pp5_bl4_6_1_total",{"$f":"'T2-B(PP5)'!$J$108","v":0},"#'T2-B(PP5)'!$J$108"]
["pp5_bl4_6_1_total_in",{"$f":"'T2-B(PP5)'!$F$108","v":0},"#'T2-B(PP5)'!$F$108"]
["pp5_bl4_6_1_total_out",{"$f":"'T2-B(PP5)'!$I$108","v":0},"#'T2-B(PP5)'!$I$108"]
["pp5_bl4_6_1_unit",{"$f":"'T2-B(PP5)'!$C$108","v":0},"#'T2-B(PP5)'!$C$108"]
["pp5_bl4_6_1_unit_in",{"$f":"'T2-B(PP5)'!$D$108","v":0},"#'T2-B(PP5)'!$D$108"]
["pp5_bl4_6_1_units_out",{"$f":"'T2-B(PP5)'!$G$108","v":0},"#'T2-B(PP5)'!$G$108"]
["pp5_bl4_6_10_name",{"$f":"'T2-B(PP5)'!$B$117","v":0},"#'T2-B(PP5)'!$B$117"]
["pp5_bl4_6_10_rate_in",{"$f":"'T2-B(PP5)'!$E$117","v":0},"#'T2-B(PP5)'!$E$117"]
["pp5_bl4_6_10_rate_out",{"$f":"'T2-B(PP5)'!$H$117","v":0},"#'T2-B(PP5)'!$H$117"]
["pp5_bl4_6_10_total",{"$f":"'T2-B(PP5)'!$J$117","v":0},"#'T2-B(PP5)'!$J$117"]
["pp5_bl4_6_10_total_in",{"$f":"'T2-B(PP5)'!$F$117","v":0},"#'T2-B(PP5)'!$F$117"]
["pp5_bl4_6_10_total_out",{"$f":"'T2-B(PP5)'!$I$117","v":0},"#'T2-B(PP5)'!$I$117"]
["pp5_bl4_6_10_unit",{"$f":"'T2-B(PP5)'!$C$117","v":0},"#'T2-B(PP5)'!$C$117"]
["pp5_bl4_6_10_unit_in",{"$f":"'T2-B(PP5)'!$D$117","v":0},"#'T2-B(PP5)'!$D$117"]
["pp5_bl4_6_10_units_out",{"$f":"'T2-B(PP5)'!$G$117","v":0},"#'T2-B(PP5)'!$G$117"]
["pp5_bl4_6_2_name",{"$f":"'T2-B(PP5)'!$B$109","v":0},"#'T2-B(PP5)'!$B$109"]
["pp5_bl4_6_2_rate_in",{"$f":"'T2-B(PP5)'!$E$109","v":0},"#'T2-B(PP5)'!$E$109"]
["pp5_bl4_6_2_rate_out",{"$f":"'T2-B(PP5)'!$H$109","v":0},"#'T2-B(PP5)'!$H$109"]
["pp5_bl4_6_2_total",{"$f":"'T2-B(PP5)'!$J$109","v":0},"#'T2-B(PP5)'!$J$109"]
["pp5_bl4_6_2_total_in",{"$f":"'T2-B(PP5)'!$F$109","v":0},"#'T2-B(PP5)'!$F$109"]
["pp5_bl4_6_2_total_out",{"$f":"'T2-B(PP5)'!$I$109","v":0},"#'T2-B(PP5)'!$I$109"]
["pp5_bl4_6_2_unit",{"$f":"'T2-B(PP5)'!$C$109","v":0},"#'T2-B(PP5)'!$C$109"]
["pp5_bl4_6_2_unit_in",{"$f":"'T2-B(PP5)'!$D$109","v":0},"#'T2-B(PP5)'!$D$109"]
["pp5_bl4_6_2_units_out",{"$f":"'T2-B(PP5)'!$G$109","v":0},"#'T2-B(PP5)'!$G$109"]
["pp5_bl4_6_3_name",{"$f":"'T2-B(PP5)'!$B$110","v":0},"#'T2-B(PP5)'!$B$110"]
["pp5_bl4_6_3_rate_in",{"$f":"'T2-B(PP5)'!$E$110","v":0},"#'T2-B(PP5)'!$E$110"]
["pp5_bl4_6_3_rate_out",{"$f":"'T2-B(PP5)'!$H$110","v":0},"#'T2-B(PP5)'!$H$110"]
["pp5_bl4_6_3_total",{"$f":"'T2-B(PP5)'!$J$110","v":0},"#'T2-B(PP5)'!$J$110"]
["pp5_bl4_6_3_total_in",{"$f":"'T2-B(PP5)'!$F$110","v":0},"#'T2-B(PP5)'!$F$110"]
["pp5_bl4_6_3_total_out",{"$f":"'T2-B(PP5)'!$I$110","v":0},"#'T2-B(PP5)'!$I$110"]
["pp5_bl4_6_3_unit",{"$f":"'T2-B(PP5)'!$C$110","v":0},"#'T2-B(PP5)'!$C$110"]
["pp5_bl4_6_3_unit_in",{"$f":"'T2-B(PP5)'!$D$110","v":0},"#'T2-B(PP5)'!$D$110"]
["pp5_bl4_6_3_units_out",{"$f":"'T2-B(PP5)'!$G$110","v":0},"#'T2-B(PP5)'!$G$110"]
["pp5_bl4_6_4_name",{"$f":"'T2-B(PP5)'!$B$111","v":0},"#'T2-B(PP5)'!$B$111"]
["pp5_bl4_6_4_rate_in",{"$f":"'T2-B(PP5)'!$E$111","v":0},"#'T2-B(PP5)'!$E$111"]
["pp5_bl4_6_4_rate_out",{"$f":"'T2-B(PP5)'!$H$111","v":0},"#'T2-B(PP5)'!$H$111"]
["pp5_bl4_6_4_total",{"$f":"'T2-B(PP5)'!$J$111","v":0},"#'T2-B(PP5)'!$J$111"]
["pp5_bl4_6_4_total_in",{"$f":"'T2-B(PP5)'!$F$111","v":0},"#'T2-B(PP5)'!$F$111"]
["pp5_bl4_6_4_total_out",{"$f":"'T2-B(PP5)'!$I$111","v":0},"#'T2-B(PP5)'!$I$111"]
["pp5_bl4_6_4_unit",{"$f":"'T2-B(PP5)'!$C$111","v":0},"#'T2-B(PP5)'!$C$111"]
["pp5_bl4_6_4_unit_in",{"$f":"'T2-B(PP5)'!$D$111","v":0},"#'T2-B(PP5)'!$D$111"]
["pp5_bl4_6_4_units_out",{"$f":"'T2-B(PP5)'!$G$111","v":0},"#'T2-B(PP5)'!$G$111"]
["pp5_bl4_6_5_name",{"$f":"'T2-B(PP5)'!$B$112","v":0},"#'T2-B(PP5)'!$B$112"]
["pp5_bl4_6_5_rate_in",{"$f":"'T2-B(PP5)'!$E$112","v":0},"#'T2-B(PP5)'!$E$112"]
["pp5_bl4_6_5_rate_out",{"$f":"'T2-B(PP5)'!$H$112","v":0},"#'T2-B(PP5)'!$H$112"]
["pp5_bl4_6_5_total",{"$f":"'T2-B(PP5)'!$J$112","v":0},"#'T2-B(PP5)'!$J$112"]
["pp5_bl4_6_5_total_in",{"$f":"'T2-B(PP5)'!$F$112","v":0},"#'T2-B(PP5)'!$F$112"]
["pp5_bl4_6_5_total_out",{"$f":"'T2-B(PP5)'!$I$112","v":0},"#'T2-B(PP5)'!$I$112"]
["pp5_bl4_6_5_unit",{"$f":"'T2-B(PP5)'!$C$112","v":0},"#'T2-B(PP5)'!$C$112"]
["pp5_bl4_6_5_unit_in",{"$f":"'T2-B(PP5)'!$D$112","v":0},"#'T2-B(PP5)'!$D$112"]
["pp5_bl4_6_5_units_out",{"$f":"'T2-B(PP5)'!$G$112","v":0},"#'T2-B(PP5)'!$G$112"]
["pp5_bl4_6_6_name",{"$f":"'T2-B(PP5)'!$B$113","v":0},"#'T2-B(PP5)'!$B$113"]
["pp5_bl4_6_6_rate_in",{"$f":"'T2-B(PP5)'!$E$113","v":0},"#'T2-B(PP5)'!$E$113"]
["pp5_bl4_6_6_rate_out",{"$f":"'T2-B(PP5)'!$H$113","v":0},"#'T2-B(PP5)'!$H$113"]
["pp5_bl4_6_6_total",{"$f":"'T2-B(PP5)'!$J$113","v":0},"#'T2-B(PP5)'!$J$113"]
["pp5_bl4_6_6_total_in",{"$f":"'T2-B(PP5)'!$F$113","v":0},"#'T2-B(PP5)'!$F$113"]
["pp5_bl4_6_6_total_out",{"$f":"'T2-B(PP5)'!$I$113","v":0},"#'T2-B(PP5)'!$I$113"]
["pp5_bl4_6_6_unit",{"$f":"'T2-B(PP5)'!$C$113","v":0},"#'T2-B(PP5)'!$C$113"]
["pp5_bl4_6_6_unit_in",{"$f":"'T2-B(PP5)'!$D$113","v":0},"#'T2-B(PP5)'!$D$113"]
["pp5_bl4_6_6_units_out",{"$f":"'T2-B(PP5)'!$G$113","v":0},"#'T2-B(PP5)'!$G$113"]
["pp5_bl4_6_7_name",{"$f":"'T2-B(PP5)'!$B$114","v":0},"#'T2-B(PP5)'!$B$114"]
["pp5_bl4_6_7_rate_in",{"$f":"'T2-B(PP5)'!$E$114","v":0},"#'T2-B(PP5)'!$E$114"]
["pp5_bl4_6_7_rate_out",{"$f":"'T2-B(PP5)'!$H$114","v":0},"#'T2-B(PP5)'!$H$114"]
["pp5_bl4_6_7_total",{"$f":"'T2-B(PP5)'!$J$114","v":0},"#'T2-B(PP5)'!$J$114"]
["pp5_bl4_6_7_total_in",{"$f":"'T2-B(PP5)'!$F$114","v":0},"#'T2-B(PP5)'!$F$114"]
["pp5_bl4_6_7_total_out",{"$f":"'T2-B(PP5)'!$I$114","v":0},"#'T2-B(PP5)'!$I$114"]
["pp5_bl4_6_7_unit",{"$f":"'T2-B(PP5)'!$C$114","v":0},"#'T2-B(PP5)'!$C$114"]
["pp5_bl4_6_7_unit_in",{"$f":"'T2-B(PP5)'!$D$114","v":0},"#'T2-B(PP5)'!$D$114"]
["pp5_bl4_6_7_units_out",{"$f":"'T2-B(PP5)'!$G$114","v":0},"#'T2-B(PP5)'!$G$114"]
["pp5_bl4_6_8_name",{"$f":"'T2-B(PP5)'!$B$115","v":0},"#'T2-B(PP5)'!$B$115"]
["pp5_bl4_6_8_rate_in",{"$f":"'T2-B(PP5)'!$E$115","v":0},"#'T2-B(PP5)'!$E$115"]
["pp5_bl4_6_8_rate_out",{"$f":"'T2-B(PP5)'!$H$115","v":0},"#'T2-B(PP5)'!$H$115"]
["pp5_bl4_6_8_total",{"$f":"'T2-B(PP5)'!$J$115","v":0},"#'T2-B(PP5)'!$J$115"]
["pp5_bl4_6_8_total_in",{"$f":"'T2-B(PP5)'!$F$115","v":0},"#'T2-B(PP5)'!$F$115"]
["pp5_bl4_6_8_total_out",{"$f":"'T2-B(PP5)'!$I$115","v":0},"#'T2-B(PP5)'!$I$115"]
["pp5_bl4_6_8_unit",{"$f":"'T2-B(PP5)'!$C$115","v":0},"#'T2-B(PP5)'!$C$115"]
["pp5_bl4_6_8_unit_in",{"$f":"'T2-B(PP5)'!$D$115","v":0},"#'T2-B(PP5)'!$D$115"]
["pp5_bl4_6_8_units_out",{"$f":"'T2-B(PP5)'!$G$115","v":0},"#'T2-B(PP5)'!$G$115"]
["pp5_bl4_6_9_name",{"$f":"'T2-B(PP5)'!$B$116","v":0},"#'T2-B(PP5)'!$B$116"]
["pp5_bl4_6_9_rate_in",{"$f":"'T2-B(PP5)'!$E$116","v":0},"#'T2-B(PP5)'!$E$116"]
["pp5_bl4_6_9_rate_out",{"$f":"'T2-B(PP5)'!$H$116","v":0},"#'T2-B(PP5)'!$H$116"]
["pp5_bl4_6_9_total",{"$f":"'T2-B(PP5)'!$J$116","v":0},"#'T2-B(PP5)'!$J$116"]
["pp5_bl4_6_9_total_in",{"$f":"'T2-B(PP5)'!$F$116","v":0},"#'T2-B(PP5)'!$F$116"]
["pp5_bl4_6_9_total_out",{"$f":"'T2-B(PP5)'!$I$116","v":0},"#'T2-B(PP5)'!$I$116"]
["pp5_bl4_6_9_unit",{"$f":"'T2-B(PP5)'!$C$116","v":0},"#'T2-B(PP5)'!$C$116"]
["pp5_bl4_6_9_unit_in",{"$f":"'T2-B(PP5)'!$D$116","v":0},"#'T2-B(PP5)'!$D$116"]
["pp5_bl4_6_9_units_out",{"$f":"'T2-B(PP5)'!$G$116","v":0},"#'T2-B(PP5)'!$G$116"]
["pp5_bl4_6_total",{"$f":"'T2-B(PP5)'!$J$107","v":0},"#'T2-B(PP5)'!$J$107"]
["pp5_bl4_6_total_in",{"$f":"'T2-B(PP5)'!$F$107","v":0},"#'T2-B(PP5)'!$F$107"]
["pp5_bl4_6_total_out",{"$f":"'T2-B(PP5)'!$I$107","v":0},"#'T2-B(PP5)'!$I$107"]
["pp5_bl4_7_1_name",{"$f":"'T2-B(PP5)'!$B$119","v":0},"#'T2-B(PP5)'!$B$119"]
["pp5_bl4_7_1_rate_in",{"$f":"'T2-B(PP5)'!$E$119","v":0},"#'T2-B(PP5)'!$E$119"]
["pp5_bl4_7_1_rate_out",{"$f":"'T2-B(PP5)'!$H$119","v":0},"#'T2-B(PP5)'!$H$119"]
["pp5_bl4_7_1_total",{"$f":"'T2-B(PP5)'!$J$119","v":0},"#'T2-B(PP5)'!$J$119"]
["pp5_bl4_7_1_total_in",{"$f":"'T2-B(PP5)'!$F$119","v":0},"#'T2-B(PP5)'!$F$119"]
["pp5_bl4_7_1_total_out",{"$f":"'T2-B(PP5)'!$I$119","v":0},"#'T2-B(PP5)'!$I$119"]
["pp5_bl4_7_1_unit",{"$f":"'T2-B(PP5)'!$C$119","v":0},"#'T2-B(PP5)'!$C$119"]
["pp5_bl4_7_1_unit_in",{"$f":"'T2-B(PP5)'!$D$119","v":0},"#'T2-B(PP5)'!$D$119"]
["pp5_bl4_7_1_units_out",{"$f":"'T2-B(PP5)'!$G$119","v":0},"#'T2-B(PP5)'!$G$119"]
["pp5_bl4_7_10_name",{"$f":"'T2-B(PP5)'!$B$128","v":0},"#'T2-B(PP5)'!$B$128"]
["pp5_bl4_7_10_rate_in",{"$f":"'T2-B(PP5)'!$E$128","v":0},"#'T2-B(PP5)'!$E$128"]
["pp5_bl4_7_10_rate_out",{"$f":"'T2-B(PP5)'!$H$128","v":0},"#'T2-B(PP5)'!$H$128"]
["pp5_bl4_7_10_total",{"$f":"'T2-B(PP5)'!$J$128","v":0},"#'T2-B(PP5)'!$J$128"]
["pp5_bl4_7_10_total_in",{"$f":"'T2-B(PP5)'!$F$128","v":0},"#'T2-B(PP5)'!$F$128"]
["pp5_bl4_7_10_total_out",{"$f":"'T2-B(PP5)'!$I$128","v":0},"#'T2-B(PP5)'!$I$128"]
["pp5_bl4_7_10_unit",{"$f":"'T2-B(PP5)'!$C$128","v":0},"#'T2-B(PP5)'!$C$128"]
["pp5_bl4_7_10_unit_in",{"$f":"'T2-B(PP5)'!$D$128","v":0},"#'T2-B(PP5)'!$D$128"]
["pp5_bl4_7_10_units_out",{"$f":"'T2-B(PP5)'!$G$128","v":0},"#'T2-B(PP5)'!$G$128"]
["pp5_bl4_7_2_name",{"$f":"'T2-B(PP5)'!$B$120","v":0},"#'T2-B(PP5)'!$B$120"]
["pp5_bl4_7_2_rate_in",{"$f":"'T2-B(PP5)'!$E$120","v":0},"#'T2-B(PP5)'!$E$120"]
["pp5_bl4_7_2_rate_out",{"$f":"'T2-B(PP5)'!$H$120","v":0},"#'T2-B(PP5)'!$H$120"]
["pp5_bl4_7_2_total",{"$f":"'T2-B(PP5)'!$J$120","v":0},"#'T2-B(PP5)'!$J$120"]
["pp5_bl4_7_2_total_in",{"$f":"'T2-B(PP5)'!$F$120","v":0},"#'T2-B(PP5)'!$F$120"]
["pp5_bl4_7_2_total_out",{"$f":"'T2-B(PP5)'!$I$120","v":0},"#'T2-B(PP5)'!$I$120"]
["pp5_bl4_7_2_unit",{"$f":"'T2-B(PP5)'!$C$120","v":0},"#'T2-B(PP5)'!$C$120"]
["pp5_bl4_7_2_unit_in",{"$f":"'T2-B(PP5)'!$D$120","v":0},"#'T2-B(PP5)'!$D$120"]
["pp5_bl4_7_2_units_out",{"$f":"'T2-B(PP5)'!$G$120","v":0},"#'T2-B(PP5)'!$G$120"]
["pp5_bl4_7_3_name",{"$f":"'T2-B(PP5)'!$B$121","v":0},"#'T2-B(PP5)'!$B$121"]
["pp5_bl4_7_3_rate_in",{"$f":"'T2-B(PP5)'!$E$121","v":0},"#'T2-B(PP5)'!$E$121"]
["pp5_bl4_7_3_rate_out",{"$f":"'T2-B(PP5)'!$H$121","v":0},"#'T2-B(PP5)'!$H$121"]
["pp5_bl4_7_3_total",{"$f":"'T2-B(PP5)'!$J$121","v":0},"#'T2-B(PP5)'!$J$121"]
["pp5_bl4_7_3_total_in",{"$f":"'T2-B(PP5)'!$F$121","v":0},"#'T2-B(PP5)'!$F$121"]
["pp5_bl4_7_3_total_out",{"$f":"'T2-B(PP5)'!$I$121","v":0},"#'T2-B(PP5)'!$I$121"]
["pp5_bl4_7_3_unit",{"$f":"'T2-B(PP5)'!$C$121","v":0},"#'T2-B(PP5)'!$C$121"]
["pp5_bl4_7_3_unit_in",{"$f":"'T2-B(PP5)'!$D$121","v":0},"#'T2-B(PP5)'!$D$121"]
["pp5_bl4_7_3_units_out",{"$f":"'T2-B(PP5)'!$G$121","v":0},"#'T2-B(PP5)'!$G$121"]
["pp5_bl4_7_4_name",{"$f":"'T2-B(PP5)'!$B$122","v":0},"#'T2-B(PP5)'!$B$122"]
["pp5_bl4_7_4_rate_in",{"$f":"'T2-B(PP5)'!$E$122","v":0},"#'T2-B(PP5)'!$E$122"]
["pp5_bl4_7_4_rate_out",{"$f":"'T2-B(PP5)'!$H$122","v":0},"#'T2-B(PP5)'!$H$122"]
["pp5_bl4_7_4_total",{"$f":"'T2-B(PP5)'!$J$122","v":0},"#'T2-B(PP5)'!$J$122"]
["pp5_bl4_7_4_total_in",{"$f":"'T2-B(PP5)'!$F$122","v":0},"#'T2-B(PP5)'!$F$122"]
["pp5_bl4_7_4_total_out",{"$f":"'T2-B(PP5)'!$I$122","v":0},"#'T2-B(PP5)'!$I$122"]
["pp5_bl4_7_4_unit",{"$f":"'T2-B(PP5)'!$C$122","v":0},"#'T2-B(PP5)'!$C$122"]
["pp5_bl4_7_4_unit_in",{"$f":"'T2-B(PP5)'!$D$122","v":0},"#'T2-B(PP5)'!$D$122"]
["pp5_bl4_7_4_units_out",{"$f":"'T2-B(PP5)'!$G$122","v":0},"#'T2-B(PP5)'!$G$122"]
["pp5_bl4_7_5_name",{"$f":"'T2-B(PP5)'!$B$123","v":0},"#'T2-B(PP5)'!$B$123"]
["pp5_bl4_7_5_rate_in",{"$f":"'T2-B(PP5)'!$E$123","v":0},"#'T2-B(PP5)'!$E$123"]
["pp5_bl4_7_5_rate_out",{"$f":"'T2-B(PP5)'!$H$123","v":0},"#'T2-B(PP5)'!$H$123"]
["pp5_bl4_7_5_total",{"$f":"'T2-B(PP5)'!$J$123","v":0},"#'T2-B(PP5)'!$J$123"]
["pp5_bl4_7_5_total_in",{"$f":"'T2-B(PP5)'!$F$123","v":0},"#'T2-B(PP5)'!$F$123"]
["pp5_bl4_7_5_total_out",{"$f":"'T2-B(PP5)'!$I$123","v":0},"#'T2-B(PP5)'!$I$123"]
["pp5_bl4_7_5_unit",{"$f":"'T2-B(PP5)'!$C$123","v":0},"#'T2-B(PP5)'!$C$123"]
["pp5_bl4_7_5_unit_in",{"$f":"'T2-B(PP5)'!$D$123","v":0},"#'T2-B(PP5)'!$D$123"]
["pp5_bl4_7_5_units_out",{"$f":"'T2-B(PP5)'!$G$123","v":0},"#'T2-B(PP5)'!$G$123"]
["pp5_bl4_7_6_name",{"$f":"'T2-B(PP5)'!$B$124","v":0},"#'T2-B(PP5)'!$B$124"]
["pp5_bl4_7_6_rate_in",{"$f":"'T2-B(PP5)'!$E$124","v":0},"#'T2-B(PP5)'!$E$124"]
["pp5_bl4_7_6_rate_out",{"$f":"'T2-B(PP5)'!$H$124","v":0},"#'T2-B(PP5)'!$H$124"]
["pp5_bl4_7_6_total",{"$f":"'T2-B(PP5)'!$J$124","v":0},"#'T2-B(PP5)'!$J$124"]
["pp5_bl4_7_6_total_in",{"$f":"'T2-B(PP5)'!$F$124","v":0},"#'T2-B(PP5)'!$F$124"]
["pp5_bl4_7_6_total_out",{"$f":"'T2-B(PP5)'!$I$124","v":0},"#'T2-B(PP5)'!$I$124"]
["pp5_bl4_7_6_unit",{"$f":"'T2-B(PP5)'!$C$124","v":0},"#'T2-B(PP5)'!$C$124"]
["pp5_bl4_7_6_unit_in",{"$f":"'T2-B(PP5)'!$D$124","v":0},"#'T2-B(PP5)'!$D$124"]
["pp5_bl4_7_6_units_out",{"$f":"'T2-B(PP5)'!$G$124","v":0},"#'T2-B(PP5)'!$G$124"]
["pp5_bl4_7_7_name",{"$f":"'T2-B(PP5)'!$B$125","v":0},"#'T2-B(PP5)'!$B$125"]
["pp5_bl4_7_7_rate_in",{"$f":"'T2-B(PP5)'!$E$125","v":0},"#'T2-B(PP5)'!$E$125"]
["pp5_bl4_7_7_rate_out",{"$f":"'T2-B(PP5)'!$H$125","v":0},"#'T2-B(PP5)'!$H$125"]
["pp5_bl4_7_7_total",{"$f":"'T2-B(PP5)'!$J$125","v":0},"#'T2-B(PP5)'!$J$125"]
["pp5_bl4_7_7_total_in",{"$f":"'T2-B(PP5)'!$F$125","v":0},"#'T2-B(PP5)'!$F$125"]
["pp5_bl4_7_7_total_out",{"$f":"'T2-B(PP5)'!$I$125","v":0},"#'T2-B(PP5)'!$I$125"]
["pp5_bl4_7_7_unit",{"$f":"'T2-B(PP5)'!$C$125","v":0},"#'T2-B(PP5)'!$C$125"]
["pp5_bl4_7_7_unit_in",{"$f":"'T2-B(PP5)'!$D$125","v":0},"#'T2-B(PP5)'!$D$125"]
["pp5_bl4_7_7_units_out",{"$f":"'T2-B(PP5)'!$G$125","v":0},"#'T2-B(PP5)'!$G$125"]
["pp5_bl4_7_8_name",{"$f":"'T2-B(PP5)'!$B$126","v":0},"#'T2-B(PP5)'!$B$126"]
["pp5_bl4_7_8_rate_in",{"$f":"'T2-B(PP5)'!$E$126","v":0},"#'T2-B(PP5)'!$E$126"]
["pp5_bl4_7_8_rate_out",{"$f":"'T2-B(PP5)'!$H$126","v":0},"#'T2-B(PP5)'!$H$126"]
["pp5_bl4_7_8_total",{"$f":"'T2-B(PP5)'!$J$126","v":0},"#'T2-B(PP5)'!$J$126"]
["pp5_bl4_7_8_total_in",{"$f":"'T2-B(PP5)'!$F$126","v":0},"#'T2-B(PP5)'!$F$126"]
["pp5_bl4_7_8_total_out",{"$f":"'T2-B(PP5)'!$I$126","v":0},"#'T2-B(PP5)'!$I$126"]
["pp5_bl4_7_8_unit",{"$f":"'T2-B(PP5)'!$C$126","v":0},"#'T2-B(PP5)'!$C$126"]
["pp5_bl4_7_8_unit_in",{"$f":"'T2-B(PP5)'!$D$126","v":0},"#'T2-B(PP5)'!$D$126"]
["pp5_bl4_7_8_units_out",{"$f":"'T2-B(PP5)'!$G$126","v":0},"#'T2-B(PP5)'!$G$126"]
["pp5_bl4_7_9_name",{"$f":"'T2-B(PP5)'!$B$127","v":0},"#'T2-B(PP5)'!$B$127"]
["pp5_bl4_7_9_rate_in",{"$f":"'T2-B(PP5)'!$E$127","v":0},"#'T2-B(PP5)'!$E$127"]
["pp5_bl4_7_9_rate_out",{"$f":"'T2-B(PP5)'!$H$127","v":0},"#'T2-B(PP5)'!$H$127"]
["pp5_bl4_7_9_total",{"$f":"'T2-B(PP5)'!$J$127","v":0},"#'T2-B(PP5)'!$J$127"]
["pp5_bl4_7_9_total_in",{"$f":"'T2-B(PP5)'!$F$127","v":0},"#'T2-B(PP5)'!$F$127"]
["pp5_bl4_7_9_total_out",{"$f":"'T2-B(PP5)'!$I$127","v":0},"#'T2-B(PP5)'!$I$127"]
["pp5_bl4_7_9_unit",{"$f":"'T2-B(PP5)'!$C$127","v":0},"#'T2-B(PP5)'!$C$127"]
["pp5_bl4_7_9_unit_in",{"$f":"'T2-B(PP5)'!$D$127","v":0},"#'T2-B(PP5)'!$D$127"]
["pp5_bl4_7_9_units_out",{"$f":"'T2-B(PP5)'!$G$127","v":0},"#'T2-B(PP5)'!$G$127"]
["pp5_bl4_7_total",{"$f":"'T2-B(PP5)'!$J$118","v":0},"#'T2-B(PP5)'!$J$118"]
["pp5_bl4_7_total_in",{"$f":"'T2-B(PP5)'!$F$118","v":0},"#'T2-B(PP5)'!$F$118"]
["pp5_bl4_7_total_out",{"$f":"'T2-B(PP5)'!$I$118","v":0},"#'T2-B(PP5)'!$I$118"]
["pp5_bl4_8_1_name",{"$f":"'T2-B(PP5)'!$B$130","v":0},"#'T2-B(PP5)'!$B$130"]
["pp5_bl4_8_1_rate_in",{"$f":"'T2-B(PP5)'!$E$130","v":0},"#'T2-B(PP5)'!$E$130"]
["pp5_bl4_8_1_rate_out",{"$f":"'T2-B(PP5)'!$H$130","v":0},"#'T2-B(PP5)'!$H$130"]
["pp5_bl4_8_1_total",{"$f":"'T2-B(PP5)'!$J$130","v":0},"#'T2-B(PP5)'!$J$130"]
["pp5_bl4_8_1_total_in",{"$f":"'T2-B(PP5)'!$F$130","v":0},"#'T2-B(PP5)'!$F$130"]
["pp5_bl4_8_1_total_out",{"$f":"'T2-B(PP5)'!$I$130","v":0},"#'T2-B(PP5)'!$I$130"]
["pp5_bl4_8_1_unit",{"$f":"'T2-B(PP5)'!$C$130","v":0},"#'T2-B(PP5)'!$C$130"]
["pp5_bl4_8_1_unit_in",{"$f":"'T2-B(PP5)'!$D$130","v":0},"#'T2-B(PP5)'!$D$130"]
["pp5_bl4_8_1_units_out",{"$f":"'T2-B(PP5)'!$G$130","v":0},"#'T2-B(PP5)'!$G$130"]
["pp5_bl4_8_10_name",{"$f":"'T2-B(PP5)'!$B$139","v":0},"#'T2-B(PP5)'!$B$139"]
["pp5_bl4_8_10_rate_in",{"$f":"'T2-B(PP5)'!$E$139","v":0},"#'T2-B(PP5)'!$E$139"]
["pp5_bl4_8_10_rate_out",{"$f":"'T2-B(PP5)'!$H$139","v":0},"#'T2-B(PP5)'!$H$139"]
["pp5_bl4_8_10_total",{"$f":"'T2-B(PP5)'!$J$139","v":0},"#'T2-B(PP5)'!$J$139"]
["pp5_bl4_8_10_total_in",{"$f":"'T2-B(PP5)'!$F$139","v":0},"#'T2-B(PP5)'!$F$139"]
["pp5_bl4_8_10_total_out",{"$f":"'T2-B(PP5)'!$I$139","v":0},"#'T2-B(PP5)'!$I$139"]
["pp5_bl4_8_10_unit",{"$f":"'T2-B(PP5)'!$C$139","v":0},"#'T2-B(PP5)'!$C$139"]
["pp5_bl4_8_10_unit_in",{"$f":"'T2-B(PP5)'!$D$139","v":0},"#'T2-B(PP5)'!$D$139"]
["pp5_bl4_8_10_units_out",{"$f":"'T2-B(PP5)'!$G$139","v":0},"#'T2-B(PP5)'!$G$139"]
["pp5_bl4_8_2_name",{"$f":"'T2-B(PP5)'!$B$131","v":0},"#'T2-B(PP5)'!$B$131"]
["pp5_bl4_8_2_rate_in",{"$f":"'T2-B(PP5)'!$E$131","v":0},"#'T2-B(PP5)'!$E$131"]
["pp5_bl4_8_2_rate_out",{"$f":"'T2-B(PP5)'!$H$131","v":0},"#'T2-B(PP5)'!$H$131"]
["pp5_bl4_8_2_total",{"$f":"'T2-B(PP5)'!$J$131","v":0},"#'T2-B(PP5)'!$J$131"]
["pp5_bl4_8_2_total_in",{"$f":"'T2-B(PP5)'!$F$131","v":0},"#'T2-B(PP5)'!$F$131"]
["pp5_bl4_8_2_total_out",{"$f":"'T2-B(PP5)'!$I$131","v":0},"#'T2-B(PP5)'!$I$131"]
["pp5_bl4_8_2_unit",{"$f":"'T2-B(PP5)'!$C$131","v":0},"#'T2-B(PP5)'!$C$131"]
["pp5_bl4_8_2_unit_in",{"$f":"'T2-B(PP5)'!$D$131","v":0},"#'T2-B(PP5)'!$D$131"]
["pp5_bl4_8_2_units_out",{"$f":"'T2-B(PP5)'!$G$131","v":0},"#'T2-B(PP5)'!$G$131"]
["pp5_bl4_8_3_name",{"$f":"'T2-B(PP5)'!$B$132","v":0},"#'T2-B(PP5)'!$B$132"]
["pp5_bl4_8_3_rate_in",{"$f":"'T2-B(PP5)'!$E$132","v":0},"#'T2-B(PP5)'!$E$132"]
["pp5_bl4_8_3_rate_out",{"$f":"'T2-B(PP5)'!$H$132","v":0},"#'T2-B(PP5)'!$H$132"]
["pp5_bl4_8_3_total",{"$f":"'T2-B(PP5)'!$J$132","v":0},"#'T2-B(PP5)'!$J$132"]
["pp5_bl4_8_3_total_in",{"$f":"'T2-B(PP5)'!$F$132","v":0},"#'T2-B(PP5)'!$F$132"]
["pp5_bl4_8_3_total_out",{"$f":"'T2-B(PP5)'!$I$132","v":0},"#'T2-B(PP5)'!$I$132"]
["pp5_bl4_8_3_unit",{"$f":"'T2-B(PP5)'!$C$132","v":0},"#'T2-B(PP5)'!$C$132"]
["pp5_bl4_8_3_unit_in",{"$f":"'T2-B(PP5)'!$D$132","v":0},"#'T2-B(PP5)'!$D$132"]
["pp5_bl4_8_3_units_out",{"$f":"'T2-B(PP5)'!$G$132","v":0},"#'T2-B(PP5)'!$G$132"]
["pp5_bl4_8_4_name",{"$f":"'T2-B(PP5)'!$B$133","v":0},"#'T2-B(PP5)'!$B$133"]
["pp5_bl4_8_4_rate_in",{"$f":"'T2-B(PP5)'!$E$133","v":0},"#'T2-B(PP5)'!$E$133"]
["pp5_bl4_8_4_rate_out",{"$f":"'T2-B(PP5)'!$H$133","v":0},"#'T2-B(PP5)'!$H$133"]
["pp5_bl4_8_4_total",{"$f":"'T2-B(PP5)'!$J$133","v":0},"#'T2-B(PP5)'!$J$133"]
["pp5_bl4_8_4_total_in",{"$f":"'T2-B(PP5)'!$F$133","v":0},"#'T2-B(PP5)'!$F$133"]
["pp5_bl4_8_4_total_out",{"$f":"'T2-B(PP5)'!$I$133","v":0},"#'T2-B(PP5)'!$I$133"]
["pp5_bl4_8_4_unit",{"$f":"'T2-B(PP5)'!$C$133","v":0},"#'T2-B(PP5)'!$C$133"]
["pp5_bl4_8_4_unit_in",{"$f":"'T2-B(PP5)'!$D$133","v":0},"#'T2-B(PP5)'!$D$133"]
["pp5_bl4_8_4_units_out",{"$f":"'T2-B(PP5)'!$G$133","v":0},"#'T2-B(PP5)'!$G$133"]
["pp5_bl4_8_5_name",{"$f":"'T2-B(PP5)'!$B$134","v":0},"#'T2-B(PP5)'!$B$134"]
["pp5_bl4_8_5_rate_in",{"$f":"'T2-B(PP5)'!$E$134","v":0},"#'T2-B(PP5)'!$E$134"]
["pp5_bl4_8_5_rate_out",{"$f":"'T2-B(PP5)'!$H$134","v":0},"#'T2-B(PP5)'!$H$134"]
["pp5_bl4_8_5_total",{"$f":"'T2-B(PP5)'!$J$134","v":0},"#'T2-B(PP5)'!$J$134"]
["pp5_bl4_8_5_total_in",{"$f":"'T2-B(PP5)'!$F$134","v":0},"#'T2-B(PP5)'!$F$134"]
["pp5_bl4_8_5_total_out",{"$f":"'T2-B(PP5)'!$I$134","v":0},"#'T2-B(PP5)'!$I$134"]
["pp5_bl4_8_5_unit",{"$f":"'T2-B(PP5)'!$C$134","v":0},"#'T2-B(PP5)'!$C$134"]
["pp5_bl4_8_5_unit_in",{"$f":"'T2-B(PP5)'!$D$134","v":0},"#'T2-B(PP5)'!$D$134"]
["pp5_bl4_8_5_units_out",{"$f":"'T2-B(PP5)'!$G$134","v":0},"#'T2-B(PP5)'!$G$134"]
["pp5_bl4_8_6_name",{"$f":"'T2-B(PP5)'!$B$135","v":0},"#'T2-B(PP5)'!$B$135"]
["pp5_bl4_8_6_rate_in",{"$f":"'T2-B(PP5)'!$E$135","v":0},"#'T2-B(PP5)'!$E$135"]
["pp5_bl4_8_6_rate_out",{"$f":"'T2-B(PP5)'!$H$135","v":0},"#'T2-B(PP5)'!$H$135"]
["pp5_bl4_8_6_total",{"$f":"'T2-B(PP5)'!$J$135","v":0},"#'T2-B(PP5)'!$J$135"]
["pp5_bl4_8_6_total_in",{"$f":"'T2-B(PP5)'!$F$135","v":0},"#'T2-B(PP5)'!$F$135"]
["pp5_bl4_8_6_total_out",{"$f":"'T2-B(PP5)'!$I$135","v":0},"#'T2-B(PP5)'!$I$135"]
["pp5_bl4_8_6_unit",{"$f":"'T2-B(PP5)'!$C$135","v":0},"#'T2-B(PP5)'!$C$135"]
["pp5_bl4_8_6_unit_in",{"$f":"'T2-B(PP5)'!$D$135","v":0},"#'T2-B(PP5)'!$D$135"]
["pp5_bl4_8_6_units_out",{"$f":"'T2-B(PP5)'!$G$135","v":0},"#'T2-B(PP5)'!$G$135"]
["pp5_bl4_8_7_name",{"$f":"'T2-B(PP5)'!$B$136","v":0},"#'T2-B(PP5)'!$B$136"]
["pp5_bl4_8_7_rate_in",{"$f":"'T2-B(PP5)'!$E$136","v":0},"#'T2-B(PP5)'!$E$136"]
["pp5_bl4_8_7_rate_out",{"$f":"'T2-B(PP5)'!$H$136","v":0},"#'T2-B(PP5)'!$H$136"]
["pp5_bl4_8_7_total",{"$f":"'T2-B(PP5)'!$J$136","v":0},"#'T2-B(PP5)'!$J$136"]
["pp5_bl4_8_7_total_in",{"$f":"'T2-B(PP5)'!$F$136","v":0},"#'T2-B(PP5)'!$F$136"]
["pp5_bl4_8_7_total_out",{"$f":"'T2-B(PP5)'!$I$136","v":0},"#'T2-B(PP5)'!$I$136"]
["pp5_bl4_8_7_unit",{"$f":"'T2-B(PP5)'!$C$136","v":0},"#'T2-B(PP5)'!$C$136"]
["pp5_bl4_8_7_unit_in",{"$f":"'T2-B(PP5)'!$D$136","v":0},"#'T2-B(PP5)'!$D$136"]
["pp5_bl4_8_7_units_out",{"$f":"'T2-B(PP5)'!$G$136","v":0},"#'T2-B(PP5)'!$G$136"]
["pp5_bl4_8_8_name",{"$f":"'T2-B(PP5)'!$B$137","v":0},"#'T2-B(PP5)'!$B$137"]
["pp5_bl4_8_8_rate_in",{"$f":"'T2-B(PP5)'!$E$137","v":0},"#'T2-B(PP5)'!$E$137"]
["pp5_bl4_8_8_rate_out",{"$f":"'T2-B(PP5)'!$H$137","v":0},"#'T2-B(PP5)'!$H$137"]
["pp5_bl4_8_8_total",{"$f":"'T2-B(PP5)'!$J$137","v":0},"#'T2-B(PP5)'!$J$137"]
["pp5_bl4_8_8_total_in",{"$f":"'T2-B(PP5)'!$F$137","v":0},"#'T2-B(PP5)'!$F$137"]
["pp5_bl4_8_8_total_out",{"$f":"'T2-B(PP5)'!$I$137","v":0},"#'T2-B(PP5)'!$I$137"]
["pp5_bl4_8_8_unit",{"$f":"'T2-B(PP5)'!$C$137","v":0},"#'T2-B(PP5)'!$C$137"]
["pp5_bl4_8_8_unit_in",{"$f":"'T2-B(PP5)'!$D$137","v":0},"#'T2-B(PP5)'!$D$137"]
["pp5_bl4_8_8_units_out",{"$f":"'T2-B(PP5)'!$G$137","v":0},"#'T2-B(PP5)'!$G$137"]
["pp5_bl4_8_9_name",{"$f":"'T2-B(PP5)'!$B$138","v":0},"#'T2-B(PP5)'!$B$138"]
["pp5_bl4_8_9_rate_in",{"$f":"'T2-B(PP5)'!$E$138","v":0},"#'T2-B(PP5)'!$E$138"]
["pp5_bl4_8_9_rate_out",{"$f":"'T2-B(PP5)'!$H$138","v":0},"#'T2-B(PP5)'!$H$138"]
["pp5_bl4_8_9_total",{"$f":"'T2-B(PP5)'!$J$138","v":0},"#'T2-B(PP5)'!$J$138"]
["pp5_bl4_8_9_total_in",{"$f":"'T2-B(PP5)'!$F$138","v":0},"#'T2-B(PP5)'!$F$138"]
["pp5_bl4_8_9_total_out",{"$f":"'T2-B(PP5)'!$I$138","v":0},"#'T2-B(PP5)'!$I$138"]
["pp5_bl4_8_9_unit",{"$f":"'T2-B(PP5)'!$C$138","v":0},"#'T2-B(PP5)'!$C$138"]
["pp5_bl4_8_9_unit_in",{"$f":"'T2-B(PP5)'!$D$138","v":0},"#'T2-B(PP5)'!$D$138"]
["pp5_bl4_8_9_units_out",{"$f":"'T2-B(PP5)'!$G$138","v":0},"#'T2-B(PP5)'!$G$138"]
["pp5_bl4_8_total",{"$f":"'T2-B(PP5)'!$J$129","v":0},"#'T2-B(PP5)'!$J$129"]
["pp5_bl4_8_total_in",{"$f":"'T2-B(PP5)'!$F$129","v":0},"#'T2-B(PP5)'!$F$129"]
["pp5_bl4_8_total_out",{"$f":"'T2-B(PP5)'!$I$129","v":0},"#'T2-B(PP5)'!$I$129"]
["pp5_bl4_9_1_name",{"$f":"'T2-B(PP5)'!$B$141","v":0},"#'T2-B(PP5)'!$B$141"]
["pp5_bl4_9_1_rate_in",{"$f":"'T2-B(PP5)'!$E$141","v":0},"#'T2-B(PP5)'!$E$141"]
["pp5_bl4_9_1_rate_out",{"$f":"'T2-B(PP5)'!$H$141","v":0},"#'T2-B(PP5)'!$H$141"]
["pp5_bl4_9_1_total",{"$f":"'T2-B(PP5)'!$J$141","v":0},"#'T2-B(PP5)'!$J$141"]
["pp5_bl4_9_1_total_in",{"$f":"'T2-B(PP5)'!$F$141","v":0},"#'T2-B(PP5)'!$F$141"]
["pp5_bl4_9_1_total_out",{"$f":"'T2-B(PP5)'!$I$141","v":0},"#'T2-B(PP5)'!$I$141"]
["pp5_bl4_9_1_unit",{"$f":"'T2-B(PP5)'!$C$141","v":0},"#'T2-B(PP5)'!$C$141"]
["pp5_bl4_9_1_unit_in",{"$f":"'T2-B(PP5)'!$D$141","v":0},"#'T2-B(PP5)'!$D$141"]
["pp5_bl4_9_1_units_out",{"$f":"'T2-B(PP5)'!$G$141","v":0},"#'T2-B(PP5)'!$G$141"]
["pp5_bl4_9_10_name",{"$f":"'T2-B(PP5)'!$B$150","v":0},"#'T2-B(PP5)'!$B$150"]
["pp5_bl4_9_10_rate_in",{"$f":"'T2-B(PP5)'!$E$150","v":0},"#'T2-B(PP5)'!$E$150"]
["pp5_bl4_9_10_rate_out",{"$f":"'T2-B(PP5)'!$H$150","v":0},"#'T2-B(PP5)'!$H$150"]
["pp5_bl4_9_10_total",{"$f":"'T2-B(PP5)'!$J$150","v":0},"#'T2-B(PP5)'!$J$150"]
["pp5_bl4_9_10_total_in",{"$f":"'T2-B(PP5)'!$F$150","v":0},"#'T2-B(PP5)'!$F$150"]
["pp5_bl4_9_10_total_out",{"$f":"'T2-B(PP5)'!$I$150","v":0},"#'T2-B(PP5)'!$I$150"]
["pp5_bl4_9_10_unit",{"$f":"'T2-B(PP5)'!$C$150","v":0},"#'T2-B(PP5)'!$C$150"]
["pp5_bl4_9_10_unit_in",{"$f":"'T2-B(PP5)'!$D$150","v":0},"#'T2-B(PP5)'!$D$150"]
["pp5_bl4_9_10_units_out",{"$f":"'T2-B(PP5)'!$G$150","v":0},"#'T2-B(PP5)'!$G$150"]
["pp5_bl4_9_2_name",{"$f":"'T2-B(PP5)'!$B$142","v":0},"#'T2-B(PP5)'!$B$142"]
["pp5_bl4_9_2_rate_in",{"$f":"'T2-B(PP5)'!$E$142","v":0},"#'T2-B(PP5)'!$E$142"]
["pp5_bl4_9_2_rate_out",{"$f":"'T2-B(PP5)'!$H$142","v":0},"#'T2-B(PP5)'!$H$142"]
["pp5_bl4_9_2_total",{"$f":"'T2-B(PP5)'!$J$142","v":0},"#'T2-B(PP5)'!$J$142"]
["pp5_bl4_9_2_total_in",{"$f":"'T2-B(PP5)'!$F$142","v":0},"#'T2-B(PP5)'!$F$142"]
["pp5_bl4_9_2_total_out",{"$f":"'T2-B(PP5)'!$I$142","v":0},"#'T2-B(PP5)'!$I$142"]
["pp5_bl4_9_2_unit",{"$f":"'T2-B(PP5)'!$C$142","v":0},"#'T2-B(PP5)'!$C$142"]
["pp5_bl4_9_2_unit_in",{"$f":"'T2-B(PP5)'!$D$142","v":0},"#'T2-B(PP5)'!$D$142"]
["pp5_bl4_9_2_units_out",{"$f":"'T2-B(PP5)'!$G$142","v":0},"#'T2-B(PP5)'!$G$142"]
["pp5_bl4_9_3_name",{"$f":"'T2-B(PP5)'!$B$143","v":0},"#'T2-B(PP5)'!$B$143"]
["pp5_bl4_9_3_rate_in",{"$f":"'T2-B(PP5)'!$E$143","v":0},"#'T2-B(PP5)'!$E$143"]
["pp5_bl4_9_3_rate_out",{"$f":"'T2-B(PP5)'!$H$143","v":0},"#'T2-B(PP5)'!$H$143"]
["pp5_bl4_9_3_total",{"$f":"'T2-B(PP5)'!$J$143","v":0},"#'T2-B(PP5)'!$J$143"]
["pp5_bl4_9_3_total_in",{"$f":"'T2-B(PP5)'!$F$143","v":0},"#'T2-B(PP5)'!$F$143"]
["pp5_bl4_9_3_total_out",{"$f":"'T2-B(PP5)'!$I$143","v":0},"#'T2-B(PP5)'!$I$143"]
["pp5_bl4_9_3_unit",{"$f":"'T2-B(PP5)'!$C$143","v":0},"#'T2-B(PP5)'!$C$143"]
["pp5_bl4_9_3_unit_in",{"$f":"'T2-B(PP5)'!$D$143","v":0},"#'T2-B(PP5)'!$D$143"]
["pp5_bl4_9_3_units_out",{"$f":"'T2-B(PP5)'!$G$143","v":0},"#'T2-B(PP5)'!$G$143"]
["pp5_bl4_9_4_name",{"$f":"'T2-B(PP5)'!$B$144","v":0},"#'T2-B(PP5)'!$B$144"]
["pp5_bl4_9_4_rate_in",{"$f":"'T2-B(PP5)'!$E$144","v":0},"#'T2-B(PP5)'!$E$144"]
["pp5_bl4_9_4_rate_out",{"$f":"'T2-B(PP5)'!$H$144","v":0},"#'T2-B(PP5)'!$H$144"]
["pp5_bl4_9_4_total",{"$f":"'T2-B(PP5)'!$J$144","v":0},"#'T2-B(PP5)'!$J$144"]
["pp5_bl4_9_4_total_in",{"$f":"'T2-B(PP5)'!$F$144","v":0},"#'T2-B(PP5)'!$F$144"]
["pp5_bl4_9_4_total_out",{"$f":"'T2-B(PP5)'!$I$144","v":0},"#'T2-B(PP5)'!$I$144"]
["pp5_bl4_9_4_unit",{"$f":"'T2-B(PP5)'!$C$144","v":0},"#'T2-B(PP5)'!$C$144"]
["pp5_bl4_9_4_unit_in",{"$f":"'T2-B(PP5)'!$D$144","v":0},"#'T2-B(PP5)'!$D$144"]
["pp5_bl4_9_4_units_out",{"$f":"'T2-B(PP5)'!$G$144","v":0},"#'T2-B(PP5)'!$G$144"]
["pp5_bl4_9_5_name",{"$f":"'T2-B(PP5)'!$B$145","v":0},"#'T2-B(PP5)'!$B$145"]
["pp5_bl4_9_5_rate_in",{"$f":"'T2-B(PP5)'!$E$145","v":0},"#'T2-B(PP5)'!$E$145"]
["pp5_bl4_9_5_rate_out",{"$f":"'T2-B(PP5)'!$H$145","v":0},"#'T2-B(PP5)'!$H$145"]
["pp5_bl4_9_5_total",{"$f":"'T2-B(PP5)'!$J$145","v":0},"#'T2-B(PP5)'!$J$145"]
["pp5_bl4_9_5_total_in",{"$f":"'T2-B(PP5)'!$F$145","v":0},"#'T2-B(PP5)'!$F$145"]
["pp5_bl4_9_5_total_out",{"$f":"'T2-B(PP5)'!$I$145","v":0},"#'T2-B(PP5)'!$I$145"]
["pp5_bl4_9_5_unit",{"$f":"'T2-B(PP5)'!$C$145","v":0},"#'T2-B(PP5)'!$C$145"]
["pp5_bl4_9_5_unit_in",{"$f":"'T2-B(PP5)'!$D$145","v":0},"#'T2-B(PP5)'!$D$145"]
["pp5_bl4_9_5_units_out",{"$f":"'T2-B(PP5)'!$G$145","v":0},"#'T2-B(PP5)'!$G$145"]
["pp5_bl4_9_6_name",{"$f":"'T2-B(PP5)'!$B$146","v":0},"#'T2-B(PP5)'!$B$146"]
["pp5_bl4_9_6_rate_in",{"$f":"'T2-B(PP5)'!$E$146","v":0},"#'T2-B(PP5)'!$E$146"]
["pp5_bl4_9_6_rate_out",{"$f":"'T2-B(PP5)'!$H$146","v":0},"#'T2-B(PP5)'!$H$146"]
["pp5_bl4_9_6_total",{"$f":"'T2-B(PP5)'!$J$146","v":0},"#'T2-B(PP5)'!$J$146"]
["pp5_bl4_9_6_total_in",{"$f":"'T2-B(PP5)'!$F$146","v":0},"#'T2-B(PP5)'!$F$146"]
["pp5_bl4_9_6_total_out",{"$f":"'T2-B(PP5)'!$I$146","v":0},"#'T2-B(PP5)'!$I$146"]
["pp5_bl4_9_6_unit",{"$f":"'T2-B(PP5)'!$C$146","v":0},"#'T2-B(PP5)'!$C$146"]
["pp5_bl4_9_6_unit_in",{"$f":"'T2-B(PP5)'!$D$146","v":0},"#'T2-B(PP5)'!$D$146"]
["pp5_bl4_9_6_units_out",{"$f":"'T2-B(PP5)'!$G$146","v":0},"#'T2-B(PP5)'!$G$146"]
["pp5_bl4_9_7_name",{"$f":"'T2-B(PP5)'!$B$147","v":0},"#'T2-B(PP5)'!$B$147"]
["pp5_bl4_9_7_rate_in",{"$f":"'T2-B(PP5)'!$E$147","v":0},"#'T2-B(PP5)'!$E$147"]
["pp5_bl4_9_7_rate_out",{"$f":"'T2-B(PP5)'!$H$147","v":0},"#'T2-B(PP5)'!$H$147"]
["pp5_bl4_9_7_total",{"$f":"'T2-B(PP5)'!$J$147","v":0},"#'T2-B(PP5)'!$J$147"]
["pp5_bl4_9_7_total_in",{"$f":"'T2-B(PP5)'!$F$147","v":0},"#'T2-B(PP5)'!$F$147"]
["pp5_bl4_9_7_total_out",{"$f":"'T2-B(PP5)'!$I$147","v":0},"#'T2-B(PP5)'!$I$147"]
["pp5_bl4_9_7_unit",{"$f":"'T2-B(PP5)'!$C$147","v":0},"#'T2-B(PP5)'!$C$147"]
["pp5_bl4_9_7_unit_in",{"$f":"'T2-B(PP5)'!$D$147","v":0},"#'T2-B(PP5)'!$D$147"]
["pp5_bl4_9_7_units_out",{"$f":"'T2-B(PP5)'!$G$147","v":0},"#'T2-B(PP5)'!$G$147"]
["pp5_bl4_9_8_name",{"$f":"'T2-B(PP5)'!$B$148","v":0},"#'T2-B(PP5)'!$B$148"]
["pp5_bl4_9_8_rate_in",{"$f":"'T2-B(PP5)'!$E$148","v":0},"#'T2-B(PP5)'!$E$148"]
["pp5_bl4_9_8_rate_out",{"$f":"'T2-B(PP5)'!$H$148","v":0},"#'T2-B(PP5)'!$H$148"]
["pp5_bl4_9_8_total",{"$f":"'T2-B(PP5)'!$J$148","v":0},"#'T2-B(PP5)'!$J$148"]
["pp5_bl4_9_8_total_in",{"$f":"'T2-B(PP5)'!$F$148","v":0},"#'T2-B(PP5)'!$F$148"]
["pp5_bl4_9_8_total_out",{"$f":"'T2-B(PP5)'!$I$148","v":0},"#'T2-B(PP5)'!$I$148"]
["pp5_bl4_9_8_unit",{"$f":"'T2-B(PP5)'!$C$148","v":0},"#'T2-B(PP5)'!$C$148"]
["pp5_bl4_9_8_unit_in",{"$f":"'T2-B(PP5)'!$D$148","v":0},"#'T2-B(PP5)'!$D$148"]
["pp5_bl4_9_8_units_out",{"$f":"'T2-B(PP5)'!$G$148","v":0},"#'T2-B(PP5)'!$G$148"]
["pp5_bl4_9_9_name",{"$f":"'T2-B(PP5)'!$B$149","v":0},"#'T2-B(PP5)'!$B$149"]
["pp5_bl4_9_9_rate_in",{"$f":"'T2-B(PP5)'!$E$149","v":0},"#'T2-B(PP5)'!$E$149"]
["pp5_bl4_9_9_rate_out",{"$f":"'T2-B(PP5)'!$H$149","v":0},"#'T2-B(PP5)'!$H$149"]
["pp5_bl4_9_9_total",{"$f":"'T2-B(PP5)'!$J$149","v":0},"#'T2-B(PP5)'!$J$149"]
["pp5_bl4_9_9_total_in",{"$f":"'T2-B(PP5)'!$F$149","v":0},"#'T2-B(PP5)'!$F$149"]
["pp5_bl4_9_9_total_out",{"$f":"'T2-B(PP5)'!$I$149","v":0},"#'T2-B(PP5)'!$I$149"]
["pp5_bl4_9_9_unit",{"$f":"'T2-B(PP5)'!$C$149","v":0},"#'T2-B(PP5)'!$C$149"]
["pp5_bl4_9_9_unit_in",{"$f":"'T2-B(PP5)'!$D$149","v":0},"#'T2-B(PP5)'!$D$149"]
["pp5_bl4_9_9_units_out",{"$f":"'T2-B(PP5)'!$G$149","v":0},"#'T2-B(PP5)'!$G$149"]
["pp5_bl4_9_total",{"$f":"'T2-B(PP5)'!$J$140","v":0},"#'T2-B(PP5)'!$J$140"]
["pp5_bl4_9_total_in",{"$f":"'T2-B(PP5)'!$F$140","v":0},"#'T2-B(PP5)'!$F$140"]
["pp5_bl4_9_total_out",{"$f":"'T2-B(PP5)'!$I$140","v":0},"#'T2-B(PP5)'!$I$140"]
["pp5_bl4_total",{"$f":"'T2-B(PP5)'!$J$195","v":0},"#'T2-B(PP5)'!$J$195"]
["pp5_bl4_total_in",{"$f":"'T2-B(PP5)'!$F$195","v":0},"#'T2-B(PP5)'!$F$195"]
["pp5_bl4_total_out",{"$f":"'T2-B(PP5)'!$I$195","v":0},"#'T2-B(PP5)'!$I$195"]
["pp5_bl5_1_1_name",{"$f":"'T2-B(PP5)'!$B$200","v":0},"#'T2-B(PP5)'!$B$200"]
["pp5_bl5_1_1_rate_in",{"$f":"'T2-B(PP5)'!$E$200","v":0},"#'T2-B(PP5)'!$E$200"]
["pp5_bl5_1_1_rate_out",{"$f":"'T2-B(PP5)'!$H$200","v":0},"#'T2-B(PP5)'!$H$200"]
["pp5_bl5_1_1_total",{"$f":"'T2-B(PP5)'!$J$200","v":0},"#'T2-B(PP5)'!$J$200"]
["pp5_bl5_1_1_total_in",{"$f":"'T2-B(PP5)'!$F$200","v":0},"#'T2-B(PP5)'!$F$200"]
["pp5_bl5_1_1_total_out",{"$f":"'T2-B(PP5)'!$I$200","v":0},"#'T2-B(PP5)'!$I$200"]
["pp5_bl5_1_1_unit",{"$f":"'T2-B(PP5)'!$C$200","v":0},"#'T2-B(PP5)'!$C$200"]
["pp5_bl5_1_1_unit_in",{"$f":"'T2-B(PP5)'!$D$200","v":0},"#'T2-B(PP5)'!$D$200"]
["pp5_bl5_1_1_units_out",{"$f":"'T2-B(PP5)'!$G$200","v":0},"#'T2-B(PP5)'!$G$200"]
["pp5_bl5_1_10_name",{"$f":"'T2-B(PP5)'!$B$209","v":0},"#'T2-B(PP5)'!$B$209"]
["pp5_bl5_1_10_rate_in",{"$f":"'T2-B(PP5)'!$E$209","v":0},"#'T2-B(PP5)'!$E$209"]
["pp5_bl5_1_10_rate_out",{"$f":"'T2-B(PP5)'!$H$209","v":0},"#'T2-B(PP5)'!$H$209"]
["pp5_bl5_1_10_total",{"$f":"'T2-B(PP5)'!$J$209","v":0},"#'T2-B(PP5)'!$J$209"]
["pp5_bl5_1_10_total_in",{"$f":"'T2-B(PP5)'!$F$209","v":0},"#'T2-B(PP5)'!$F$209"]
["pp5_bl5_1_10_total_out",{"$f":"'T2-B(PP5)'!$I$209","v":0},"#'T2-B(PP5)'!$I$209"]
["pp5_bl5_1_10_unit",{"$f":"'T2-B(PP5)'!$C$209","v":0},"#'T2-B(PP5)'!$C$209"]
["pp5_bl5_1_10_unit_in",{"$f":"'T2-B(PP5)'!$D$209","v":0},"#'T2-B(PP5)'!$D$209"]
["pp5_bl5_1_10_units_out",{"$f":"'T2-B(PP5)'!$G$209","v":0},"#'T2-B(PP5)'!$G$209"]
["pp5_bl5_1_2_name",{"$f":"'T2-B(PP5)'!$B$201","v":"BL6 - PROJECT PREPARATION"},"#'T2-B(PP5)'!$B$201"]
["pp5_bl5_1_2_rate_in",{"$f":"'T2-B(PP5)'!$E$201","v":0},"#'T2-B(PP5)'!$E$201"]
["pp5_bl5_1_2_rate_out",{"$f":"'T2-B(PP5)'!$H$201","v":0},"#'T2-B(PP5)'!$H$201"]
["pp5_bl5_1_2_total",{"$f":"'T2-B(PP5)'!$J$201","v":"TOTAL"},"#'T2-B(PP5)'!$J$201"]
["pp5_bl5_1_2_total_in",{"$f":"'T2-B(PP5)'!$F$201","v":0},"#'T2-B(PP5)'!$F$201"]
["pp5_bl5_1_2_total_out",{"$f":"'T2-B(PP5)'!$I$201","v":0},"#'T2-B(PP5)'!$I$201"]
["pp5_bl5_1_2_unit",{"$f":"'T2-B(PP5)'!$C$201","v":"Unit"},"#'T2-B(PP5)'!$C$201"]
["pp5_bl5_1_2_unit_in",{"$f":"'T2-B(PP5)'!$D$201","v":"Expenditures in the eligible area"},"#'T2-B(PP5)'!$D$201"]
["pp5_bl5_1_2_units_out",{"$f":"'T2-B(PP5)'!$G$201","v":"Expenditures outside the eligible area"},"#'T2-B(PP5)'!$G$201"]
["pp5_bl5_1_3_name",{"$f":"'T2-B(PP5)'!$B$202","v":0},"#'T2-B(PP5)'!$B$202"]
["pp5_bl5_1_3_rate_in",{"$f":"'T2-B(PP5)'!$E$202","v":"Unit rate"},"#'T2-B(PP5)'!$E$202"]
["pp5_bl5_1_3_rate_out",{"$f":"'T2-B(PP5)'!$H$202","v":"Unit rate"},"#'T2-B(PP5)'!$H$202"]
["pp5_bl5_1_3_total",{"$f":"'T2-B(PP5)'!$J$202","v":0},"#'T2-B(PP5)'!$J$202"]
["pp5_bl5_1_3_total_in",{"$f":"'T2-B(PP5)'!$F$202","v":"Total"},"#'T2-B(PP5)'!$F$202"]
["pp5_bl5_1_3_total_out",{"$f":"'T2-B(PP5)'!$I$202","v":"Total"},"#'T2-B(PP5)'!$I$202"]
["pp5_bl5_1_3_unit",{"$f":"'T2-B(PP5)'!$C$202","v":0},"#'T2-B(PP5)'!$C$202"]
["pp5_bl5_1_3_unit_in",{"$f":"'T2-B(PP5)'!$D$202","v":"Units"},"#'T2-B(PP5)'!$D$202"]
["pp5_bl5_1_3_units_out",{"$f":"'T2-B(PP5)'!$G$202","v":"Units"},"#'T2-B(PP5)'!$G$202"]
["pp5_bl5_1_4_name",{"$f":"'T2-B(PP5)'!$B$203","v":"6.1. Preparation of Application package "},"#'T2-B(PP5)'!$B$203"]
["pp5_bl5_1_4_rate_in",{"$f":"'T2-B(PP5)'!$E$203","v":0},"#'T2-B(PP5)'!$E$203"]
["pp5_bl5_1_4_rate_out",{"$f":"'T2-B(PP5)'!$H$203","v":0},"#'T2-B(PP5)'!$H$203"]
["pp5_bl5_1_4_total",{"$f":"'T2-B(PP5)'!$J$203","v":0},"#'T2-B(PP5)'!$J$203"]
["pp5_bl5_1_4_total_in",{"$f":"'T2-B(PP5)'!$F$203","v":0},"#'T2-B(PP5)'!$F$203"]
["pp5_bl5_1_4_total_out",{"$f":"'T2-B(PP5)'!$I$203","v":0},"#'T2-B(PP5)'!$I$203"]
["pp5_bl5_1_4_unit",{"$f":"'T2-B(PP5)'!$C$203","v":0},"#'T2-B(PP5)'!$C$203"]
["pp5_bl5_1_4_unit_in",{"$f":"'T2-B(PP5)'!$D$203","v":0},"#'T2-B(PP5)'!$D$203"]
["pp5_bl5_1_4_units_out",{"$f":"'T2-B(PP5)'!$G$203","v":0},"#'T2-B(PP5)'!$G$203"]
["pp5_bl5_1_5_name",{"$f":"'T2-B(PP5)'!$B$204","v":0},"#'T2-B(PP5)'!$B$204"]
["pp5_bl5_1_5_rate_in",{"$f":"'T2-B(PP5)'!$E$204","v":0},"#'T2-B(PP5)'!$E$204"]
["pp5_bl5_1_5_rate_out",{"$f":"'T2-B(PP5)'!$H$204","v":0},"#'T2-B(PP5)'!$H$204"]
["pp5_bl5_1_5_total",{"$f":"'T2-B(PP5)'!$J$204","v":0},"#'T2-B(PP5)'!$J$204"]
["pp5_bl5_1_5_total_in",{"$f":"'T2-B(PP5)'!$F$204","v":0},"#'T2-B(PP5)'!$F$204"]
["pp5_bl5_1_5_total_out",{"$f":"'T2-B(PP5)'!$I$204","v":0},"#'T2-B(PP5)'!$I$204"]
["pp5_bl5_1_5_unit",{"$f":"'T2-B(PP5)'!$C$204","v":0},"#'T2-B(PP5)'!$C$204"]
["pp5_bl5_1_5_unit_in",{"$f":"'T2-B(PP5)'!$D$204","v":0},"#'T2-B(PP5)'!$D$204"]
["pp5_bl5_1_5_units_out",{"$f":"'T2-B(PP5)'!$G$204","v":0},"#'T2-B(PP5)'!$G$204"]
["pp5_bl5_1_6_name",{"$f":"'T2-B(PP5)'!$B$205","v":0},"#'T2-B(PP5)'!$B$205"]
["pp5_bl5_1_6_rate_in",{"$f":"'T2-B(PP5)'!$E$205","v":0},"#'T2-B(PP5)'!$E$205"]
["pp5_bl5_1_6_rate_out",{"$f":"'T2-B(PP5)'!$H$205","v":0},"#'T2-B(PP5)'!$H$205"]
["pp5_bl5_1_6_total",{"$f":"'T2-B(PP5)'!$J$205","v":0},"#'T2-B(PP5)'!$J$205"]
["pp5_bl5_1_6_total_in",{"$f":"'T2-B(PP5)'!$F$205","v":0},"#'T2-B(PP5)'!$F$205"]
["pp5_bl5_1_6_total_out",{"$f":"'T2-B(PP5)'!$I$205","v":0},"#'T2-B(PP5)'!$I$205"]
["pp5_bl5_1_6_unit",{"$f":"'T2-B(PP5)'!$C$205","v":0},"#'T2-B(PP5)'!$C$205"]
["pp5_bl5_1_6_unit_in",{"$f":"'T2-B(PP5)'!$D$205","v":0},"#'T2-B(PP5)'!$D$205"]
["pp5_bl5_1_6_units_out",{"$f":"'T2-B(PP5)'!$G$205","v":0},"#'T2-B(PP5)'!$G$205"]
["pp5_bl5_1_7_name",{"$f":"'T2-B(PP5)'!$B$206","v":0},"#'T2-B(PP5)'!$B$206"]
["pp5_bl5_1_7_rate_in",{"$f":"'T2-B(PP5)'!$E$206","v":0},"#'T2-B(PP5)'!$E$206"]
["pp5_bl5_1_7_rate_out",{"$f":"'T2-B(PP5)'!$H$206","v":0},"#'T2-B(PP5)'!$H$206"]
["pp5_bl5_1_7_total",{"$f":"'T2-B(PP5)'!$J$206","v":0},"#'T2-B(PP5)'!$J$206"]
["pp5_bl5_1_7_total_in",{"$f":"'T2-B(PP5)'!$F$206","v":0},"#'T2-B(PP5)'!$F$206"]
["pp5_bl5_1_7_total_out",{"$f":"'T2-B(PP5)'!$I$206","v":0},"#'T2-B(PP5)'!$I$206"]
["pp5_bl5_1_7_unit",{"$f":"'T2-B(PP5)'!$C$206","v":0},"#'T2-B(PP5)'!$C$206"]
["pp5_bl5_1_7_unit_in",{"$f":"'T2-B(PP5)'!$D$206","v":0},"#'T2-B(PP5)'!$D$206"]
["pp5_bl5_1_7_units_out",{"$f":"'T2-B(PP5)'!$G$206","v":0},"#'T2-B(PP5)'!$G$206"]
["pp5_bl5_1_8_name",{"$f":"'T2-B(PP5)'!$B$207","v":0},"#'T2-B(PP5)'!$B$207"]
["pp5_bl5_1_8_rate_in",{"$f":"'T2-B(PP5)'!$E$207","v":0},"#'T2-B(PP5)'!$E$207"]
["pp5_bl5_1_8_rate_out",{"$f":"'T2-B(PP5)'!$H$207","v":0},"#'T2-B(PP5)'!$H$207"]
["pp5_bl5_1_8_total",{"$f":"'T2-B(PP5)'!$J$207","v":0},"#'T2-B(PP5)'!$J$207"]
["pp5_bl5_1_8_total_in",{"$f":"'T2-B(PP5)'!$F$207","v":0},"#'T2-B(PP5)'!$F$207"]
["pp5_bl5_1_8_total_out",{"$f":"'T2-B(PP5)'!$I$207","v":0},"#'T2-B(PP5)'!$I$207"]
["pp5_bl5_1_8_unit",{"$f":"'T2-B(PP5)'!$C$207","v":0},"#'T2-B(PP5)'!$C$207"]
["pp5_bl5_1_8_unit_in",{"$f":"'T2-B(PP5)'!$D$207","v":0},"#'T2-B(PP5)'!$D$207"]
["pp5_bl5_1_8_units_out",{"$f":"'T2-B(PP5)'!$G$207","v":0},"#'T2-B(PP5)'!$G$207"]
["pp5_bl5_1_9_name",{"$f":"'T2-B(PP5)'!$B$208","v":0},"#'T2-B(PP5)'!$B$208"]
["pp5_bl5_1_9_rate_in",{"$f":"'T2-B(PP5)'!$E$208","v":0},"#'T2-B(PP5)'!$E$208"]
["pp5_bl5_1_9_rate_out",{"$f":"'T2-B(PP5)'!$H$208","v":0},"#'T2-B(PP5)'!$H$208"]
["pp5_bl5_1_9_total",{"$f":"'T2-B(PP5)'!$J$208","v":0},"#'T2-B(PP5)'!$J$208"]
["pp5_bl5_1_9_total_in",{"$f":"'T2-B(PP5)'!$F$208","v":0},"#'T2-B(PP5)'!$F$208"]
["pp5_bl5_1_9_total_out",{"$f":"'T2-B(PP5)'!$I$208","v":0},"#'T2-B(PP5)'!$I$208"]
["pp5_bl5_1_9_unit",{"$f":"'T2-B(PP5)'!$C$208","v":0},"#'T2-B(PP5)'!$C$208"]
["pp5_bl5_1_9_unit_in",{"$f":"'T2-B(PP5)'!$D$208","v":0},"#'T2-B(PP5)'!$D$208"]
["pp5_bl5_1_9_units_out",{"$f":"'T2-B(PP5)'!$G$208","v":0},"#'T2-B(PP5)'!$G$208"]
["pp5_bl5_1_total",{"$f":"'T2-B(PP5)'!$J$199","v":0},"#'T2-B(PP5)'!$J$199"]
["pp5_bl5_1_total_in",{"$f":"'T2-B(PP5)'!$F$199","v":0},"#'T2-B(PP5)'!$F$199"]
["pp5_bl5_1_total_out",{"$f":"'T2-B(PP5)'!$I$199","v":0},"#'T2-B(PP5)'!$I$199"]
["pp5_bl5_2_1_name",{"$f":"'T2-B(PP5)'!$B$211","v":0},"#'T2-B(PP5)'!$B$211"]
["pp5_bl5_2_1_rate_in",{"$f":"'T2-B(PP5)'!$E$211","v":0},"#'T2-B(PP5)'!$E$211"]
["pp5_bl5_2_1_rate_out",{"$f":"'T2-B(PP5)'!$H$211","v":0},"#'T2-B(PP5)'!$H$211"]
["pp5_bl5_2_1_total",{"$f":"'T2-B(PP5)'!$J$211","v":0},"#'T2-B(PP5)'!$J$211"]
["pp5_bl5_2_1_total_in",{"$f":"'T2-B(PP5)'!$F$211","v":0},"#'T2-B(PP5)'!$F$211"]
["pp5_bl5_2_1_total_out",{"$f":"'T2-B(PP5)'!$I$211","v":0},"#'T2-B(PP5)'!$I$211"]
["pp5_bl5_2_1_unit",{"$f":"'T2-B(PP5)'!$C$211","v":0},"#'T2-B(PP5)'!$C$211"]
["pp5_bl5_2_1_unit_in",{"$f":"'T2-B(PP5)'!$D$211","v":0},"#'T2-B(PP5)'!$D$211"]
["pp5_bl5_2_1_units_out",{"$f":"'T2-B(PP5)'!$G$211","v":0},"#'T2-B(PP5)'!$G$211"]
["pp5_bl5_2_10_name",{"$f":"'T2-B(PP5)'!$B$220","v":0},"#'T2-B(PP5)'!$B$220"]
["pp5_bl5_2_10_rate_in",{"$f":"'T2-B(PP5)'!$E$220","v":0},"#'T2-B(PP5)'!$E$220"]
["pp5_bl5_2_10_rate_out",{"$f":"'T2-B(PP5)'!$H$220","v":0},"#'T2-B(PP5)'!$H$220"]
["pp5_bl5_2_10_total",{"$f":"'T2-B(PP5)'!$J$220","v":0},"#'T2-B(PP5)'!$J$220"]
["pp5_bl5_2_10_total_in",{"$f":"'T2-B(PP5)'!$F$220","v":0},"#'T2-B(PP5)'!$F$220"]
["pp5_bl5_2_10_total_out",{"$f":"'T2-B(PP5)'!$I$220","v":0},"#'T2-B(PP5)'!$I$220"]
["pp5_bl5_2_10_unit",{"$f":"'T2-B(PP5)'!$C$220","v":0},"#'T2-B(PP5)'!$C$220"]
["pp5_bl5_2_10_unit_in",{"$f":"'T2-B(PP5)'!$D$220","v":0},"#'T2-B(PP5)'!$D$220"]
["pp5_bl5_2_10_units_out",{"$f":"'T2-B(PP5)'!$G$220","v":0},"#'T2-B(PP5)'!$G$220"]
["pp5_bl5_2_2_name",{"$f":"'T2-B(PP5)'!$B$212","v":0},"#'T2-B(PP5)'!$B$212"]
["pp5_bl5_2_2_rate_in",{"$f":"'T2-B(PP5)'!$E$212","v":0},"#'T2-B(PP5)'!$E$212"]
["pp5_bl5_2_2_rate_out",{"$f":"'T2-B(PP5)'!$H$212","v":0},"#'T2-B(PP5)'!$H$212"]
["pp5_bl5_2_2_total",{"$f":"'T2-B(PP5)'!$J$212","v":0},"#'T2-B(PP5)'!$J$212"]
["pp5_bl5_2_2_total_in",{"$f":"'T2-B(PP5)'!$F$212","v":0},"#'T2-B(PP5)'!$F$212"]
["pp5_bl5_2_2_total_out",{"$f":"'T2-B(PP5)'!$I$212","v":0},"#'T2-B(PP5)'!$I$212"]
["pp5_bl5_2_2_unit",{"$f":"'T2-B(PP5)'!$C$212","v":0},"#'T2-B(PP5)'!$C$212"]
["pp5_bl5_2_2_unit_in",{"$f":"'T2-B(PP5)'!$D$212","v":0},"#'T2-B(PP5)'!$D$212"]
["pp5_bl5_2_2_units_out",{"$f":"'T2-B(PP5)'!$G$212","v":0},"#'T2-B(PP5)'!$G$212"]
["pp5_bl5_2_3_name",{"$f":"'T2-B(PP5)'!$B$213","v":0},"#'T2-B(PP5)'!$B$213"]
["pp5_bl5_2_3_rate_in",{"$f":"'T2-B(PP5)'!$E$213","v":0},"#'T2-B(PP5)'!$E$213"]
["pp5_bl5_2_3_rate_out",{"$f":"'T2-B(PP5)'!$H$213","v":0},"#'T2-B(PP5)'!$H$213"]
["pp5_bl5_2_3_total",{"$f":"'T2-B(PP5)'!$J$213","v":0},"#'T2-B(PP5)'!$J$213"]
["pp5_bl5_2_3_total_in",{"$f":"'T2-B(PP5)'!$F$213","v":0},"#'T2-B(PP5)'!$F$213"]
["pp5_bl5_2_3_total_out",{"$f":"'T2-B(PP5)'!$I$213","v":0},"#'T2-B(PP5)'!$I$213"]
["pp5_bl5_2_3_unit",{"$f":"'T2-B(PP5)'!$C$213","v":0},"#'T2-B(PP5)'!$C$213"]
["pp5_bl5_2_3_unit_in",{"$f":"'T2-B(PP5)'!$D$213","v":0},"#'T2-B(PP5)'!$D$213"]
["pp5_bl5_2_3_units_out",{"$f":"'T2-B(PP5)'!$G$213","v":0},"#'T2-B(PP5)'!$G$213"]
["pp5_bl5_2_4_name",{"$f":"'T2-B(PP5)'!$B$214","v":"6.2. Preparation of technical documentation"},"#'T2-B(PP5)'!$B$214"]
["pp5_bl5_2_4_rate_in",{"$f":"'T2-B(PP5)'!$E$214","v":0},"#'T2-B(PP5)'!$E$214"]
["pp5_bl5_2_4_rate_out",{"$f":"'T2-B(PP5)'!$H$214","v":0},"#'T2-B(PP5)'!$H$214"]
["pp5_bl5_2_4_total",{"$f":"'T2-B(PP5)'!$J$214","v":0},"#'T2-B(PP5)'!$J$214"]
["pp5_bl5_2_4_total_in",{"$f":"'T2-B(PP5)'!$F$214","v":0},"#'T2-B(PP5)'!$F$214"]
["pp5_bl5_2_4_total_out",{"$f":"'T2-B(PP5)'!$I$214","v":0},"#'T2-B(PP5)'!$I$214"]
["pp5_bl5_2_4_unit",{"$f":"'T2-B(PP5)'!$C$214","v":0},"#'T2-B(PP5)'!$C$214"]
["pp5_bl5_2_4_unit_in",{"$f":"'T2-B(PP5)'!$D$214","v":0},"#'T2-B(PP5)'!$D$214"]
["pp5_bl5_2_4_units_out",{"$f":"'T2-B(PP5)'!$G$214","v":0},"#'T2-B(PP5)'!$G$214"]
["pp5_bl5_2_5_name",{"$f":"'T2-B(PP5)'!$B$215","v":0},"#'T2-B(PP5)'!$B$215"]
["pp5_bl5_2_5_rate_in",{"$f":"'T2-B(PP5)'!$E$215","v":0},"#'T2-B(PP5)'!$E$215"]
["pp5_bl5_2_5_rate_out",{"$f":"'T2-B(PP5)'!$H$215","v":0},"#'T2-B(PP5)'!$H$215"]
["pp5_bl5_2_5_total",{"$f":"'T2-B(PP5)'!$J$215","v":0},"#'T2-B(PP5)'!$J$215"]
["pp5_bl5_2_5_total_in",{"$f":"'T2-B(PP5)'!$F$215","v":0},"#'T2-B(PP5)'!$F$215"]
["pp5_bl5_2_5_total_out",{"$f":"'T2-B(PP5)'!$I$215","v":0},"#'T2-B(PP5)'!$I$215"]
["pp5_bl5_2_5_unit",{"$f":"'T2-B(PP5)'!$C$215","v":0},"#'T2-B(PP5)'!$C$215"]
["pp5_bl5_2_5_unit_in",{"$f":"'T2-B(PP5)'!$D$215","v":0},"#'T2-B(PP5)'!$D$215"]
["pp5_bl5_2_5_units_out",{"$f":"'T2-B(PP5)'!$G$215","v":0},"#'T2-B(PP5)'!$G$215"]
["pp5_bl5_2_6_name",{"$f":"'T2-B(PP5)'!$B$216","v":0},"#'T2-B(PP5)'!$B$216"]
["pp5_bl5_2_6_rate_in",{"$f":"'T2-B(PP5)'!$E$216","v":0},"#'T2-B(PP5)'!$E$216"]
["pp5_bl5_2_6_rate_out",{"$f":"'T2-B(PP5)'!$H$216","v":0},"#'T2-B(PP5)'!$H$216"]
["pp5_bl5_2_6_total",{"$f":"'T2-B(PP5)'!$J$216","v":0},"#'T2-B(PP5)'!$J$216"]
["pp5_bl5_2_6_total_in",{"$f":"'T2-B(PP5)'!$F$216","v":0},"#'T2-B(PP5)'!$F$216"]
["pp5_bl5_2_6_total_out",{"$f":"'T2-B(PP5)'!$I$216","v":0},"#'T2-B(PP5)'!$I$216"]
["pp5_bl5_2_6_unit",{"$f":"'T2-B(PP5)'!$C$216","v":0},"#'T2-B(PP5)'!$C$216"]
["pp5_bl5_2_6_unit_in",{"$f":"'T2-B(PP5)'!$D$216","v":0},"#'T2-B(PP5)'!$D$216"]
["pp5_bl5_2_6_units_out",{"$f":"'T2-B(PP5)'!$G$216","v":0},"#'T2-B(PP5)'!$G$216"]
["pp5_bl5_2_7_name",{"$f":"'T2-B(PP5)'!$B$217","v":0},"#'T2-B(PP5)'!$B$217"]
["pp5_bl5_2_7_rate_in",{"$f":"'T2-B(PP5)'!$E$217","v":0},"#'T2-B(PP5)'!$E$217"]
["pp5_bl5_2_7_rate_out",{"$f":"'T2-B(PP5)'!$H$217","v":0},"#'T2-B(PP5)'!$H$217"]
["pp5_bl5_2_7_total",{"$f":"'T2-B(PP5)'!$J$217","v":0},"#'T2-B(PP5)'!$J$217"]
["pp5_bl5_2_7_total_in",{"$f":"'T2-B(PP5)'!$F$217","v":0},"#'T2-B(PP5)'!$F$217"]
["pp5_bl5_2_7_total_out",{"$f":"'T2-B(PP5)'!$I$217","v":0},"#'T2-B(PP5)'!$I$217"]
["pp5_bl5_2_7_unit",{"$f":"'T2-B(PP5)'!$C$217","v":0},"#'T2-B(PP5)'!$C$217"]
["pp5_bl5_2_7_unit_in",{"$f":"'T2-B(PP5)'!$D$217","v":0},"#'T2-B(PP5)'!$D$217"]
["pp5_bl5_2_7_units_out",{"$f":"'T2-B(PP5)'!$G$217","v":0},"#'T2-B(PP5)'!$G$217"]
["pp5_bl5_2_8_name",{"$f":"'T2-B(PP5)'!$B$218","v":0},"#'T2-B(PP5)'!$B$218"]
["pp5_bl5_2_8_rate_in",{"$f":"'T2-B(PP5)'!$E$218","v":0},"#'T2-B(PP5)'!$E$218"]
["pp5_bl5_2_8_rate_out",{"$f":"'T2-B(PP5)'!$H$218","v":0},"#'T2-B(PP5)'!$H$218"]
["pp5_bl5_2_8_total",{"$f":"'T2-B(PP5)'!$J$218","v":0},"#'T2-B(PP5)'!$J$218"]
["pp5_bl5_2_8_total_in",{"$f":"'T2-B(PP5)'!$F$218","v":0},"#'T2-B(PP5)'!$F$218"]
["pp5_bl5_2_8_total_out",{"$f":"'T2-B(PP5)'!$I$218","v":0},"#'T2-B(PP5)'!$I$218"]
["pp5_bl5_2_8_unit",{"$f":"'T2-B(PP5)'!$C$218","v":0},"#'T2-B(PP5)'!$C$218"]
["pp5_bl5_2_8_unit_in",{"$f":"'T2-B(PP5)'!$D$218","v":0},"#'T2-B(PP5)'!$D$218"]
["pp5_bl5_2_8_units_out",{"$f":"'T2-B(PP5)'!$G$218","v":0},"#'T2-B(PP5)'!$G$218"]
["pp5_bl5_2_9_name",{"$f":"'T2-B(PP5)'!$B$219","v":0},"#'T2-B(PP5)'!$B$219"]
["pp5_bl5_2_9_rate_in",{"$f":"'T2-B(PP5)'!$E$219","v":0},"#'T2-B(PP5)'!$E$219"]
["pp5_bl5_2_9_rate_out",{"$f":"'T2-B(PP5)'!$H$219","v":0},"#'T2-B(PP5)'!$H$219"]
["pp5_bl5_2_9_total",{"$f":"'T2-B(PP5)'!$J$219","v":0},"#'T2-B(PP5)'!$J$219"]
["pp5_bl5_2_9_total_in",{"$f":"'T2-B(PP5)'!$F$219","v":0},"#'T2-B(PP5)'!$F$219"]
["pp5_bl5_2_9_total_out",{"$f":"'T2-B(PP5)'!$I$219","v":0},"#'T2-B(PP5)'!$I$219"]
["pp5_bl5_2_9_unit",{"$f":"'T2-B(PP5)'!$C$219","v":0},"#'T2-B(PP5)'!$C$219"]
["pp5_bl5_2_9_unit_in",{"$f":"'T2-B(PP5)'!$D$219","v":0},"#'T2-B(PP5)'!$D$219"]
["pp5_bl5_2_9_units_out",{"$f":"'T2-B(PP5)'!$G$219","v":0},"#'T2-B(PP5)'!$G$219"]
["pp5_bl5_2_total",{"$f":"'T2-B(PP5)'!$J$210","v":0},"#'T2-B(PP5)'!$J$210"]
["pp5_bl5_2_total_in",{"$f":"'T2-B(PP5)'!$F$210","v":0},"#'T2-B(PP5)'!$F$210"]
["pp5_bl5_2_total_out",{"$f":"'T2-B(PP5)'!$I$210","v":0},"#'T2-B(PP5)'!$I$210"]
["pp5_bl5_total",{"$f":"'T2-B(PP5)'!$J$221","v":0},"#'T2-B(PP5)'!$J$221"]
["pp5_bl5_total_in",{"$f":"'T2-B(PP5)'!$F$221","v":0},"#'T2-B(PP5)'!$F$221"]
["pp5_bl5_total_out",{"$f":"'T2-B(PP5)'!$I$221","v":0},"#'T2-B(PP5)'!$I$221"]
["pp5_bl6_1_1_name",{"$f":"'T2-B(PP5)'!$B$225","v":"TOTAL"},"#'T2-B(PP5)'!$B$225"]
["pp5_bl6_1_1_rate_in",{"$f":"'T2-B(PP5)'!$E$225","v":0},"#'T2-B(PP5)'!$E$225"]
["pp5_bl6_1_1_rate_out",{"$f":"'T2-B(PP5)'!$H$225","v":0},"#'T2-B(PP5)'!$H$225"]
["pp5_bl6_1_1_total",{"$f":"'T2-B(PP5)'!$J$225","v":0},"#'T2-B(PP5)'!$J$225"]
["pp5_bl6_1_1_total_in",{"$f":"'T2-B(PP5)'!$F$225","v":0},"#'T2-B(PP5)'!$F$225"]
["pp5_bl6_1_1_total_out",{"$f":"'T2-B(PP5)'!$I$225","v":0},"#'T2-B(PP5)'!$I$225"]
["pp5_bl6_1_1_unit",{"$f":"'T2-B(PP5)'!$C$225","v":0},"#'T2-B(PP5)'!$C$225"]
["pp5_bl6_1_1_unit_in",{"$f":"'T2-B(PP5)'!$D$225","v":0},"#'T2-B(PP5)'!$D$225"]
["pp5_bl6_1_1_units_out",{"$f":"'T2-B(PP5)'!$G$225","v":0},"#'T2-B(PP5)'!$G$225"]
["pp5_bl6_1_10_name",{"$f":"'T2-B(PP5)'!$B$234","v":0},"#'T2-B(PP5)'!$B$234"]
["pp5_bl6_1_10_rate_in",{"$f":"'T2-B(PP5)'!$E$234","v":0},"#'T2-B(PP5)'!$E$234"]
["pp5_bl6_1_10_rate_out",{"$f":"'T2-B(PP5)'!$H$234","v":0},"#'T2-B(PP5)'!$H$234"]
["pp5_bl6_1_10_total",{"$f":"'T2-B(PP5)'!$J$234","v":0},"#'T2-B(PP5)'!$J$234"]
["pp5_bl6_1_10_total_in",{"$f":"'T2-B(PP5)'!$F$234","v":0},"#'T2-B(PP5)'!$F$234"]
["pp5_bl6_1_10_total_out",{"$f":"'T2-B(PP5)'!$I$234","v":0},"#'T2-B(PP5)'!$I$234"]
["pp5_bl6_1_10_unit",{"$f":"'T2-B(PP5)'!$C$234","v":0},"#'T2-B(PP5)'!$C$234"]
["pp5_bl6_1_10_unit_in",{"$f":"'T2-B(PP5)'!$D$234","v":0},"#'T2-B(PP5)'!$D$234"]
["pp5_bl6_1_10_units_out",{"$f":"'T2-B(PP5)'!$G$234","v":0},"#'T2-B(PP5)'!$G$234"]
["pp5_bl6_1_2_name",{"$f":"'T2-B(PP5)'!$B$226","v":0},"#'T2-B(PP5)'!$B$226"]
["pp5_bl6_1_2_rate_in",{"$f":"'T2-B(PP5)'!$E$226","v":0},"#'T2-B(PP5)'!$E$226"]
["pp5_bl6_1_2_rate_out",{"$f":"'T2-B(PP5)'!$H$226","v":0},"#'T2-B(PP5)'!$H$226"]
["pp5_bl6_1_2_total",{"$f":"'T2-B(PP5)'!$J$226","v":0},"#'T2-B(PP5)'!$J$226"]
["pp5_bl6_1_2_total_in",{"$f":"'T2-B(PP5)'!$F$226","v":0},"#'T2-B(PP5)'!$F$226"]
["pp5_bl6_1_2_total_out",{"$f":"'T2-B(PP5)'!$I$226","v":0},"#'T2-B(PP5)'!$I$226"]
["pp5_bl6_1_2_unit",{"$f":"'T2-B(PP5)'!$C$226","v":0},"#'T2-B(PP5)'!$C$226"]
["pp5_bl6_1_2_unit_in",{"$f":"'T2-B(PP5)'!$D$226","v":0},"#'T2-B(PP5)'!$D$226"]
["pp5_bl6_1_2_units_out",{"$f":"'T2-B(PP5)'!$G$226","v":0},"#'T2-B(PP5)'!$G$226"]
["pp5_bl6_1_3_name",{"$f":"'T2-B(PP5)'!$B$227","v":"Own Contribution"},"#'T2-B(PP5)'!$B$227"]
["pp5_bl6_1_3_rate_in",{"$f":"'T2-B(PP5)'!$E$227","v":0},"#'T2-B(PP5)'!$E$227"]
["pp5_bl6_1_3_rate_out",{"$f":"'T2-B(PP5)'!$H$227","v":0},"#'T2-B(PP5)'!$H$227"]
["pp5_bl6_1_3_total",{"$f":"'T2-B(PP5)'!$J$227","v":"TOTAL"},"#'T2-B(PP5)'!$J$227"]
["pp5_bl6_1_3_total_in",{"$f":"'T2-B(PP5)'!$F$227","v":0},"#'T2-B(PP5)'!$F$227"]
["pp5_bl6_1_3_total_out",{"$f":"'T2-B(PP5)'!$I$227","v":0},"#'T2-B(PP5)'!$I$227"]
["pp5_bl6_1_3_unit",{"$f":"'T2-B(PP5)'!$C$227","v":"Unit"},"#'T2-B(PP5)'!$C$227"]
["pp5_bl6_1_3_unit_in",{"$f":"'T2-B(PP5)'!$D$227","v":"Expenditures in the eligible area"},"#'T2-B(PP5)'!$D$227"]
["pp5_bl6_1_3_units_out",{"$f":"'T2-B(PP5)'!$G$227","v":"Expenditures outside the eligible area"},"#'T2-B(PP5)'!$G$227"]
["pp5_bl6_1_4_name",{"$f":"'T2-B(PP5)'!$B$228","v":0},"#'T2-B(PP5)'!$B$228"]
["pp5_bl6_1_4_rate_in",{"$f":"'T2-B(PP5)'!$E$228","v":"Unit rate"},"#'T2-B(PP5)'!$E$228"]
["pp5_bl6_1_4_rate_out",{"$f":"'T2-B(PP5)'!$H$228","v":"Unit rate"},"#'T2-B(PP5)'!$H$228"]
["pp5_bl6_1_4_total",{"$f":"'T2-B(PP5)'!$J$228","v":0},"#'T2-B(PP5)'!$J$228"]
["pp5_bl6_1_4_total_in",{"$f":"'T2-B(PP5)'!$F$228","v":"Total"},"#'T2-B(PP5)'!$F$228"]
["pp5_bl6_1_4_total_out",{"$f":"'T2-B(PP5)'!$I$228","v":"Total"},"#'T2-B(PP5)'!$I$228"]
["pp5_bl6_1_4_unit",{"$f":"'T2-B(PP5)'!$C$228","v":0},"#'T2-B(PP5)'!$C$228"]
["pp5_bl6_1_4_unit_in",{"$f":"'T2-B(PP5)'!$D$228","v":"Units"},"#'T2-B(PP5)'!$D$228"]
["pp5_bl6_1_4_units_out",{"$f":"'T2-B(PP5)'!$G$228","v":"Units"},"#'T2-B(PP5)'!$G$228"]
["pp5_bl6_1_5_name",{"$f":"'T2-B(PP5)'!$B$229","v":0},"#'T2-B(PP5)'!$B$229"]
["pp5_bl6_1_5_rate_in",{"$f":"'T2-B(PP5)'!$E$229","v":0},"#'T2-B(PP5)'!$E$229"]
["pp5_bl6_1_5_rate_out",{"$f":"'T2-B(PP5)'!$H$229","v":0},"#'T2-B(PP5)'!$H$229"]
["pp5_bl6_1_5_total",{"$f":"'T2-B(PP5)'!$J$229","v":0},"#'T2-B(PP5)'!$J$229"]
["pp5_bl6_1_5_total_in",{"$f":"'T2-B(PP5)'!$F$229","v":0},"#'T2-B(PP5)'!$F$229"]
["pp5_bl6_1_5_total_out",{"$f":"'T2-B(PP5)'!$I$229","v":0},"#'T2-B(PP5)'!$I$229"]
["pp5_bl6_1_5_unit",{"$f":"'T2-B(PP5)'!$C$229","v":0},"#'T2-B(PP5)'!$C$229"]
["pp5_bl6_1_5_unit_in",{"$f":"'T2-B(PP5)'!$D$229","v":0},"#'T2-B(PP5)'!$D$229"]
["pp5_bl6_1_5_units_out",{"$f":"'T2-B(PP5)'!$G$229","v":0},"#'T2-B(PP5)'!$G$229"]
["pp5_bl6_1_6_name",{"$f":"'T2-B(PP5)'!$B$230","v":0},"#'T2-B(PP5)'!$B$230"]
["pp5_bl6_1_6_rate_in",{"$f":"'T2-B(PP5)'!$E$230","v":0},"#'T2-B(PP5)'!$E$230"]
["pp5_bl6_1_6_rate_out",{"$f":"'T2-B(PP5)'!$H$230","v":0},"#'T2-B(PP5)'!$H$230"]
["pp5_bl6_1_6_total",{"$f":"'T2-B(PP5)'!$J$230","v":0},"#'T2-B(PP5)'!$J$230"]
["pp5_bl6_1_6_total_in",{"$f":"'T2-B(PP5)'!$F$230","v":0},"#'T2-B(PP5)'!$F$230"]
["pp5_bl6_1_6_total_out",{"$f":"'T2-B(PP5)'!$I$230","v":0},"#'T2-B(PP5)'!$I$230"]
["pp5_bl6_1_6_unit",{"$f":"'T2-B(PP5)'!$C$230","v":0},"#'T2-B(PP5)'!$C$230"]
["pp5_bl6_1_6_unit_in",{"$f":"'T2-B(PP5)'!$D$230","v":0},"#'T2-B(PP5)'!$D$230"]
["pp5_bl6_1_6_units_out",{"$f":"'T2-B(PP5)'!$G$230","v":0},"#'T2-B(PP5)'!$G$230"]
["pp5_bl6_1_7_name",{"$f":"'T2-B(PP5)'!$B$231","v":"Total direct project costs (BL3+BL4+BL5)"},"#'T2-B(PP5)'!$B$231"]
["pp5_bl6_1_7_rate_in",{"$f":"'T2-B(PP5)'!$E$231","v":0},"#'T2-B(PP5)'!$E$231"]
["pp5_bl6_1_7_rate_out",{"$f":"'T2-B(PP5)'!$H$231","v":0},"#'T2-B(PP5)'!$H$231"]
["pp5_bl6_1_7_total",{"$f":"'T2-B(PP5)'!$J$231","v":0},"#'T2-B(PP5)'!$J$231"]
["pp5_bl6_1_7_total_in",{"$f":"'T2-B(PP5)'!$F$231","v":0},"#'T2-B(PP5)'!$F$231"]
["pp5_bl6_1_7_total_out",{"$f":"'T2-B(PP5)'!$I$231","v":0},"#'T2-B(PP5)'!$I$231"]
["pp5_bl6_1_7_unit",{"$f":"'T2-B(PP5)'!$C$231","v":0},"#'T2-B(PP5)'!$C$231"]
["pp5_bl6_1_7_unit_in",{"$f":"'T2-B(PP5)'!$D$231","v":0},"#'T2-B(PP5)'!$D$231"]
["pp5_bl6_1_7_units_out",{"$f":"'T2-B(PP5)'!$G$231","v":0},"#'T2-B(PP5)'!$G$231"]
["pp5_bl6_1_8_name",{"$f":"'T2-B(PP5)'!$B$232","v":"TOTAL PROJECT COSTS"},"#'T2-B(PP5)'!$B$232"]
["pp5_bl6_1_8_rate_in",{"$f":"'T2-B(PP5)'!$E$232","v":0},"#'T2-B(PP5)'!$E$232"]
["pp5_bl6_1_8_rate_out",{"$f":"'T2-B(PP5)'!$H$232","v":0},"#'T2-B(PP5)'!$H$232"]
["pp5_bl6_1_8_total",{"$f":"'T2-B(PP5)'!$J$232","v":0},"#'T2-B(PP5)'!$J$232"]
["pp5_bl6_1_8_total_in",{"$f":"'T2-B(PP5)'!$F$232","v":0},"#'T2-B(PP5)'!$F$232"]
["pp5_bl6_1_8_total_out",{"$f":"'T2-B(PP5)'!$I$232","v":0},"#'T2-B(PP5)'!$I$232"]
["pp5_bl6_1_8_unit",{"$f":"'T2-B(PP5)'!$C$232","v":0},"#'T2-B(PP5)'!$C$232"]
["pp5_bl6_1_8_unit_in",{"$f":"'T2-B(PP5)'!$D$232","v":0},"#'T2-B(PP5)'!$D$232"]
["pp5_bl6_1_8_units_out",{"$f":"'T2-B(PP5)'!$G$232","v":0},"#'T2-B(PP5)'!$G$232"]
["pp5_bl6_1_9_name",{"$f":"'T2-B(PP5)'!$B$233","v":0},"#'T2-B(PP5)'!$B$233"]
["pp5_bl6_1_9_rate_in",{"$f":"'T2-B(PP5)'!$E$233","v":0},"#'T2-B(PP5)'!$E$233"]
["pp5_bl6_1_9_rate_out",{"$f":"'T2-B(PP5)'!$H$233","v":0},"#'T2-B(PP5)'!$H$233"]
["pp5_bl6_1_9_total",{"$f":"'T2-B(PP5)'!$J$233","v":0},"#'T2-B(PP5)'!$J$233"]
["pp5_bl6_1_9_total_in",{"$f":"'T2-B(PP5)'!$F$233","v":0},"#'T2-B(PP5)'!$F$233"]
["pp5_bl6_1_9_total_out",{"$f":"'T2-B(PP5)'!$I$233","v":0},"#'T2-B(PP5)'!$I$233"]
["pp5_bl6_1_9_unit",{"$f":"'T2-B(PP5)'!$C$233","v":0},"#'T2-B(PP5)'!$C$233"]
["pp5_bl6_1_9_unit_in",{"$f":"'T2-B(PP5)'!$D$233","v":0},"#'T2-B(PP5)'!$D$233"]
["pp5_bl6_1_9_units_out",{"$f":"'T2-B(PP5)'!$G$233","v":0},"#'T2-B(PP5)'!$G$233"]
["pp5_bl6_1_total",{"$f":"'T2-B(PP5)'!$J$224","v":0},"#'T2-B(PP5)'!$J$224"]
["pp5_bl6_1_total_in",{"$f":"'T2-B(PP5)'!$F$224","v":0},"#'T2-B(PP5)'!$F$224"]
["pp5_bl6_1_total_out",{"$f":"'T2-B(PP5)'!$I$224","v":0},"#'T2-B(PP5)'!$I$224"]
["pp5_bl6_total",{"$f":"'T2-B(PP5)'!$J$235","v":0},"#'T2-B(PP5)'!$J$235"]
["pp5_bl6_total_in",{"$f":"'T2-B(PP5)'!$F$235","v":0},"#'T2-B(PP5)'!$F$235"]
["pp5_bl6_total_out",{"$f":"'T2-B(PP5)'!$I$235","v":0},"#'T2-B(PP5)'!$I$235"]
["pp5_country",{"$f":"'PP5'!$K$14","v":1},"#'PP5'!$K$14"]
["pp5_fax",{"$f":"'PP5'!$C$29","v":0},"#'PP5'!$C$29"]
["pp5_is_bg",{"$f":"'PP5'!$D$13","v":0},"#'PP5'!$D$13"]
["pp5_is_pc",{"$f":"'PP5'!$F$13","v":0},"#'PP5'!$F$13"]
["pp5_legal_representative",{"$f":"'PP5'!$C$23","v":0},"#'PP5'!$C$23"]
["pp5_legal_representative_position",{"$f":"'PP5'!$C$25","v":0},"#'PP5'!$C$25"]
["pp5_mail",{"$f":"'PP5'!$C$31","v":0},"#'PP5'!$C$31"]
["pp5_nat_code",{"$f":"'PP5'!$C$75","v":0},"#'PP5'!$C$75"]
["pp5_nuts3",{"$f":"'PP5'!$C$15","v":0},"#'PP5'!$C$15"]
["pp5_organisation_en",{"$f":"'PP5'!$C$7","v":0},"#'PP5'!$C$7"]
["pp5_organisation_native",{"$f":"'PP5'!$C$9","v":0},"#'PP5'!$C$9"]
["pp5_pe_date1",{"$f":"'PP5'!$G$51","v":0},"#'PP5'!$G$51"]
["pp5_pe_date2",{"$f":"'PP5'!$G$59","v":0},"#'PP5'!$G$59"]
["pp5_pe_date3",{"$f":"'PP5'!$G$67","v":0},"#'PP5'!$G$67"]
["pp5_pe_ga1",{"$f":"'PP5'!$G$50","v":0},"#'PP5'!$G$50"]
["pp5_pe_ga2",{"$f":"'PP5'!$G$58","v":0},"#'PP5'!$G$58"]
["pp5_pe_ga3",{"$f":"'PP5'!$G$66","v":0},"#'PP5'!$G$66"]
["pp5_pe_ip1",{"$f":"'PP5'!$C$47","v":0},"#'PP5'!$C$47"]
["pp5_pe_ip2",{"$f":"'PP5'!$C$55","v":0},"#'PP5'!$C$55"]
["pp5_pe_ip3",{"$f":"'PP5'!$C$63","v":0},"#'PP5'!$C$63"]
["pp5_pe_or1",{"$f":"'PP5'!$C$51","v":0},"#'PP5'!$C$51"]
["pp5_pe_or2",{"$f":"'PP5'!$C$59","v":0},"#'PP5'!$C$59"]
["pp5_pe_or3",{"$f":"'PP5'!$C$67","v":0},"#'PP5'!$C$67"]
["pp5_pe_pt1",{"$f":"'PP5'!$C$48","v":0},"#'PP5'!$C$48"]
["pp5_pe_pt2",{"$f":"'PP5'!$C$56","v":0},"#'PP5'!$C$56"]
["pp5_pe_pt3",{"$f":"'PP5'!$C$64","v":0},"#'PP5'!$C$64"]
["pp5_pe_sd1",{"$f":"'PP5'!$C$49","v":0},"#'PP5'!$C$49"]
["pp5_pe_sd2",{"$f":"'PP5'!$C$57","v":0},"#'PP5'!$C$57"]
["pp5_pe_sd3",{"$f":"'PP5'!$C$65","v":0},"#'PP5'!$C$65"]
["pp5_pe_tev1",{"$f":"'PP5'!$C$50","v":0},"#'PP5'!$C$50"]
["pp5_pe_tev2",{"$f":"'PP5'!$C$58","v":0},"#'PP5'!$C$58"]
["pp5_pe_tev3",{"$f":"'PP5'!$C$66","v":0},"#'PP5'!$C$66"]
["pp5_phone",{"$f":"'PP5'!$C$27","v":0},"#'PP5'!$C$27"]
["pp5_post_code",{"$f":"'PP5'!$C$21","v":0},"#'PP5'!$C$21"]
["pp5_profile",{"$f":"'PP5'!$B$41","v":0},"#'PP5'!$B$41"]
["pp5_town",{"$f":"'PP5'!$C$17","v":0},"#'PP5'!$C$17"]
["pp5_type_org",{"$f":"'PP5'!$C$11","v":0},"#'PP5'!$C$11"]
["pp5_vat_code",{"$f":"'PP5'!$C$77","v":0},"#'PP5'!$C$77"]
["pp5_website",{"$f":"'PP5'!$C$33","v":0},"#'PP5'!$C$33"]
["Table 3-summary'!Print_Area",{"$f":"'Table 3-summary'!$A$1:$G$23","v":{"$error":"#VALUE!"}},"#'Table 3-summary'!$A$1:$G$23"]
["Table 4 PP`BL'!Print_Area",{"$f":"'Table 4 PP`BL'!$A$1:$H$15","v":{"$error":"#VALUE!"}},"#'Table 4 PP`BL'!$A$1:$H$15"]
["Table 5-Sources'!Print_Area",{"$f":"'Table 5-Sources'!$A$1:$G$12","v":{"$error":"#VALUE!"}},"#'Table 5-Sources'!$A$1:$G$12"]
["Priority",{"$f":"'Project identification'!$Q$11:$Q$13","v":{"$error":"#VALUE!"}},"#'Project identification'!$Q$11:$Q$13"]
["priority_axis",{"$f":"Cover!$C$27","v":0},"#Cover!$C$27"]
["project_activities_out",{"$f":"'Project identification'!$B$290","v":"1. Brief description of the activity:"},"#'Project identification'!$B$290"]
["project_title",{"$f":"Cover!$C$21","v":0},"#Cover!$C$21"]
["project_type",{"$f":"Cover!$C$31","v":0},"#Cover!$C$31"]
["PP1(LP)'!Region1",{"$f":"'PP1(LP)'!$M$21:$M$26","v":{"$error":"#VALUE!"}},"#'PP1(LP)'!$M$21:$M$26"]
["PP2'!Region1",{"$f":"'PP2'!$M$21:$M$26","v":{"$error":"#VALUE!"}},"#'PP2'!$M$21:$M$26"]
["PP3'!Region1",{"$f":"'PP3'!$M$21:$M$26","v":{"$error":"#VALUE!"}},"#'PP3'!$M$21:$M$26"]
["PP4'!Region1",{"$f":"'PP4'!$M$21:$M$26","v":{"$error":"#VALUE!"}},"#'PP4'!$M$21:$M$26"]
["PP5'!Region1",{"$f":"'PP5'!$M$21:$M$26","v":{"$error":"#VALUE!"}},"#'PP5'!$M$21:$M$26"]
["PP1(LP)'!Region2",{"$f":"'PP1(LP)'!$N$21:$N$27","v":{"$error":"#VALUE!"}},"#'PP1(LP)'!$N$21:$N$27"]
["PP2'!Region2",{"$f":"'PP2'!$N$21:$N$27","v":{"$error":"#VALUE!"}},"#'PP2'!$N$21:$N$27"]
["PP3'!Region2",{"$f":"'PP3'!$N$21:$N$27","v":{"$error":"#VALUE!"}},"#'PP3'!$N$21:$N$27"]
["PP4'!Region2",{"$f":"'PP4'!$N$21:$N$27","v":{"$error":"#VALUE!"}},"#'PP4'!$N$21:$N$27"]
["PP5'!Region2",{"$f":"'PP5'!$N$21:$N$27","v":{"$error":"#VALUE!"}},"#'PP5'!$N$21:$N$27"]
["Regions",{"$f":"'PP1(LP)'!$M$21:$M$27","v":{"$error":"#VALUE!"}},"#'PP1(LP)'!$M$21:$M$27"]
["Regions1",{"$f":"'PP1(LP)'!$M$21:$M$27","v":{"$error":"#VALUE!"}},"#'PP1(LP)'!$M$21:$M$27"]
["Regions2",{"$f":"'PP1(LP)'!$N$21:$N$28","v":{"$error":"#VALUE!"}},"#'PP1(LP)'!$N$21:$N$28"]
["smr_duration_bg",{"$f":"Summary_BG!$B$16","v":0},"#Summary_BG!$B$16"]
["smr_duration_rs",{"$f":"Summary_RS!$B$13","v":0},"#Summary_RS!$B$13"]
["smr_lead_partner_bg",{"$f":"Summary_BG!$B$8","v":0},"#Summary_BG!$B$8"]
["smr_lead_partner_rs",{"$f":"Summary_RS!$B$8","v":0},"#Summary_RS!$B$8"]
["smr_partners_bg",{"$f":"Summary_BG!$B$9","v":0},"#Summary_BG!$B$9"]
["smr_partners_rs",{"$f":"Summary_RS!$B$9","v":0},"#Summary_RS!$B$9"]
["smr_priority_axis_bg",{"$f":"Summary_BG!$B$12","v":0},"#Summary_BG!$B$12"]
["smr_priority_axis_rs",{"$f":"Summary_RS!$B$11","v":0},"#Summary_RS!$B$11"]
["smr_project_activities_bg",{"$f":"Summary_BG!$B$22","v":0},"#Summary_BG!$B$22"]
["smr_project_activities_en",{"$f":"Summary_EN!$B$24","v":0},"#Summary_EN!$B$24"]
["smr_project_activities_rs",{"$f":"Summary_RS!$B$18","v":0},"#Summary_RS!$B$18"]
["smr_project_objectives_bg",{"$f":"Summary_BG!$B$20","v":0},"#Summary_BG!$B$20"]
["smr_project_objectives_en",{"$f":"Summary_EN!$B$22","v":0},"#Summary_EN!$B$22"]
["smr_project_objectives_rs",{"$f":"Summary_RS!$B$17","v":0},"#Summary_RS!$B$17"]
["smr_project_Results_bg",{"$f":"Summary_BG!$B$25","v":0},"#Summary_BG!$B$25"]
["smr_project_Results_en",{"$f":"Summary_EN!$B$27","v":0},"#Summary_EN!$B$27"]
["smr_project_Results_rs",{"$f":"Summary_RS!$B$20","v":0},"#Summary_RS!$B$20"]
["smr_specific_objective_bg",{"$f":"Summary_BG!$B$14","v":0},"#Summary_BG!$B$14"]
["smr_specific_objective_rs",{"$f":"Summary_RS!$B$12","v":0},"#Summary_RS!$B$12"]
["smr_target_groups_bg",{"$f":"Summary_BG!$B$28","v":0},"#Summary_BG!$B$28"]
["smr_target_groups_en",{"$f":"Summary_EN!$B$30","v":0},"#Summary_EN!$B$30"]
["smr_target_groups_rs",{"$f":"Summary_RS!$B$22","v":0},"#Summary_RS!$B$22"]
["smr_title_bg",{"$f":"Summary_BG!$B$7","v":0},"#Summary_BG!$B$7"]
["smr_title_rs",{"$f":"Summary_RS!$B$7","v":0},"#Summary_RS!$B$7"]
["smr_total_budget_bg",{"$f":"Summary_BG!$B$18","v":0},"#Summary_BG!$B$18"]
["smr_total_budget_rs",{"$f":"Summary_RS!$B$15","v":0},"#Summary_RS!$B$15"]
["Cover!Soft",{"$f":"'Project identification'!$N$15","v":"Soft"},"#'Project identification'!$N$15"]
["Project identification'!Soft",{"$f":"'Project identification'!$N$15","v":"Soft"},"#'Project identification'!$N$15"]
["specific_objective",{"$f":"Cover!$C$29","v":0},"#Cover!$C$29"]
["Project identification'!Sustainable_Tourism",{"$f":"'Project identification'!$S$11:$S$13","v":{"$error":"#VALUE!"}},"#'Project identification'!$S$11:$S$13"]
["t2_Bl1",{"$f":"'Table 2-total'!$B$4","v":0},"#'Table 2-total'!$B$4"]
["t2_Bl1_perc",{"$f":"'Table 2-total'!$C$4","v":{"$error":"#REF!"}},"#'Table 2-total'!$C$4"]
["t2_Bl2",{"$f":"'Table 2-total'!$B$7","v":0},"#'Table 2-total'!$B$7"]
["t2_Bl2_perc",{"$f":"'Table 2-total'!$C$7","v":{"$error":"#REF!"}},"#'Table 2-total'!$C$7"]
["t2_Bl3",{"$f":"'Table 2-total'!$B$13","v":0},"#'Table 2-total'!$B$13"]
["t2_Bl3_1",{"$f":"'Table 2-total'!$B$10","v":0},"#'Table 2-total'!$B$10"]
["t2_Bl3_1_perc",{"$f":"'Table 2-total'!$C$10","v":{"$error":"#REF!"}},"#'Table 2-total'!$C$10"]
["t2_Bl3_2",{"$f":"'Table 2-total'!$B$11","v":0},"#'Table 2-total'!$B$11"]
["t2_Bl3_2_perc",{"$f":"'Table 2-total'!$C$11","v":{"$error":"#REF!"}},"#'Table 2-total'!$C$11"]
["t2_Bl3_3",{"$f":"'Table 2-total'!$B$12","v":0},"#'Table 2-total'!$B$12"]
["t2_Bl3_3_perc",{"$f":"'Table 2-total'!$C$12","v":{"$error":"#REF!"}},"#'Table 2-total'!$C$12"]
["t2_Bl3_perc",{"$f":"'Table 2-total'!$C$13","v":{"$error":"#REF!"}},"#'Table 2-total'!$C$13"]
["t2_Bl4",{"$f":"'Table 2-total'!$B$29","v":{"$error":"#REF!"}},"#'Table 2-total'!$B$29"]
["t2_Bl4_1",{"$f":"'Table 2-total'!$B$16","v":0},"#'Table 2-total'!$B$16"]
["t2_Bl4_1_perc",{"$f":"'Table 2-total'!$C$16","v":{"$error":"#REF!"}},"#'Table 2-total'!$C$16"]
["t2_Bl4_10",{"$f":"'Table 2-total'!$B$25","v":0},"#'Table 2-total'!$B$25"]
["t2_Bl4_10_perc",{"$f":"'Table 2-total'!$C$25","v":{"$error":"#REF!"}},"#'Table 2-total'!$C$25"]
["t2_Bl4_11",{"$f":"'Table 2-total'!$B$26","v":0},"#'Table 2-total'!$B$26"]
["t2_Bl4_11_perc",{"$f":"'Table 2-total'!$C$26","v":{"$error":"#REF!"}},"#'Table 2-total'!$C$26"]
["t2_Bl4_12",{"$f":"'Table 2-total'!$B$27","v":{"$error":"#REF!"}},"#'Table 2-total'!$B$27"]
["t2_Bl4_12_perc",{"$f":"'Table 2-total'!$C$27","v":{"$error":"#REF!"}},"#'Table 2-total'!$C$27"]
["t2_Bl4_13",{"$f":"'Table 2-total'!$B$28","v":{"$error":"#REF!"}},"#'Table 2-total'!$B$28"]
["t2_Bl4_13_perc",{"$f":"'Table 2-total'!$C$28","v":{"$error":"#REF!"}},"#'Table 2-total'!$C$28"]
["t2_Bl4_2",{"$f":"'Table 2-total'!$B$17","v":0},"#'Table 2-total'!$B$17"]
["t2_Bl4_2_perc",{"$f":"'Table 2-total'!$C$17","v":{"$error":"#REF!"}},"#'Table 2-total'!$C$17"]
["t2_Bl4_3",{"$f":"'Table 2-total'!$B$18","v":0},"#'Table 2-total'!$B$18"]
["t2_Bl4_3_perc",{"$f":"'Table 2-total'!$C$18","v":{"$error":"#REF!"}},"#'Table 2-total'!$C$18"]
["t2_Bl4_4",{"$f":"'Table 2-total'!$B$19","v":0},"#'Table 2-total'!$B$19"]
["t2_Bl4_4_perc",{"$f":"'Table 2-total'!$C$19","v":{"$error":"#REF!"}},"#'Table 2-total'!$C$19"]
["t2_Bl4_5",{"$f":"'Table 2-total'!$B$20","v":0},"#'Table 2-total'!$B$20"]
["t2_Bl4_5_perc",{"$f":"'Table 2-total'!$C$20","v":{"$error":"#REF!"}},"#'Table 2-total'!$C$20"]
["t2_Bl4_6",{"$f":"'Table 2-total'!$B$21","v":0},"#'Table 2-total'!$B$21"]
["t2_Bl4_6_perc",{"$f":"'Table 2-total'!$C$21","v":{"$error":"#REF!"}},"#'Table 2-total'!$C$21"]
["t2_Bl4_7",{"$f":"'Table 2-total'!$B$22","v":0},"#'Table 2-total'!$B$22"]
["t2_Bl4_7_perc",{"$f":"'Table 2-total'!$C$22","v":{"$error":"#REF!"}},"#'Table 2-total'!$C$22"]
["t2_Bl4_8",{"$f":"'Table 2-total'!$B$23","v":0},"#'Table 2-total'!$B$23"]
["t2_Bl4_8_perc",{"$f":"'Table 2-total'!$C$23","v":{"$error":"#REF!"}},"#'Table 2-total'!$C$23"]
["t2_Bl4_9",{"$f":"'Table 2-total'!$B$24","v":0},"#'Table 2-total'!$B$24"]
["t2_Bl4_9_perc",{"$f":"'Table 2-total'!$C$24","v":{"$error":"#REF!"}},"#'Table 2-total'!$C$24"]
["t2_Bl4_perc",{"$f":"'Table 2-total'!$C$29","v":{"$error":"#REF!"}},"#'Table 2-total'!$C$29"]
["t2_Bl5",{"$f":"'Table 2-total'!$B$34","v":0},"#'Table 2-total'!$B$34"]
["t2_Bl5_1",{"$f":"'Table 2-total'!$B$32","v":0},"#'Table 2-total'!$B$32"]
["t2_Bl5_1_perc",{"$f":"'Table 2-total'!$C$32","v":{"$error":"#REF!"}},"#'Table 2-total'!$C$32"]
["t2_Bl5_2",{"$f":"'Table 2-total'!$B$33","v":0},"#'Table 2-total'!$B$33"]
["t2_Bl5_2_perc",{"$f":"'Table 2-total'!$C$33","v":{"$error":"#REF!"}},"#'Table 2-total'!$C$33"]
["t2_Bl5_perc",{"$f":"'Table 2-total'!$C$34","v":{"$error":"#REF!"}},"#'Table 2-total'!$C$34"]
["t2_Bl6",{"$f":"'Table 2-total'!$B$37","v":0},"#'Table 2-total'!$B$37"]
["t2_Bl6_perc",{"$f":"'Table 2-total'!$C$37","v":{"$error":"#REF!"}},"#'Table 2-total'!$C$37"]
["t2_own",{"$f":"'Table 2-total'!$B$38","v":0},"#'Table 2-total'!$B$38"]
["t2_own_perc",{"$f":"'Table 2-total'!$C$38","v":{"$error":"#REF!"}},"#'Table 2-total'!$C$38"]
["t2_total",{"$f":"'Table 2-total'!$B$44","v":{"$error":"#REF!"}},"#'Table 2-total'!$B$44"]
["t2_total_direct",{"$f":"'Table 2-total'!$B$42","v":{"$error":"#REF!"}},"#'Table 2-total'!$B$42"]
["t2_total_direct_perc",{"$f":"'Table 2-total'!$C$42","v":{"$error":"#REF!"}},"#'Table 2-total'!$C$42"]
["t2_total_perc",{"$f":"'Table 2-total'!$C$44","v":0},"#'Table 2-total'!$C$44"]
["t3_BL1_in_area",{"$f":"'Table 3-summary'!$C$5","v":0},"#'Table 3-summary'!$C$5"]
["t3_BL1_out_area",{"$f":"'Table 3-summary'!$D$5","v":0},"#'Table 3-summary'!$D$5"]
["t3_BL1_out_area_tot_perc",{"$f":"'Table 3-summary'!$F$5","v":{"$error":"#DIV/0!"}},"#'Table 3-summary'!$F$5"]
["t3_BL1_tot",{"$f":"'Table 3-summary'!$E$5","v":0},"#'Table 3-summary'!$E$5"]
["t3_BL1_tot_perc",{"$f":"'Table 3-summary'!$G$5","v":{"$error":"#REF!"}},"#'Table 3-summary'!$G$5"]
["t3_BL2_in_area",{"$f":"'Table 3-summary'!$C$6","v":0},"#'Table 3-summary'!$C$6"]
["t3_BL2_out_area",{"$f":"'Table 3-summary'!$D$6","v":0},"#'Table 3-summary'!$D$6"]
["t3_BL2_out_area_tot_perc",{"$f":"'Table 3-summary'!$F$6","v":{"$error":"#DIV/0!"}},"#'Table 3-summary'!$F$6"]
["t3_BL2_tot",{"$f":"'Table 3-summary'!$E$6","v":0},"#'Table 3-summary'!$E$6"]
["t3_BL2_tot_perc",{"$f":"'Table 3-summary'!$G$6","v":{"$error":"#REF!"}},"#'Table 3-summary'!$G$6"]
["t3_BL3_in_area",{"$f":"'Table 3-summary'!$C$7","v":0},"#'Table 3-summary'!$C$7"]
["t3_BL3_out_area",{"$f":"'Table 3-summary'!$D$7","v":0},"#'Table 3-summary'!$D$7"]
["t3_BL3_out_area_tot_perc",{"$f":"'Table 3-summary'!$F$7","v":{"$error":"#DIV/0!"}},"#'Table 3-summary'!$F$7"]
["t3_BL3_tot",{"$f":"'Table 3-summary'!$E$7","v":0},"#'Table 3-summary'!$E$7"]
["t3_BL3_tot_perc",{"$f":"'Table 3-summary'!$G$7","v":{"$error":"#REF!"}},"#'Table 3-summary'!$G$7"]
["t3_BL4_in_area",{"$f":"'Table 3-summary'!$C$8","v":{"$error":"#REF!"}},"#'Table 3-summary'!$C$8"]
["t3_BL4_out_area",{"$f":"'Table 3-summary'!$D$8","v":0},"#'Table 3-summary'!$D$8"]
["t3_BL4_out_area_tot_perc",{"$f":"'Table 3-summary'!$F$8","v":{"$error":"#REF!"}},"#'Table 3-summary'!$F$8"]
["t3_BL4_tot",{"$f":"'Table 3-summary'!$E$8","v":{"$error":"#REF!"}},"#'Table 3-summary'!$E$8"]
["t3_BL4_tot_perc",{"$f":"'Table 3-summary'!$G$8","v":{"$error":"#REF!"}},"#'Table 3-summary'!$G$8"]
["t3_BL5_in_area",{"$f":"'Table 3-summary'!$C$9","v":0},"#'Table 3-summary'!$C$9"]
["t3_BL5_out_area",{"$f":"'Table 3-summary'!$D$9","v":0},"#'Table 3-summary'!$D$9"]
["t3_BL5_out_area_tot_perc",{"$f":"'Table 3-summary'!$F$9","v":{"$error":"#DIV/0!"}},"#'Table 3-summary'!$F$9"]
["t3_BL5_tot",{"$f":"'Table 3-summary'!$E$9","v":0},"#'Table 3-summary'!$E$9"]
["t3_BL5_tot_perc",{"$f":"'Table 3-summary'!$G$9","v":{"$error":"#REF!"}},"#'Table 3-summary'!$G$9"]
["t3_BL6_in_area",{"$f":"'Table 3-summary'!$C$10","v":0},"#'Table 3-summary'!$C$10"]
["t3_BL6_out_area",{"$f":"'Table 3-summary'!$D$10","v":0},"#'Table 3-summary'!$D$10"]
["t3_BL6_out_area_tot_perc",{"$f":"'Table 3-summary'!$F$10","v":{"$error":"#DIV/0!"}},"#'Table 3-summary'!$F$10"]
["t3_BL6_tot",{"$f":"'Table 3-summary'!$E$10","v":0},"#'Table 3-summary'!$E$10"]
["t3_BL6_tot_perc",{"$f":"'Table 3-summary'!$G$10","v":{"$error":"#REF!"}},"#'Table 3-summary'!$G$10"]
["t3_out_area_tot_perc",{"$f":"'Table 3-summary'!$F$15","v":{"$error":"#REF!"}},"#'Table 3-summary'!$F$15"]
["t3_own_in_area",{"$f":"'Table 3-summary'!$C$13","v":0},"#'Table 3-summary'!$C$13"]
["t3_own_out_area",{"$f":"'Table 3-summary'!$D$13","v":0},"#'Table 3-summary'!$D$13"]
["t3_own_tot",{"$f":"'Table 3-summary'!$E$13","v":0},"#'Table 3-summary'!$E$13"]
["t3_total_in_area",{"$f":"'Table 3-summary'!$C$11","v":{"$error":"#REF!"}},"#'Table 3-summary'!$C$11"]
["t3_total_out_area",{"$f":"'Table 3-summary'!$D$11","v":0},"#'Table 3-summary'!$D$11"]
["t3_total_out_area_tot_perc",{"$f":"'Table 3-summary'!$F$11","v":{"$error":"#REF!"}},"#'Table 3-summary'!$F$11"]
["t3_total_perc_in_area",{"$f":"'Table 3-summary'!$C$15","v":{"$error":"#REF!"}},"#'Table 3-summary'!$C$15"]
["t3_total_perc_out_area",{"$f":"'Table 3-summary'!$D$15","v":0},"#'Table 3-summary'!$D$15"]
["t3_total_perc_tot",{"$f":"'Table 3-summary'!$E$15","v":{"$error":"#REF!"}},"#'Table 3-summary'!$E$15"]
["t3_total_perc_tot_perc",{"$f":"'Table 3-summary'!$G$15","v":0},"#'Table 3-summary'!$G$15"]
["t3_total_tot",{"$f":"'Table 3-summary'!$E$11","v":{"$error":"#REF!"}},"#'Table 3-summary'!$E$11"]
["t4_BL1",{"$f":"'Table 4 PP`BL'!$H$4","v":0},"#'Table 4 PP`BL'!$H$4"]
["t4_BL1_pp1",{"$f":"'Table 4 PP`BL'!$C$4","v":0},"#'Table 4 PP`BL'!$C$4"]
["t4_BL1_pp2",{"$f":"'Table 4 PP`BL'!$D$4","v":0},"#'Table 4 PP`BL'!$D$4"]
["t4_BL1_pp3",{"$f":"'Table 4 PP`BL'!$E$4","v":0},"#'Table 4 PP`BL'!$E$4"]
["t4_BL1_pp4",{"$f":"'Table 4 PP`BL'!$F$4","v":0},"#'Table 4 PP`BL'!$F$4"]
["t4_BL1_pp5",{"$f":"'Table 4 PP`BL'!$G$4","v":0},"#'Table 4 PP`BL'!$G$4"]
["t4_BL2",{"$f":"'Table 4 PP`BL'!$H$5","v":0},"#'Table 4 PP`BL'!$H$5"]
["t4_BL2_pp1",{"$f":"'Table 4 PP`BL'!$C$5","v":0},"#'Table 4 PP`BL'!$C$5"]
["t4_BL2_pp2",{"$f":"'Table 4 PP`BL'!$D$5","v":0},"#'Table 4 PP`BL'!$D$5"]
["t4_BL2_pp3",{"$f":"'Table 4 PP`BL'!$E$5","v":0},"#'Table 4 PP`BL'!$E$5"]
["t4_BL2_pp4",{"$f":"'Table 4 PP`BL'!$F$5","v":0},"#'Table 4 PP`BL'!$F$5"]
["t4_BL2_pp5",{"$f":"'Table 4 PP`BL'!$G$5","v":0},"#'Table 4 PP`BL'!$G$5"]
["t4_BL3",{"$f":"'Table 4 PP`BL'!$H$6","v":0},"#'Table 4 PP`BL'!$H$6"]
["t4_BL3_pp1",{"$f":"'Table 4 PP`BL'!$C$6","v":0},"#'Table 4 PP`BL'!$C$6"]
["t4_BL3_pp2",{"$f":"'Table 4 PP`BL'!$D$6","v":0},"#'Table 4 PP`BL'!$D$6"]
["t4_BL3_pp3",{"$f":"'Table 4 PP`BL'!$E$6","v":0},"#'Table 4 PP`BL'!$E$6"]
["t4_BL3_pp4",{"$f":"'Table 4 PP`BL'!$F$6","v":0},"#'Table 4 PP`BL'!$F$6"]
["t4_BL3_pp5",{"$f":"'Table 4 PP`BL'!$G$6","v":0},"#'Table 4 PP`BL'!$G$6"]
["t4_BL4",{"$f":"'Table 4 PP`BL'!$H$7","v":0},"#'Table 4 PP`BL'!$H$7"]
["t4_BL4_pp1",{"$f":"'Table 4 PP`BL'!$C$7","v":0},"#'Table 4 PP`BL'!$C$7"]
["t4_BL4_pp2",{"$f":"'Table 4 PP`BL'!$D$7","v":0},"#'Table 4 PP`BL'!$D$7"]
["t4_BL4_pp3",{"$f":"'Table 4 PP`BL'!$E$7","v":0},"#'Table 4 PP`BL'!$E$7"]
["t4_BL4_pp4",{"$f":"'Table 4 PP`BL'!$F$7","v":0},"#'Table 4 PP`BL'!$F$7"]
["t4_BL4_pp5",{"$f":"'Table 4 PP`BL'!$G$7","v":0},"#'Table 4 PP`BL'!$G$7"]
["t4_BL5",{"$f":"'Table 4 PP`BL'!$H$8","v":0},"#'Table 4 PP`BL'!$H$8"]
["t4_BL5_pp1",{"$f":"'Table 4 PP`BL'!$C$8","v":0},"#'Table 4 PP`BL'!$C$8"]
["t4_BL5_pp2",{"$f":"'Table 4 PP`BL'!$D$8","v":0},"#'Table 4 PP`BL'!$D$8"]
["t4_BL5_pp3",{"$f":"'Table 4 PP`BL'!$E$8","v":0},"#'Table 4 PP`BL'!$E$8"]
["t4_BL5_pp4",{"$f":"'Table 4 PP`BL'!$F$8","v":0},"#'Table 4 PP`BL'!$F$8"]
["t4_BL5_pp5",{"$f":"'Table 4 PP`BL'!$G$8","v":0},"#'Table 4 PP`BL'!$G$8"]
["t4_BL6",{"$f":"'Table 4 PP`BL'!$H$9","v":0},"#'Table 4 PP`BL'!$H$9"]
["t4_BL6_pp1",{"$f":"'Table 4 PP`BL'!$C$9","v":0},"#'Table 4 PP`BL'!$C$9"]
["t4_BL6_pp2",{"$f":"'Table 4 PP`BL'!$D$9","v":0},"#'Table 4 PP`BL'!$D$9"]
["t4_BL6_pp3",{"$f":"'Table 4 PP`BL'!$E$9","v":0},"#'Table 4 PP`BL'!$E$9"]
["t4_BL6_pp4",{"$f":"'Table 4 PP`BL'!$F$9","v":0},"#'Table 4 PP`BL'!$F$9"]
["t4_BL6_pp5",{"$f":"'Table 4 PP`BL'!$G$9","v":0},"#'Table 4 PP`BL'!$G$9"]
["t4_own",{"$f":"'Table 4 PP`BL'!$H$13","v":0},"#'Table 4 PP`BL'!$H$13"]
["t4_own_pp1",{"$f":"'Table 4 PP`BL'!$C$13","v":0},"#'Table 4 PP`BL'!$C$13"]
["t4_own_pp2",{"$f":"'Table 4 PP`BL'!$D$13","v":0},"#'Table 4 PP`BL'!$D$13"]
["t4_own_pp3",{"$f":"'Table 4 PP`BL'!$E$13","v":0},"#'Table 4 PP`BL'!$E$13"]
["t4_own_pp4",{"$f":"'Table 4 PP`BL'!$F$13","v":0},"#'Table 4 PP`BL'!$F$13"]
["t4_own_pp5",{"$f":"'Table 4 PP`BL'!$G$13","v":0},"#'Table 4 PP`BL'!$G$13"]
["t4_total",{"$f":"'Table 4 PP`BL'!$H$10","v":0},"#'Table 4 PP`BL'!$H$10"]
["t4_total_cost",{"$f":"'Table 4 PP`BL'!$H$15","v":0},"#'Table 4 PP`BL'!$H$15"]
["t4_total_cost_pp1",{"$f":"'Table 4 PP`BL'!$C$15","v":0},"#'Table 4 PP`BL'!$C$15"]
["t4_total_cost_pp2",{"$f":"'Table 4 PP`BL'!$D$15","v":0},"#'Table 4 PP`BL'!$D$15"]
["t4_total_cost_pp3",{"$f":"'Table 4 PP`BL'!$E$15","v":0},"#'Table 4 PP`BL'!$E$15"]
["t4_total_cost_pp4",{"$f":"'Table 4 PP`BL'!$F$15","v":0},"#'Table 4 PP`BL'!$F$15"]
["t4_total_cost_pp5",{"$f":"'Table 4 PP`BL'!$G$15","v":0},"#'Table 4 PP`BL'!$G$15"]
["t4_total_perc",{"$f":"'Table 4 PP`BL'!$H$11","v":0},"#'Table 4 PP`BL'!$H$11"]
["t4_total_perc_pp1",{"$f":"'Table 4 PP`BL'!$C$11","v":{"$error":"#DIV/0!"}},"#'Table 4 PP`BL'!$C$11"]
["t4_total_perc_pp2",{"$f":"'Table 4 PP`BL'!$D$11","v":{"$error":"#DIV/0!"}},"#'Table 4 PP`BL'!$D$11"]
["t4_total_perc_pp3",{"$f":"'Table 4 PP`BL'!$E$11","v":{"$error":"#DIV/0!"}},"#'Table 4 PP`BL'!$E$11"]
["t4_total_perc_pp4",{"$f":"'Table 4 PP`BL'!$F$11","v":{"$error":"#DIV/0!"}},"#'Table 4 PP`BL'!$F$11"]
["t4_total_perc_pp5",{"$f":"'Table 4 PP`BL'!$G$11","v":{"$error":"#DIV/0!"}},"#'Table 4 PP`BL'!$G$11"]
["t4_total_pp1",{"$f":"'Table 4 PP`BL'!$C$10","v":0},"#'Table 4 PP`BL'!$C$10"]
["t4_total_pp2",{"$f":"'Table 4 PP`BL'!$D$10","v":0},"#'Table 4 PP`BL'!$D$10"]
["t4_total_pp3",{"$f":"'Table 4 PP`BL'!$E$10","v":0},"#'Table 4 PP`BL'!$E$10"]
["t4_total_pp4",{"$f":"'Table 4 PP`BL'!$F$10","v":0},"#'Table 4 PP`BL'!$F$10"]
["t4_total_pp5",{"$f":"'Table 4 PP`BL'!$G$10","v":0},"#'Table 4 PP`BL'!$G$10"]
["t5_eu_rate",{"$f":"'Table 5-Sources'!$G$11","v":{"$error":"#DIV/0!"}},"#'Table 5-Sources'!$G$11"]
["t5_eu_rate_pp1",{"$f":"'Table 5-Sources'!$B$11","v":{"$error":"#DIV/0!"}},"#'Table 5-Sources'!$B$11"]
["t5_eu_rate_pp2",{"$f":"'Table 5-Sources'!$C$11","v":{"$error":"#DIV/0!"}},"#'Table 5-Sources'!$C$11"]
["t5_eu_rate_pp3",{"$f":"'Table 5-Sources'!$D$11","v":{"$error":"#DIV/0!"}},"#'Table 5-Sources'!$D$11"]
["t5_eu_rate_pp4",{"$f":"'Table 5-Sources'!$E$11","v":{"$error":"#DIV/0!"}},"#'Table 5-Sources'!$E$11"]
["t5_eu_rate_pp5",{"$f":"'Table 5-Sources'!$F$11","v":{"$error":"#DIV/0!"}},"#'Table 5-Sources'!$F$11"]
["t5_eu_subsidy",{"$f":"'Table 5-Sources'!$G$12","v":0},"#'Table 5-Sources'!$G$12"]
["t5_eu_subsidy_pp1",{"$f":"'Table 5-Sources'!$B$12","v":0},"#'Table 5-Sources'!$B$12"]
["t5_eu_subsidy_pp2",{"$f":"'Table 5-Sources'!$C$12","v":0},"#'Table 5-Sources'!$C$12"]
["t5_eu_subsidy_pp3",{"$f":"'Table 5-Sources'!$D$12","v":0},"#'Table 5-Sources'!$D$12"]
["t5_eu_subsidy_pp4",{"$f":"'Table 5-Sources'!$E$12","v":0},"#'Table 5-Sources'!$E$12"]
["t5_eu_subsidy_pp5",{"$f":"'Table 5-Sources'!$F$12","v":0},"#'Table 5-Sources'!$F$12"]
["t5_national",{"$f":"'Table 5-Sources'!$G$7","v":0},"#'Table 5-Sources'!$G$7"]
["t5_national_pp1",{"$f":"'Table 5-Sources'!$B$7","v":0},"#'Table 5-Sources'!$B$7"]
["t5_national_pp2",{"$f":"'Table 5-Sources'!$C$7","v":0},"#'Table 5-Sources'!$C$7"]
["t5_national_pp3",{"$f":"'Table 5-Sources'!$D$7","v":0},"#'Table 5-Sources'!$D$7"]
["t5_national_pp4",{"$f":"'Table 5-Sources'!$E$7","v":0},"#'Table 5-Sources'!$E$7"]
["t5_national_pp5",{"$f":"'Table 5-Sources'!$F$7","v":0},"#'Table 5-Sources'!$F$7"]
["t5_others",{"$f":"'Table 5-Sources'!$G$10","v":0},"#'Table 5-Sources'!$G$10"]
["t5_others_pp1",{"$f":"'Table 5-Sources'!$B$10","v":0},"#'Table 5-Sources'!$B$10"]
["t5_others_pp2",{"$f":"'Table 5-Sources'!$C$10","v":0},"#'Table 5-Sources'!$C$10"]
["t5_others_pp3",{"$f":"'Table 5-Sources'!$D$10","v":0},"#'Table 5-Sources'!$D$10"]
["t5_others_pp4",{"$f":"'Table 5-Sources'!$E$10","v":0},"#'Table 5-Sources'!$E$10"]
["t5_others_pp5",{"$f":"'Table 5-Sources'!$F$10","v":0},"#'Table 5-Sources'!$F$10"]
["t5_own",{"$f":"'Table 5-Sources'!$G$9","v":0},"#'Table 5-Sources'!$G$9"]
["t5_own_pp1",{"$f":"'Table 5-Sources'!$B$9","v":0},"#'Table 5-Sources'!$B$9"]
["t5_own_pp2",{"$f":"'Table 5-Sources'!$C$9","v":0},"#'Table 5-Sources'!$C$9"]
["t5_own_pp3",{"$f":"'Table 5-Sources'!$D$9","v":0},"#'Table 5-Sources'!$D$9"]
["t5_own_pp4",{"$f":"'Table 5-Sources'!$E$9","v":0},"#'Table 5-Sources'!$E$9"]
["t5_own_pp5",{"$f":"'Table 5-Sources'!$F$9","v":0},"#'Table 5-Sources'!$F$9"]
["t5_state",{"$f":"'Table 5-Sources'!$G$8","v":0},"#'Table 5-Sources'!$G$8"]
["t5_state_pp1",{"$f":"'Table 5-Sources'!$B$8","v":0},"#'Table 5-Sources'!$B$8"]
["t5_state_pp2",{"$f":"'Table 5-Sources'!$C$8","v":0},"#'Table 5-Sources'!$C$8"]
["t5_state_pp3",{"$f":"'Table 5-Sources'!$D$8","v":0},"#'Table 5-Sources'!$D$8"]
["t5_state_pp4",{"$f":"'Table 5-Sources'!$E$8","v":0},"#'Table 5-Sources'!$E$8"]
["t5_state_pp5",{"$f":"'Table 5-Sources'!$F$8","v":0},"#'Table 5-Sources'!$F$8"]
["t5_total",{"$f":"'Table 5-Sources'!$G$6","v":0},"#'Table 5-Sources'!$G$6"]
["t5_total_pp1",{"$f":"'Table 5-Sources'!$B$6","v":0},"#'Table 5-Sources'!$B$6"]
["t5_total_pp2",{"$f":"'Table 5-Sources'!$C$6","v":0},"#'Table 5-Sources'!$C$6"]
["t5_total_pp3",{"$f":"'Table 5-Sources'!$D$6","v":0},"#'Table 5-Sources'!$D$6"]
["t5_total_pp4",{"$f":"'Table 5-Sources'!$E$6","v":0},"#'Table 5-Sources'!$E$6"]
["t5_total_pp5",{"$f":"'Table 5-Sources'!$F$6","v":0},"#'Table 5-Sources'!$F$6"]
["Cover!Tourism",{"$f":"Cover!$S$27:$S$29","v":{"$error":"#VALUE!"}},"#Cover!$S$27:$S$29"]
["Project identification'!Tourism",{"$f":"'Project identification'!$S$11:$S$13","v":{"$error":"#VALUE!"}},"#'Project identification'!$S$11:$S$13"]
["Cover!Tourism1",{"$f":"Cover!$N$42:$N$44","v":{"$error":"#VALUE!"}},"#Cover!$N$42:$N$44"]
["Cover!Youth",{"$f":"Cover!$T$27:$T$28","v":{"$error":"#VALUE!"}},"#Cover!$T$27:$T$28"]
["Project identification'!Youth",{"$f":"'Project identification'!$T$11:$T$12","v":{"$error":"#VALUE!"}},"#'Project identification'!$T$11:$T$12"]
["Cover!Youth1",{"$f":"Cover!$O$42:$O$44","v":{"$error":"#VALUE!"}},"#Cover!$O$42:$O$44"]